Workbook

Sheet Master
A1: SALARY ARREAR SOFTWARE
A2: Name Of School | D2: Government Senior Secondary School Nuwan(Bhadra)
A3: Name Of Employee | D3: RAHUL BENIWAL | F3: Salary Arrear Date | I3: 06.10.2025 | J3: To | K3: 31.07.2026
A4: Post Name | D4: PTI(शारीरिक शिक्षक) | G4: www.teachersraj.com

Sheet Arrear Sheet Unlock
C1: NAME OF SCHOOL: | H1: =Master!D2 -> Government Senior Secondary School Nuwan(Bhadra)
A2: NAME OF EMPLOYEE- | E2: =Master!D3 -> RAHUL BENIWAL | J2: SALARY ARREAR- | M2: =Master!I3 -> 06.10.2025 | P2: To | Q2: =Master!K3 -> 31.07.2026 | U2: POST- | X2: =Master!D4 -> PTI(शारीरिक शिक्षक)
A3: Sr. No. | B3: month | C3: due | G3: drawn | K3: difference | O3: Deduction | Y3: TOTAL DED. | Z3: NET PAY | AA3: TV NO./DATE
O4: GPF(2004) | R4: SI | U4: RGHS | X4: I TEX
C5: BASIC | D5: D A | E5: H R | F5: TOTAL | G5: BASIC | H5: D A | I5: H R | J5: TOTAL | K5: BASIC | L5: D A | M5: H R | N5: TOTAL | O5: Due | P5: DED. | Q5: Diff. | R5: Due | S5: DED. | T5: Diff. | U5: Due | V5: DED. | W5: Diff.
A6: 1 | B6: 10/2025 | C6: 28340 | D6: =ROUND(C6*58/100,0) -> 16437 | E6: =ROUND(C6*10/100,0) -> 2834 | F6: =C6+D6+E6 -> 47611 | G6: 19113 | H6: 0 | I6: 0 | J6: =G6+H6+I6 -> 19113 | K6: =C6-G6 -> 9227 | L6: =D6-H6 -> 16437 | M6: =E6-I6 -> 2834 | N6: =SUM(K6:M6) -> 28498 | O6: 2100 | P6: 1100 | Q6: =SUM(O6-P6) -> 1000 | R6: 0 | S6: 0 | T6: =SUM(R6-S6) -> 0 | U6: 658 | V6: 658 | W6: =SUM(U6-V6) -> 0 | X6: 500 | Y6: =SUM(Q6+T6+W6+X6) -> 1500 | Z6: =SUM(N6-Y6) -> 26998 | AA6: 3153518/03.11.25
A7: 2 | B7: 11/2025 | C7: 33800 | D7: =ROUND(C7*58/100,0) -> 19604 | E7: =ROUND(C7*10/100,0) -> 3380 | F7: =C7+D7+E7 -> 56784 | G7: 23700 | H7: 0 | I7: 0 | J7: =G7+H7+I7 -> 23700 | K7: =C7-G7 -> 10100 | L7: =D7-H7 -> 19604 | M7: =E7-I7 -> 3380 | N7: =SUM(K7:M7) -> 33084 | O7: 2100 | P7: 1100 | Q7: =SUM(O7-P7) -> 1000 | R7: 0 | S7: 0 | T7: =SUM(R7-S7) -> 0 | U7: 658 | V7: 658 | W7: =SUM(U7-V7) -> 0 | X7: 500 | Y7: =SUM(Q7+T7+W7+X7) -> 1500 | Z7: =SUM(N7-Y7) -> 31584 | AA7: 3572234/01.12.26
A8: 3 | B8: 12/2025 | C8: 33800 | D8: =ROUND(C8*58/100,0) -> 19604 | E8: =ROUND(C8*10/100,0) -> 3380 | F8: =C8+D8+E8 -> 56784 | G8: 23700 | H8: 0 | I8: 0 | J8: =G8+H8+I8 -> 23700 | K8: =C8-G8 -> 10100 | L8: =D8-H8 -> 19604 | M8: =E8-I8 -> 3380 | N8: =SUM(K8:M8) -> 33084 | O8: 2100 | P8: 1100 | Q8: =SUM(O8-P8) -> 1000 | R8: 0 | S8: 0 | T8: =SUM(R8-S8) -> 0 | U8: 658 | V8: 658 | W8: =SUM(U8-V8) -> 0 | X8: 500 | Y8: =SUM(Q8+T8+W8+X8) -> 1500 | Z8: =SUM(N8-Y8) -> 31584 | AA8: 3983121/01.01.26
A9: 5 | B9: 01/2026 | C9: 34800 | D9: =ROUND(C9*60/100,0) -> 20880 | E9: =ROUND(C9*10/100,0) -> 3480 | F9: =C9+D9+E9 -> 59160 | G9: 23700 | H9: 0 | I9: 0 | J9: =G9+H9+I9 -> 23700 | K9: =C9-G9 -> 11100 | L9: =D9-H9 -> 20880 | M9: =E9-I9 -> 3480 | N9: =SUM(K9:M9) -> 35460 | O9: 2796 | P9: 1100 | Q9: =SUM(O9-P9) -> 1696 | R9: 0 | S9: 0 | T9: =SUM(R9-S9) -> 0 | U9: 658 | V9: 658 | W9: =SUM(U9-V9) -> 0 | X9: 500 | Y9: =SUM(Q9+T9+W9+X9) -> 2196 | Z9: =SUM(N9-Y9) -> 33264 | AA9: 4405592/02.02.26
A10: 6 | B10: 02/2026 | C10: 34800 | D10: =ROUND(C10*60/100,0) -> 20880 | E10: =ROUND(C10*10/100,0) -> 3480 | F10: =C10+D10+E10 -> 59160 | G10: 23700 | H10: 0 | I10: 0 | J10: =G10+H10+I10 -> 23700 | K10: =C10-G10 -> 11100 | L10: =D10-H10 -> 20880 | M10: =E10-I10 -> 3480 | N10: =SUM(K10:M10) -> 35460 | O10: 2796 | P10: 1100 | Q10: =SUM(O10-P10) -> 1696 | R10: 0 | S10: 0 | T10: =SUM(R10-S10) -> 0 | U10: 658 | V10: 658 | W10: =SUM(U10-V10) -> 0 | X10: 500 | Y10: =SUM(Q10+T10+W10+X10) -> 2196 | Z10: =SUM(N10-Y10) -> 33264 | AA10: 4812840/02.03.26
A11: 7 | B11: 03/2026 | C11: 34800 | D11: =ROUND(C11*60/100,0) -> 20880 | E11: =ROUND(C11*10/100,0) -> 3480 | F11: =C11+D11+E11 -> 59160 | G11: 23700 | H11: 0 | I11: 0 | J11: =G11+H11+I11 -> 23700 | K11: =C11-G11 -> 11100 | L11: =D11-H11 -> 20880 | M11: =E11-I11 -> 3480 | N11: =SUM(K11:M11) -> 35460 | O11: 2796 | P11: 1100 | Q11: =SUM(O11-P11) -> 1696 | R11: 1200 | S11: 0 | T11: =SUM(R11-S11) -> 1200 | U11: 658 | V11: 658 | W11: =SUM(U11-V11) -> 0 | X11: 500 | Y11: =SUM(Q11+T11+W11+X11) -> 3396 | Z11: =SUM(N11-Y11) -> 32064 | AA11: 64989/03.04.26
A12: 8 | B12: 04/2026 | C12: 34800 | D12: =ROUND(C12*60/100,0) -> 20880 | E12: =ROUND(C12*10/100,0) -> 3480 | F12: =C12+D12+E12 -> 59160 | G12: 23700 | H12: 0 | I12: 0 | J12: =G12+H12+I12 -> 23700 | K12: =C12-G12 -> 11100 | L12: =D12-H12 -> 20880 | M12: =E12-I12 -> 3480 | N12: =SUM(K12:M12) -> 35460 | O12: 2796 | P12: 1100 | Q12: =SUM(O12-P12) -> 1696 | R12: 1200 | S12: 0 | T12: =SUM(R12-S12) -> 1200 | U12: 658 | V12: 658 | W12: =SUM(U12-V12) -> 0 | X12: 500 | Y12: =SUM(Q12+T12+W12+X12) -> 3396 | Z12: =SUM(N12-Y12) -> 32064 | AA12: 406441/01.05.26
A13: 9 | B13: 05/2026 | C13: 34800 | D13: =ROUND(C13*60/100,0) -> 20880 | E13: =ROUND(C13*10/100,0) -> 3480 | F13: =C13+D13+E13 -> 59160 | G13: 23700 | H13: 0 | I13: 0 | J13: =G13+H13+I13 -> 23700 | K13: =C13-G13 -> 11100 | L13: =D13-H13 -> 20880 | M13: =E13-I13 -> 3480 | N13: =SUM(K13:M13) -> 35460 | O13: 2100 | P13: 1100 | Q13: =SUM(O13-P13) -> 1000 | R13: 1200 | S13: 0 | T13: =SUM(R13-S13) -> 1200 | U13: 658 | V13: 658 | W13: =SUM(U13-V13) -> 0 | X13: 500 | Y13: =SUM(Q13+T13+W13+X13) -> 2700 | Z13: =SUM(N13-Y13) -> 32760 | AA13: 813741/01.06.26
A14: 10 | B14: 06/2026 | C14: 34800 | D14: =ROUND(C14*60/100,0) -> 20880 | E14: =ROUND(C14*10/100,0) -> 3480 | F14: =C14+D14+E14 -> 59160 | G14: 23700 | H14: 0 | I14: 0 | J14: =G14+H14+I14 -> 23700 | K14: =C14-G14 -> 11100 | L14: =D14-H14 -> 20880 | M14: =E14-I14 -> 3480 | N14: =SUM(K14:M14) -> 35460 | O14: 2100 | P14: 1100 | Q14: =SUM(O14-P14) -> 1000 | R14: 1200 | S14: 1200 | T14: =SUM(R14-S14) -> 0 | U14: 658 | V14: 658 | W14: =SUM(U14-V14) -> 0 | X14: 500 | Y14: =SUM(Q14+T14+W14+X14) -> 1500 | Z14: =SUM(N14-Y14) -> 33960 | AA14: 1238007/01.07.26
A15: 11 | B15: 07/2026 | C15: 34800 | D15: =ROUND(C15*60/100,0) -> 20880 | E15: =ROUND(C15*10/100,0) -> 3480 | F15: =C15+D15+E15 -> 59160 | G15: 23700 | H15: 0 | I15: 0 | J15: =G15+H15+I15 -> 23700 | K15: =C15-G15 -> 11100 | L15: =D15-H15 -> 20880 | M15: =E15-I15 -> 3480 | N15: =SUM(K15:M15) -> 35460 | O15: 2100 | P15: 1100 | Q15: =SUM(O15-P15) -> 1000 | R15: 1200 | S15: 1200 | T15: =SUM(R15-S15) -> 0 | U15: 658 | V15: 658 | W15: =SUM(U15-V15) -> 0 | X15: 500 | Y15: =SUM(Q15+T15+W15+X15) -> 1500 | Z15: =SUM(N15-Y15) -> 33960 | AA15: 1642166/01.08.26
A16: 13 | T16: =SUM(R16-S16) -> 0 | Z16: =SUM(N16-Y16) -> 0
A17: 14 | T17: =SUM(R17-S17) -> 0 | Z17: =SUM(N17-Y17) -> 0
A18: 15 | F18: =C18+D18+E18 -> 0 | J18: =G18+H18+I18 -> 0 | K18: =C18-G18 -> 0 | L18: =D18-H18 -> 0 | M18: =E18-I18 -> 0 | N18: =SUM(K18:M18) -> 0 | Q18: =SUM(O18-P18) -> 0 | T18: =SUM(R18-S18) -> 0 | W18: =SUM(U18-V18) -> 0 | Y18: =SUM(Q18+T18+W18) -> 0 | Z18: =SUM(N18-Y18) -> 0
A19: 16 | F19: =C19+D19+E19 -> 0 | J19: =G19+H19+I19 -> 0 | K19: =C19-G19 -> 0 | L19: =D19-H19 -> 0 | M19: =E19-I19 -> 0 | N19: =SUM(K19:M19) -> 0 | Q19: =SUM(O19-P19) -> 0 | T19: =SUM(R19-S19) -> 0 | W19: =SUM(U19-V19) -> 0 | Y19: =SUM(Q19+T19+W19) -> 0 | Z19: =SUM(N19-Y19) -> 0
A20: total | C20: =SUM(C6:C15) -> 339540 | D20: =SUM(D6:D15) -> 201805 | E20: =SUM(E6:E15) -> 33954 | F20: =SUM(F6:F15) -> 575299 | G20: =SUM(G6:G15) -> 232413 | H20: =SUM(H6:H15) -> 0 | I20: =SUM(I6:I15) -> 0 | J20: =SUM(J6:J15) -> 232413 | ... Z20: =SUM(Z6:Z15) -> 321502
B22: uksV& ekg vkWDVwcj 2025 ls ekg tqykbZ 2026 rd dh ,jh;j jkf'k uxn Hkqxrku dh Lohd`fr iznku dh tkrh gSaA
