Workbook

Sheet MASTER
A1: GOVT. SR. SECONDARY SCHOOL TODARAISINGH DIST- TONK | G1: COMPLETE WHITE CELL DETAILS AND DELETE DATA OF UNWATED ROWS
A2: DIFFERENCE SHEET
A3: DA Arrear From January 2026 to April 2026
A4: S.NO | B4: NAME OF EMPLOYEE | C4: DESIGNATION | D4: BASIC PAY of Jan 2026 | E4: EMPLOYEE TYPE
A5: =IF(B5="","",ROW()-4) -> 1 | B5: EMPLOYEE 01 | C5: PRINCIPAL | D5: 63100 | E5: GPF
A6: =IF(B6="","",ROW()-4) -> 2 | B6: CHANDRA PRAKASH KURMI | C6: VICE PRINCIPAL | D6: 92700 | E6: GPF
A7: =IF(B7="","",ROW()-4) -> 3 | B7: JYOTI PATIDAR | C7: SR TEACHER | D7: 63100 | E7: GPF 2004
A8: =IF(B8="","",ROW()-4) -> 4 | B8: EMPLOYEE 04 | C8: LECTURER | D8: 71300 | E8: GPF SAB
A9: =IF(B9="","",ROW()-4) -> 5 | B9: EMPLOYEE 05 | C9: LECTURER | D9: 80200 | E9: GPF 2004 | G9: THIS SHEET AVAILABLE ON WEBSITE https://rssrashtriya.org/excel-sheets/
A10: =IF(B10="","",ROW()-4) -> 6 | B10: EMPLOYEE 06 | C10: LECTURER | D10: 65000 | E10: GPF
A11: =IF(B11="","",ROW()-4) -> 7 | B11: EMPLOYEE 07 | C11: LECTURER | D11: 67000 | E11: GPF SAB
A12: =IF(B12="","",ROW()-4) -> 8 | B12: EMPLOYEE 08 | C12: LECTURER | D12: 75600 | E12: GPF
A13: =IF(B13="","",ROW()-4) -> 9 | B13: EMPLOYEE 09 | C13: LECTURER | D13: 77900 | E13: GPF | G13: PREPARED BY CP KURMI GSSS Todaraisingh (Tonk) Mail: cpkurmi@gmail.com
A14: =IF(B14="","",ROW()-4) -> 10 | B14: EMPLOYEE 10 | C14: SR TEACHER | D14: 57300 | E14: GPF 2004
A15: =IF(B15="","",ROW()-4) -> 11 | B15: EMPLOYEE 11 | C15: LECTURER | D15: 49900 | E15: GPF SAB
A16: =IF(B16="","",ROW()-4) -> 12 | B16: EMPLOYEE 12 | C16: LECTURER | D16: 49900 | E16: GPF
A17: =IF(B17="","",ROW()-4) -> 13 | B17: EMPLOYEE 13 | C17: SR TEACHER | D17: 80200 | E17: GPF
A18: =IF(B18="","",ROW()-4) -> 14 | B18: EMPLOYEE 14 | C18: LECTURER | D18: 48400 | E18: GPF
A19: =IF(B19="","",ROW()-4) -> 15 | B19: EMPLOYEE 15 | C19: SR TEACHER | D19: 43800 | E19: GPF 2004
A20: =IF(B20="","",ROW()-4) -> 16 | B20: EMPLOYEE 16 | C20: SR TEACHER | D20: 53900 | E20: GPF
A21: =IF(B21="","",ROW()-4) -> 17 | B21: EMPLOYEE 17 | C21: AAO | D21: 46100 | E21: GPF
A22: =IF(B22="","",ROW()-4) -> 18 | B22: EMPLOYEE 18 | C22: LECTURER | D22: 49900 | E22: GPF 2004
A23: =IF(B23="","",ROW()-4) -> 19 | B23: EMPLOYEE 19 | C23: LECTURER | D23: 49900 | E23: GPF 2004
A24: =IF(B24="","",ROW()-4) -> 20 | B24: EMPLOYEE 20 | C24: LECTURER | D24: 65000 | E24: GPF 2004
A25: =IF(B25="","",ROW()-4) -> 21 | B25: EMPLOYEE 21 | C25: LECTURER | D25: 80200 | E25: GPF 2004
... A36: =IF(B36="","",ROW()-4) -> 32 | B36: EMPLOYEE 32 | C36: LECTURER | D36: 69000 | E36: GPF 2004

Sheet Difference_Sheet
A1: कार्मिकों की संख्या के आधार पर ही प्रिंट लें, शेष एम्प्लोयी की ROW को hide करें. A 4 पेज पर 4 एम्प्लोयी सेट किये गए है.
A2: =CONCATENATE("Office of the ",MASTER!A1) -> Office of the GOVT. SR. SECONDARY SCHOOL TODARAISINGH DIST- TONK
A3: =CONCATENATE("Difference Sheet of ",MASTER!A3) -> Difference Sheet of DA Arrear From January 2026 to April 2026
A5: NAME :- | B5: =MASTER!B5 -> EMPLOYEE 01 | G5: DESIGNATION :- | I5: =MASTER!C5 -> PRINCIPAL
A6: MONTH | B6: DUE | E6: DRAWN | H6: DIFFERENCE | K6: DEDUCTION | L6: NET PAYABLE AMT.
B7: BASIC | C7: DA | D7: TOTAL | E7: BASIC | F7: DA | G7: TOTAL | H7: BASIC | I7: DA | J7: TOTAL | K7: =MASTER!E5 -> GPF
A8: 46023 | B8: =MASTER!D5 -> 63100 | C8: =ROUND(B8*60%,0) -> 37860 | D8: =SUM(B8:C8) -> 100960 | E8: =B8 -> 63100 | F8: =ROUND(E8*58%,0) -> 36598 | G8: =SUM(E8:F8) -> 99698 | H8: =B8-E8 -> 0 | I8: =C8-F8 -> 1262 | J8: =D8-G8 -> 1262 | K8: =J8 -> 1262 | L8: =J8-K8 -> 0
A9: 46054 | B9: =B8 -> 63100 | C9: =ROUND(B9*60%,0) -> 37860 | D9: =SUM(B9:C9) -> 100960 | E9: =B9 -> 63100 | F9: =ROUND(E9*58%,0) -> 36598 | G9: =SUM(E9:F9) -> 99698 | H9: =B9-E9 -> 0 | I9: =C9-F9 -> 1262 | J9: =D9-G9 -> 1262 | K9: =J9 -> 1262 | L9: =J9-K9 -> 0
A10: 46082 | B10: =B9 -> 63100 | C10: =ROUND(B10*60%,0) -> 37860 | D10: =SUM(B10:C10) -> 100960 | E10: =B10 -> 63100 | F10: =ROUND(E10*58%,0) -> 36598 | G10: =SUM(E10:F10) -> 99698 | H10: =B10-E10 -> 0 | I10: =C10-F10 -> 1262 | J10: =D10-G10 -> 1262 | K10: =J10 -> 1262 | L10: =J10-K10 -> 0
A11: 46113 | B11: =B10 -> 63100 | C11: =ROUND(B11*60%,0) -> 37860 | D11: =SUM(B11:C11) -> 100960 | E11: =B11 -> 63100 | F11: =ROUND(E11*58%,0) -> 36598 | G11: =SUM(E11:F11) -> 99698 | H11: =B11-E11 -> 0 | I11: =C11-F11 -> 1262 | J11: =D11-G11 -> 1262 | K11: =J11 -> 1262 | L11: =J11-K11 -> 0
A12: TOTAL | B12: =SUM(B8:B11) -> 252400 | C12: =SUM(C8:C11) -> 151440 | D12: =SUM(D8:D11) -> 403840 | E12: =SUM(E8:E11) -> 252400 | F12: =SUM(F8:F11) -> 146392 | G12: =SUM(G8:G11) -> 398792 | H12: =SUM(H8:H11) -> 0 | I12: =SUM(I8:I11) -> 5048 | ... L12: =SUM(L8:L11) -> 0
A17: NAME :- | B17: =MASTER!B6 -> CHANDRA PRAKASH KURMI | G17: DESIGNATION :- | I17: =MASTER!C6 -> VICE PRINCIPAL
A18: MONTH | B18: DUE | E18: DRAWN | H18: DIFFERENCE | K18: DEDUCTION | L18: NET PAYABLE AMT.
B19: BASIC | C19: DA | D19: TOTAL | E19: BASIC | F19: DA | G19: TOTAL | H19: BASIC | I19: DA | J19: TOTAL | K19: =MASTER!E6 -> GPF
A20: 46023 | B20: =MASTER!D6 -> 92700 | C20: =ROUND(B20*60%,0) -> 55620 | D20: =SUM(B20:C20) -> 148320 | E20: =B20 -> 92700 | F20: =ROUND(E20*58%,0) -> 53766 | G20: =SUM(E20:F20) -> 146466 | H20: =B20-E20 -> 0 | I20: =C20-F20 -> 1854 | J20: =D20-G20 -> 1854 | K20: =J20 -> 1854 | L20: =J20-K20 -> 0
A21: 46054 | B21: =B20 -> 92700 | C21: =ROUND(B21*60%,0) -> 55620 | D21: =SUM(B21:C21) -> 148320 | E21: =B21 -> 92700 | F21: =ROUND(E21*58%,0) -> 53766 | G21: =SUM(E21:F21) -> 146466 | H21: =B21-E21 -> 0 | I21: =C21-F21 -> 1854 | J21: =D21-G21 -> 1854 | K21: =J21 -> 1854 | L21: =J21-K21 -> 0
A22: 46082 | B22: =B21 -> 92700 | C22: =ROUND(B22*60%,0) -> 55620 | D22: =SUM(B22:C22) -> 148320 | E22: =B22 -> 92700 | F22: =ROUND(E22*58%,0) -> 53766 | G22: =SUM(E22:F22) -> 146466 | H22: =B22-E22 -> 0 | I22: =C22-F22 -> 1854 | J22: =D22-G22 -> 1854 | K22: =J22 -> 1854 | L22: =J22-K22 -> 0
A23: 46113 | B23: =B22 -> 92700 | C23: =ROUND(B23*60%,0) -> 55620 | D23: =SUM(B23:C23) -> 148320 | E23: =B23 -> 92700 | F23: =ROUND(E23*58%,0) -> 53766 | G23: =SUM(E23:F23) -> 146466 | H23: =B23-E23 -> 0 | I23: =C23-F23 -> 1854 | J23: =D23-G23 -> 1854 | K23: =J23 -> 1854 | L23: =J23-K23 -> 0
A24: TOTAL | B24: =SUM(B20:B23) -> 370800 | C24: =SUM(C20:C23) -> 222480 | D24: =SUM(D20:D23) -> 593280 | E24: =SUM(E20:E23) -> 370800 | F24: =SUM(F20:F23) -> 215064 | G24: =SUM(G20:G23) -> 585864 | H24: =SUM(H20:H23) -> 0 | I24: =SUM(I20:I23) -> 7416 | ... L24: =SUM(L20:L23) -> 0
A29: NAME :- | B29: =MASTER!B7 -> JYOTI PATIDAR | G29: DESIGNATION :- | I29: =MASTER!C7 -> SR TEACHER
A30: MONTH | B30: DUE | E30: DRAWN | H30: DIFFERENCE | K30: DEDUCTION | L30: NET PAYABLE AMT.
B31: BASIC | C31: DA | D31: TOTAL | E31: BASIC | F31: DA | G31: TOTAL | H31: BASIC | I31: DA | J31: TOTAL | K31: =MASTER!E7 -> GPF 2004
A32: 46023 | B32: =MASTER!D7 -> 63100 | C32: =ROUND(B32*60%,0) -> 37860 | D32: =SUM(B32:C32) -> 100960 | E32: =B32 -> 63100 | F32: =ROUND(E32*58%,0) -> 36598 | G32: =SUM(E32:F32) -> 99698 | H32: =B32-E32 -> 0 | I32: =C32-F32 -> 1262 | J32: =D32-G32 -> 1262 | K32: =J32 -> 1262 | L32: =J32-K32 -> 0
A33: 46054 | B33: =B32 -> 63100 | C33: =ROUND(B33*60%,0) -> 37860 | D33: =SUM(B33:C33) -> 100960 | E33: =B33 -> 63100 | F33: =ROUND(E33*58%,0) -> 36598 | G33: =SUM(E33:F33) -> 99698 | H33: =B33-E33 -> 0 | I33: =C33-F33 -> 1262 | J33: =D33-G33 -> 1262 | K33: =J33 -> 1262 | L33: =J33-K33 -> 0
A34: 46082 | B34: =B33 -> 63100 | C34: =ROUND(B34*60%,0) -> 37860 | D34: =SUM(B34:C34) -> 100960 | E34: =B34 -> 63100 | F34: =ROUND(E34*58%,0) -> 36598 | G34: =SUM(E34:F34) -> 99698 | H34: =B34-E34 -> 0 | I34: =C34-F34 -> 1262 | J34: =D34-G34 -> 1262 | K34: =J34 -> 1262 | L34: =J34-K34 -> 0
A35: 46113 | B35: =B34 -> 63100 | C35: =ROUND(B35*60%,0) -> 37860 | D35: =SUM(B35:C35) -> 100960 | E35: =B35 -> 63100 | F35: =ROUND(E35*58%,0) -> 36598 | G35: =SUM(E35:F35) -> 99698 | H35: =B35-E35 -> 0 | I35: =C35-F35 -> 1262 | J35: =D35-G35 -> 1262 | K35: =J35 -> 1262 | L35: =J35-K35 -> 0
A36: TOTAL | B36: =SUM(B32:B35) -> 252400 | C36: =SUM(C32:C35) -> 151440 | D36: =SUM(D32:D35) -> 403840 | E36: =SUM(E32:E35) -> 252400 | F36: =SUM(F32:F35) -> 146392 | G36: =SUM(G32:G35) -> 398792 | H36: =SUM(H32:H35) -> 0 | I36: =SUM(I32:I35) -> 5048 | ... L36: =SUM(L32:L35) -> 0
A41: NAME :- | B41: =MASTER!B8 -> EMPLOYEE 04 | G41: DESIGNATION :- | I41: =MASTER!C8 -> LECTURER
A42: MONTH | B42: DUE | E42: DRAWN | H42: DIFFERENCE | K42: DEDUCTION | L42: NET PAYABLE AMT.
B43: BASIC | C43: DA | D43: TOTAL | E43: BASIC | F43: DA | G43: TOTAL | H43: BASIC | I43: DA | J43: TOTAL | K43: =MASTER!E8 -> GPF SAB
A44: 46023 | B44: =MASTER!D8 -> 71300 | C44: =ROUND(B44*60%,0) -> 42780 | D44: =SUM(B44:C44) -> 114080 | E44: =B44 -> 71300 | F44: =ROUND(E44*58%,0) -> 41354 | G44: =SUM(E44:F44) -> 112654 | H44: =B44-E44 -> 0 | I44: =C44-F44 -> 1426 | J44: =D44-G44 -> 1426 | K44: =J44 -> 1426 | L44: =J44-K44 -> 0
A45: 46054 | B45: =B44 -> 71300 | C45: =ROUND(B45*60%,0) -> 42780 | D45: =SUM(B45:C45) -> 114080 | E45: =B45 -> 71300 | F45: =ROUND(E45*58%,0) -> 41354 | G45: =SUM(E45:F45) -> 112654 | H45: =B45-E45 -> 0 | I45: =C45-F45 -> 1426 | J45: =D45-G45 -> 1426 | K45: =J45 -> 1426 | L45: =J45-K45 -> 0
A46: 46082 | B46: =B45 -> 71300 | C46: =ROUND(B46*60%,0) -> 42780 | D46: =SUM(B46:C46) -> 114080 | E46: =B46 -> 71300 | F46: =ROUND(E46*58%,0) -> 41354 | G46: =SUM(E46:F46) -> 112654 | H46: =B46-E46 -> 0 | I46: =C46-F46 -> 1426 | J46: =D46-G46 -> 1426 | K46: =J46 -> 1426 | L46: =J46-K46 -> 0
A47: 46113 | B47: =B46 -> 71300 | C47: =ROUND(B47*60%,0) -> 42780 | D47: =SUM(B47:C47) -> 114080 | E47: =B47 -> 71300 | F47: =ROUND(E47*58%,0) -> 41354 | G47: =SUM(E47:F47) -> 112654 | H47: =B47-E47 -> 0 | I47: =C47-F47 -> 1426 | J47: =D47-G47 -> 1426 | K47: =J47 -> 1426 | L47: =J47-K47 -> 0
A48: TOTAL | B48: =SUM(B44:B47) -> 285200 | C48: =SUM(C44:C47) -> 171120 | D48: =SUM(D44:D47) -> 456320 | E48: =SUM(E44:E47) -> 285200 | F48: =SUM(F44:F47) -> 165416 | G48: =SUM(G44:G47) -> 450616 | H48: =SUM(H44:H47) -> 0 | I48: =SUM(I44:I47) -> 5704 | ... L48: =SUM(L44:L47) -> 0
A53: NAME :- | B53: =MASTER!B9 -> EMPLOYEE 05 | G53: DESIGNATION :- | I53: =MASTER!C9 -> LECTURER
A54: MONTH | B54: DUE | E54: DRAWN | H54: DIFFERENCE | K54: DEDUCTION | L54: NET PAYABLE AMT.
B55: BASIC | C55: DA | D55: TOTAL | E55: BASIC | F55: DA | G55: TOTAL | H55: BASIC | I55: DA | J55: TOTAL | K55: =MASTER!E9 -> GPF 2004
A56: 46023 | B56: =MASTER!D9 -> 80200 | C56: =ROUND(B56*60%,0) -> 48120 | D56: =SUM(B56:C56) -> 128320 | E56: =B56 -> 80200 | F56: =ROUND(E56*58%,0) -> 46516 | G56: =SUM(E56:F56) -> 126716 | H56: =B56-E56 -> 0 | I56: =C56-F56 -> 1604 | J56: =D56-G56 -> 1604 | K56: =J56 -> 1604 | L56: =J56-K56 -> 0
A57: 46054 | B57: =B56 -> 80200 | C57: =ROUND(B57*60%,0) -> 48120 | D57: =SUM(B57:C57) -> 128320 | E57: =B57 -> 80200 | F57: =ROUND(E57*58%,0) -> 46516 | G57: =SUM(E57:F57) -> 126716 | H57: =B57-E57 -> 0 | I57: =C57-F57 -> 1604 | J57: =D57-G57 -> 1604 | K57: =J57 -> 1604 | L57: =J57-K57 -> 0
A58: 46082 | B58: =B57 -> 80200 | C58: =ROUND(B58*60%,0) -> 48120 | D58: =SUM(B58:C58) -> 128320 | E58: =B58 -> 80200 | F58: =ROUND(E58*58%,0) -> 46516 | G58: =SUM(E58:F58) -> 126716 | H58: =B58-E58 -> 0 | I58: =C58-F58 -> 1604 | J58: =D58-G58 -> 1604 | K58: =J58 -> 1604 | L58: =J58-K58 -> 0
A59: 46113 | B59: =B58 -> 80200 | C59: =ROUND(B59*60%,0) -> 48120 | D59: =SUM(B59:C59) -> 128320 | E59: =B59 -> 80200 | F59: =ROUND(E59*58%,0) -> 46516 | G59: =SUM(E59:F59) -> 126716 | H59: =B59-E59 -> 0 | I59: =C59-F59 -> 1604 | J59: =D59-G59 -> 1604 | K59: =J59 -> 1604 | L59: =J59-K59 -> 0
A60: TOTAL | B60: =SUM(B56:B59) -> 320800 | C60: =SUM(C56:C59) -> 192480 | D60: =SUM(D56:D59) -> 513280 | E60: =SUM(E56:E59) -> 320800 | F60: =SUM(F56:F59) -> 186064 | G60: =SUM(G56:G59) -> 506864 | H60: =SUM(H56:H59) -> 0 | I60: =SUM(I56:I59) -> 6416 | ... L60: =SUM(L56:L59) -> 0
A65: NAME :- | B65: =MASTER!B10 -> EMPLOYEE 06 | G65: DESIGNATION :- | I65: =MASTER!C10 -> LECTURER
A66: MONTH | B66: DUE | E66: DRAWN | H66: DIFFERENCE | K66: DEDUCTION | L66: NET PAYABLE AMT.
B67: BASIC | C67: DA | D67: TOTAL | E67: BASIC | F67: DA | G67: TOTAL | H67: BASIC | I67: DA | J67: TOTAL | K67: =MASTER!E10 -> GPF
A68: 46023 | B68: =MASTER!D10 -> 65000 | C68: =ROUND(B68*60%,0) -> 39000 | D68: =SUM(B68:C68) -> 104000 | E68: =B68 -> 65000 | F68: =ROUND(E68*58%,0) -> 37700 | G68: =SUM(E68:F68) -> 102700 | H68: =B68-E68 -> 0 | I68: =C68-F68 -> 1300 | J68: =D68-G68 -> 1300 | K68: =J68 -> 1300 | L68: =J68-K68 -> 0
A69: 46054 | B69: =B68 -> 65000 | C69: =ROUND(B69*60%,0) -> 39000 | D69: =SUM(B69:C69) -> 104000 | E69: =B69 -> 65000 | F69: =ROUND(E69*58%,0) -> 37700 | G69: =SUM(E69:F69) -> 102700 | H69: =B69-E69 -> 0 | I69: =C69-F69 -> 1300 | J69: =D69-G69 -> 1300 | K69: =J69 -> 1300 | L69: =J69-K69 -> 0
A70: 46082 | B70: =B69 -> 65000 | C70: =ROUND(B70*60%,0) -> 39000 | D70: =SUM(B70:C70) -> 104000 | E70: =B70 -> 65000 | F70: =ROUND(E70*58%,0) -> 37700 | G70: =SUM(E70:F70) -> 102700 | H70: =B70-E70 -> 0 | I70: =C70-F70 -> 1300 | J70: =D70-G70 -> 1300 | K70: =J70 -> 1300 | L70: =J70-K70 -> 0
A71: 46113 | B71: =B70 -> 65000 | C71: =ROUND(B71*60%,0) -> 39000 | D71: =SUM(B71:C71) -> 104000 | E71: =B71 -> 65000 | F71: =ROUND(E71*58%,0) -> 37700 | G71: =SUM(E71:F71) -> 102700 | H71: =B71-E71 -> 0 | I71: =C71-F71 -> 1300 | J71: =D71-G71 -> 1300 | K71: =J71 -> 1300 | L71: =J71-K71 -> 0
A72: TOTAL | B72: =SUM(B68:B71) -> 260000 | C72: =SUM(C68:C71) -> 156000 | D72: =SUM(D68:D71) -> 416000 | E72: =SUM(E68:E71) -> 260000 | F72: =SUM(F68:F71) -> 150800 | G72: =SUM(G68:G71) -> 410800 | H72: =SUM(H68:H71) -> 0 | I72: =SUM(I68:I71) -> 5200 | ... L72: =SUM(L68:L71) -> 0
A77: NAME :- | B77: =MASTER!B11 -> EMPLOYEE 07 | G77: DESIGNATION :- | I77: =MASTER!C11 -> LECTURER
A78: MONTH | B78: DUE | E78: DRAWN | H78: DIFFERENCE | K78: DEDUCTION | L78: NET PAYABLE AMT.
B79: BASIC | C79: DA | D79: TOTAL | E79: BASIC | F79: DA | G79: TOTAL | H79: BASIC | I79: DA | J79: TOTAL | K79: =MASTER!E11 -> GPF SAB
A80: 46023 | B80: =MASTER!D11 -> 67000 | C80: =ROUND(B80*60%,0) -> 40200 | D80: =SUM(B80:C80) -> 107200 | E80: =B80 -> 67000 | F80: =ROUND(E80*58%,0) -> 38860 | G80: =SUM(E80:F80) -> 105860 | H80: =B80-E80 -> 0 | I80: =C80-F80 -> 1340 | J80: =D80-G80 -> 1340 | K80: =J80 -> 1340 | L80: =J80-K80 -> 0
A81: 46054 | B81: =B80 -> 67000 | C81: =ROUND(B81*60%,0) -> 40200 | D81: =SUM(B81:C81) -> 107200 | E81: =B81 -> 67000 | F81: =ROUND(E81*58%,0) -> 38860 | G81: =SUM(E81:F81) -> 105860 | H81: =B81-E81 -> 0 | I81: =C81-F81 -> 1340 | J81: =D81-G81 -> 1340 | K81: =J81 -> 1340 | L81: =J81-K81 -> 0
A82: 46082 | B82: =B81 -> 67000 | C82: =ROUND(B82*60%,0) -> 40200 | D82: =SUM(B82:C82) -> 107200 | E82: =B82 -> 67000 | F82: =ROUND(E82*58%,0) -> 38860 | G82: =SUM(E82:F82) -> 105860 | H82: =B82-E82 -> 0 | I82: =C82-F82 -> 1340 | J82: =D82-G82 -> 1340 | K82: =J82 -> 1340 | L82: =J82-K82 -> 0
A83: 46113 | B83: =B82 -> 67000 | C83: =ROUND(B83*60%,0) -> 40200 | D83: =SUM(B83:C83) -> 107200 | E83: =B83 -> 67000 | F83: =ROUND(E83*58%,0) -> 38860 | G83: =SUM(E83:F83) -> 105860 | H83: =B83-E83 -> 0 | I83: =C83-F83 -> 1340 | J83: =D83-G83 -> 1340 | K83: =J83 -> 1340 | L83: =J83-K83 -> 0
A84: TOTAL | B84: =SUM(B80:B83) -> 268000 | C84: =SUM(C80:C83) -> 160800 | D84: =SUM(D80:D83) -> 428800 | E84: =SUM(E80:E83) -> 268000 | F84: =SUM(F80:F83) -> 155440 | G84: =SUM(G80:G83) -> 423440 | H84: =SUM(H80:H83) -> 0 | I84: =SUM(I80:I83) -> 5360 | ... L84: =SUM(L80:L83) -> 0
A89: NAME :- | B89: =MASTER!B12 -> EMPLOYEE 08 | G89: DESIGNATION :- | I89: =MASTER!C12 -> LECTURER
A90: MONTH | B90: DUE | E90: DRAWN | H90: DIFFERENCE | K90: DEDUCTION | L90: NET PAYABLE AMT.
B91: BASIC | C91: DA | D91: TOTAL | E91: BASIC | F91: DA | G91: TOTAL | H91: BASIC | I91: DA | J91: TOTAL | K91: =MASTER!E12 -> GPF
A92: 46023 | B92: =MASTER!D12 -> 75600 | C92: =ROUND(B92*60%,0) -> 45360 | D92: =SUM(B92:C92) -> 120960 | E92: =B92 -> 75600 | F92: =ROUND(E92*58%,0) -> 43848 | G92: =SUM(E92:F92) -> 119448 | H92: =B92-E92 -> 0 | I92: =C92-F92 -> 1512 | J92: =D92-G92 -> 1512 | K92: =J92 -> 1512 | L92: =J92-K92 -> 0
A93: 46054 | B93: =B92 -> 75600 | C93: =ROUND(B93*60%,0) -> 45360 | D93: =SUM(B93:C93) -> 120960 | E93: =B93 -> 75600 | F93: =ROUND(E93*58%,0) -> 43848 | G93: =SUM(E93:F93) -> 119448 | H93: =B93-E93 -> 0 | I93: =C93-F93 -> 1512 | J93: =D93-G93 -> 1512 | K93: =J93 -> 1512 | L93: =J93-K93 -> 0
A94: 46082 | B94: =B93 -> 75600 | C94: =ROUND(B94*60%,0) -> 45360 | D94: =SUM(B94:C94) -> 120960 | E94: =B94 -> 75600 | F94: =ROUND(E94*58%,0) -> 43848 | G94: =SUM(E94:F94) -> 119448 | H94: =B94-E94 -> 0 | I94: =C94-F94 -> 1512 | J94: =D94-G94 -> 1512 | K94: =J94 -> 1512 | L94: =J94-K94 -> 0
A95: 46113 | B95: =B94 -> 75600 | C95: =ROUND(B95*60%,0) -> 45360 | D95: =SUM(B95:C95) -> 120960 | E95: =B95 -> 75600 | F95: =ROUND(E95*58%,0) -> 43848 | G95: =SUM(E95:F95) -> 119448 | H95: =B95-E95 -> 0 | I95: =C95-F95 -> 1512 | J95: =D95-G95 -> 1512 | K95: =J95 -> 1512 | L95: =J95-K95 -> 0
A96: TOTAL | B96: =SUM(B92:B95) -> 302400 | C96: =SUM(C92:C95) -> 181440 | D96: =SUM(D92:D95) -> 483840 | E96: =SUM(E92:E95) -> 302400 | F96: =SUM(F92:F95) -> 175392 | G96: =SUM(G92:G95) -> 477792 | H96: =SUM(H92:H95) -> 0 | I96: =SUM(I92:I95) -> 6048 | ... L96: =SUM(L92:L95) -> 0
A101: NAME :- | B101: =MASTER!B13 -> EMPLOYEE 09 | G101: DESIGNATION :- | I101: =MASTER!C13 -> LECTURER
A102: MONTH | B102: DUE | E102: DRAWN | H102: DIFFERENCE | K102: DEDUCTION | L102: NET PAYABLE AMT.
B103: BASIC | C103: DA | D103: TOTAL | E103: BASIC | F103: DA | G103: TOTAL | H103: BASIC | I103: DA | J103: TOTAL | K103: =MASTER!E13 -> GPF
A104: 46023 | B104: =MASTER!D13 -> 77900 | C104: =ROUND(B104*60%,0) -> 46740 | D104: =SUM(B104:C104) -> 124640 | E104: =B104 -> 77900 | F104: =ROUND(E104*58%,0) -> 45182 | G104: =SUM(E104:F104) -> 123082 | H104: =B104-E104 -> 0 | I104: =C104-F104 -> 1558 | J104: =D104-G104 -> 1558 | K104: =J104 -> 1558 | L104: =J104-K104 -> 0
A105: 46054 | B105: =B104 -> 77900 | C105: =ROUND(B105*60%,0) -> 46740 | D105: =SUM(B105:C105) -> 124640 | E105: =B105 -> 77900 | F105: =ROUND(E105*58%,0) -> 45182 | G105: =SUM(E105:F105) -> 123082 | H105: =B105-E105 -> 0 | I105: =C105-F105 -> 1558 | J105: =D105-G105 -> 1558 | K105: =J105 -> 1558 | L105: =J105-K105 -> 0
A106: 46082 | B106: =B105 -> 77900 | C106: =ROUND(B106*60%,0) -> 46740 | D106: =SUM(B106:C106) -> 124640 | E106: =B106 -> 77900 | F106: =ROUND(E106*58%,0) -> 45182 | G106: =SUM(E106:F106) -> 123082 | H106: =B106-E106 -> 0 | I106: =C106-F106 -> 1558 | J106: =D106-G106 -> 1558 | K106: =J106 -> 1558 | L106: =J106-K106 -> 0
A107: 46113 | B107: =B106 -> 77900 | C107: =ROUND(B107*60%,0) -> 46740 | D107: =SUM(B107:C107) -> 124640 | E107: =B107 -> 77900 | F107: =ROUND(E107*58%,0) -> 45182 | G107: =SUM(E107:F107) -> 123082 | H107: =B107-E107 -> 0 | I107: =C107-F107 -> 1558 | J107: =D107-G107 -> 1558 | K107: =J107 -> 1558 | L107: =J107-K107 -> 0
A108: TOTAL | B108: =SUM(B104:B107) -> 311600 | C108: =SUM(C104:C107) -> 186960 | D108: =SUM(D104:D107) -> 498560 | E108: =SUM(E104:E107) -> 311600 | F108: =SUM(F104:F107) -> 180728 | G108: =SUM(G104:G107) -> 492328 | H108: =SUM(H104:H107) -> 0 | I108: =SUM(I104:I107) -> 6232 | ... L108: =SUM(L104:L107) -> 0
A113: NAME :- | B113: =MASTER!B14 -> EMPLOYEE 10 | G113: DESIGNATION :- | I113: =MASTER!C14 -> SR TEACHER
A114: MONTH | B114: DUE | E114: DRAWN | H114: DIFFERENCE | K114: DEDUCTION | L114: NET PAYABLE AMT.
B115: BASIC | C115: DA | D115: TOTAL | E115: BASIC | F115: DA | G115: TOTAL | H115: BASIC | I115: DA | J115: TOTAL | K115: =MASTER!E14 -> GPF 2004
A116: 46023 | B116: =MASTER!D14 -> 57300 | C116: =ROUND(B116*60%,0) -> 34380 | D116: =SUM(B116:C116) -> 91680 | E116: =B116 -> 57300 | F116: =ROUND(E116*58%,0) -> 33234 | G116: =SUM(E116:F116) -> 90534 | H116: =B116-E116 -> 0 | I116: =C116-F116 -> 1146 | J116: =D116-G116 -> 1146 | K116: =J116 -> 1146 | L116: =J116-K116 -> 0
A117: 46054 | B117: =B116 -> 57300 | C117: =ROUND(B117*60%,0) -> 34380 | D117: =SUM(B117:C117) -> 91680 | E117: =B117 -> 57300 | F117: =ROUND(E117*58%,0) -> 33234 | G117: =SUM(E117:F117) -> 90534 | H117: =B117-E117 -> 0 | I117: =C117-F117 -> 1146 | J117: =D117-G117 -> 1146 | K117: =J117 -> 1146 | L117: =J117-K117 -> 0
A118: 46082 | B118: =B117 -> 57300 | C118: =ROUND(B118*60%,0) -> 34380 | D118: =SUM(B118:C118) -> 91680 | E118: =B118 -> 57300 | F118: =ROUND(E118*58%,0) -> 33234 | G118: =SUM(E118:F118) -> 90534 | H118: =B118-E118 -> 0 | I118: =C118-F118 -> 1146 | J118: =D118-G118 -> 1146 | K118: =J118 -> 1146 | L118: =J118-K118 -> 0
A119: 46113 | B119: =B118 -> 57300 | C119: =ROUND(B119*60%,0) -> 34380 | D119: =SUM(B119:C119) -> 91680 | E119: =B119 -> 57300 | F119: =ROUND(E119*58%,0) -> 33234 | G119: =SUM(E119:F119) -> 90534 | H119: =B119-E119 -> 0 | I119: =C119-F119 -> 1146 | J119: =D119-G119 -> 1146 | K119: =J119 -> 1146 | L119: =J119-K119 -> 0
A120: TOTAL | B120: =SUM(B116:B119) -> 229200 | C120: =SUM(C116:C119) -> 137520 | D120: =SUM(D116:D119) -> 366720 | E120: =SUM(E116:E119) -> 229200 | F120: =SUM(F116:F119) -> 132936 | G120: =SUM(G116:G119) -> 362136 | H120: =SUM(H116:H119) -> 0 | I120: =SUM(I116:I119) -> 4584 | ... L120: =SUM(L116:L119) -> 0
A125: NAME :- | B125: =MASTER!B15 -> EMPLOYEE 11 | G125: DESIGNATION :- | I125: =MASTER!C15 -> LECTURER
A126: MONTH | B126: DUE | E126: DRAWN | H126: DIFFERENCE | K126: DEDUCTION | L126: NET PAYABLE AMT.
B127: BASIC | C127: DA | D127: TOTAL | E127: BASIC | F127: DA | G127: TOTAL | H127: BASIC | I127: DA | J127: TOTAL | K127: =MASTER!E15 -> GPF SAB
A128: 46023 | B128: =MASTER!D15 -> 49900 | C128: =ROUND(B128*60%,0) -> 29940 | D128: =SUM(B128:C128) -> 79840 | E128: =B128 -> 49900 | F128: =ROUND(E128*58%,0) -> 28942 | G128: =SUM(E128:F128) -> 78842 | H128: =B128-E128 -> 0 | I128: =C128-F128 -> 998 | J128: =D128-G128 -> 998 | K128: =J128 -> 998 | L128: =J128-K128 -> 0
A129: 46054 | B129: =B128 -> 49900 | C129: =ROUND(B129*60%,0) -> 29940 | D129: =SUM(B129:C129) -> 79840 | E129: =B129 -> 49900 | F129: =ROUND(E129*58%,0) -> 28942 | G129: =SUM(E129:F129) -> 78842 | H129: =B129-E129 -> 0 | I129: =C129-F129 -> 998 | J129: =D129-G129 -> 998 | K129: =J129 -> 998 | L129: =J129-K129 -> 0
A130: 46082 | B130: =B129 -> 49900 | C130: =ROUND(B130*60%,0) -> 29940 | D130: =SUM(B130:C130) -> 79840 | E130: =B130 -> 49900 | F130: =ROUND(E130*58%,0) -> 28942 | G130: =SUM(E130:F130) -> 78842 | H130: =B130-E130 -> 0 | I130: =C130-F130 -> 998 | J130: =D130-G130 -> 998 | K130: =J130 -> 998 | L130: =J130-K130 -> 0
A131: 46113 | B131: =B130 -> 49900 | C131: =ROUND(B131*60%,0) -> 29940 | D131: =SUM(B131:C131) -> 79840 | E131: =B131 -> 49900 | F131: =ROUND(E131*58%,0) -> 28942 | G131: =SUM(E131:F131) -> 78842 | H131: =B131-E131 -> 0 | I131: =C131-F131 -> 998 | J131: =D131-G131 -> 998 | K131: =J131 -> 998 | L131: =J131-K131 -> 0
A132: TOTAL | B132: =SUM(B128:B131) -> 199600 | C132: =SUM(C128:C131) -> 119760 | D132: =SUM(D128:D131) -> 319360 | E132: =SUM(E128:E131) -> 199600 | F132: =SUM(F128:F131) -> 115768 | G132: =SUM(G128:G131) -> 315368 | H132: =SUM(H128:H131) -> 0 | I132: =SUM(I128:I131) -> 3992 | ... L132: =SUM(L128:L131) -> 0
A137: NAME :- | B137: =MASTER!B16 -> EMPLOYEE 12 | G137: DESIGNATION :- | I137: =MASTER!C16 -> LECTURER
A138: MONTH | B138: DUE | E138: DRAWN | H138: DIFFERENCE | K138: DEDUCTION | L138: NET PAYABLE AMT.
B139: BASIC | C139: DA | D139: TOTAL | E139: BASIC | F139: DA | G139: TOTAL | H139: BASIC | I139: DA | J139: TOTAL | K139: =MASTER!E16 -> GPF
A140: 46023 | B140: =MASTER!D16 -> 49900 | C140: =ROUND(B140*60%,0) -> 29940 | D140: =SUM(B140:C140) -> 79840 | E140: =B140 -> 49900 | F140: =ROUND(E140*58%,0) -> 28942 | G140: =SUM(E140:F140) -> 78842 | H140: =B140-E140 -> 0 | I140: =C140-F140 -> 998 | J140: =D140-G140 -> 998 | K140: =J140 -> 998 | L140: =J140-K140 -> 0
A141: 46054 | B141: =B140 -> 49900 | C141: =ROUND(B141*60%,0) -> 29940 | D141: =SUM(B141:C141) -> 79840 | E141: =B141 -> 49900 | F141: =ROUND(E141*58%,0) -> 28942 | G141: =SUM(E141:F141) -> 78842 | H141: =B141-E141 -> 0 | I141: =C141-F141 -> 998 | J141: =D141-G141 -> 998 | K141: =J141 -> 998 | L141: =J141-K141 -> 0
A142: 46082 | B142: =B141 -> 49900 | C142: =ROUND(B142*60%,0) -> 29940 | D142: =SUM(B142:C142) -> 79840 | E142: =B142 -> 49900 | F142: =ROUND(E142*58%,0) -> 28942 | G142: =SUM(E142:F142) -> 78842 | H142: =B142-E142 -> 0 | I142: =C142-F142 -> 998 | J142: =D142-G142 -> 998 | K142: =J142 -> 998 | L142: =J142-K142 -> 0
A143: 46113 | B143: =B142 -> 49900 | C143: =ROUND(B143*60%,0) -> 29940 | D143: =SUM(B143:C143) -> 79840 | E143: =B143 -> 49900 | F143: =ROUND(E143*58%,0) -> 28942 | G143: =SUM(E143:F143) -> 78842 | H143: =B143-E143 -> 0 | I143: =C143-F143 -> 998 | J143: =D143-G143 -> 998 | K143: =J143 -> 998 | L143: =J143-K143 -> 0
A144: TOTAL | B144: =SUM(B140:B143) -> 199600 | C144: =SUM(C140:C143) -> 119760 | D144: =SUM(D140:D143) -> 319360 | E144: =SUM(E140:E143) -> 199600 | F144: =SUM(F140:F143) -> 115768 | G144: =SUM(G140:G143) -> 315368 | H144: =SUM(H140:H143) -> 0 | I144: =SUM(I140:I143) -> 3992 | ... L144: =SUM(L140:L143) -> 0
A149: NAME :- | B149: =MASTER!B17 -> EMPLOYEE 13 | G149: DESIGNATION :- | I149: =MASTER!C17 -> SR TEACHER
...
