Workbook

Sheet MASTER
A1: GOVT. SR. SECONDARY SCHOOL TODARAISINGH DIST- TONK | G1: COMPLETE WHITE CELL DETAILS AND DELETE DATA OF UNWATED ROWS
A2: DIFFERENCE SHEET
A3: DA Arrear From January 2026 to April 2026
A4: S.NO | B4: NAME OF EMPLOYEE | C4: DESIGNATION | D4: BASIC PAY of Jan 2026 | E4: EMPLOYEE TYPE
A5: =IF(B5="","",ROW()-4) -> 1 | B5: EMPLOYEE 01 | C5: PRINCIPAL | D5: 63100 | E5: GPF
A6: =IF(B6="","",ROW()-4) -> 2 | B6: CHANDRA PRAKASH KURMI | C6: VICE PRINCIPAL | D6: 92700 | E6: GPF
A7: =IF(B7="","",ROW()-4) -> 3 | B7: JYOTI PATIDAR | C7: SR TEACHER | D7: 63100 | E7: GPF 2004
A8: =IF(B8="","",ROW()-4) -> 4 | B8: EMPLOYEE 04 | C8: LECTURER | D8: 71300 | E8: GPF SAB
A9: =IF(B9="","",ROW()-4) -> 5 | B9: EMPLOYEE 05 | C9: LECTURER | D9: 80200 | E9: GPF 2004 | G9: THIS SHEET AVAILABLE ON WEBSITE https://rssrashtriya.org/excel-sheets/
A10: =IF(B10="","",ROW()-4) -> 6 | B10: EMPLOYEE 06 | C10: LECTURER | D10: 65000 | E10: GPF
A11: =IF(B11="","",ROW()-4) -> 7 | B11: EMPLOYEE 07 | C11: LECTURER | D11: 67000 | E11: GPF SAB
A12: =IF(B12="","",ROW()-4) -> 8 | B12: EMPLOYEE 08 | C12: LECTURER | D12: 75600 | E12: GPF
A13: =IF(B13="","",ROW()-4) -> 9 | B13: EMPLOYEE 09 | C13: LECTURER | D13: 77900 | E13: GPF | G13: PREPARED BY CP KURMI GSSS Todaraisingh (Tonk) Mail: cpkurmi@gmail.com
A14: =IF(B14="","",ROW()-4) -> 10 | B14: EMPLOYEE 10 | C14: SR TEACHER | D14: 57300 | E14: GPF 2004
A15: =IF(B15="","",ROW()-4) -> 11 | B15: EMPLOYEE 11 | C15: LECTURER | D15: 49900 | E15: GPF SAB
A16: =IF(B16="","",ROW()-4) -> 12 | B16: EMPLOYEE 12 | C16: LECTURER | D16: 49900 | E16: GPF
A17: =IF(B17="","",ROW()-4) -> 13 | B17: EMPLOYEE 13 | C17: SR TEACHER | D17: 80200 | E17: GPF
A18: =IF(B18="","",ROW()-4) -> 14 | B18: EMPLOYEE 14 | C18: LECTURER | D18: 48400 | E18: GPF
A19: =IF(B19="","",ROW()-4) -> 15 | B19: EMPLOYEE 15 | C19: SR TEACHER | D19: 43800 | E19: GPF 2004
A20: =IF(B20="","",ROW()-4) -> 16 | B20: EMPLOYEE 16 | C20: SR TEACHER | D20: 53900 | E20: GPF
A21: =IF(B21="","",ROW()-4) -> 17 | B21: EMPLOYEE 17 | C21: AAO | D21: 46100 | E21: GPF
A22: =IF(B22="","",ROW()-4) -> 18 | B22: EMPLOYEE 18 | C22: LECTURER | D22: 49900 | E22: GPF 2004
A23: =IF(B23="","",ROW()-4) -> 19 | B23: EMPLOYEE 19 | C23: LECTURER | D23: 49900 | E23: GPF 2004
A24: =IF(B24="","",ROW()-4) -> 20 | B24: EMPLOYEE 20 | C24: LECTURER | D24: 65000 | E24: GPF 2004
A25: =IF(B25="","",ROW()-4) -> 21 | B25: EMPLOYEE 21 | C25: LECTURER | D25: 80200 | E25: GPF 2004
... A36: =IF(B36="","",ROW()-4) -> 32 | B36: EMPLOYEE 32 | C36: LECTURER | D36: 69000 | E36: GPF 2004

Sheet Difference_Sheet
A1: कार्मिकों की संख्या के आधार पर ही प्रिंट लें, शेष एम्प्लोयी की ROW को hide करें. A 4 पेज पर 4 एम्प्लोयी सेट किये गए है.
A2: =CONCATENATE("Office of the ",MASTER!A1) -> Office of the GOVT. SR. SECONDARY SCHOOL TODARAISINGH DIST- TONK
A3: =CONCATENATE("Difference Sheet of ",MASTER!A3) -> Difference Sheet of DA Arrear From January 2026 to April 2026
A5: NAME :- | B5: =MASTER!B5 -> EMPLOYEE 01 | G5: DESIGNATION :- | I5: =MASTER!C5 -> PRINCIPAL
A6: MONTH | B6: DUE | E6: DRAWN | H6: DIFFERENCE | K6: DEDUCTION | L6: NET PAYABLE AMT.
B7: BASIC | C7: DA | D7: TOTAL | E7: BASIC | F7: DA | G7: TOTAL | H7: BASIC | I7: DA | J7: TOTAL | K7: =MASTER!E5 -> GPF
A8: 46023 | B8: =MASTER!D5 -> 63100 | C8: =ROUND(B8*60%,0) -> 37860 | D8: =SUM(B8:C8) -> 100960 | E8: =B8 -> 63100 | F8: =ROUND(E8*58%,0) -> 36598 | G8: =SUM(E8:F8) -> 99698 | H8: =B8-E8 -> 0 | I8: =C8-F8 -> 1262 | J8: =D8-G8 -> 1262 | K8: =J8 -> 1262 | L8: =J8-K8 -> 0
A9: 46054 | B9: =B8 -> 63100 | C9: =ROUND(B9*60%,0) -> 37860 | D9: =SUM(B9:C9) -> 100960 | E9: =B9 -> 63100 | F9: =ROUND(E9*58%,0) -> 36598 | G9: =SUM(E9:F9) -> 99698 | H9: =B9-E9 -> 0 | I9: =C9-F9 -> 1262 | J9: =D9-G9 -> 1262 | K9: =J9 -> 1262 | L9: =J9-K9 -> 0
A10: 46082 | B10: =B9 -> 63100 | C10: =ROUND(B10*60%,0) -> 37860 | D10: =SUM(B10:C10) -> 100960 | E10: =B10 -> 63100 | F10: =ROUND(E10*58%,0) -> 36598 | G10: =SUM(E10:F10) -> 99698 | H10: =B10-E10 -> 0 | I10: =C10-F10 -> 1262 | J10: =D10-G10 -> 1262 | K10: =J10 -> 1262 | L10: =J10-K10 -> 0
A11: 46113 | B11: =B10 -> 63100 | C11: =ROUND(B11*60%,0) -> 37860 | D11: =SUM(B11:C11) -> 100960 | E11: =B11 -> 63100 | F11: =ROUND(E11*58%,0) -> 36598 | G11: =SUM(E11:F11) -> 99698 | H11: =B11-E11 -> 0 | I11: =C11-F11 -> 1262 | J11: =D11-G11 -> 1262 | K11: =J11 -> 1262 | L11: =J11-K11 -> 0
A12: TOTAL | B12: =SUM(B8:B11) -> 252400 | C12: =SUM(C8:C11) -> 151440 | D12: =SUM(D8:D11) -> 403840 | E12: =SUM(E8:E11) -> 252400 | F12: =SUM(F8:F11) -> 146392 | G12: =SUM(G8:G11) -> 398792 | H12: =SUM(H8:H11) -> 0 | I12: =SUM(I8:I11) -> 5048 | ... L12: =SUM(L8:L11) -> 0
A17: NAME :- | B17: =MASTER!B6 -> CHANDRA PRAKASH KURMI | G17: DESIGNATION :- | I17: =MASTER!C6 -> VICE PRINCIPAL
A18: MONTH | B18: DUE | E18: DRAWN | H18: DIFFERENCE | K18: DEDUCTION | L18: NET PAYABLE AMT.
B19: BASIC | C19: DA | D19: TOTAL | E19: BASIC | F19: DA | G19: TOTAL | H19: BASIC | I19: DA | J19: TOTAL | K19: =MASTER!E6 -> GPF
A20: 46023 | B20: =MASTER!D6 -> 92700 | C20: =ROUND(B20*60%,0) -> 55620 | D20: =SUM(B20:C20) -> 148320 | E20: =B20 -> 92700 | F20: =ROUND(E20*58%,0) -> 53766 | G20: =SUM(E20:F20) -> 146466 | H20: =B20-E20 -> 0 | I20: =C20-F20 -> 1854 | J20: =D20-G20 -> 1854 | K20: =J20 -> 1854 | L20: =J20-K20 -> 0
A21: 46054 | B21: =B20 -> 92700 | C21: =ROUND(B21*60%,0) -> 55620 | D21: =SUM(B21:C21) -> 148320 | E21: =B21 -> 92700 | F21: =ROUND(E21*58%,0) -> 53766 | G21: =SUM(E21:F21) -> 146466 | H21: =B21-E21 -> 0 | I21: =C21-F21 -> 1854 | J21: =D21-G21 -> 1854 | K21: =J21 -> 1854 | L21: =J21-K21 -> 0
A22: 46082 | B22: =B21 -> 92700 | C22: =ROUND(B22*60%,0) -> 55620 | D22: =SUM(B22:C22) -> 148320 | E22: =B22 -> 92700 | F22: =ROUND(E22*58%,0) -> 53766 | G22: =SUM(E22:F22) -> 146466 | H22: =B22-E22 -> 0 | I22: =C22-F22 -> 1854 | J22: =D22-G22 -> 1854 | K22: =J22 -> 1854 | L22: =J22-K22 -> 0
A23: 46113 | B23: =B22 -> 92700 | C23: =ROUND(B23*60%,0) -> 55620 | D23: =SUM(B23:C23) -> 148320 | E23: =B23 -> 92700 | F23: =ROUND(E23*58%,0) -> 53766 | G23: =SUM(E23:F23) -> 146466 | H23: =B23-E23 -> 0 | I23: =C23-F23 -> 1854 | J23: =D23-G23 -> 1854 | K23: =J23 -> 1854 | L23: =J23-K23 -> 0
A24: TOTAL | B24: =SUM(B20:B23) -> 370800 | C24: =SUM(C20:C23) -> 222480 | D24: =SUM(D20:D23) -> 593280 | E24: =SUM(E20:E23) -> 370800 | F24: =SUM(F20:F23) -> 215064 | G24: =SUM(G20:G23) -> 585864 | H24: =SUM(H20:H23) -> 0 | I24: =SUM(I20:I23) -> 7416 | ... L24: =SUM(L20:L23) -> 0
A29: NAME :- | B29: =MASTER!B7 -> JYOTI PATIDAR | G29: DESIGNATION :- | I29: =MASTER!C7 -> SR TEACHER
A30: MONTH | B30: DUE | E30: DRAWN | H30: DIFFERENCE | K30: DEDUCTION | L30: NET PAYABLE AMT.
B31: BASIC | C31: DA | D31: TOTAL | E31: BASIC | F31: DA | G31: TOTAL | H31: BASIC | I31: DA | J31: TOTAL | K31: =MASTER!E7 -> GPF 2004
A32: 46023 | B32: =MASTER!D7 -> 63100 | C32: =ROUND(B32*60%,0) -> 37860 | D32: =SUM(B32:C32) -> 100960 | E32: =B32 -> 63100 | F32: =ROUND(E32*58%,0) -> 36598 | G32: =SUM(E32:F32) -> 99698 | H32: =B32-E32 -> 0 | I32: =C32-F32 -> 1262 | J32: =D32-G32 -> 1262 | K32: =J32 -> 1262 | L32: =J32-K32 -> 0
A33: 46054 | B33: =B32 -> 63100 | C33: =ROUND(B33*60%,0) -> 37860 | D33: =SUM(B33:C33) -> 100960 | E33: =B33 -> 63100 | F33: =ROUND(E33*58%,0) -> 36598 | G33: =SUM(E33:F33) -> 99698 | H33: =B33-E33 -> 0 | I33: =C33-F33 -> 1262 | J33: =D33-G33 -> 1262 | K33: =J33 -> 1262 | L33: =J33-K33 -> 0
A34: 46082 | B34: =B33 -> 63100 | C34: =ROUND(B34*60%,0) -> 37860 | D34: =SUM(B34:C34) -> 100960 | E34: =B34 -> 63100 | F34: =ROUND(E34*58%,0) -> 36598 | G34: =SUM(E34:F34) -> 99698 | H34: =B34-E34 -> 0 | I34: =C34-F34 -> 1262 | J34: =D34-G34 -> 1262 | K34: =J34 -> 1262 | L34: =J34-K34 -> 0
A35: 46113 | B35: =B34 -> 63100 | C35: =ROUND(B35*60%,0) -> 37860 | D35: =SUM(B35:C35) -> 100960 | E35: =B35 -> 63100 | F35: =ROUND(E35*58%,0) -> 36598 | G35: =SUM(E35:F35) -> 99698 | H35: =B35-E35 -> 0 | I35: =C35-F35 -> 1262 | J35: =D35-G35 -> 1262 | K35: =J35 -> 1262 | L35: =J35-K35 -> 0
A36: TOTAL | B36: =SUM(B32:B35) -> 252400 | C36: =SUM(C32:C35) -> 151440 | D36: =SUM(D32:D35) -> 403840 | E36: =SUM(E32:E35) -> 252400 | F36: =SUM(F32:F35) -> 146392 | G36: =SUM(G32:G35) -> 398792 | H36: =SUM(H32:H35) -> 0 | I36: =SUM(I32:I35) -> 5048 | ... L36: =SUM(L32:L35) -> 0
A41: NAME :- | B41: =MASTER!B8 -> EMPLOYEE 04 | G41: DESIGNATION :- | I41: =MASTER!C8 -> LECTURER
A42: MONTH | B42: DUE | E42: DRAWN | H42: DIFFERENCE | K42: DEDUCTION | L42: NET PAYABLE AMT.
B43: BASIC | C43: DA | D43: TOTAL | E43: BASIC | F43: DA | G43: TOTAL | H43: BASIC | I43: DA | J43: TOTAL | K43: =MASTER!E8 -> GPF SAB
A44: 46023 | B44: =MASTER!D8 -> 71300 | C44: =ROUND(B44*60%,0) -> 42780 | D44: =SUM(B44:C44) -> 114080 | E44: =B44 -> 71300 | F44: =ROUND(E44*58%,0) -> 41354 | G44: =SUM(E44:F44) -> 112654 | H44: =B44-E44 -> 0 | I44: =C44-F44 -> 1426 | J44: =D44-G44 -> 1426 | K44: =J44 -> 1426 | L44: =J44-K44 -> 0
A45: 46054 | B45: =B44 -> 71300 | C45: =ROUND(B45*60%,0) -> 42780 | D45: =SUM(B45:C45) -> 114080 | E45: =B45 -> 71300 | F45: =ROUND(E45*58%,0) -> 41354 | G45: =SUM(E45:F45) -> 112654 | H45: =B45-E45 -> 0 | I45: =C45-F45 -> 1426 | J45: =D45-G45 -> 1426 | K45: =J45 -> 1426 | L45: =J45-K45 -> 0
A46: 46082 | B46: =B45 -> 71300 | C46: =ROUND(B46*60%,0) -> 42780 | D46: =SUM(B46:C46) -> 114080 | E46: =B46 -> 71300 | F46: =ROUND(E46*58%,0) -> 41354 | G46: =SUM(E46:F46) -> 112654 | H46: =B46-E46 -> 0 | I46: =C46-F46 -> 1426 | J46: =D46-G46 -> 1426 | K46: =J46 -> 1426 | L46: =J46-K46 -> 0
A47: 46113 | B47: =B46 -> 71300 | C47: =ROUND(B47*60%,0) -> 42780 | D47: =SUM(B47:C47) -> 114080 | E47: =B47 -> 71300 | F47: =ROUND(E47*58%,0) -> 41354 | G47: =SUM(E47:F47) -> 112654 | H47: =B47-E47 -> 0 | I47: =C47-F47 -> 1426 | J47: =D47-G47 -> 1426 | K47: =J47 -> 1426 | L47: =J47-K47 -> 0
A48: TOTAL | B48: =SUM(B44:B47) -> 285200 | C48: =SUM(C44:C47) -> 171120 | D48: =SUM(D44:D47) -> 456320 | E48: =SUM(E44:E47) -> 285200 | F48: =SUM(F44:F47) -> 165416 | G48: =SUM(G44:G47) -> 450616 | H48: =SUM(H44:H47) -> 0 | I48: =SUM(I44:I47) -> 5704 | ... L48: =SUM(L44:L47) -> 0
A53: NAME :- | B53: =MASTER!B9 -> EMPLOYEE 05 | G53: DESIGNATION :- | I53: =MASTER!C9 -> LECTURER
A54: MONTH | B54: DUE | E54: DRAWN | H54: DIFFERENCE | K54: DEDUCTION | L54: NET PAYABLE AMT.
B55: BASIC | C55: DA | D55: TOTAL | E55: BASIC | F55: DA | G55: TOTAL | H55: BASIC | I55: DA | J55: TOTAL | K55: =MASTER!E9 -> GPF 2004
A56: 46023 | B56: =MASTER!D9 -> 80200 | C56: =ROUND(B56*60%,0) -> 48120 | D56: =SUM(B56:C56) -> 128320 | E56: =B56 -> 80200 | F56: =ROUND(E56*58%,0) -> 46516 | G56: =SUM(E56:F56) -> 126716 | H56: =B56-E56 -> 0 | I56: =C56-F56 -> 1604 | J56: =D56-G56 -> 1604 | K56: =J56 -> 1604 | L56: =J56-K56 -> 0
A57: 46054 | B57: =B56 -> 80200 | C57: =ROUND(B57*60%,0) -> 48120 | D57: =SUM(B57:C57) -> 128320 | E57: =B57 -> 80200 | F57: =ROUND(E57*58%,0) -> 46516 | G57: =SUM(E57:F57) -> 126716 | H57: =B57-E57 -> 0 | I57: =C57-F57 -> 1604 | J57: =D57-G57 -> 1604 | K57: =J57 -> 1604 | L57: =J57-K57 -> 0
...
