Workbook

Sheet MASTER
A1: SRN | B1: Class | C1: Section | D1: SRNO | E1: ROLL NO | F1: Name | G1: FatherName | H1: MotherName | I1: Gender | J1: Dob | K1: Category
A2: 1 | B2: 1 | C2: A | D2: 422 | E2: 101 | F2: Janat | G2: Dharmpal | H2: Maina | I2: F | J2: 43368 | K2: OBC
A3: 2 | B3: 1 | C3: A | D3: 431 | E3: 102 | F3: Kanika | G3: Subhash | H3: Bindu | I3: F | J3: 43951 | K3: SC | N3: www.teachersraj.com
A4: 3 | B4: 1 | C4: A | D4: 411 | E4: 103 | F4: Kavya | G4: Pawan Kumar | H4: Priyanka Swami | I4: F | J4: 43949 | K4: OBC
A5: 4 | B5: 1 | C5: A | D5: 436 | E5: 104 | F5: Lokesh | G5: Suresh Kumar | H5: Sarda | I5: M | J5: 44081 | K5: OBC
A6: 5 | B6: 2 | C6: A | D6: 375 | E6: 201 | F6: Aarju | G6: Shishupal | H6: Bala | I6: F | J6: 43417 | K6: SC
A7: 6 | B7: 2 | C7: A | D7: 374 | E7: 202 | F7: Dimpal Kumari | G7: Sitaram | H7: Meenu | I7: F | J7: 43350 | K7: OBC
A8: 7 | B8: 2 | C8: A | D8: 389 | E8: 203 | F8: Harsh | G8: Suresh Kumar | H8: Baskari | I8: M | J8: 43487 | K8: SC
A9: 8 | B9: 2 | C9: A | D9: 368 | E9: 204 | F9: Sajid Khan | G9: Rahman Khan | H9: Madina Bano | I9: M | J9: 43191 | K9: OBC
A10: 9 | B10: 3 | C10: A | D10: 372 | E10: 301 | F10: Dakshesh | G10: Munshee Ram | H10: Sarita | I10: M | J10: 43232 | K10: OBC
A11: 10 | B11: 3 | C11: A | D11: 339 | E11: 302 | F11: Manish Kumar | G11: Ramswaroop | H11: Kalawati | I11: M | J11: 42886 | K11: SC
A12: 11 | B12: 3 | C12: A | D12: 337 | E12: 303 | F12: Sandeep | G12: Satpal | H12: Pooja | I12: M | J12: 42929 | K12: SC
A13: 12 | B13: 3 | C13: A | D13: 373 | E13: 304 | F13: Vikas | G13: Bheem Singh | H13: Sonu | I13: M | J13: 42958 | K13: SC
A14: 13 | B14: 4 | C14: A | D14: 330 | E14: 401 | F14: Anil | G14: Surendra | H14: Vidhya | I14: M | J14: 42826 | K14: OBC
A15: 14 | B15: 4 | C15: A | D15: 396 | E15: 402 | F15: Anmol | G15: Rakesh kumar | H15: Saroj | I15: M | J15: 42570 | K15: OBC
... A42: 41 | B42: 7 | C42: A | D42: 407 | E42: 702 | F42: ANKIT | G42: ROHITASH | H42: SUNDAR | I42: M | J42: 41866 | K42: SC
A43: 42 | B43: 7 | C43: A | E43: 703 | F43: DIPAK | G43: RAJ KUMAR | H43: SAVITRI | I43: M | J43: 41581 | K43: SC
A44: 43 | B44: 7 | C44: A | D44: 197 | E44: 704 | F44: Hansina | G44: Bhadarram | H44: Rani | I44: F | J44: 41438 | K44: SC
A45: 44 | B45: 7 | C45: A | D45: 314 | E45: 705 | F45: HARDIK | G45: SANWARMAL | H45: GAUMATI | I45: M | J45: 41805 | K45: OBC
A46: 45 | B46: 7 | C46: A | D46: 181 | E46: 706 | F46: MANISH | G46: NARESH KUMAR | H46: OMI DEVI | I46: M | J46: 41652 | K46: OBC
A47: 46 | B47: 7 | C47: A | D47: 173 | E47: 707 | F47: MONIKA | G47: SURESH KUMAR | H47: BASKARI | I47: F | J47: 41257 | K47: SC
A48: 47 | B48: 7 | C48: A | D48: 410 | E48: 708 | F48: Nayan | G48: Kheta Ram Gugar | H48: Nirmala Devi | I48: F | J48: 42172 | K48: OBC
A49: 48 | B49: 7 | C49: A | D49: 175 | E49: 709 | F49: PALAK | G49: SANJAY KUMAR | H49: MANJU | I49: F | J49: 41950 | K49: OBC
A50: 49 | B50: 7 | C50: A | D50: 404 | E50: 710 | F50: Prins | G50: Vinod Kumar | H50: Savitri Devi | I50: M | J50: 41853 | K50: OBC
A51: 50 | B51: 7 | C51: A | D51: 405 | E51: 711 | F51: Sandeep | G51: Devilal | H51: Kamla | I51: M | J51: 41360 | K51: SC
A52: 51 | B52: 7 | C52: A | D52: 383 | E52: 712 | F52: Yash Kumar | G52: Shrawan Kumar | H52: Rajbala | I52: M | J52: 41693 | K52: OBC
A53: 52 | B53: 7 | C53: A | D53: 170 | E53: 713 | F53: YOGESH LAKHOTIYA | G53: MANGERAM | H53: SUMAN | I53: M | J53: 41640 | K53: SC
A54: 53 | B54: 9 | C54: A | D54: 413 | E54: 901 | F54: Aaina | G54: Het Ram | H54: Rajbala | I54: F | J54: 40801 | K54: SC
A55: 54 | B55: 9 | C55: A | D55: 123 | E55: 902 | F55: AARUSHEE | G55: RAN SINGH | H55: SUMAN | I55: F | J55: 41105 | K55: OBC
... A102: 101 | B102: 11 | C102: A | D102: 393 | E102: 1113 | F102: Vikram | G102: Mansingh | H102: Sarswati | I102: M | J102: 40025 | K102: SC

Sheet Format01
A1: fo|ky; dk uke& jk-m-ek-fo-uqoka¼Hkknjk½
A2: =qVhghu izek.k&i= | H2: izi=&01
A3: Øekad % | G3: fnukad %
A4: =qVhghu izek.k&i=
A5: izekf.kr fd;k tkrk gSa fd esjs }kjk jktdh;@futh fo|ky;ksa dk ijh{kk ifj.kke 2025&26 vuqeksnu fd;k x;k]ftlesa fdlh Hkh izdkj dh =qVh ugha ik;h xbZ gSa A LFkkuh; ijh{kk vuqeksnu desVh }kjk tkaPk dj fy;k x;k gSa vkSj lgh ik;k x;k gSaA ;fn fdlh izdkj dh dksbZ =qVh gksrh gSa rks tkap desVh ,oa eSa Lo;a ftEesokj gksaxsA
O9: www.teachersraj.com
G10: gLrk{kj
G11: laLFkk iz/kku
A14: https://teachersraj.com/

Sheet Format02
A1: fo|ky; dk uke&jk-m-ek-fo-uqoka¼Hkknjk½
A2: lesfdr lwph ijh{kk ifj.kke 2025&26 | O2: izi=&02
A3: Ø-la- | B3: d{kk | C3: dqy ukekadu | F3: ijh{kk esa izfo"V Nk= la[;k | I3: mrh.kZ Nk= la[;k | L3: vuqifLFkr Nk= la[;k | O3: fo-fo-
C4: Nk= | D4: Nk=k | E4: ;ksx | F4: Nk= | G4: Nk=k | H4: ;ksx | I4: Nk= | J4: Nk=k | K4: ;ksx | L4: Nk= | M4: Nk=k | N4: ;ksx
A5: 1 | B5: 1 | C5: 1 | D5: 3 | E5: =SUM(C5:D5) -> 4 | F5: 1 | G5: 3 | H5: =SUM(F5:G5) -> 4 | I5: 1 | J5: 3 | K5: =SUM(I5:J5) -> 4 | L5: 0 | M5: 0 | N5: =SUM(L5:M5) -> 0
A6: 2 | B6: 2 | C6: 2 | D6: 2 | E6: =SUM(C6:D6) -> 4 | F6: 2 | G6: 2 | H6: =SUM(F6:G6) -> 4 | I6: 2 | J6: 2 | K6: =SUM(I6:J6) -> 4 | L6: 0 | M6: 0 | N6: =SUM(L6:M6) -> 0
A7: 3 | B7: 3 | C7: 4 | D7: 0 | E7: =SUM(C7:D7) -> 4 | F7: 4 | G7: 0 | H7: =SUM(F7:G7) -> 4 | I7: 4 | J7: 0 | K7: =SUM(I7:J7) -> 4 | L7: 0 | M7: 0 | N7: =SUM(L7:M7) -> 0
A8: 4 | B8: 4 | C8: 8 | D8: 4 | E8: =SUM(C8:D8) -> 12 | F8: 8 | G8: 4 | H8: =SUM(F8:G8) -> 12 | I8: 8 | J8: 4 | K8: =SUM(I8:J8) -> 12 | L8: 0 | M8: 0 | N8: =SUM(L8:M8) -> 0
A9: 5 | B9: 6 | C9: 3 | D9: 12 | E9: =SUM(C9:D9) -> 15 | F9: 3 | G9: 12 | H9: =SUM(F9:G9) -> 15 | I9: 3 | J9: 12 | K9: =SUM(I9:J9) -> 15 | L9: 0 | M9: 0 | N9: =SUM(L9:M9) -> 0
A10: 6 | B10: 7 | C10: 8 | D10: 5 | E10: =SUM(C10:D10) -> 13 | F10: 8 | G10: 5 | H10: =SUM(F10:G10) -> 13 | I10: 8 | J10: 5 | K10: =SUM(I10:J10) -> 13 | L10: 0 | M10: 0 | N10: =SUM(L10:M10) -> 0
A11: 7 | B11: 9 | C11: 21 | D11: 16 | E11: =SUM(C11:D11) -> 37 | F11: 21 | G11: 16 | H11: =SUM(F11:G11) -> 37 | I11: 18 | J11: 16 | K11: =SUM(I11:J11) -> 34 | L11: 0 | M11: 0 | N11: =SUM(L11:M11) -> 0
A12: 8 | B12: 11 | C12: 6 | D12: 7 | E12: =SUM(C12:D12) -> 13 | F12: 6 | G12: 7 | H12: =SUM(F12:G12) -> 13 | I12: 6 | J12: 6 | K12: =SUM(I12:J12) -> 12 | L12: 0 | M12: 1 | N12: =SUM(L12:M12) -> 1
A13: ;ksx | C13: =SUM(C5:C12) -> 53 | D13: =SUM(D5:D12) -> 49 | E13: =SUM(E5:E12) -> 102 | F13: =SUM(F5:F12) -> 53 | G13: =SUM(G5:G12) -> 49 | H13: =SUM(H5:H12) -> 102 | I13: =SUM(I5:I12) -> 50 | J13: =SUM(J5:J12) -> 48 | ... N13: =SUM(N5:N12) -> 1
A15: uksV %& izekf.kr fd;k tkrk gSa fd izi= esa vafdr Nk= la[;k dk feyku 'kkyk niZ.k @ih,lih iksVZy ds ukekadu ,oa ijh{kk ifj.kke iathdk ls djus ij lgh ik;k x;k gSaA
B21: gLrk{kj | M21: gLrk{kj
B22: ijh{kk izHkkjh | G22: gLrk{kj | M22: laLFkkiz/kku
G23: vuqeksnudrkZ
B26: https://teachersraj.com/

Sheet Format03
A1: fo|ky; dk uke&jk-m-ek-fo-uqoka¼Hkknjk½
A2: lesfdr lwph ijh{kk ifj.kke 2025&26 | U2: izi=&03
A3: ijh{kkfFkZ;ksa dk d{kkokj ,oa tkfroxkZuqlkj d{kksUUkfr fooj.k
A4: d{kk | B4: dqy ukekadu | E4: ijh{kk esa izfo"V Nk= la[;k | H4: tkfr oxkZuqlkj ijh{kk ifj.kke | T4: ;ksx mrh.kZ
H5: lkekU; oxZ | K5: vU; fiNMk oxZ | N5: vuq- tkfr oxZ | Q5: vuq- tutkfr oxZ
B6: Nk= | C6: Nk=k | D6: ;ksx | E6: Nk= | F6: Nk=k | G6: ;ksx | H6: Nk= | I6: Nk=k | J6: ;ksx | K6: Nk= | L6: Nk=k | M6: ;ksx | N6: Nk= | O6: Nk=k | P6: ;ksx | Q6: Nk= | R6: Nk=k | S6: ;ksx | T6: Nk= | U6: Nk=k | V6: ;ksx
A7: 1 ls 4 | B7: 15 | C7: 9 | D7: =SUM(B7:C7) -> 24 | E7: 15 | F7: 9 | G7: =SUM(E7:F7) -> 24 | H7: 0 | I7: 0 | J7: =SUM(H7:I7) -> 0 | K7: 12 | L7: 7 | M7: =SUM(K7:L7) -> 19 | N7: 12 | O7: 7 | P7: =SUM(N7:O7) -> 19 | Q7: 0 | R7: 0 | S7: =SUM(Q7:R7) -> 0 | T7: 24 | U7: 14 | V7: =SUM(T7:U7) -> 38
A8: 6 ls 7 | B8: 18 | C8: 16 | D8: =SUM(B8:C8) -> 34 | E8: 18 | F8: 16 | G8: =SUM(E8:F8) -> 34 | H8: 0 | I8: 0 | J8: =SUM(H8:I8) -> 0 | K8: 5 | L8: 12 | M8: =SUM(K8:L8) -> 17 | N8: 13 | O8: 4 | P8: =SUM(N8:O8) -> 17 | Q8: 0 | R8: 0 | S8: =SUM(Q8:R8) -> 0 | T8: 18 | U8: 16 | V8: =SUM(T8:U8) -> 34
A9: 9 oha | B9: 21 | C9: 16 | D9: =SUM(B9:C9) -> 37 | E9: 21 | F9: 16 | G9: =SUM(E9:F9) -> 37 | H9: 0 | I9: 2 | J9: =SUM(H9:I9) -> 2 | K9: 11 | L9: 7 | M9: =SUM(K9:L9) -> 18 | N9: 10 | O9: 7 | P9: =SUM(N9:O9) -> 17 | Q9: 0 | R9: 0 | S9: =SUM(Q9:R9) -> 0 | T9: 21 | U9: 16 | V9: =SUM(T9:U9) -> 37
A10: 11oha dyk | B10: 6 | C10: 7 | D10: =SUM(B10:C10) -> 13 | E10: 6 | F10: 7 | G10: =SUM(E10:F10) -> 13 | H10: 0 | I10: 1 | J10: =SUM(H10:I10) -> 1 | K10: 3 | L10: 0 | M10: =SUM(K10:L10) -> 3 | N10: 6 | O10: 3 | P10: =SUM(N10:O10) -> 9 | Q10: 0 | R10: 0 | S10: =SUM(Q10:R10) -> 0 | T10: 6 | U10: 7 | V10: =SUM(T10:U10) -> 13
A11: 11oha okf.kT; | B11: 0 | C11: 0 | D11: =SUM(B11:C11) -> 0 | E11: 0 | F11: 0 | G11: =SUM(E11:F11) -> 0 | H11: 0 | I11: 0 | J11: =SUM(H11:I11) -> 0 | K11: 0 | L11: 0 | M11: =SUM(K11:L11) -> 0 | N11: 0 | O11: 0 | P11: =SUM(N11:O11) -> 0 | Q11: 0 | R11: 0 | S11: =SUM(Q11:R11) -> 0 | T11: 0 | U11: 0 | V11: =SUM(T11:U11) -> 0
A12: 11oha foKku | B12: 0 | C12: 0 | D12: =SUM(B12:C12) -> 0 | E12: 0 | F12: 0 | G12: =SUM(E12:F12) -> 0 | H12: 0 | I12: 0 | J12: =SUM(H12:I12) -> 0 | K12: 0 | L12: 0 | M12: =SUM(K12:L12) -> 0 | N12: 0 | O12: 0 | P12: =SUM(N12:O12) -> 0 | Q12: 0 | R12: 0 | S12: =SUM(Q12:R12) -> 0 | T12: 0 | U12: 0 | V12: =SUM(T12:U12) -> 0
A13: 11oha d`f"k | B13: 0 | C13: 0 | D13: =SUM(B13:C13) -> 0 | E13: 0 | F13: 0 | G13: =SUM(E13:F13) -> 0 | H13: 0 | I13: 0 | J13: =SUM(H13:I13) -> 0 | K13: 0 | L13: 0 | M13: =SUM(K13:L13) -> 0 | N13: 0 | O13: 0 | P13: =SUM(N13:O13) -> 0 | Q13: 0 | R13: 0 | S13: =SUM(Q13:R13) -> 0 | T13: 0 | U13: 0 | V13: =SUM(T13:U13) -> 0
A14: ;ksx | B14: =SUM(B7:B13) -> 60 | C14: =SUM(C7:C13) -> 48 | D14: =SUM(D7:D13) -> 108 | E14: =SUM(E7:E13) -> 60 | F14: =SUM(F7:F13) -> 48 | G14: =SUM(G7:G13) -> 108 | H14: =SUM(H7:H13) -> 0 | I14: =SUM(I7:I13) -> 3 | ... V14: =SUM(V7:V13) -> 122
A16: uksV %& izekf.kr fd;k tkrk gSa fd izi= esa vafdr Nk= la[;k dk feyku 'kkyk niZ.k @ih,lih iksVZy ds ukekadu ,oa ijh{kk ifj.kke iathdk ls djus ij lgh ik;k x;k gSaA
B22: gLrk{kj | R22: gLrk{kj
B23: ijh{kk izHkkjh | J23: gLrk{kj | R23: laLFkkiz/kku
J24: vuqeksnudrkZ
B26: https://teachersraj.com/

Sheet Format04
A1: fo|ky; dk uke&jk-m-ek-fo-uqoka¼Hkknjk½
A2: ifj.kke izi= l= & 2025&26 | J2: izi=&04 | AA2: Aarju | AB2: Shishupal | AC2: Bala
A3: d{kk 1 ls 7 | AA3: Dimpal Kumari | AB3: Sitaram | AC3: Meenu
A4: S.R. | B4: SR NO. | C4: ROLL NO. | D4: STUDENT'S NAME | E4: FATHER NAME | F4: MOTHER NAME | G4: GEN. | H4: DOB | I4: CATEG. | J4: CLASS | K4: SECTION | L4: RESULT | AA4: Harsh | AB4: Suresh Kumar | AC4: Baskari
A5: 1 | B5: =MASTER!D2 -> 422 | C5: =MASTER!E2 -> 101 | D5: =UPPER(MASTER!F2) -> JANAT | E5: =UPPER(MASTER!G2) -> DHARMPAL | F5: =UPPER(MASTER!H2) -> MAINA | G5: =UPPER(MASTER!I2) -> F | H5: =MASTER!J2 -> 43368 | I5: =MASTER!K2 -> OBC | J5: =MASTER!B2 -> 1 | K5: =UPPER(MASTER!C2) -> A | L5: PASS | AA5: Karan Singh | AB5: Malkeet Singh | AC5: Rajni
A6: 2 | B6: =MASTER!D3 -> 431 | C6: =MASTER!E3 -> 102 | D6: =UPPER(MASTER!F3) -> KANIKA | E6: =UPPER(MASTER!G3) -> SUBHASH | F6: =UPPER(MASTER!H3) -> BINDU | G6: =UPPER(MASTER!I3) -> F | H6: =MASTER!J3 -> 43951 | I6: =MASTER!K3 -> SC | J6: =MASTER!B3 -> 1 | K6: =UPPER(MASTER!C3) -> A | L6: PASS | AA6: Aryan | AB6: Satpal | AC6: Pooja
A7: 3 | B7: =MASTER!D4 -> 411 | C7: =MASTER!E4 -> 103 | D7: =UPPER(MASTER!F4) -> KAVYA | E7: =UPPER(MASTER!G4) -> PAWAN KUMAR | F7: =UPPER(MASTER!H4) -> PRIYANKA SWAMI | G7: =UPPER(MASTER!I4) -> F | H7: =MASTER!J4 -> 43949 | I7: =MASTER!K4 -> OBC | J7: =MASTER!B4 -> 1 | K7: =UPPER(MASTER!C4) -> A | L7: PASS | AA7: Dakshesh | AB7: Munshee Ram | AC7: Sarita
A8: 4 | B8: =MASTER!D5 -> 436 | C8: =MASTER!E5 -> 104 | D8: =UPPER(MASTER!F5) -> LOKESH | E8: =UPPER(MASTER!G5) -> SURESH KUMAR | F8: =UPPER(MASTER!H5) -> SARDA | G8: =UPPER(MASTER!I5) -> M | H8: =MASTER!J5 -> 44081 | I8: =MASTER!K5 -> OBC | J8: =MASTER!B5 -> 1 | K8: =UPPER(MASTER!C5) -> A | L8: PASS | AA8: Malkit | AB8: Dalip Kumar | AC8: Savitri
A9: 5 | B9: =MASTER!D6 -> 375 | C9: =MASTER!E6 -> 201 | D9: =UPPER(MASTER!F6) -> AARJU | E9: =UPPER(MASTER!G6) -> SHISHUPAL | F9: =UPPER(MASTER!H6) -> BALA | G9: =UPPER(MASTER!I6) -> F | H9: =MASTER!J6 -> 43417 | I9: =MASTER!K6 -> SC | J9: =MASTER!B6 -> 2 | K9: =UPPER(MASTER!C6) -> A | L9: PASS | AA9: Manish Kumar | AB9: Ramswaroop | AC9: Kalawati
A10: 6 | B10: =MASTER!D7 -> 374 | C10: =MASTER!E7 -> 202 | D10: =UPPER(MASTER!F7) -> DIMPAL KUMARI | E10: =UPPER(MASTER!G7) -> SITARAM | F10: =UPPER(MASTER!H7) -> MEENU | G10: =UPPER(MASTER!I7) -> F | H10: =MASTER!J7 -> 43350 | I10: =MASTER!K7 -> OBC | J10: =MASTER!B7 -> 2 | K10: =UPPER(MASTER!C7) -> A | L10: PASS | AA10: Sajid Khan | AB10: Rahman Khan | AC10: Madina Bano
A11: 7 | B11: =MASTER!D8 -> 389 | C11: =MASTER!E8 -> 203 | D11: =UPPER(MASTER!F8) -> HARSH | E11: =UPPER(MASTER!G8) -> SURESH KUMAR | F11: =UPPER(MASTER!H8) -> BASKARI | G11: =UPPER(MASTER!I8) -> M | H11: =MASTER!J8 -> 43487 | I11: =MASTER!K8 -> SC | J11: =MASTER!B8 -> 2 | K11: =UPPER(MASTER!C8) -> A | L11: PASS | AA11: Sandeep | AB11: Satpal | AC11: Pooja
A12: 8 | B12: =MASTER!D9 -> 368 | C12: =MASTER!E9 -> 204 | D12: =UPPER(MASTER!F9) -> SAJID KHAN | E12: =UPPER(MASTER!G9) -> RAHMAN KHAN | F12: =UPPER(MASTER!H9) -> MADINA BANO | G12: =UPPER(MASTER!I9) -> M | H12: =MASTER!J9 -> 43191 | I12: =MASTER!K9 -> OBC | J12: =MASTER!B9 -> 2 | K12: =UPPER(MASTER!C9) -> A | L12: PASS | AA12: Vikas | AB12: Bheem Singh | AC12: Sonu
A13: 9 | B13: =MASTER!D10 -> 372 | C13: =MASTER!E10 -> 301 | D13: =UPPER(MASTER!F10) -> DAKSHESH | E13: =UPPER(MASTER!G10) -> MUNSHEE RAM | F13: =UPPER(MASTER!H10) -> SARITA | G13: =UPPER(MASTER!I10) -> M | H13: =MASTER!J10 -> 43232 | I13: =MASTER!K10 -> OBC | J13: =MASTER!B10 -> 3 | K13: =UPPER(MASTER!C10) -> A | L13: PASS | AA13: Anil | AB13: Surendra | AC13: Vidhya
A14: 10 | B14: =MASTER!D11 -> 339 | C14: =MASTER!E11 -> 302 | D14: =UPPER(MASTER!F11) -> MANISH KUMAR | E14: =UPPER(MASTER!G11) -> RAMSWAROOP | F14: =UPPER(MASTER!H11) -> KALAWATI | G14: =UPPER(MASTER!I11) -> M | H14: =MASTER!J11 -> 42886 | I14: =MASTER!K11 -> SC | J14: =MASTER!B11 -> 3 | K14: =UPPER(MASTER!C11) -> A | L14: PASS | AA14: Anmol | AB14: Rakesh | AC14: Saroj
A15: 11 | B15: =MASTER!D12 -> 337 | C15: =MASTER!E12 -> 303 | D15: =UPPER(MASTER!F12) -> SANDEEP | E15: =UPPER(MASTER!G12) -> SATPAL | F15: =UPPER(MASTER!H12) -> POOJA | G15: =UPPER(MASTER!I12) -> M | H15: =MASTER!J12 -> 42929 | I15: =MASTER!K12 -> SC | J15: =MASTER!B12 -> 3 | K15: =UPPER(MASTER!C12) -> A | L15: PASS | AA15: Anuj | AB15: Dharmpal | AC15: Meera
A16: 12 | B16: =MASTER!D13 -> 373 | C16: =MASTER!E13 -> 304 | D16: =UPPER(MASTER!F13) -> VIKAS | E16: =UPPER(MASTER!G13) -> BHEEM SINGH | F16: =UPPER(MASTER!H13) -> SONU | G16: =UPPER(MASTER!I13) -> M | H16: =MASTER!J13 -> 42958 | I16: =MASTER!K13 -> SC | J16: =MASTER!B13 -> 3 | K16: =UPPER(MASTER!C13) -> A | L16: PASS | AA16: Devi Lal | AB16: Shrawan | AC16: Pooja
... A45: 41 | B45: =MASTER!D42 -> 407 | C45: =MASTER!E42 -> 702 | D45: =UPPER(MASTER!F42) -> ANKIT | E45: =UPPER(MASTER!G42) -> ROHITASH | F45: =UPPER(MASTER!H42) -> SUNDAR | G45: =UPPER(MASTER!I42) -> M | H45: =MASTER!J42 -> 41866 | I45: =MASTER!K42 -> SC | J45: =MASTER!B42 -> 7 | K45: =UPPER(MASTER!C42) -> A | L45: PASS | AA45: PRASHNSA | AB45: RAKESH KUMAR SAHU | AC45: SHARDA
A46: 42 | C46: =MASTER!E43 -> 703 | D46: DIPAK | E46: RAJ KUMAR | F46: SAVITRI | G46: M | H46: 41581 | I46: SC | J46: 7 | K46: A | L46: PASS
A47: 43 | B47: =MASTER!D44 -> 197 | C47: =MASTER!E44 -> 704 | D47: =UPPER(MASTER!F44) -> HANSINA | E47: =UPPER(MASTER!G44) -> BHADARRAM | F47: =UPPER(MASTER!H44) -> RANI | G47: =UPPER(MASTER!I44) -> F | H47: =MASTER!J44 -> 41438 | I47: =MASTER!K44 -> SC | J47: =MASTER!B44 -> 7 | K47: =UPPER(MASTER!C44) -> A | L47: PASS | AA47: Prins | AB47: Vinod Kumar | AC47: Savitri Devi
A48: 44 | B48: =MASTER!D45 -> 314 | C48: =MASTER!E45 -> 705 | D48: =UPPER(MASTER!F45) -> HARDIK | E48: =UPPER(MASTER!G45) -> SANWARMAL | F48: =UPPER(MASTER!H45) -> GAUMATI | G48: =UPPER(MASTER!I45) -> M | H48: =MASTER!J45 -> 41805 | I48: =MASTER!K45 -> OBC | J48: =MASTER!B45 -> 7 | K48: =UPPER(MASTER!C45) -> A | L48: PASS | AA48: Sandeep | AB48: Devilal | AC48: Kamla
A49: 45 | B49: =MASTER!D46 -> 181 | C49: =MASTER!E46 -> 706 | D49: =UPPER(MASTER!F46) -> MANISH | E49: =UPPER(MASTER!G46) -> NARESH KUMAR | F49: =UPPER(MASTER!H46) -> OMI DEVI | G49: =UPPER(MASTER!I46) -> M | H49: =MASTER!J46 -> 41652 | I49: =MASTER!K46 -> OBC | J49: =MASTER!B46 -> 7 | K49: =UPPER(MASTER!C46) -> A | L49: PASS | AA49: SONIKA | AB49: SUBHASH CHANDER | AC49: MANJU
A50: 46 | B50: =MASTER!D47 -> 173 | C50: =MASTER!E47 -> 707 | D50: =UPPER(MASTER!F47) -> MONIKA | E50: =UPPER(MASTER!G47) -> SURESH KUMAR | F50: =UPPER(MASTER!H47) -> BASKARI | G50: =UPPER(MASTER!I47) -> F | H50: =MASTER!J47 -> 41257 | I50: =MASTER!K47 -> SC | J50: =MASTER!B47 -> 7 | K50: =UPPER(MASTER!C47) -> A | L50: PASS | AA50: Yash Kumar | AB50: Shrawan Kumar | AC50: Rajbala
A51: 47 | B51: =MASTER!D48 -> 410 | C51: =MASTER!E48 -> 708 | D51: =UPPER(MASTER!F48) -> NAYAN | E51: =UPPER(MASTER!G48) -> KHETA RAM GUGAR | F51: =UPPER(MASTER!H48) -> NIRMALA DEVI | G51: =UPPER(MASTER!I48) -> F | H51: =MASTER!J48 -> 42172 | I51: =MASTER!K48 -> OBC | J51: =MASTER!B48 -> 7 | K51: =UPPER(MASTER!C48) -> A | L51: PASS | AA51: YOGESH LAKHOTIYA | AB51: MANGERAM | AC51: SUMAN
A52: 48 | B52: =MASTER!D49 -> 175 | C52: =MASTER!E49 -> 709 | D52: =UPPER(MASTER!F49) -> PALAK | E52: =UPPER(MASTER!G49) -> SANJAY KUMAR | F52: =UPPER(MASTER!H49) -> MANJU | G52: =UPPER(MASTER!I49) -> F | H52: =MASTER!J49 -> 41950 | I52: =MASTER!K49 -> OBC | J52: =MASTER!B49 -> 7 | K52: =UPPER(MASTER!C49) -> A | L52: PASS | AA52: AARJU | AB52: AAMIN KHAN | AC52: AMINO BANO
A53: 49 | B53: =MASTER!D50 -> 404 | C53: =MASTER!E50 -> 710 | D53: =UPPER(MASTER!F50) -> PRINS | E53: =UPPER(MASTER!G50) -> VINOD KUMAR | F53: =UPPER(MASTER!H50) -> SAVITRI DEVI | G53: =UPPER(MASTER!I50) -> M | H53: =MASTER!J50 -> 41853 | I53: =MASTER!K50 -> OBC | J53: =MASTER!B50 -> 7 | K53: =UPPER(MASTER!C50) -> A | L53: PASS | AA53: AJAY | AB53: BALVEER | AC53: RITA
A54: 50 | B54: =MASTER!D51 -> 405 | C54: =MASTER!E51 -> 711 | D54: =UPPER(MASTER!F51) -> SANDEEP | E54: =UPPER(MASTER!G51) -> DEVILAL | F54: =UPPER(MASTER!H51) -> KAMLA | G54: =UPPER(MASTER!I51) -> M | H54: =MASTER!J51 -> 41360 | I54: =MASTER!K51 -> SC | J54: =MASTER!B51 -> 7 | K54: =UPPER(MASTER!C51) -> A | L54: PASS | AA54: AMIT | AB54: KRISHAN | AC54: GAYTRI
A55: 51 | B55: =MASTER!D52 -> 383 | C55: =MASTER!E52 -> 712 | D55: =UPPER(MASTER!F52) -> YASH KUMAR | E55: =UPPER(MASTER!G52) -> SHRAWAN KUMAR | F55: =UPPER(MASTER!H52) -> RAJBALA | G55: =UPPER(MASTER!I52) -> M | H55: =MASTER!J52 -> 41693 | I55: =MASTER!K52 -> OBC | J55: =MASTER!B52 -> 7 | K55: =UPPER(MASTER!C52) -> A | L55: PASS | AA55: ANKIT | AB55: JAGDISH | AC55: ROSHANI
A56: 52 | B56: =MASTER!D53 -> 170 | C56: =MASTER!E53 -> 713 | D56: =UPPER(MASTER!F53) -> YOGESH LAKHOTIYA | E56: =UPPER(MASTER!G53) -> MANGERAM | F56: =UPPER(MASTER!H53) -> SUMAN | G56: =UPPER(MASTER!I53) -> M | H56: =MASTER!J53 -> 41640 | I56: =MASTER!K53 -> SC | J56: =MASTER!B53 -> 7 | K56: =UPPER(MASTER!C53) -> A | L56: PASS | AA56: BHAWNA | AB56: SUBHASH CHANDER | AC56: BINDU
A57: 53 | B57: =MASTER!D54 -> 413 | C57: =MASTER!E54 -> 901 | D57: =UPPER(MASTER!F54) -> AAINA | E57: =UPPER(MASTER!G54) -> HET RAM | F57: =UPPER(MASTER!H54) -> RAJBALA | G57: =UPPER(MASTER!I54) -> F | H57: =MASTER!J54 -> 40801 | I57: =MASTER!K54 -> SC | J57: =MASTER!B54 -> 9 | K57: =UPPER(MASTER!C54) -> A | L57: PASS | AA57: Bhawna | AB57: Shrawan Kumar | AC57: Rajbala
A58: 54 | B58: =MASTER!D55 -> 123 | C58: =MASTER!E55 -> 902 | D58: =UPPER(MASTER!F55) -> AARUSHEE | E58: =UPPER(MASTER!G55) -> RAN SINGH | F58: =UPPER(MASTER!H55) -> SUMAN | G58: =UPPER(MASTER!I55) -> F | H58: =MASTER!J55 -> 41105 | I58: =MASTER!K55 -> OBC | J58: =MASTER!B55 -> 9 | K58: =UPPER(MASTER!C55) -> A | L58: PASS | AA58: Mallika Sarkar | AB58: Shankar Lal | AC58: Onima
... A71: 67 | B71: =MASTER!D68 -> 125 | C71: =MASTER!E68 -> 915 | D71: =UPPER(MASTER!F68) -> KANCHAN | E71: =UPPER(MASTER!G68) -> MAHENDRA SINGH | F71: =UPPER(MASTER!H68) -> MANJU | G71: =UPPER(MASTER!I68) -> F | H71: =MASTER!J68 -> 41501 | I71: =MASTER!K68 -> OBC | J71: =MASTER!B68 -> 9 | K71: =UPPER(MASTER!C68) -> A | L71: PASS | AA71: YANTIKA | AB71: LAL CHAND | AC71: CHANDERKALA SWAMI
A72: 68 | B72: =MASTER!D69 -> 426 | C72: =MASTER!E69 -> 916 | D72: =UPPER(MASTER!F69) -> KHUSHI | E72: =UPPER(MASTER!G69) -> RAJKUMAR | F72: =UPPER(MASTER!H69) -> SUMAN | G72: =UPPER(MASTER!I69) -> F | H72: =MASTER!J69 -> 40932 | I72: =MASTER!K69 -> GEN | J72: =MASTER!B69 -> 9 | K72: =UPPER(MASTER!C69) -> A | L72: PASS
A73: 69 | B73: =MASTER!D70 -> 163 | C73: =MASTER!E70 -> 917 | D73: =UPPER(MASTER!F70) -> MAN SINGH | E73: =UPPER(MASTER!G70) -> RAJESH | F73: =UPPER(MASTER!H70) -> GAYTRI | G73: =UPPER(MASTER!I70) -> M | H73: =MASTER!J70 -> 40901 | I73: =MASTER!K70 -> OBC | J73: =MASTER!B70 -> 9 | K73: =UPPER(MASTER!C70) -> A | L73: PASS
A74: 70 | B74: =MASTER!D71 -> 286 | C74: =MASTER!E71 -> 918 | D74: =UPPER(MASTER!F71) -> MANISHA | E74: =UPPER(MASTER!G71) -> KRISHAN | F74: =UPPER(MASTER!H71) -> GAYTREE | G74: =UPPER(MASTER!I71) -> F | H74: =MASTER!J71 -> 41039 | I74: =MASTER!K71 -> SC | J74: =MASTER!B71 -> 9 | K74: =UPPER(MASTER!C71) -> A | L74: PASS
A75: 71 | B75: =MASTER!D72 -> 412 | C75: =MASTER!E72 -> 919 | D75: =UPPER(MASTER!F72) -> NITIN | E75: =UPPER(MASTER!G72) -> BHUPENDRA SINGH | F75: =UPPER(MASTER!H72) -> SEEMA | G75: =UPPER(MASTER!I72) -> M | H75: =MASTER!J72 -> 41174 | I75: =MASTER!K72 -> OBC | J75: =MASTER!B72 -> 9 | K75: =UPPER(MASTER!C72) -> A | L75: PASS
A76: 72 | B76: =MASTER!D73 -> 370 | C76: =MASTER!E73 -> 920 | D76: =UPPER(MASTER!F73) -> PAWAN KUMAR | E76: =UPPER(MASTER!G73) -> RAVI SWAROOP | F76: =UPPER(MASTER!H73) -> REKHA | G76: =UPPER(MASTER!I73) -> M | H76: =MASTER!J73 -> 40926 | I76: =MASTER!K73 -> SC | J76: =MASTER!B73 -> 9 | K76: =UPPER(MASTER!C73) -> A | L76: PASS
A77: 73 | B77: =MASTER!D74 -> 110 | C77: =MASTER!E74 -> 921 | D77: =UPPER(MASTER!F74) -> POOJA | E77: =UPPER(MASTER!G74) -> KRISHAN KUMAR | F77: =UPPER(MASTER!H74) -> MAMTA | G77: =UPPER(MASTER!I74) -> F | H77: =MASTER!J74 -> 39814 | I77: =MASTER!K74 -> SC | J77: =MASTER!B74 -> 9 | K77: =UPPER(MASTER!C74) -> A | L77: PASS
A78: 74 | B78: =MASTER!D75 -> 424 | C78: =MASTER!E75 -> 922 | D78: =UPPER(MASTER!F75) -> POOJA | E78: =UPPER(MASTER!G75) -> RAJ KUMAR | F78: =UPPER(MASTER!H75) -> SAWITRI | G78: =UPPER(MASTER!I75) -> F | H78: =MASTER!J75 -> 40808 | I78: =MASTER!K75 -> SC | J78: =MASTER!B75 -> 9 | K78: =UPPER(MASTER!C75) -> A | L78: PASS
A79: 75 | B79: =MASTER!D76 -> 130 | C79: =MASTER!E76 -> 923 | D79: =UPPER(MASTER!F76) -> POONAM | E79: =UPPER(MASTER!G76) -> JASWANT | F79: =UPPER(MASTER!H76) -> SUNITA | G79: =UPPER(MASTER!I76) -> F | H79: =MASTER!J76 -> 41301 | I79: =MASTER!K76 -> OBC | J79: =MASTER!B76 -> 9 | K79: =UPPER(MASTER!C76) -> A | L79: PASS
A80: 76 | B80: =MASTER!D77 -> 403 | C80: =MASTER!E77 -> 924 | D80: =UPPER(MASTER!F77) -> PRAVEEN KUMAR | E80: =UPPER(MASTER!G77) -> VINOD KUMAR | F80: =UPPER(MASTER!H77) -> SAVITRI DEVI | G80: =UPPER(MASTER!I77) -> M | H80: =MASTER!J77 -> 40921 | I80: =MASTER!K77 -> OBC | J80: =MASTER!B77 -> 9 | K80: =UPPER(MASTER!C77) -> A | L80: PASS
A81: 77 | B81: =MASTER!D78 -> 134 | C81: =MASTER!E78 -> 925 | D81: =UPPER(MASTER!F78) -> RADHIKA | E81: =UPPER(MASTER!G78) -> OM PRAKASH | F81: =UPPER(MASTER!H78) -> ROSHANI DEVI | G81: =UPPER(MASTER!I78) -> F | H81: =MASTER!J78 -> 40842 | I81: =MASTER!K78 -> OBC | J81: =MASTER!B78 -> 9 | K81: =UPPER(MASTER!C78) -> A | L81: PASS
A82: 78 | B82: =MASTER!D79 -> 135 | C82: =MASTER!E79 -> 926 | D82: =UPPER(MASTER!F79) -> RAHUL KUMAR SARVA | E82: =UPPER(MASTER!G79) -> RAJE RAM | F82: =UPPER(MASTER!H79) -> SUMITRA DEVI | G82: =UPPER(MASTER!I79) -> M | H82: =MASTER!J79 -> 41137 | I82: =MASTER!K79 -> SC | J82: =MASTER!B79 -> 9 | K82: =UPPER(MASTER!C79) -> A | L82: PASS
A83: 79 | B83: =MASTER!D80 -> 232 | C83: =MASTER!E80 -> 927 | D83: =UPPER(MASTER!F80) -> RAM NIWAS | E83: =UPPER(MASTER!G80) -> SATPAL | F83: =UPPER(MASTER!H80) -> SAROJ BALA | G83: =UPPER(MASTER!I80) -> M | H83: =MASTER!J80 -> 40903 | I83: =MASTER!K80 -> OBC | J83: =MASTER!B80 -> 9 | K83: =UPPER(MASTER!C80) -> A | L83: PASS
... A105: 101 | B105: =MASTER!D102 -> 393 | C105: =MASTER!E102 -> 1113 | D105: =UPPER(MASTER!F102) -> VIKRAM | E105: =UPPER(MASTER!G102) -> MANSINGH | F105: =UPPER(MASTER!H102) -> SARSWATI | G105: =UPPER(MASTER!I102) -> M | H105: =MASTER!J102 -> 40025 | I105: =MASTER!K102 -> SC | J105: =MASTER!B102 -> 11 | K105: =UPPER(MASTER!C102) -> A | L105: PASS

Sheet Format05
A1: fo|ky; dk uke&jk-m-ek-fo-uqoka¼Hkknjk½
A2: ifj.kke izi= l= & 2025&26 | J2: izi=&05
A3: d{kk 9 ls 11
A4: S.R. | B4: SR NO. | C4: ROLL NO. | D4: STUDENT'S NAME | E4: FATHER NAME | F4: MOTHER NAME | G4: GEN. | H4: DOB | I4: CATEG. | J4: CLASS | K4: SECTION | L4: RESULT
A5: 1 | B5: =Format04!B57 -> 413 | C5: =Format04!C57 -> 901 | D5: =Format04!D57 -> AAINA | E5: =Format04!E57 -> HET RAM | F5: =Format04!F57 -> RAJBALA | G5: =Format04!G57 -> F | H5: =Format04!H57 -> 40801 | I5: =Format04!I57 -> SC | ... L5: =Format04!L57 -> PASS
A6: 2 | B6: =Format04!B58 -> 123 | C6: =Format04!C58 -> 902 | D6: =Format04!D58 -> AARUSHEE | E6: =Format04!E58 -> RAN SINGH | F6: =Format04!F58 -> SUMAN | G6: =Format04!G58 -> F | H6: =Format04!H58 -> 41105 | I6: =Format04!I58 -> OBC | ... L6: =Format04!L58 -> PASS
A7: 3 | B7: =Format04!B59 -> 146 | C7: =Format04!C59 -> 903 | D7: =Format04!D59 -> ANJNI LAKHOTIYA | E7: =Format04!E59 -> MANGE RAM | F7: =Format04!F59 -> SUMAN | G7: =Format04!G59 -> F | H7: =Format04!H59 -> 40909 | I7: =Format04!I59 -> SC | ... L7: =Format04!L59 -> PASS
A8: 4 | B8: =Format04!B60 -> 120 | C8: =Format04!C60 -> 904 | D8: =Format04!D60 -> ANKIT | E8: =Format04!E60 -> BHADAR RAM | F8: =Format04!F60 -> RANI | G8: =Format04!G60 -> M | H8: =Format04!H60 -> 41037 | I8: =Format04!I60 -> SC | ... L8: =Format04!L60 -> PASS
A9: 5 | B9: =Format04!B61 -> 121 | C9: =Format04!C61 -> 905 | D9: =Format04!D61 -> ARMAN | E9: =Format04!E61 -> AAMIN KHAN | F9: =Format04!F61 -> AAMINA | G9: =Format04!G61 -> M | H9: =Format04!H61 -> 40984 | I9: =Format04!I61 -> OBC | ... L9: =Format04!L61 -> PASS
A10: 6 | B10: =Format04!B62 -> 427 | C10: =Format04!C62 -> 906 | D10: =Format04!D62 -> ARVIND | E10: =Format04!E62 -> BHANIRAM | F10: =Format04!F62 -> SUNITA | G10: =Format04!G62 -> M | H10: =Format04!H62 -> 39945 | I10: =Format04!I62 -> SC | ... L10: =Format04!L62 -> PASS
A11: 7 | B11: =Format04!B63 -> 388 | C11: =Format04!C63 -> 907 | D11: =Format04!D63 -> DEEPIKA | E11: =Format04!E63 -> PARMANAND | F11: =Format04!F63 -> MANJU | G11: =Format04!G63 -> F | H11: =Format04!H63 -> 40545 | I11: =Format04!I63 -> OBC | ... L11: =Format04!L63 -> PASS
A12: 8 | B12: =Format04!B64 -> 417 | C12: =Format04!C64 -> 908 | D12: =Format04!D64 -> DINESH | E12: =Format04!E64 -> DOULAT RAM | F12: =Format04!F64 -> CHANDRAKALA | G12: =Format04!G64 -> M | H12: =Format04!H64 -> 40988 | I12: =Format04!I64 -> SC | ... L12: =Format04!L64 -> PASS
A13: 9 | B13: =Format04!B65 -> 423 | C13: =Format04!C65 -> 909 | D13: =Format04!D65 -> DINESH KUMAR | E13: =Format04!E65 -> BAJARANG | F13: =Format04!F65 -> MEERA | G13: =Format04!G65 -> M | H13: =Format04!H65 -> 41204 | I13: =Format04!I65 -> OBC | ... L13: =Format04!L65 -> PASS
A14: 10 | B14: =Format04!B66 -> 144 | C14: =Format04!C66 -> 910 | D14: =Format04!D66 -> GAYATRI | E14: =Format04!E66 -> SITA RAM | F14: =Format04!F66 -> MINU | G14: =Format04!G66 -> F | H14: =Format04!H66 -> 41149 | I14: =Format04!I66 -> OBC | ... L14: =Format04!L66 -> PASS
A15: 11 | B15: =Format04!B67 -> 360 | C15: =Format04!C67 -> 911 | D15: =Format04!D67 -> HARISH KUMAR | E15: =Format04!E67 -> ASHOK KUMAR | F15: =Format04!F67 -> SONU DEVI | G15: =Format04!G67 -> M | H15: =Format04!H67 -> 41338 | I15: =Format04!I67 -> OBC | ... L15: =Format04!L67 -> PASS
A16: 12 | B16: =Format04!B68 -> 419 | C16: =Format04!C68 -> 912 | D16: =Format04!D68 -> HIMANSHI | E16: =Format04!E68 -> LOKRAJ | F16: =Format04!F68 -> MANJU BALA | G16: =Format04!G68 -> F | H16: =Format04!H68 -> 40863 | I16: =Format04!I68 -> GEN | ... L16: =Format04!L68 -> PASS
... A23: 19 | B23: =Format04!B75 -> 412 | C23: =Format04!C75 -> 919 | D23: =Format04!D75 -> NITIN | E23: =Format04!E75 -> BHUPENDRA SINGH | F23: =Format04!F75 -> SEEMA | G23: =Format04!G75 -> M | H23: =Format04!H75 -> 41174 | I23: =Format04!I75 -> OBC | ... L23: =Format04!L75 -> PASS
A24: 20 | B24: =Format04!B76 -> 370 | C24: =Format04!C76 -> 920 | D24: =Format04!D76 -> PAWAN KUMAR | E24: =Format04!E76 -> RAVI SWAROOP | F24: =Format04!F76 -> REKHA | G24: =Format04!G76 -> M | H24: =Format04!H76 -> 40926 | I24: =Format04!I76 -> SC | ... K24: =Format04!K76 -> A | L24: FAIL
A25: 21 | B25: =Format04!B77 -> 110 | C25: =Format04!C77 -> 921 | D25: =Format04!D77 -> POOJA | E25: =Format04!E77 -> KRISHAN KUMAR | F25: =Format04!F77 -> MAMTA | G25: =Format04!G77 -> F | H25: =Format04!H77 -> 39814 | I25: =Format04!I77 -> SC | ... L25: =Format04!L77 -> PASS
A26: 22 | B26: =Format04!B78 -> 424 | C26: =Format04!C78 -> 922 | D26: =Format04!D78 -> POOJA | E26: =Format04!E78 -> RAJ KUMAR | F26: =Format04!F78 -> SAWITRI | G26: =Format04!G78 -> F | H26: =Format04!H78 -> 40808 | I26: =Format04!I78 -> SC | ... L26: =Format04!L78 -> PASS
A27: 23 | B27: =Format04!B79 -> 130 | C27: =Format04!C79 -> 923 | D27: =Format04!D79 -> POONAM | E27: =Format04!E79 -> JASWANT | F27: =Format04!F79 -> SUNITA | G27: =Format04!G79 -> F | H27: =Format04!H79 -> 41301 | I27: =Format04!I79 -> OBC | ... L27: =Format04!L79 -> PASS
A28: 24 | B28: =Format04!B80 -> 403 | C28: =Format04!C80 -> 924 | D28: =Format04!D80 -> PRAVEEN KUMAR | E28: =Format04!E80 -> VINOD KUMAR | F28: =Format04!F80 -> SAVITRI DEVI | G28: =Format04!G80 -> M | H28: =Format04!H80 -> 40921 | I28: =Format04!I80 -> OBC | ... L28: =Format04!L80 -> PASS
A29: 25 | B29: =Format04!B81 -> 134 | C29: =Format04!C81 -> 925 | D29: =Format04!D81 -> RADHIKA | E29: =Format04!E81 -> OM PRAKASH | F29: =Format04!F81 -> ROSHANI DEVI | G29: =Format04!G81 -> F | H29: =Format04!H81 -> 40842 | I29: =Format04!I81 -> OBC | ... L29: =Format04!L81 -> PASS
A30: 26 | B30: =Format04!B82 -> 135 | C30: =Format04!C82 -> 926 | D30: =Format04!D82 -> RAHUL KUMAR SARVA | E30: =Format04!E82 -> RAJE RAM | F30: =Format04!F82 -> SUMITRA DEVI | G30: =Format04!G82 -> M | H30: =Format04!H82 -> 41137 | I30: =Format04!I82 -> SC | ... L30: =Format04!L82 -> PASS
A31: 27 | B31: 376 | C31: 927 | D31: RAJANI | E31: BALVEER | F31: RITA | G31: F | H31: 40589 | I31: SC | J31: 9 | K31: A | L31: PASS
A32: 28 | B32: =Format04!B83 -> 232 | C32: 928 | D32: =Format04!D83 -> RAM NIWAS | E32: =Format04!E83 -> SATPAL | F32: =Format04!F83 -> SAROJ BALA | G32: =Format04!G83 -> M | H32: =Format04!H83 -> 40903 | I32: =Format04!I83 -> OBC | J32: =Format04!J83 -> 9 | K32: =Format04!K83 -> A | L32: =Format04!L83 -> PASS
A33: 29 | B33: =Format04!B84 -> 420 | C33: 929 | D33: =Format04!D84 -> ROBIN SAHRAN | E33: =Format04!E84 -> KURDA RAM | F33: =Format04!F84 -> KAVITA | G33: =Format04!G84 -> M | H33: =Format04!H84 -> 40477 | I33: =Format04!I84 -> OBC | J33: =Format04!J84 -> 9 | K33: =Format04!K84 -> A | L33: =Format04!L84 -> PASS
A34: 30 | B34: =Format04!B85 -> 399 | C34: 930 | D34: =Format04!D85 -> SANDEEP | E34: =Format04!E85 -> RAJU | F34: =Format04!F85 -> RITU | G34: =Format04!G85 -> M | H34: =Format04!H85 -> 40720 | I34: =Format04!I85 -> SC | J34: =Format04!J85 -> 9 | K34: =Format04!K85 -> A | L34: =Format04!L85 -> PASS
A35: 31 | B35: =Format04!B86 -> 398 | C35: 931 | D35: =Format04!D86 -> SANDHYA | E35: =Format04!E86 -> OM PARKASH | F35: =Format04!F86 -> ROSHANI | G35: =Format04!G86 -> F | H35: =Format04!H86 -> 40909 | I35: =Format04!I86 -> OBC | J35: =Format04!J86 -> 9 | K35: =Format04!K86 -> A | L35: =Format04!L86 -> PASS
A36: 32 | B36: =Format04!B87 -> 354 | C36: 932 | D36: =Format04!D87 -> SATISH KUMAR | E36: =Format04!E87 -> DULICHAND | F36: =Format04!F87 -> MANJUBALA | G36: =Format04!G87 -> M | H36: =Format04!H87 -> 41478 | I36: =Format04!I87 -> OBC | J36: =Format04!J87 -> 9 | K36: =Format04!K87 -> A | L36: =Format04!L87 -> PASS
A37: 33 | B37: =Format04!B88 -> 117 | C37: 933 | D37: =Format04!D88 -> SHIVAM | E37: =Format04!E88 -> SITA RAM | F37: =Format04!F88 -> RITU | G37: =Format04!G88 -> M | H37: =Format04!H88 -> 40732 | I37: =Format04!I88 -> SC | J37: =Format04!J88 -> 9 | K37: =Format04!K88 -> A | L37: =Format04!L88 -> PASS
A38: 34 | B38: =Format04!B89 -> 416 | C38: 934 | D38: =Format04!D89 -> SHORABH | E38: =Format04!E89 -> SATVEER | F38: =Format04!F89 -> SUMAN | G38: =Format04!G89 -> M | H38: =Format04!H89 -> 41157 | I38: =Format04!I89 -> SC | J38: =Format04!J89 -> 9 | K38: =Format04!K89 -> A | L38: =Format04!L89 -> PASS
A39: 35 | B39: =Format04!B90 -> 92 | C39: 935 | D39: =Format04!D90 -> SONU | E39: =Format04!E90 -> KRISHAN KUMAR | F39: =Format04!F90 -> MAMTA | G39: =Format04!G90 -> M | H39: =Format04!H90 -> 40909 | I39: =Format04!I90 -> SC | J39: =Format04!J90 -> 9 | K39: =Format04!K90 -> A | L39: FAIL
A40: 36 | B40: =Format04!B91 -> 355 | C40: 936 | D40: =Format04!D91 -> YOGENDER | E40: =Format04!E91 -> DULICHAND | F40: =Format04!F91 -> MANJUBALA | G40: =Format04!G91 -> M | H40: =Format04!H91 -> 41037 | I40: =Format04!I91 -> OBC | J40: =Format04!J91 -> 9 | K40: =Format04!K91 -> A | L40: =Format04!L91 -> PASS
A41: 37 | B41: =Format04!B92 -> 386 | C41: 937 | D41: =Format04!D92 -> YOGENDRA | E41: =Format04!E92 -> RAJKUMAR | F41: =Format04!F92 -> SAWITRI | G41: =Format04!G92 -> M | H41: =Format04!H92 -> 40504 | I41: =Format04!I92 -> SC | J41: =Format04!J92 -> 9 | K41: =Format04!K92 -> A | L41: FAIL
A42: 38 | B42: =Format04!B93 -> 429 | C42: =Format04!C93 -> 1101 | D42: =Format04!D93 -> AADITY | E42: =Format04!E93 -> RAMJAS | F42: =Format04!F93 -> ANKITA | G42: =Format04!G93 -> M | H42: =Format04!H93 -> 40223 | I42: =Format04!I93 -> OBC | ... L42: =Format04!L93 -> PASS
A43: 39 | B43: =Format04!B94 -> 245 | C43: =Format04!C94 -> 1102 | D43: =Format04!D94 -> AARJU | E43: =Format04!E94 -> VINOD KUMAR | F43: =Format04!F94 -> SUMAN | G43: =Format04!G94 -> F | H43: =Format04!H94 -> 39712 | I43: =Format04!I94 -> SC | ... L43: =Format04!L94 -> PASS
A44: 40 | B44: =Format04!B95 -> 391 | C44: =Format04!C95 -> 1103 | D44: =Format04!D95 -> ARATI | E44: =Format04!E95 -> BANSHILAL | F44: =Format04!F95 -> SUMAN | G44: =Format04!G95 -> F | H44: =Format04!H95 -> 40059 | I44: =Format04!I95 -> SC | ... L44: =Format04!L95 -> PASS
A45: 41 | B45: =Format04!B96 -> 371 | C45: =Format04!C96 -> 1104 | D45: =Format04!D96 -> DIMPAL | E45: =Format04!E96 -> RAJ KUMAR | F45: =Format04!F96 -> SUMAN | G45: =Format04!G96 -> F | H45: =Format04!H96 -> 40468 | I45: =Format04!I96 -> GEN | ... L45: =Format04!L96 -> PASS
A46: 42 | B46: =Format04!B97 -> 346 | C46: =Format04!C97 -> 1105 | D46: =Format04!D97 -> HARISH | E46: =Format04!E97 -> AMARSINGH | F46: =Format04!F97 -> KAMLESH | G46: =Format04!G97 -> M | H46: =Format04!H97 -> 39887 | I46: =Format04!I97 -> OBC | ... L46: =Format04!L97 -> PASS
A47: 43 | B47: =Format04!B98 -> 343 | C47: =Format04!C98 -> 1106 | D47: =Format04!D98 -> NARESH | E47: =Format04!E98 -> BHUP SINGH | F47: =Format04!F98 -> BHANWARI | G47: =Format04!G98 -> M | H47: =Format04!H98 -> 40074 | I47: =Format04!I98 -> SC | ... L47: =Format04!L98 -> PASS
A48: 44 | B48: =Format04!B99 -> 209 | C48: =Format04!C99 -> 1107 | D48: =Format04!D99 -> PRAMOD | E48: =Format04!E99 -> OM PRAKASH | F48: =Format04!F99 -> MAMTA | G48: =Format04!G99 -> M | H48: =Format04!H99 -> 39375 | I48: =Format04!I99 -> OBC | ... L48: =Format04!L99 -> PASS
A49: 45 | B49: =Format04!B100 -> 350 | C49: =Format04!C100 -> 1108 | D49: =Format04!D100 -> RAVINA | E49: =Format04!E100 -> JAGDISH | F49: =Format04!F100 -> ROSHANI | G49: =Format04!G100 -> F | H49: =Format04!H100 -> 40015 | I49: =Format04!I100 -> SC | ... L49: =Format04!L100 -> PASS
A50: 46 | B50: =Format04!B101 -> 348 | C50: =Format04!C101 -> 1109 | D50: =Format04!D101 -> SITA | E50: =Format04!E101 -> GAURISHANKAR | F50: =Format04!F101 -> SAWITRI | G50: =Format04!G101 -> F | H50: =Format04!H101 -> 39708 | I50: =Format04!I101 -> SC | ... L50: =Format04!L101 -> PASS
A51: 47 | B51: =Format04!B102 -> 93 | C51: =Format04!C102 -> 1110 | D51: =Format04!D102 -> SONIA | E51: =Format04!E102 -> RAVI SWAROOP | F51: =Format04!F102 -> REKHA | G51: =Format04!G102 -> F | H51: =Format04!H102 -> 39979 | I51: =Format04!I102 -> SC | ... L51: =Format04!L102 -> PASS
A52: 48 | B52: =Format04!B103 -> 344 | C52: =Format04!C103 -> 1111 | D52: =Format04!D103 -> SUNNI | E52: =Format04!E103 -> MUNSHI RAM | F52: =Format04!F103 -> KALAWATI | G52: =Format04!G103 -> M | H52: =Format04!H103 -> 39743 | I52: =Format04!I103 -> SC | ... L52: =Format04!L103 -> PASS
A53: 49 | B53: =Format04!B104 -> 349 | C53: =Format04!C104 -> 1112 | D53: =Format04!D104 -> VANDNA | E53: =Format04!E104 -> STVEER | F53: =Format04!F104 -> SUMAN | G53: =Format04!G104 -> F | H53: =Format04!H104 -> 40390 | I53: =Format04!I104 -> SC | ... L53: =Format04!L104 -> PASS
A54: 50 | B54: =Format04!B105 -> 393 | C54: =Format04!C105 -> 1113 | D54: =Format04!D105 -> VIKRAM | E54: =Format04!E105 -> MANSINGH | F54: =Format04!F105 -> SARSWATI | G54: =Format04!G105 -> M | H54: =Format04!H105 -> 40025 | I54: =Format04!I105 -> SC | ... L54: =Format04!L105 -> PASS

Sheet समेकित (हनुमानगढ़)
A1: fo|ky; dk uke&jk-m-ek-fo-uqoka¼Hkknjk½
A2: lesfdr lwph ijh{kk ifj.kke 2025&26 | AC2: Aarju | AD2: Shishupal | AE2: Bala
A3: Ø-la- | B3: SR NO | C3: jksy u- | D3: fo|kFkhZ dk uke | E3: firk dk uke | F3: ekrk dk uke | G3: fyax | H3: tUe frfFk | I3: Js.kh | J3: d{kk | K3: oxZ | L3: ifj.kke | M3: fo-fo- | AC3: Dimpal Kumari | AD3: Sitaram | AE3: Meenu
A4: 2 | B4: =MASTER!D2 -> 422 | C4: =MASTER!E2 -> 101 | D4: =UPPER(MASTER!F2) -> JANAT | E4: =UPPER(MASTER!G2) -> DHARMPAL | F4: =UPPER(MASTER!H2) -> MAINA | G4: =UPPER(MASTER!I2) -> F | H4: =MASTER!J2 -> 43368 | I4: =MASTER!K2 -> OBC | J4: =MASTER!B2 -> 1 | K4: =UPPER(MASTER!C2) -> A | L4: PASS | AC4: Aryan | AD4: Satpal | AE4: Pooja
A5: 3 | B5: =MASTER!D3 -> 431 | C5: =MASTER!E3 -> 102 | D5: =UPPER(MASTER!F3) -> KANIKA | E5: =UPPER(MASTER!G3) -> SUBHASH | F5: =UPPER(MASTER!H3) -> BINDU | G5: =UPPER(MASTER!I3) -> F | H5: =MASTER!J3 -> 43951 | I5: =MASTER!K3 -> SC | J5: =MASTER!B3 -> 1 | K5: =UPPER(MASTER!C3) -> A | L5: PASS | AC5: Dakshesh | AD5: Munshee Ram | AE5: Sarita
A6: 4 | B6: =MASTER!D4 -> 411 | C6: =MASTER!E4 -> 103 | D6: =UPPER(MASTER!F4) -> KAVYA | E6: =UPPER(MASTER!G4) -> PAWAN KUMAR | F6: =UPPER(MASTER!H4) -> PRIYANKA SWAMI | G6: =UPPER(MASTER!I4) -> F | H6: =MASTER!J4 -> 43949 | I6: =MASTER!K4 -> OBC | J6: =MASTER!B4 -> 1 | K6: =UPPER(MASTER!C4) -> A | L6: PASS | AC6: Malkit | AD6: Dalip Kumar | AE6: Savitri
A7: 5 | B7: =MASTER!D5 -> 436 | C7: =MASTER!E5 -> 104 | D7: =UPPER(MASTER!F5) -> LOKESH | E7: =UPPER(MASTER!G5) -> SURESH KUMAR | F7: =UPPER(MASTER!H5) -> SARDA | G7: =UPPER(MASTER!I5) -> M | H7: =MASTER!J5 -> 44081 | I7: =MASTER!K5 -> OBC | J7: =MASTER!B5 -> 1 | K7: =UPPER(MASTER!C5) -> A | L7: PASS | AC7: Manish Kumar | AD7: Ramswaroop | AE7: Kalawati
A8: 6 | B8: =MASTER!D6 -> 375 | C8: =MASTER!E6 -> 201 | D8: =UPPER(MASTER!F6) -> AARJU | E8: =UPPER(MASTER!G6) -> SHISHUPAL | F8: =UPPER(MASTER!H6) -> BALA | G8: =UPPER(MASTER!I6) -> F | H8: =MASTER!J6 -> 43417 | I8: =MASTER!K6 -> SC | J8: =MASTER!B6 -> 2 | K8: =UPPER(MASTER!C6) -> A | L8: PASS | AC8: Sajid Khan | AD8: Rahman Khan | AE8: Madina Bano
A9: 7 | B9: =MASTER!D7 -> 374 | C9: =MASTER!E7 -> 202 | D9: =UPPER(MASTER!F7) -> DIMPAL KUMARI | E9: =UPPER(MASTER!G7) -> SITARAM | F9: =UPPER(MASTER!H7) -> MEENU | G9: =UPPER(MASTER!I7) -> F | H9: =MASTER!J7 -> 43350 | I9: =MASTER!K7 -> OBC | J9: =MASTER!B7 -> 2 | K9: =UPPER(MASTER!C7) -> A | L9: PASS | AC9: Sandeep | AD9: Satpal | AE9: Pooja
A10: 8 | B10: =MASTER!D8 -> 389 | C10: =MASTER!E8 -> 203 | D10: =UPPER(MASTER!F8) -> HARSH | E10: =UPPER(MASTER!G8) -> SURESH KUMAR | F10: =UPPER(MASTER!H8) -> BASKARI | G10: =UPPER(MASTER!I8) -> M | H10: =MASTER!J8 -> 43487 | I10: =MASTER!K8 -> SC | J10: =MASTER!B8 -> 2 | K10: =UPPER(MASTER!C8) -> A | L10: PASS | AC10: Vikas | AD10: Bheem Singh | AE10: Sonu
A11: 9 | B11: =MASTER!D9 -> 368 | C11: =MASTER!E9 -> 204 | D11: =UPPER(MASTER!F9) -> SAJID KHAN | E11: =UPPER(MASTER!G9) -> RAHMAN KHAN | F11: =UPPER(MASTER!H9) -> MADINA BANO | G11: =UPPER(MASTER!I9) -> M | H11: =MASTER!J9 -> 43191 | I11: =MASTER!K9 -> OBC | J11: =MASTER!B9 -> 2 | K11: =UPPER(MASTER!C9) -> A | L11: PASS | AC11: Anil | AD11: Surendra | AE11: Vidhya
A12: 10 | B12: =MASTER!D10 -> 372 | C12: =MASTER!E10 -> 301 | D12: =UPPER(MASTER!F10) -> DAKSHESH | E12: =UPPER(MASTER!G10) -> MUNSHEE RAM | F12: =UPPER(MASTER!H10) -> SARITA | G12: =UPPER(MASTER!I10) -> M | H12: =MASTER!J10 -> 43232 | I12: =MASTER!K10 -> OBC | J12: =MASTER!B10 -> 3 | K12: =UPPER(MASTER!C10) -> A | L12: PASS | AC12: Anmol | AD12: Rakesh | AE12: Saroj
A13: 11 | B13: =MASTER!D11 -> 339 | C13: =MASTER!E11 -> 302 | D13: =UPPER(MASTER!F11) -> MANISH KUMAR | E13: =UPPER(MASTER!G11) -> RAMSWAROOP | F13: =UPPER(MASTER!H11) -> KALAWATI | G13: =UPPER(MASTER!I11) -> M | H13: =MASTER!J11 -> 42886 | I13: =MASTER!K11 -> SC | J13: =MASTER!B11 -> 3 | K13: =UPPER(MASTER!C11) -> A | L13: PASS | AC13: Anuj | AD13: Dharmpal | AE13: Meera
A14: 12 | B14: =MASTER!D12 -> 337 | C14: =MASTER!E12 -> 303 | D14: =UPPER(MASTER!F12) -> SANDEEP | E14: =UPPER(MASTER!G12) -> SATPAL | F14: =UPPER(MASTER!H12) -> POOJA | G14: =UPPER(MASTER!I12) -> M | H14: =MASTER!J12 -> 42929 | I14: =MASTER!K12 -> SC | J14: =MASTER!B12 -> 3 | K14: =UPPER(MASTER!C12) -> A | L14: PASS | AC14: Devi Lal | AD14: Shrawan | AE14: Pooja
A15: 13 | B15: =MASTER!D13 -> 373 | C15: =MASTER!E13 -> 304 | D15: =UPPER(MASTER!F13) -> VIKAS | E15: =UPPER(MASTER!G13) -> BHEEM SINGH | F15: =UPPER(MASTER!H13) -> SONU | G15: =UPPER(MASTER!I13) -> M | H15: =MASTER!J13 -> 42958 | I15: =MASTER!K13 -> SC | J15: =MASTER!B13 -> 3 | K15: =UPPER(MASTER!C13) -> A | L15: PASS | AC15: Kanchan | AD15: Atmaram | AE15: Jamana
... A27: 25 | B27: =MASTER!D25 -> 300 | C27: =MASTER!E25 -> 412 | D27: =UPPER(MASTER!F25) -> ROHIT | E27: =UPPER(MASTER!G25) -> SATVEER | F27: =UPPER(MASTER!H25) -> SAJANA DEVI | G27: =UPPER(MASTER!I25) -> M | H27: =MASTER!J25 -> 42869 | I27: =MASTER!K25 -> SC | J27: =MASTER!B25 -> 4 | K27: =UPPER(MASTER!C25) -> A | L27: PASS | AC27: Dinesh Kumar | AD27: Shankar Lal | AE27: Anima
A28: 26 | B28: =MASTER!D26 -> 434 | C28: =MASTER!E26 -> 601 | D28: =UPPER(MASTER!F26) -> ARMIT KUMARI | E28: =UPPER(MASTER!G26) -> KULDEEP | F28: =UPPER(MASTER!H26) -> SUNITA | G28: =UPPER(MASTER!I26) -> F | H28: =MASTER!J26 -> 42222 | I28: =MASTER!K26 -> OBC | J28: =MASTER!B26 -> 6 | K28: =UPPER(MASTER!C26) -> A | L28: PASS | M28: 68.25 | AC28: Divya | AD28: Shishupal | AE28: Bala
A29: 27 | B29: =MASTER!D27 -> 435 | C29: =MASTER!E27 -> 602 | D29: =UPPER(MASTER!F27) -> BANTIRAM | E29: =UPPER(MASTER!G27) -> GORISHANKAR | F29: =UPPER(MASTER!H27) -> SAVITRI | G29: =UPPER(MASTER!I27) -> M | H29: =MASTER!J27 -> 40711 | I29: =MASTER!K27 -> SC | J29: =MASTER!B27 -> 6 | K29: =UPPER(MASTER!C27) -> A | L29: PASS | M29: 56.25 | AC29: Gulshan | AD29: Bhadar Ram | AE29: Rani
A30: 28 | B30: =MASTER!D28 -> 230 | C30: =MASTER!E28 -> 603 | D30: =UPPER(MASTER!F28) -> DIKSHA | E30: =UPPER(MASTER!G28) -> DHARMPAL | F30: =UPPER(MASTER!H28) -> MEERA | G30: =UPPER(MASTER!I28) -> F | H30: =MASTER!J28 -> 42351 | I30: =MASTER!K28 -> OBC | J30: =MASTER!B28 -> 6 | K30: =UPPER(MASTER!C28) -> A | L30: PASS | M30: 83.25 | AC30: Himanshu | AD30: Mahender Singh | AE30: Manju
A31: 29 | B31: =MASTER!D29 -> 238 | C31: =MASTER!E29 -> 604 | D31: =UPPER(MASTER!F29) -> ICHCHHA | E31: =UPPER(MASTER!G29) -> PAWAN KUMAR | F31: =UPPER(MASTER!H29) -> PRIYANKA SWAMI | G31: =UPPER(MASTER!I29) -> F | H31: =MASTER!J29 -> 42360 | I31: =MASTER!K29 -> OBC | J31: =MASTER!B29 -> 6 | K31: =UPPER(MASTER!C29) -> A | L31: PASS | M31: 88.25 | AC31: Lavish | AD31: Lal Chand | AE31: Chanderkala Swami
A32: 30 | B32: =MASTER!D30 -> 221 | C32: =MASTER!E30 -> 605 | D32: =UPPER(MASTER!F30) -> KANIKA | E32: =UPPER(MASTER!G30) -> MANGALA RAM | F32: =UPPER(MASTER!H30) -> SUNITA | G32: =UPPER(MASTER!I30) -> F | H32: =MASTER!J30 -> 42308 | I32: =MASTER!K30 -> SC | J32: =MASTER!B30 -> 6 | K32: =UPPER(MASTER!C30) -> A | L32: PASS | M32: 79.42 | AC32: Muskan | AD32: Suresh Kumar | AE32: Baskari
A33: 31 | B33: =MASTER!D31 -> 210 | C33: =MASTER!E31 -> 606 | D33: =UPPER(MASTER!F31) -> KAVITA | E33: =UPPER(MASTER!G31) -> BHEEM SINGH | F33: =UPPER(MASTER!H31) -> SONU | G33: =UPPER(MASTER!I31) -> F | H33: =MASTER!J31 -> 42198 | I33: =MASTER!K31 -> SC | J33: =MASTER!B31 -> 6 | K33: =UPPER(MASTER!C31) -> A | L33: PASS | M33: 61.17 | AC33: Najeer Khan | AD33: Mustak Ali | AE33: Rukshana Bano
A34: 32 | B34: =MASTER!D32 -> 432 | C34: =MASTER!E32 -> 607 | D34: =UPPER(MASTER!F32) -> MAHIRAN NESSA | E34: =UPPER(MASTER!G32) -> RAMSWAROOP | F34: =UPPER(MASTER!H32) -> MISIRAN NESSA | G34: =UPPER(MASTER!I32) -> F | H34: =MASTER!J32 -> 41526 | I34: =MASTER!K32 -> OBC | J34: =MASTER!B32 -> 6 | K34: =UPPER(MASTER!C32) -> A | L34: PASS | M34: 31.42 | AC34: Narendra | AD34: Satveer | AE34: Rekha
A35: 33 | B35: =MASTER!D33 -> 213 | C35: =MASTER!E33 -> 608 | D35: =UPPER(MASTER!F33) -> MANDEEP | E35: =UPPER(MASTER!G33) -> SOHANLAL | F35: =UPPER(MASTER!H33) -> PRAMILA | G35: =UPPER(MASTER!I33) -> M | H35: =MASTER!J33 -> 42232 | I35: =MASTER!K33 -> SC | J35: =MASTER!B33 -> 6 | K35: =UPPER(MASTER!C33) -> A | L35: PASS | M35: 59.25 | AC35: Palak | AD35: Ransingh | AE35: Suman
A36: 34 | B36: =MASTER!D34 -> 239 | C36: =MASTER!E34 -> 609 | D36: =UPPER(MASTER!F34) -> MANISHA BANO | E36: =UPPER(MASTER!G34) -> RAHAMAN | F36: =UPPER(MASTER!H34) -> MADINA BANO | G36: =UPPER(MASTER!I34) -> F | H36: =MASTER!J34 -> 41958 | I36: =MASTER!K34 -> OBC | J36: =MASTER!B34 -> 6 | K36: =UPPER(MASTER!C34) -> A | L36: PASS | M36: 68.58 | AC36: Santosh | AD36: Rohtash | AE36: Sundar
A37: 35 | B37: =MASTER!D35 -> 234 | C37: =MASTER!E35 -> 610 | D37: =UPPER(MASTER!F35) -> MINAKSHI | E37: =UPPER(MASTER!G35) -> SATVEER | F37: =UPPER(MASTER!H35) -> REKHA | G37: =UPPER(MASTER!I35) -> F | H37: =MASTER!J35 -> 41958 | I37: =MASTER!K35 -> OBC | J37: =MASTER!B35 -> 6 | K37: =UPPER(MASTER!C35) -> A | L37: PASS | M37: 62.75 | AC37: Sapana | AD37: Krishan Kumar | AE37: Mamta
A38: 36 | B38: =MASTER!D36 -> 202 | C38: =MASTER!E36 -> 611 | D38: =UPPER(MASTER!F36) -> MONIKA KUMARI | E38: =UPPER(MASTER!G36) -> KALU RAM | F38: =UPPER(MASTER!H36) -> KANTA | G38: =UPPER(MASTER!I36) -> F | H38: =MASTER!J36 -> 41975 | I38: =MASTER!K36 -> SC | J38: =MASTER!B36 -> 6 | K38: =UPPER(MASTER!C36) -> A | L38: PASS | M38: 69.92 | AC38: ANKIT | AD38: ROHITASH | AE38: SUNDAR
A39: 37 | B39: =MASTER!D37 -> 224 | C39: =MASTER!E37 -> 612 | D39: =UPPER(MASTER!F37) -> POONAM | E39: =UPPER(MASTER!G37) -> SITARAM | F39: =UPPER(MASTER!H37) -> MEENU | G39: =UPPER(MASTER!I37) -> F | H39: =MASTER!J37 -> 42179 | I39: =MASTER!K37 -> OBC | J39: =MASTER!B37 -> 6 | K39: =UPPER(MASTER!C37) -> A | L39: PASS | M39: 69 | AC39: Hansina | AD39: Bhadarram | AE39: Rani
... A44: 42 | B44: =MASTER!D42 -> 407 | C44: =MASTER!E42 -> 702 | D44: =UPPER(MASTER!F42) -> ANKIT | E44: =UPPER(MASTER!G42) -> ROHITASH | F44: =UPPER(MASTER!H42) -> SUNDAR | G44: =UPPER(MASTER!I42) -> M | H44: =MASTER!J42 -> 41866 | I44: =MASTER!K42 -> SC | J44: =MASTER!B42 -> 7 | K44: =UPPER(MASTER!C42) -> A | L44: PASS | M44: 71 | AC44: PALAK | AD44: SANJAY KUMAR | AE44: MANJU
A45: 43 | C45: =MASTER!E43 -> 703 | D45: DIPAK | E45: RAJ KUMAR | F45: SAVITRI | G45: M | H45: 41581 | I45: SC | J45: 7 | K45: A | L45: PASS | M45: 49.92
A46: 44 | B46: =MASTER!D44 -> 197 | C46: =MASTER!E44 -> 704 | D46: =UPPER(MASTER!F44) -> HANSINA | E46: =UPPER(MASTER!G44) -> BHADARRAM | F46: =UPPER(MASTER!H44) -> RANI | G46: =UPPER(MASTER!I44) -> F | H46: =MASTER!J44 -> 41438 | I46: =MASTER!K44 -> SC | J46: =MASTER!B44 -> 7 | K46: =UPPER(MASTER!C44) -> A | L46: PASS | M46: 69.58 | AC46: PRASHNSA | AD46: RAKESH KUMAR SAHU | AE46: SHARDA
A47: 45 | B47: =MASTER!D45 -> 314 | C47: =MASTER!E45 -> 705 | D47: =UPPER(MASTER!F45) -> HARDIK | E47: =UPPER(MASTER!G45) -> SANWARMAL | F47: =UPPER(MASTER!H45) -> GAUMATI | G47: =UPPER(MASTER!I45) -> M | H47: =MASTER!J45 -> 41805 | I47: =MASTER!K45 -> OBC | J47: =MASTER!B45 -> 7 | K47: =UPPER(MASTER!C45) -> A | L47: PASS | M47: 69.17 | AC47: Prins | AD47: Vinod Kumar | AE47: Savitri Devi
A48: 46 | B48: =MASTER!D46 -> 181 | C48: =MASTER!E46 -> 706 | D48: =UPPER(MASTER!F46) -> MANISH | E48: =UPPER(MASTER!G46) -> NARESH KUMAR | F48: =UPPER(MASTER!H46) -> OMI DEVI | G48: =UPPER(MASTER!I46) -> M | H48: =MASTER!J46 -> 41652 | I48: =MASTER!K46 -> OBC | J48: =MASTER!B46 -> 7 | K48: =UPPER(MASTER!C46) -> A | L48: PASS | M48: 65.42 | AC48: Sandeep | AD48: Devilal | AE48: Kamla
A49: 47 | B49: =MASTER!D47 -> 173 | C49: =MASTER!E47 -> 707 | D49: =UPPER(MASTER!F47) -> MONIKA | E49: =UPPER(MASTER!G47) -> SURESH KUMAR | F49: =UPPER(MASTER!H47) -> BASKARI | G49: =UPPER(MASTER!I47) -> F | H49: =MASTER!J47 -> 41257 | I49: =MASTER!K47 -> SC | J49: =MASTER!B47 -> 7 | K49: =UPPER(MASTER!C47) -> A | L49: PASS | M49: 69.58 | AC49: SONIKA | AD49: SUBHASH CHANDER | AE49: MANJU
A50: 48 | B50: =MASTER!D48 -> 410 | C50: =MASTER!E48 -> 708 | D50: =UPPER(MASTER!F48) -> NAYAN | E50: =UPPER(MASTER!G48) -> KHETA RAM GUGAR | F50: =UPPER(MASTER!H48) -> NIRMALA DEVI | G50: =UPPER(MASTER!I48) -> F | H50: =MASTER!J48 -> 42172 | I50: =MASTER!K48 -> OBC | J50: =MASTER!B48 -> 7 | K50: =UPPER(MASTER!C48) -> A | L50: PASS | M50: 88.75 | AC50: Yash Kumar | AD50: Shrawan Kumar | AE50: Rajbala
A51: 49 | B51: =MASTER!D49 -> 175 | C51: =MASTER!E49 -> 709 | D51: =UPPER(MASTER!F49) -> PALAK | E51: =UPPER(MASTER!G49) -> SANJAY KUMAR | F51: =UPPER(MASTER!H49) -> MANJU | G51: =UPPER(MASTER!I49) -> F | H51: =MASTER!J49 -> 41950 | I51: =MASTER!K49 -> OBC | J51: =MASTER!B49 -> 7 | K51: =UPPER(MASTER!C49) -> A | L51: PASS | M51: 72.67 | AC51: YOGESH LAKHOTIYA | AD51: MANGERAM | AE51: SUMAN
A52: 50 | B52: =MASTER!D50 -> 404 | C52: =MASTER!E50 -> 710 | D52: =UPPER(MASTER!F50) -> PRINS | E52: =UPPER(MASTER!G50) -> VINOD KUMAR | F52: =UPPER(MASTER!H50) -> SAVITRI DEVI | G52: =UPPER(MASTER!I50) -> M | H52: =MASTER!J50 -> 41853 | I52: =MASTER!K50 -> OBC | J52: =MASTER!B50 -> 7 | K52: =UPPER(MASTER!C50) -> A | L52: PASS | M52: 82.58 | AC52: AARJU | AD52: AAMIN KHAN | AE52: AMINO BANO
A53: 51 | B53: =MASTER!D51 -> 405 | C53: =MASTER!E51 -> 711 | D53: =UPPER(MASTER!F51) -> SANDEEP | E53: =UPPER(MASTER!G51) -> DEVILAL | F53: =UPPER(MASTER!H51) -> KAMLA | G53: =UPPER(MASTER!I51) -> M | H53: =MASTER!J51 -> 41360 | I53: =MASTER!K51 -> SC | J53: =MASTER!B51 -> 7 | K53: =UPPER(MASTER!C51) -> A | L53: PASS | M53: 65.5 | AC53: AJAY | AD53: BALVEER | AE53: RITA
A54: 52 | B54: =MASTER!D52 -> 383 | C54: =MASTER!E52 -> 712 | D54: =UPPER(MASTER!F52) -> YASH KUMAR | E54: =UPPER(MASTER!G52) -> SHRAWAN KUMAR | F54: =UPPER(MASTER!H52) -> RAJBALA | G54: =UPPER(MASTER!I52) -> M | H54: =MASTER!J52 -> 41693 | I54: =MASTER!K52 -> OBC | J54: =MASTER!B52 -> 7 | K54: =UPPER(MASTER!C52) -> A | L54: PASS | M54: 76.42 | AC54: AMIT | AD54: KRISHAN | AE54: GAYTRI
A55: 53 | B55: =MASTER!D53 -> 170 | C55: =MASTER!E53 -> 713 | D55: =UPPER(MASTER!F53) -> YOGESH LAKHOTIYA | E55: =UPPER(MASTER!G53) -> MANGERAM | F55: =UPPER(MASTER!H53) -> SUMAN | G55: =UPPER(MASTER!I53) -> M | H55: =MASTER!J53 -> 41640 | I55: =MASTER!K53 -> SC | J55: =MASTER!B53 -> 7 | K55: =UPPER(MASTER!C53) -> A | L55: PASS | M55: 84.75 | AC55: ANKIT | AD55: JAGDISH | AE55: ROSHANI
A56: 54 | B56: =MASTER!D54 -> 413 | C56: =MASTER!E54 -> 901 | D56: =UPPER(MASTER!F54) -> AAINA | E56: =UPPER(MASTER!G54) -> HET RAM | F56: =UPPER(MASTER!H54) -> RAJBALA | G56: =UPPER(MASTER!I54) -> F | H56: =MASTER!J54 -> 40801 | I56: =MASTER!K54 -> SC | J56: =MASTER!B54 -> 9 | K56: =UPPER(MASTER!C54) -> A | L56: PASS | AC56: BHAWNA | AD56: SUBHASH CHANDER | AE56: BINDU
A57: 55 | B57: =MASTER!D55 -> 123 | C57: =MASTER!E55 -> 902 | D57: =UPPER(MASTER!F55) -> AARUSHEE | E57: =UPPER(MASTER!G55) -> RAN SINGH | F57: =UPPER(MASTER!H55) -> SUMAN | G57: =UPPER(MASTER!I55) -> F | H57: =MASTER!J55 -> 41105 | I57: =MASTER!K55 -> OBC | J57: =MASTER!B55 -> 9 | K57: =UPPER(MASTER!C55) -> A | L57: PASS | AC57: Bhawna | AD57: Shrawan Kumar | AE57: Rajbala
A58: 56 | B58: =MASTER!D56 -> 146 | C58: =MASTER!E56 -> 903 | D58: =UPPER(MASTER!F56) -> ANJNI LAKHOTIYA | E58: =UPPER(MASTER!G56) -> MANGE RAM | F58: =UPPER(MASTER!H56) -> SUMAN | G58: =UPPER(MASTER!I56) -> F | H58: =MASTER!J56 -> 40909 | I58: =MASTER!K56 -> SC | J58: =MASTER!B56 -> 9 | K58: =UPPER(MASTER!C56) -> A | L58: PASS | AC58: Mallika Sarkar | AD58: Shankar Lal | AE58: Onima
A59: 57 | B59: =MASTER!D57 -> 120 | C59: =MASTER!E57 -> 904 | D59: =UPPER(MASTER!F57) -> ANKIT | E59: =UPPER(MASTER!G57) -> BHADAR RAM | F59: =UPPER(MASTER!H57) -> RANI | G59: =UPPER(MASTER!I57) -> M | H59: =MASTER!J57 -> 41037 | I59: =MASTER!K57 -> SC | J59: =MASTER!B57 -> 9 | K59: =UPPER(MASTER!C57) -> A | L59: PASS | AC59: MOHIT | AD59: SHISHPAL | AE59: ROSHANI
A60: 58 | B60: =MASTER!D58 -> 121 | C60: =MASTER!E58 -> 905 | D60: =UPPER(MASTER!F58) -> ARMAN | E60: =UPPER(MASTER!G58) -> AAMIN KHAN | F60: =UPPER(MASTER!H58) -> AAMINA | G60: =UPPER(MASTER!I58) -> M | H60: =MASTER!J58 -> 40984 | I60: =MASTER!K58 -> OBC | J60: =MASTER!B58 -> 9 | K60: =UPPER(MASTER!C58) -> A | L60: PASS | AC60: Pawan Kumar | AD60: Mansingh | AE60: Sarswati
A61: 59 | B61: =MASTER!D59 -> 427 | C61: =MASTER!E59 -> 906 | D61: =UPPER(MASTER!F59) -> ARVIND | E61: =UPPER(MASTER!G59) -> BHANIRAM | F61: =UPPER(MASTER!H59) -> SUNITA | G61: =UPPER(MASTER!I59) -> M | H61: =MASTER!J59 -> 39945 | I61: =MASTER!K59 -> SC | J61: =MASTER!B59 -> 9 | K61: =UPPER(MASTER!C59) -> A | L61: PASS | AC61: Payal | AD61: Daleep Kumar | AE61: Sumesta Devi
A62: 60 | B62: =MASTER!D60 -> 388 | C62: =MASTER!E60 -> 907 | D62: =UPPER(MASTER!F60) -> DEEPIKA | E62: =UPPER(MASTER!G60) -> PARMANAND | F62: =UPPER(MASTER!H60) -> MANJU | G62: =UPPER(MASTER!I60) -> F | H62: =MASTER!J60 -> 40545 | I62: =MASTER!K60 -> OBC | J62: =MASTER!B60 -> 9 | K62: =UPPER(MASTER!C60) -> A | L62: PASS | AC62: PIYUSH | AD62: MAN SINGH | AE62: SHARMILA
A63: 61 | B63: =MASTER!D61 -> 417 | C63: =MASTER!E61 -> 908 | D63: =UPPER(MASTER!F61) -> DINESH | E63: =UPPER(MASTER!G61) -> DOULAT RAM | F63: =UPPER(MASTER!H61) -> CHANDRAKALA | G63: =UPPER(MASTER!I61) -> M | H63: =MASTER!J61 -> 40988 | I63: =MASTER!K61 -> SC | J63: =MASTER!B61 -> 9 | K63: =UPPER(MASTER!C61) -> A | L63: PASS | AC63: Priyanka | AD63: Chanan Mal | AE63: Sharda
A64: 62 | B64: =MASTER!D62 -> 423 | C64: =MASTER!E62 -> 909 | D64: =UPPER(MASTER!F62) -> DINESH KUMAR | E64: =UPPER(MASTER!G62) -> BAJARANG | F64: =UPPER(MASTER!H62) -> MEERA | G64: =UPPER(MASTER!I62) -> M | H64: =MASTER!J62 -> 41204 | I64: =MASTER!K62 -> OBC | J64: =MASTER!B62 -> 9 | K64: =UPPER(MASTER!C62) -> A | L64: PASS | AC64: RACHIT | AD64: RAJERAM | AE64: MAINA DEVI
A65: 63 | B65: =MASTER!D63 -> 144 | C65: =MASTER!E63 -> 910 | D65: =UPPER(MASTER!F63) -> GAYATRI | E65: =UPPER(MASTER!G63) -> SITA RAM | F65: =UPPER(MASTER!H63) -> MINU | G65: =UPPER(MASTER!I63) -> F | H65: =MASTER!J63 -> 41149 | I65: =MASTER!K63 -> OBC | J65: =MASTER!B63 -> 9 | K65: =UPPER(MASTER!C63) -> A | L65: PASS | AC65: Rajesh | AD65: Devilal | AE65: Kamla
A66: 64 | B66: =MASTER!D64 -> 360 | C66: =MASTER!E64 -> 911 | D66: =UPPER(MASTER!F64) -> HARISH KUMAR | E66: =UPPER(MASTER!G64) -> ASHOK KUMAR | F66: =UPPER(MASTER!H64) -> SONU DEVI | G66: =UPPER(MASTER!I64) -> M | H66: =MASTER!J64 -> 41338 | I66: =MASTER!K64 -> OBC | J66: =MASTER!B64 -> 9 | K66: =UPPER(MASTER!C64) -> A | L66: PASS | AC66: Sanjay | AD66: Banshilal | AE66: Suman
A67: 65 | B67: =MASTER!D65 -> 419 | C67: =MASTER!E65 -> 912 | D67: =UPPER(MASTER!F65) -> HIMANSHI | E67: =UPPER(MASTER!G65) -> LOKRAJ | F67: =UPPER(MASTER!H65) -> MANJU BALA | G67: =UPPER(MASTER!I65) -> F | H67: =MASTER!J65 -> 40863 | I67: =MASTER!K65 -> GEN | J67: =MASTER!B65 -> 9 | K67: =UPPER(MASTER!C65) -> A | L67: PASS | AC67: SARITA | AD67: HARISINGH | AE67: MANJU DEVI
... A71: 69 | B71: =MASTER!D69 -> 426 | C71: =MASTER!E69 -> 916 | D71: =UPPER(MASTER!F69) -> KHUSHI | E71: =UPPER(MASTER!G69) -> RAJKUMAR | F71: =UPPER(MASTER!H69) -> SUMAN | G71: =UPPER(MASTER!I69) -> F | H71: =MASTER!J69 -> 40932 | I71: =MASTER!K69 -> GEN | J71: =MASTER!B69 -> 9 | K71: =UPPER(MASTER!C69) -> A | L71: PASS | AC71: YANTIKA | AD71: LAL CHAND | AE71: CHANDERKALA SWAMI
A72: 70 | B72: =MASTER!D70 -> 163 | C72: =MASTER!E70 -> 917 | D72: =UPPER(MASTER!F70) -> MAN SINGH | E72: =UPPER(MASTER!G70) -> RAJESH | F72: =UPPER(MASTER!H70) -> GAYTRI | G72: =UPPER(MASTER!I70) -> M | H72: =MASTER!J70 -> 40901 | I72: =MASTER!K70 -> OBC | J72: =MASTER!B70 -> 9 | K72: =UPPER(MASTER!C70) -> A | L72: PASS
A73: 71 | B73: =MASTER!D71 -> 286 | C73: =MASTER!E71 -> 918 | D73: =UPPER(MASTER!F71) -> MANISHA | E73: =UPPER(MASTER!G71) -> KRISHAN | F73: =UPPER(MASTER!H71) -> GAYTREE | G73: =UPPER(MASTER!I71) -> F | H73: =MASTER!J71 -> 41039 | I73: =MASTER!K71 -> SC | J73: =MASTER!B71 -> 9 | K73: =UPPER(MASTER!C71) -> A | L73: PASS
A74: 72 | B74: =MASTER!D72 -> 412 | C74: =MASTER!E72 -> 919 | D74: =UPPER(MASTER!F72) -> NITIN | E74: =UPPER(MASTER!G72) -> BHUPENDRA SINGH | F74: =UPPER(MASTER!H72) -> SEEMA | G74: =UPPER(MASTER!I72) -> M | H74: =MASTER!J72 -> 41174 | I74: =MASTER!K72 -> OBC | J74: =MASTER!B72 -> 9 | K74: =UPPER(MASTER!C72) -> A | L74: PASS
A75: 73 | B75: =MASTER!D73 -> 370 | C75: =MASTER!E73 -> 920 | D75: =UPPER(MASTER!F73) -> PAWAN KUMAR | E75: =UPPER(MASTER!G73) -> RAVI SWAROOP | F75: =UPPER(MASTER!H73) -> REKHA | G75: =UPPER(MASTER!I73) -> M | H75: =MASTER!J73 -> 40926 | I75: =MASTER!K73 -> SC | J75: =MASTER!B73 -> 9 | K75: =UPPER(MASTER!C73) -> A | L75: PASS
A76: 74 | B76: =MASTER!D74 -> 110 | C76: =MASTER!E74 -> 921 | D76: =UPPER(MASTER!F74) -> POOJA | E76: =UPPER(MASTER!G74) -> KRISHAN KUMAR | F76: =UPPER(MASTER!H74) -> MAMTA | G76: =UPPER(MASTER!I74) -> F | H76: =MASTER!J74 -> 39814 | I76: =MASTER!K74 -> SC | J76: =MASTER!B74 -> 9 | K76: =UPPER(MASTER!C74) -> A | L76: PASS
A77: 75 | B77: =MASTER!D75 -> 424 | C77: =MASTER!E75 -> 922 | D77: =UPPER(MASTER!F75) -> POOJA | E77: =UPPER(MASTER!G75) -> RAJ KUMAR | F77: =UPPER(MASTER!H75) -> SAWITRI | G77: =UPPER(MASTER!I75) -> F | H77: =MASTER!J75 -> 40808 | I77: =MASTER!K75 -> SC | J77: =MASTER!B75 -> 9 | K77: =UPPER(MASTER!C75) -> A | L77: PASS
A78: 76 | B78: =MASTER!D76 -> 130 | C78: =MASTER!E76 -> 923 | D78: =UPPER(MASTER!F76) -> POONAM | E78: =UPPER(MASTER!G76) -> JASWANT | F78: =UPPER(MASTER!H76) -> SUNITA | G78: =UPPER(MASTER!I76) -> F | H78: =MASTER!J76 -> 41301 | I78: =MASTER!K76 -> OBC | J78: =MASTER!B76 -> 9 | K78: =UPPER(MASTER!C76) -> A | L78: PASS
A79: 77 | B79: =MASTER!D77 -> 403 | C79: =MASTER!E77 -> 924 | D79: =UPPER(MASTER!F77) -> PRAVEEN KUMAR | E79: =UPPER(MASTER!G77) -> VINOD KUMAR | F79: =UPPER(MASTER!H77) -> SAVITRI DEVI | G79: =UPPER(MASTER!I77) -> M | H79: =MASTER!J77 -> 40921 | I79: =MASTER!K77 -> OBC | J79: =MASTER!B77 -> 9 | K79: =UPPER(MASTER!C77) -> A | L79: PASS
A80: 78 | B80: =MASTER!D78 -> 134 | C80: =MASTER!E78 -> 925 | D80: =UPPER(MASTER!F78) -> RADHIKA | E80: =UPPER(MASTER!G78) -> OM PRAKASH | F80: =UPPER(MASTER!H78) -> ROSHANI DEVI | G80: =UPPER(MASTER!I78) -> F | H80: =MASTER!J78 -> 40842 | I80: =MASTER!K78 -> OBC | J80: =MASTER!B78 -> 9 | K80: =UPPER(MASTER!C78) -> A | L80: PASS
A81: 79 | B81: =MASTER!D79 -> 135 | C81: =MASTER!E79 -> 926 | D81: =UPPER(MASTER!F79) -> RAHUL KUMAR SARVA | E81: =UPPER(MASTER!G79) -> RAJE RAM | F81: =UPPER(MASTER!H79) -> SUMITRA DEVI | G81: =UPPER(MASTER!I79) -> M | H81: =MASTER!J79 -> 41137 | I81: =MASTER!K79 -> SC | J81: =MASTER!B79 -> 9 | K81: =UPPER(MASTER!C79) -> A | L81: PASS
A82: 80 | B82: =MASTER!D80 -> 232 | C82: =MASTER!E80 -> 927 | D82: =UPPER(MASTER!F80) -> RAM NIWAS | E82: =UPPER(MASTER!G80) -> SATPAL | F82: =UPPER(MASTER!H80) -> SAROJ BALA | G82: =UPPER(MASTER!I80) -> M | H82: =MASTER!J80 -> 40903 | I82: =MASTER!K80 -> OBC | J82: =MASTER!B80 -> 9 | K82: =UPPER(MASTER!C80) -> A | L82: PASS
A83: 81 | B83: =MASTER!D81 -> 420 | C83: =MASTER!E81 -> 928 | D83: =UPPER(MASTER!F81) -> ROBIN SAHRAN | E83: =UPPER(MASTER!G81) -> KURDA RAM | F83: =UPPER(MASTER!H81) -> KAVITA | G83: =UPPER(MASTER!I81) -> M | H83: =MASTER!J81 -> 40477 | I83: =MASTER!K81 -> OBC | J83: =MASTER!B81 -> 9 | K83: =UPPER(MASTER!C81) -> A | L83: PASS
... A91: 89 | B91: =MASTER!D89 -> 386 | C91: =MASTER!E89 -> 936 | D91: =UPPER(MASTER!F89) -> YOGENDRA | E91: =UPPER(MASTER!G89) -> RAJKUMAR | F91: =UPPER(MASTER!H89) -> SAWITRI | G91: =UPPER(MASTER!I89) -> M | H91: =MASTER!J89 -> 40504 | I91: =MASTER!K89 -> SC | J91: =MASTER!B89 -> 9 | K91: =UPPER(MASTER!C89) -> A | L91: PASS
A92: 90 | B92: =MASTER!D90 -> 429 | C92: =MASTER!E90 -> 1101 | D92: =UPPER(MASTER!F90) -> AADITY | E92: =UPPER(MASTER!G90) -> RAMJAS | F92: =UPPER(MASTER!H90) -> ANKITA | G92: =UPPER(MASTER!I90) -> M | H92: =MASTER!J90 -> 40223 | I92: =MASTER!K90 -> OBC | J92: =MASTER!B90 -> 11 | K92: =UPPER(MASTER!C90) -> A | L92: PASS | M92: 60
A93: 91 | B93: =MASTER!D91 -> 245 | C93: =MASTER!E91 -> 1102 | D93: =UPPER(MASTER!F91) -> AARJU | E93: =UPPER(MASTER!G91) -> VINOD KUMAR | F93: =UPPER(MASTER!H91) -> SUMAN | G93: =UPPER(MASTER!I91) -> F | H93: =MASTER!J91 -> 39712 | I93: =MASTER!K91 -> SC | J93: =MASTER!B91 -> 11 | K93: =UPPER(MASTER!C91) -> A | L93: PASS | M93: 49.7
A94: 92 | B94: =MASTER!D92 -> 391 | C94: =MASTER!E92 -> 1103 | D94: =UPPER(MASTER!F92) -> ARATI | E94: =UPPER(MASTER!G92) -> BANSHILAL | F94: =UPPER(MASTER!H92) -> SUMAN | G94: =UPPER(MASTER!I92) -> F | H94: =MASTER!J92 -> 40059 | I94: =MASTER!K92 -> SC | J94: =MASTER!B92 -> 11 | K94: =UPPER(MASTER!C92) -> A | L94: PASS | M94: 66.9
A95: 93 | B95: =MASTER!D93 -> 371 | C95: =MASTER!E93 -> 1104 | D95: =UPPER(MASTER!F93) -> DIMPAL | E95: =UPPER(MASTER!G93) -> RAJ KUMAR | F95: =UPPER(MASTER!H93) -> SUMAN | G95: =UPPER(MASTER!I93) -> F | H95: =MASTER!J93 -> 40468 | I95: =MASTER!K93 -> GEN | J95: =MASTER!B93 -> 11 | K95: =UPPER(MASTER!C93) -> A | L95: PASS | M95: 72.4
A96: 94 | B96: =MASTER!D94 -> 346 | C96: =MASTER!E94 -> 1105 | D96: =UPPER(MASTER!F94) -> HARISH | E96: =UPPER(MASTER!G94) -> AMARSINGH | F96: =UPPER(MASTER!H94) -> KAMLESH | G96: =UPPER(MASTER!I94) -> M | H96: =MASTER!J94 -> 39887 | I96: =MASTER!K94 -> OBC | J96: =MASTER!B94 -> 11 | K96: =UPPER(MASTER!C94) -> A | L96: PASS | M96: 68.1
A97: 95 | B97: =MASTER!D95 -> 343 | C97: =MASTER!E95 -> 1106 | D97: =UPPER(MASTER!F95) -> NARESH | E97: =UPPER(MASTER!G95) -> BHUP SINGH | F97: =UPPER(MASTER!H95) -> BHANWARI | G97: =UPPER(MASTER!I95) -> M | H97: =MASTER!J95 -> 40074 | I97: =MASTER!K95 -> SC | J97: =MASTER!B95 -> 11 | K97: =UPPER(MASTER!C95) -> A | L97: PASS | M97: 58.2
A98: 96 | B98: =MASTER!D96 -> 209 | C98: =MASTER!E96 -> 1107 | D98: =UPPER(MASTER!F96) -> PRAMOD | E98: =UPPER(MASTER!G96) -> OM PRAKASH | F98: =UPPER(MASTER!H96) -> MAMTA | G98: =UPPER(MASTER!I96) -> M | H98: =MASTER!J96 -> 39375 | I98: =MASTER!K96 -> OBC | J98: =MASTER!B96 -> 11 | K98: =UPPER(MASTER!C96) -> A | L98: PASS | M98: 47.3
A99: 97 | B99: =MASTER!D97 -> 350 | C99: =MASTER!E97 -> 1108 | D99: =UPPER(MASTER!F97) -> RAVINA | E99: =UPPER(MASTER!G97) -> JAGDISH | F99: =UPPER(MASTER!H97) -> ROSHANI | G99: =UPPER(MASTER!I97) -> F | H99: =MASTER!J97 -> 40015 | I99: =MASTER!K97 -> SC | J99: =MASTER!B97 -> 11 | K99: =UPPER(MASTER!C97) -> A | L99: PASS | M99: 57
A100: 98 | B100: =MASTER!D98 -> 348 | C100: =MASTER!E98 -> 1109 | D100: =UPPER(MASTER!F98) -> SITA | E100: =UPPER(MASTER!G98) -> GAURISHANKAR | F100: =UPPER(MASTER!H98) -> SAWITRI | G100: =UPPER(MASTER!I98) -> F | H100: =MASTER!J98 -> 39708 | I100: =MASTER!K98 -> SC | J100: =MASTER!B98 -> 11 | K100: =UPPER(MASTER!C98) -> A | L100: FAIL
A101: 99 | B101: =MASTER!D99 -> 93 | C101: =MASTER!E99 -> 1110 | D101: =UPPER(MASTER!F99) -> SONIA | E101: =UPPER(MASTER!G99) -> RAVI SWAROOP | F101: =UPPER(MASTER!H99) -> REKHA | G101: =UPPER(MASTER!I99) -> F | H101: =MASTER!J99 -> 39979 | I101: =MASTER!K99 -> SC | J101: =MASTER!B99 -> 11 | K101: =UPPER(MASTER!C99) -> A | L101: PASS | M101: 72.5
A102: 100 | B102: =MASTER!D100 -> 344 | C102: =MASTER!E100 -> 1111 | D102: =UPPER(MASTER!F100) -> SUNNI | E102: =UPPER(MASTER!G100) -> MUNSHI RAM | F102: =UPPER(MASTER!H100) -> KALAWATI | G102: =UPPER(MASTER!I100) -> M | H102: =MASTER!J100 -> 39743 | I102: =MASTER!K100 -> SC | J102: =MASTER!B100 -> 11 | K102: =UPPER(MASTER!C100) -> A | L102: PASS | M102: 56.9
A103: 101 | B103: =MASTER!D101 -> 349 | C103: =MASTER!E101 -> 1112 | D103: =UPPER(MASTER!F101) -> VANDNA | E103: =UPPER(MASTER!G101) -> STVEER | F103: =UPPER(MASTER!H101) -> SUMAN | G103: =UPPER(MASTER!I101) -> F | H103: =MASTER!J101 -> 40390 | I103: =MASTER!K101 -> SC | J103: =MASTER!B101 -> 11 | K103: =UPPER(MASTER!C101) -> A | L103: PASS | M103: 59.8
A104: 102 | B104: =MASTER!D102 -> 393 | C104: =MASTER!E102 -> 1113 | D104: =UPPER(MASTER!F102) -> VIKRAM | E104: =UPPER(MASTER!G102) -> MANSINGH | F104: =UPPER(MASTER!H102) -> SARSWATI | G104: =UPPER(MASTER!I102) -> M | H104: =MASTER!J102 -> 40025 | I104: =MASTER!K102 -> SC | J104: =MASTER!B102 -> 11 | K104: =UPPER(MASTER!C102) -> A | L104: PASS | M104: 64
