Workbook
Name BP17DL7: 'statement of marks'!$BT$17
Name IK: 'statement of marks'!$I$126

Sheet from the developer's desk
A1: Please Read This Ammendment Carefully 04/04/2020
A2: This workbook will be useful from sessin 2022-23
A3: There is a change in marking scheme for Supplementary exam. After 18th March 2020. Now you need to enter the supplementary exam. theory marks in such a way that when the total practical marks for the year ( half yearly + annual) is added to the theory marks, the subject total should come to 200 where as in case of re-exam. the the theory marks should be so adjusted that when added to annual (only annual) practical marks, the total shoudl come to 100.
A4: The marks for supplementary exam. theory should be entered in the sheet named 'result subject-wise' where as the marks for re-exam. theory should be entered in the sheet named 'details' because re-exam. is the first attempt for a student who has been granted permission due to special cicumstances. And note that there is no suppl. for practical exam.
A5: पूरक परीक्षा के सैद्धांतिक प्रश्न पत्र के अंक 'result subject -wise' sheet में इस तरह भरने हैं कि प्रायोगिक अंकों के अर्द्ध वार्षिक एवं वार्षिक अंकों का योग पूरक परीक्षा के सैद्धांतिक प्रश्न पत्र अंक के साथ जुड़कर विषय योग 200 बन स सके।
A6: For help in adjusting marks proportionately, plz click here. अंकों के आनुपातिक परिवर्तन में सहायता लिए यहाँ क्लिक करें।
A7: जब कि पुनः परीक्षा के सैद्धांतिक प्रश्न पत्र के अंक 'details' sheet में इस तरह भरने हैं कि प्रायोगिक अंकों के केवल वार्षिक अंक पुनः परीक्षा के सैद्धांतिक प्रश्न पत्र अंकों के साथ जुड़कर विषय योग 100 बन स सके।
A8: पुनः परीक्षा में बैठने योग्य विद्यार्थी की अंक तालिका तब तक नहीं बनेगी जब तक की पुनः परीक्षा के अंकों की पविश्ति नहीं होगी। अतः मुख्य परीक्षा के साथ ऐसे विद्यार्थियों को अंक तालिका नहीं देनी है और केवल उन्हें पुनः परीक्षा में सम्मिलित होने की सूचना देनी है।
A10: This application has been designed for the Secondary and Higher Secondary schools of Rajasthan. All rights are reserved with the director of Secondary Education, Bikaner, Rajasthan.
A11: designed by D. Kavita Principal GSSS, Marjeevi Nimbahera, Distt. Chittaurgarh, Rajasthan kavita.fadnavis@gmail.com
A12: In cooperation with
A13: Pushpendra Kumar Sharma Principal Govt. Hr. Sec. School, Veerpura Distt. Udaipur, Rajasthan | B13: Anil Kumar Somani Principal SVGMS Nimbahera, Distt. Chittaurgarh, Rajasthan | C13: Arvind Kumar Sharma Sr.Teacher (Maths) Govt. Girls Sec. School Ramsar, Srinagar (Ajmer) Distt. Ajmer, Rajasthan
A14: Plz. download a fresh copy of this workbook and a copy of latest bylaws ( exam. rules) to avoid errors. Plz. Read all instructions given in this pages carefully before you proceed. For more help you can download the training videos from www.ctor.in
A15: WHAT IS SPECIAL ABOUT THIS WORKBOOK?
A16: This work book all in one because it is suitable for all those schools that have more than 4 options for each column of optional subjects and also for those that wish to give their students two practical subjects with different marking scheme in one column for example Geography and Music in one place. However it can also be used in normal cases.
A17: It is also helpful for Vocational Education as third optional subject. You already know that 4th optional subject is not to be shown in the progress reports for class 11th students and so if a student offers any of the trades of vocational education as a fourth optional, his/her overall result does not get affected due to the fourth optional subject.
A18: Put the subjects with 70 marks practicals such as music and drawing in last columns viz., Z,AA, AH,AI and give 'g' or 'h' (as per the selected column) as subject code.
A19: Put the Vocational Subjects only in column of third or fourth optional that too under columns AP,AQ and AX,AY only and give 'g' or 'h' (as per the selected column) as subject code.
A20: You may use this workbook for Typing and Short Hand subject provided you can change the max. marks in 'details' in Cell No. AN8 and AP8 (theory) by changing them to 35 and 50 instead of 20 and 30, but do not mix these with any other practical subject which do not match the marking scheme.
A21: The users are expected to give feedback at kavita.fadnavis@gmail.com for its improvement. No claims of perfection till session 2021-22
A22: This workbook can prepare results of 100 students of a class. According the the the departmental norms we can split the class into two sections as soon as the strength crosses 60 students, yet this workbooks supports result upto a strength of 100 students. Please limit your class strength not to exceed 100. If there occur any errors in your result due to accidental deletion or feeding in wrong sheets, you can rectify all such errors by using a fresh workbook and just copying the 'details' of your old workbook into the new one. Password to enter details entries is 'shivira'. All sheets are protected. The password to unprotect sheets is 'dkf'. For any queries regarding the use of this application, drop a mail to kavita.fadnavis@gmail.com You may also contact the master trainers of your own district. D. Kavita
A23: Plz. always read the latest class promotion rules before you begin to work on this workbook. Use this workbook only if you find it as per rules. The cell pertaining to the result of a student of class 8th is deliberately left blank in case he/she obtains grade 'e' in any of the subjects. Fill it using your own understanding of the rules.
A24: fjtYV odZcqd ds iz;ksx esa vkusokyh lkekU; leL;k,¡ o lek/kku
A25: CLICK HERE TO GO BACK TO DETAILS TO CONTINUE DATA ENTRY
... A87: vf/kd lg;ksx pkgus gsrq ohfM;ks ns[ksaA

Sheet details
A1: Govt. Higher Secondary School, XYZ | J1: HINDI | P1: ENGLISH | V1: THIRD LANGUAGE | AC1: SCIENCE | AI1: VOCATIONAL EDUCATION | AN1: SOCIAL SCIENCE | AT1: MATHEMATICS | AZ1: RAJASTHAN KA SWARNIM ITIHAS | BE1: PH. AND HEALTH EDU. | BO1: FOUNDATION OF IT | BV1: S.U.P.W. | BY1: ART EDU. | CG1: MONTHLY ATTENDANCE | DF1: TOTAL ATTENDANCE UPTO
A3: S. NO. | B3: CATEGORY | C3: GENGER | D3: ROLL. NO. | E3: S.R. NO. | F3: CLICK HERE TO VIEW THE RESULT | G3: RESULT SHEET | H3: DATE OF SUPPL. EXAM. RESULT DECLARATION | I3: 45786 | J3: PRAHALAD VAISHNAV | P3: MO.RASHID KHAN | V3: MAHBOOB ASIF | X3: N | AC3: BRIJESH PATIDAR | AJ3: NAVNEET SONI | AN3: MADHUBALA MUNDRA | AT3: BANSHI LAL SUTHAR | AZ3: XYZ | BE3: KANAK MAL MEHTA | BO3: BRIJESH PATIDAR | BV3: DEEPAK KUMAWAT | BY3: RITA KRIPLANI | CG3: APRIL | CH3: APRIL | CI3: MAY | CJ3: MAY | CK3: JULY | CL3: JULY | CM3: AUGUST | CN3: AUGUST | CO3: SEPTEMBER | CP3: SEPTEMBER | CQ3: OCTOBER | CR3: OCTOBER | CS3: NOVEMBER | CT3: NOVEMBER | CU3: DECEMBER | CV3: DECEMBER | CW3: JANUARY | CX3: JANUARY | CY3: FEBRUARY | CZ3: FEBRUARY | DA3: MARCH | DB3: MARCH | DC3: APRIL | DD3: APRIL | DF3: TOTAL UPTO MAY | DH3: TOTAL UPTO JULY | DJ3: TOTAL UPTO AUGUST | DL3: TOTAL UPTO SEPTEMBER | DN3: TOTAL UPTO OCTOBER | DP3: TOTAL UPTO NOVEMBER | DR3: TOTAL UPTO DECEMBER | DT3: TOTAL UPTO JANUARY | DV3: TOTAL UPTO FEBRUARY | DX3: TOTAL UPTO MARCH | DZ3: TOTAL FOR THE SESSION
G4: CLICK HERE FOR HELP | J4: UNIT TEST | M4: Vruksharopan | N4: HALF YEARLY EXAM | O4: ANNUAL EXAM | P4: UNIT TEST | S4: Vruksharopan | T4: HALF YEARLY EXAM | U4: ANNUAL EXAM | V4: SUBJECT CODE | W4: UNIT TEST | Z4: Vruksharopan | AA4: HALF YEARLY EXAM | AB4: ANNUAL EXAM | AC4: UNIT TEST | AF4: Vruksharopan | AG4: HALF YEARLY EXAM | AH4: ANNUAL EXAM | AJ4: SESSIONAL MARKS | AK4: Vruksharopan | AL4: THEORY | AM4: PRACTICAL | AN4: UNIT TEST | AQ4: Vruksharopan | AR4: HALF YEARLY EXAM | AS4: ANNUAL EXAM | AT4: UNIT TEST | AW4: Vruksharopan | AX4: HALF YEARLY EXAM | AY4: ANNUAL EXAM | AZ4: UNIT TEST | BC4: HALF YEARLY EXAM | BD4: ANNUAL EXAM | BE4: UNIT TEST | BK4: HALF YEARLY EXAM. | BM4: ANNUAL EXAM | BO4: UNIT TEST | BR4: HALF YEARLY EXAM. | BT4: ANNUAL EXAM. | BV4: COMP. ACT. | BW4: OPT. ACT. | BX4: CAMP | BY4: THEORY | BZ4: PRACTICAL | CA4: PRACTICAL | CB4: ASSIGNMENT
F5: DATE OF BIRTH | G5: NAME OF THE STUDENT | H5: FATHER'S NAME | I5: MOTHER'S NAME | J5: FIRST | K5: SECOND | L5: THIRD | P5: FIRST | Q5: SECOND | R5: THIRD | W5: FIRST | X5: SECOND | Y5: THIRD | AC5: FIRST | AD5: SECOND | AE5: THIRD | AN5: FIRST | AO5: SECOND | AP5: THIRD | AT5: FIRST | AU5: SECOND | AV5: THIRD | AZ5: FIRST | BA5: SECOND | BB5: THIRD | BE5: FIRST TH. | BF5: FIRST PR. | BG5: SECOND TH. | BH5: SECOND PR. | BI5: THIRD TH. | BJ5: THIRD PR. | BK5: THEORY | BL5: PRACT. | BM5: THEORY | BN5: PRACT. | BO5: FIRST | BP5: SECOND | BQ5: THIRD | BR5: THEORY | BS5: PRACT. | BT5: THEORY | BU5: PRACT. | CG5: TOTAL MTNGS. | CI5: TOTAL MTNGS. | CJ5: ST. ATT. | CK5: TOTAL MTNGS. | CL5: ST. ATT. | CM5: TOTAL MTNGS. | CN5: ST. ATT. | CO5: TOTAL MTNGS. | CP5: ST. ATT. | CQ5: TOTAL MTNGS. | CR5: ST. ATT. | CS5: TOTAL MTNGS. | CT5: ST. ATT. | CU5: TOTAL MTNGS. | CV5: ST. ATT. | CW5: TOTAL MTNGS. | CX5: ST. ATT. | CY5: TOTAL MTNGS. | CZ5: ST. ATT. | DA5: TOTAL MTNGS. | DB5: ST. ATT. | DC5: TOTAL MTNGS. | DD5: ST. ATT. | DF5: TOTAL MTNGS. | DG5: ST. ATT. | DH5: TOTAL MTNGS. | DI5: ST. ATT. | DJ5: TOTAL MTNGS. | DK5: ST. ATT. | DL5: TOTAL MTNGS. | DM5: ST. ATT. | DN5: TOTAL MTNGS. | DO5: ST. ATT. | DP5: TOTAL MTNGS. | DQ5: ST. ATT. | DR5: TOTAL MTNGS. | DS5: ST. ATT. | DT5: TOTAL MTNGS. | DU5: ST. ATT. | DV5: TOTAL MTNGS. | DW5: ST. ATT. | DX5: TOTAL MTNGS. | DY5: ST. ATT. | DZ5: TOTAL MTNGS. | EA5: ST. ATT.
A6: DATE OF RESULT DECLARATION | F6: 45781 | G6: 9 'A' | H6: 2024-25 | J6: 10 | K6: 10 | L6: 9 | M6: 1 | N6: 70 | O6: 100 | P6: 10 | Q6: 10 | R6: 9 | S6: 1 | T6: 70 | U6: 100 | W6: 10 | X6: 10 | Y6: 9 | Z6: 1 | AA6: 70 | AB6: 100 | AC6: 10 | AD6: 10 | AE6: 8 | AF6: 2 | AG6: 70 | AH6: 100 | AJ6: 39 | AK6: 1 | AL6: 60 | AM6: 100 | AN6: 10 | AO6: 10 | AP6: 9 | AQ6: 1 | AR6: 70 | AS6: 100 | AT6: 10 | AU6: 10 | AV6: 9 | AW6: 1 | AX6: 70 | AY6: 100 | AZ6: 10 | BA6: 10 | BB6: 10 | BC6: 70 | BD6: 100 | BE6: 10 | BF6: 8 | BG6: 10 | BH6: 7 | BI6: 15 | BJ6: 10 | BK6: 25 | BL6: 15 | BM6: 30 | BN6: 70 | BO6: 10 | BP6: 10 | BQ6: 10 | BR6: 50 | BS6: 20 | BT6: 70 | BU6: 30 | BV6: 25 | BW6: 45 | BX6: 30 | BY6: 25 | BZ6: 30 | CA6: 30 | CB6: 15 | CE6: MEETINGS | CJ6: 0 | CL6: 0 | CN6: 0 | CP6: 0 | CR6: 0 | CT6: 0 | CV6: 0 | CX6: 0 | CZ6: 0 | DB6: 0 | DD6: 0 | DF6: =IF(CI6="","",SUM(CG6,CI6)) | DG6: =IF(CJ6="","",SUM(CH6,CJ6)) -> 0 | DH6: =IF(CK6="","",SUM(DF6,CK6)) | DI6: =IF(CL6="","",SUM(DG6,CL6)) -> 0 | DJ6: =IF(CM6="","",SUM(DH6,CM6)) | DK6: =IF(CN6="","",SUM(DI6,CN6)) -> 0 | DL6: =IF(CO6="","",SUM(DJ6,CO6)) | DM6: =IF(CP6="","",SUM(DK6,CP6)) -> 0 | DN6: =IF(CQ6="","",SUM(DL6,CQ6)) | DO6: =IF(CR6="","",SUM(DM6,CR6)) -> 0 | ... EA6: =IF(DD6="","",SUM(DY6,DD6)) -> 0
A7: 1 | B7: SC | C7: G | D7: 9101 | E7: 10601 | F7: 36158 | G7: A 001 | H7: B 001 | I7: C 001 | J7: 10 | K7: 10 | L7: 9 | M7: 1 | N7: 70 | O7: 40 | P7: 4 | Q7: 9 | R7: 8 | S7: 1 | T7: 70 | U7: 100 | V7: SANSKRIT | W7: 10 | X7: 10 | Y7: 9 | Z7: 0.5 | AA7: 70 | AB7: 100 | AC7: 8 | AD7: 3 | AE7: 8 | AF7: 2 | AG7: 70 | AH7: 100 | AN7: 10 | AO7: 10 | AP7: 9 | AQ7: 0.5 | AR7: 70 | AS7: 100 | AT7: 5 | AU7: 4 | AV7: 8 | AW7: 1 | AX7: 25 | AY7: 90 | AZ7: 10 | BA7: 10 | BB7: 10 | BC7: 70 | BD7: 100 | BE7: 6 | BF7: 8 | BG7: 4 | BH7: 7 | BI7: 15 | BJ7: 10 | BK7: 24 | BL7: 14 | BM7: 30 | BN7: 70 | BO7: 10 | BP7: 10 | BQ7: 10 | BR7: 33 | BS7: 18 | BT7: 60 | BU7: 30 | BV7: 24 | BW7: 44 | BX7: 30 | BY7: 24 | BZ7: 28 | CA7: 27 | CB7: 14 | CG7: =IF(CG$6="","",CG$6) | CI7: =IF(CI$6="","",CI$6) | CK7: =IF(CK$6="","",CK$6) | CM7: =IF(CM$6="","",CM$6) | CO7: =IF(CO$6="","",CO$6) | CQ7: =IF(CQ$6="","",CQ$6) | CS7: =IF(CS$6="","",CS$6) | CU7: =IF(CU$6="","",CU$6) | CW7: =IF(CW$6="","",CW$6) | CY7: =IF(CY$6="","",CY$6) | DA7: =IF(DA$6="","",DA$6) | DC7: =IF(DC$6="","",DC$6) | DF7: =IF(CI7="","",SUM(CG7,CI7)) | DG7: =IF(CJ7="","",SUM(CH7,CJ7)) | DH7: =IF(CK7="","",SUM(DF7,CK7)) | DI7: =IF(CL7="","",SUM(DG7,CL7)) | DJ7: =IF(CM7="","",SUM(DH7,CM7)) | DK7: =IF(CN7="","",SUM(DI7,CN7)) | DL7: =IF(CO7="","",SUM(DJ7,CO7)) | DM7: =IF(CP7="","",SUM(DK7,CP7)) | DN7: =IF(CQ7="","",SUM(DL7,CQ7)) | DO7: =IF(CR7="","",SUM(DM7,CR7)) | ... EA7: =IF(DD7="","",SUM(DY7,DD7))
A8: 2 | B8: GEN | C8: G | D8: 9102 | E8: 10721 | F8: 36373 | G8: A 002 | H8: B 002 | I8: C 002 | J8: 10 | K8: 10 | L8: 9 | M8: 1 | N8: 70 | O8: 39 | P8: 4 | Q8: 9 | R8: 8 | S8: 1 | T8: 70 | U8: 100 | V8: SANSKRIT | W8: 10 | X8: 10 | Y8: 9 | Z8: 0.5 | AA8: 70 | AB8: 100 | AC8: 8 | AD8: 3 | AE8: 8 | AF8: 2 | AG8: 70 | AH8: 100 | AN8: 10 | AO8: 10 | AP8: 9 | AQ8: 0.5 | AR8: 70 | AS8: 100 | AT8: 5 | AU8: 4 | AV8: 8 | AW8: 1 | AX8: 25 | AY8: 90 | AZ8: 10 | BA8: 10 | BB8: 10 | BC8: 70 | BD8: 100 | BE8: 6 | BF8: 8 | BG8: 4 | BH8: 7 | BI8: 15 | BJ8: 10 | BK8: 24 | BL8: 14 | BM8: 30 | BN8: 70 | BO8: 10 | BP8: 10 | BQ8: 10 | BR8: 33 | BS8: 18 | BT8: 60 | BU8: 30 | BV8: 24 | BW8: 44 | BX8: 30 | BY8: 24 | BZ8: 28 | CA8: 27 | CB8: 14 | CG8: =IF(CG$6="","",CG$6) | CI8: =IF(CI$6="","",CI$6) | CK8: =IF(CK$6="","",CK$6) | CM8: =IF(CM$6="","",CM$6) | CO8: =IF(CO$6="","",CO$6) | CQ8: =IF(CQ$6="","",CQ$6) | CS8: =IF(CS$6="","",CS$6) | CU8: =IF(CU$6="","",CU$6) | CW8: =IF(CW$6="","",CW$6) | CY8: =IF(CY$6="","",CY$6) | DA8: =IF(DA$6="","",DA$6) | DC8: =IF(DC$6="","",DC$6) | DF8: =IF(CI8="","",SUM(CG8,CI8)) | DG8: =IF(CJ8="","",SUM(CH8,CJ8)) | DH8: =IF(CK8="","",SUM(DF8,CK8)) | DI8: =IF(CL8="","",SUM(DG8,CL8)) | DJ8: =IF(CM8="","",SUM(DH8,CM8)) | DK8: =IF(CN8="","",SUM(DI8,CN8)) | DL8: =IF(CO8="","",SUM(DJ8,CO8)) | DM8: =IF(CP8="","",SUM(DK8,CP8)) | DN8: =IF(CQ8="","",SUM(DL8,CQ8)) | DO8: =IF(CR8="","",SUM(DM8,CR8)) | ... EA8: =IF(DD8="","",SUM(DY8,DD8))
A9: 3 | B9: OBC | C9: G | D9: 9103 | E9: 10014 | F9: 34824 | G9: A 003 | H9: B 003 | I9: C 003 | J9: 10 | K9: 10 | L9: 9 | M9: 1 | N9: 70 | O9: 38 | P9: 4 | Q9: 9 | R9: 8 | S9: 1 | T9: 70 | U9: 100 | V9: SANSKRIT | W9: 10 | X9: 10 | Y9: 9 | Z9: 0.5 | AA9: 70 | AB9: 100 | AC9: 8 | AD9: 3 | AE9: 8 | AF9: 2 | AG9: 70 | AH9: 100 | AN9: 10 | AO9: 10 | AP9: 9 | AQ9: 0.5 | AR9: 70 | AS9: 100 | AT9: 5 | AU9: 4 | AV9: 8 | AW9: 1 | AX9: 25 | AY9: 90 | AZ9: 10 | BA9: 10 | BB9: 10 | BC9: 70 | BD9: 100 | BE9: 6 | BF9: 8 | BG9: 4 | BH9: 7 | BI9: 15 | BJ9: 10 | BK9: 24 | BL9: 14 | BM9: 30 | BN9: 70 | BO9: 10 | BP9: 10 | BQ9: 10 | BR9: 33 | BS9: 18 | BT9: 60 | BU9: 30 | BV9: 24 | BW9: 44 | BX9: 30 | BY9: 24 | BZ9: 28 | CA9: 27 | CB9: 14 | CD9: SC | CG9: =IF(CG$6="","",CG$6) | CI9: =IF(CI$6="","",CI$6) | CK9: =IF(CK$6="","",CK$6) | CM9: =IF(CM$6="","",CM$6) | CO9: =IF(CO$6="","",CO$6) | CQ9: =IF(CQ$6="","",CQ$6) | CS9: =IF(CS$6="","",CS$6) | CU9: =IF(CU$6="","",CU$6) | CW9: =IF(CW$6="","",CW$6) | CY9: =IF(CY$6="","",CY$6) | DA9: =IF(DA$6="","",DA$6) | DC9: =IF(DC$6="","",DC$6) | DF9: =IF(CI9="","",SUM(CG9,CI9)) | DG9: =IF(CJ9="","",SUM(CH9,CJ9)) | DH9: =IF(CK9="","",SUM(DF9,CK9)) | DI9: =IF(CL9="","",SUM(DG9,CL9)) | DJ9: =IF(CM9="","",SUM(DH9,CM9)) | DK9: =IF(CN9="","",SUM(DI9,CN9)) | DL9: =IF(CO9="","",SUM(DJ9,CO9)) | DM9: =IF(CP9="","",SUM(DK9,CP9)) | DN9: =IF(CQ9="","",SUM(DL9,CQ9)) | DO9: =IF(CR9="","",SUM(DM9,CR9)) | ... EA9: =IF(DD9="","",SUM(DY9,DD9))
A10: 4 | B10: ST | C10: G | D10: 9104 | E10: 10625 | F10: 35562 | G10: A 004 | H10: B 004 | I10: C 004 | J10: 10 | K10: 10 | L10: 9 | M10: 1 | N10: 70 | O10: 37 | P10: 4 | Q10: 9 | R10: 8 | S10: 1 | T10: 70 | U10: 100 | V10: SANSKRIT | W10: 10 | X10: 10 | Y10: 9 | Z10: 0.5 | AA10: 70 | AB10: 100 | AC10: 8 | AD10: 3 | AE10: 8 | AF10: 2 | AG10: 70 | AH10: 100 | AN10: 10 | AO10: 10 | AP10: 9 | AQ10: 0.5 | AR10: 70 | AS10: 100 | AT10: 5 | AU10: 4 | AV10: 8 | AW10: 1 | AX10: 25 | AY10: 90 | AZ10: 10 | BA10: 10 | BB10: 10 | BC10: 70 | BD10: 100 | BE10: 6 | BF10: 8 | BG10: 4 | BH10: 7 | BI10: 15 | BJ10: 10 | BK10: 24 | BL10: 14 | BM10: 30 | BN10: 70 | BO10: 10 | BP10: 10 | BQ10: 10 | BR10: 33 | BS10: 18 | BT10: 60 | BU10: 30 | BV10: 24 | BW10: 44 | BX10: 30 | BY10: 24 | BZ10: 28 | CA10: 27 | CB10: 14 | CD10: ST | CG10: =IF(CG$6="","",CG$6) | CI10: =IF(CI$6="","",CI$6) | CK10: =IF(CK$6="","",CK$6) | CM10: =IF(CM$6="","",CM$6) | CO10: =IF(CO$6="","",CO$6) | CQ10: =IF(CQ$6="","",CQ$6) | CS10: =IF(CS$6="","",CS$6) | CU10: =IF(CU$6="","",CU$6) | CW10: =IF(CW$6="","",CW$6) | CY10: =IF(CY$6="","",CY$6) | DA10: =IF(DA$6="","",DA$6) | DC10: =IF(DC$6="","",DC$6) | DF10: =IF(CI10="","",SUM(CG10,CI10)) | DG10: =IF(CJ10="","",SUM(CH10,CJ10)) | DH10: =IF(CK10="","",SUM(DF10,CK10)) | DI10: =IF(CL10="","",SUM(DG10,CL10)) | DJ10: =IF(CM10="","",SUM(DH10,CM10)) | DK10: =IF(CN10="","",SUM(DI10,CN10)) | DL10: =IF(CO10="","",SUM(DJ10,CO10)) | DM10: =IF(CP10="","",SUM(DK10,CP10)) | DN10: =IF(CQ10="","",SUM(DL10,CQ10)) | DO10: =IF(CR10="","",SUM(DM10,CR10)) | ... EA10: =IF(DD10="","",SUM(DY10,DD10))
A11: 5 | B11: OBC | C11: G | D11: 9105 | E11: 9486 | F11: 35740 | G11: A 005 | H11: B 005 | I11: C 005 | J11: 10 | K11: 10 | L11: 9 | M11: 1 | N11: 70 | O11: 42 | P11: 4 | Q11: 9 | R11: 8 | S11: 1 | T11: 70 | U11: 100 | V11: SANSKRIT | W11: 10 | X11: 10 | Y11: 9 | Z11: 0.5 | AA11: 70 | AB11: 100 | AC11: 8 | AD11: 3 | AE11: 8 | AF11: 2 | AG11: 70 | AH11: 100 | AN11: 10 | AO11: 10 | AP11: 9 | AQ11: 0.5 | AR11: 70 | AS11: 100 | AT11: 5 | AU11: 4 | AV11: 8 | AW11: 1 | AX11: 25 | AY11: 90 | AZ11: 10 | BA11: 10 | BB11: 10 | BC11: 70 | BD11: 100 | BE11: 6 | BF11: 8 | BG11: 4 | BH11: 7 | BI11: 15 | BJ11: 10 | BK11: 24 | BL11: 14 | BM11: 30 | BN11: 70 | BO11: 10 | BP11: 10 | BQ11: 10 | BR11: 33 | BS11: 18 | BT11: 60 | BU11: 30 | BV11: 24 | BW11: 44 | BX11: 30 | BY11: 24 | BZ11: 28 | CA11: 27 | CB11: 14 | CD11: OBC | CG11: =IF(CG$6="","",CG$6) | CI11: =IF(CI$6="","",CI$6) | CK11: =IF(CK$6="","",CK$6) | CM11: =IF(CM$6="","",CM$6) | CO11: =IF(CO$6="","",CO$6) | CQ11: =IF(CQ$6="","",CQ$6) | CS11: =IF(CS$6="","",CS$6) | CU11: =IF(CU$6="","",CU$6) | CW11: =IF(CW$6="","",CW$6) | CY11: =IF(CY$6="","",CY$6) | DA11: =IF(DA$6="","",DA$6) | DC11: =IF(DC$6="","",DC$6) | DF11: =IF(CI11="","",SUM(CG11,CI11)) | DG11: =IF(CJ11="","",SUM(CH11,CJ11)) | DH11: =IF(CK11="","",SUM(DF11,CK11)) | DI11: =IF(CL11="","",SUM(DG11,CL11)) | DJ11: =IF(CM11="","",SUM(DH11,CM11)) | DK11: =IF(CN11="","",SUM(DI11,CN11)) | DL11: =IF(CO11="","",SUM(DJ11,CO11)) | DM11: =IF(CP11="","",SUM(DK11,CP11)) | DN11: =IF(CQ11="","",SUM(DL11,CQ11)) | DO11: =IF(CR11="","",SUM(DM11,CR11)) | ... EA11: =IF(DD11="","",SUM(DY11,DD11))
A12: 6 | B12: GEN | C12: G | D12: 9106 | E12: 10695 | F12: 36968 | G12: A 006 | H12: B 006 | I12: C 006 | J12: 10 | K12: 10 | L12: 9 | M12: 1 | N12: 70 | O12: 35 | P12: 4 | Q12: 9 | R12: 8 | S12: 1 | T12: 70 | U12: 100 | V12: SANSKRIT | W12: 10 | X12: 10 | Y12: 9 | Z12: 0.5 | AA12: 70 | AB12: 100 | AC12: 8 | AD12: 3 | AE12: 8 | AF12: 2 | AG12: 70 | AH12: 100 | AN12: 10 | AO12: 10 | AP12: 9 | AQ12: 0.5 | AR12: 70 | AS12: 100 | AT12: 5 | AU12: 4 | AV12: 8 | AW12: 1 | AX12: 25 | AY12: 90 | AZ12: 10 | BA12: 10 | BB12: 10 | BC12: 70 | BD12: 100 | BE12: 6 | BF12: 8 | BG12: 4 | BH12: 7 | BI12: 15 | BJ12: 10 | BK12: 24 | BL12: 14 | BM12: 30 | BN12: 70 | BO12: 10 | BP12: 10 | BQ12: 10 | BR12: 33 | BS12: 18 | BT12: 60 | BU12: 30 | BV12: 24 | BW12: 44 | BX12: 30 | BY12: 24 | BZ12: 28 | CA12: 27 | CB12: 14 | CD12: SBC | CG12: =IF(CG$6="","",CG$6) | CI12: =IF(CI$6="","",CI$6) | CK12: =IF(CK$6="","",CK$6) | CM12: =IF(CM$6="","",CM$6) | CO12: =IF(CO$6="","",CO$6) | CQ12: =IF(CQ$6="","",CQ$6) | CS12: =IF(CS$6="","",CS$6) | CU12: =IF(CU$6="","",CU$6) | CW12: =IF(CW$6="","",CW$6) | CY12: =IF(CY$6="","",CY$6) | DA12: =IF(DA$6="","",DA$6) | DC12: =IF(DC$6="","",DC$6) | DF12: =IF(CI12="","",SUM(CG12,CI12)) | DG12: =IF(CJ12="","",SUM(CH12,CJ12)) | DH12: =IF(CK12="","",SUM(DF12,CK12)) | DI12: =IF(CL12="","",SUM(DG12,CL12)) | DJ12: =IF(CM12="","",SUM(DH12,CM12)) | DK12: =IF(CN12="","",SUM(DI12,CN12)) | DL12: =IF(CO12="","",SUM(DJ12,CO12)) | DM12: =IF(CP12="","",SUM(DK12,CP12)) | DN12: =IF(CQ12="","",SUM(DL12,CQ12)) | DO12: =IF(CR12="","",SUM(DM12,CR12)) | ... EA12: =IF(DD12="","",SUM(DY12,DD12))
A13: 7 | B13: SC | C13: G | D13: 9107 | E13: 10365 | F13: 35197 | G13: A 007 | H13: B 007 | I13: C 007 | J13: 10 | K13: 10 | L13: 9 | M13: 1 | N13: 70 | O13: 34 | P13: 4 | Q13: 9 | R13: 8 | S13: 1 | T13: 70 | U13: 100 | V13: SANSKRIT | W13: 10 | X13: 10 | Y13: 9 | Z13: 0.5 | AA13: 70 | AB13: 100 | AC13: 8 | AD13: 3 | AE13: 8 | AF13: 2 | AG13: 70 | AH13: 100 | AN13: 10 | AO13: 10 | AP13: 9 | AQ13: 0.5 | AR13: 70 | AS13: 100 | AT13: 5 | AU13: 4 | AV13: 8 | AW13: 1 | AX13: 25 | AY13: 90 | AZ13: 10 | BA13: 10 | BB13: 10 | BC13: 70 | BD13: 100 | BE13: 6 | BF13: 8 | BG13: 4 | BH13: 7 | BI13: 15 | BJ13: 10 | BK13: 24 | BL13: 14 | BM13: 30 | BN13: 70 | BO13: 10 | BP13: 10 | BQ13: 10 | BR13: 33 | BS13: 18 | BT13: 60 | BU13: 30 | BV13: 24 | BW13: 44 | BX13: 30 | BY13: 24 | BZ13: 28 | CA13: 27 | CB13: 14 | CD13: GEN | CG13: =IF(CG$6="","",CG$6) | CI13: =IF(CI$6="","",CI$6) | CK13: =IF(CK$6="","",CK$6) | CM13: =IF(CM$6="","",CM$6) | CO13: =IF(CO$6="","",CO$6) | CQ13: =IF(CQ$6="","",CQ$6) | CS13: =IF(CS$6="","",CS$6) | CU13: =IF(CU$6="","",CU$6) | CW13: =IF(CW$6="","",CW$6) | CY13: =IF(CY$6="","",CY$6) | DA13: =IF(DA$6="","",DA$6) | DC13: =IF(DC$6="","",DC$6) | DF13: =IF(CI13="","",SUM(CG13,CI13)) | DG13: =IF(CJ13="","",SUM(CH13,CJ13)) | DH13: =IF(CK13="","",SUM(DF13,CK13)) | DI13: =IF(CL13="","",SUM(DG13,CL13)) | DJ13: =IF(CM13="","",SUM(DH13,CM13)) | DK13: =IF(CN13="","",SUM(DI13,CN13)) | DL13: =IF(CO13="","",SUM(DJ13,CO13)) | DM13: =IF(CP13="","",SUM(DK13,CP13)) | DN13: =IF(CQ13="","",SUM(DL13,CQ13)) | DO13: =IF(CR13="","",SUM(DM13,CR13)) | ... EA13: =IF(DD13="","",SUM(DY13,DD13))
A14: 8 | B14: SC | C14: G | D14: 9108 | E14: 10583 | F14: 35998 | G14: A 008 | H14: B 008 | I14: C 008 | J14: 10 | K14: 10 | L14: 9 | M14: 1 | N14: 70 | O14: 33 | P14: 4 | Q14: 9 | R14: 8 | S14: 1 | T14: 70 | U14: 100 | V14: SANSKRIT | W14: 10 | X14: 10 | Y14: 9 | Z14: 0.5 | AA14: 70 | AB14: 100 | AC14: 8 | AD14: 3 | AE14: 8 | AF14: 2 | AG14: 70 | AH14: 100 | AN14: 10 | AO14: 10 | AP14: 9 | AQ14: 0.5 | AR14: 70 | AS14: 100 | AT14: 5 | AU14: 4 | AV14: 8 | AW14: 1 | AX14: 25 | AY14: 90 | AZ14: 10 | BA14: 10 | BB14: 10 | BC14: 70 | BD14: 100 | BE14: 6 | BF14: 8 | BG14: 4 | BH14: 7 | BI14: 15 | BJ14: 10 | BK14: 24 | BL14: 14 | BM14: 30 | BN14: 70 | BO14: 10 | BP14: 10 | BQ14: 10 | BR14: 33 | BS14: 18 | BT14: 60 | BU14: 30 | BV14: 24 | BW14: 44 | BX14: 30 | BY14: 24 | BZ14: 28 | CA14: 27 | CB14: 14 | CD14: MIN | CG14: =IF(CG$6="","",CG$6) | CI14: =IF(CI$6="","",CI$6) | CK14: =IF(CK$6="","",CK$6) | CM14: =IF(CM$6="","",CM$6) | CO14: =IF(CO$6="","",CO$6) | CQ14: =IF(CQ$6="","",CQ$6) | CS14: =IF(CS$6="","",CS$6) | CU14: =IF(CU$6="","",CU$6) | CW14: =IF(CW$6="","",CW$6) | CY14: =IF(CY$6="","",CY$6) | DA14: =IF(DA$6="","",DA$6) | DC14: =IF(DC$6="","",DC$6) | DF14: =IF(CI14="","",SUM(CG14,CI14)) | DG14: =IF(CJ14="","",SUM(CH14,CJ14)) | DH14: =IF(CK14="","",SUM(DF14,CK14)) | DI14: =IF(CL14="","",SUM(DG14,CL14)) | DJ14: =IF(CM14="","",SUM(DH14,CM14)) | DK14: =IF(CN14="","",SUM(DI14,CN14)) | DL14: =IF(CO14="","",SUM(DJ14,CO14)) | DM14: =IF(CP14="","",SUM(DK14,CP14)) | DN14: =IF(CQ14="","",SUM(DL14,CQ14)) | DO14: =IF(CR14="","",SUM(DM14,CR14)) | ... EA14: =IF(DD14="","",SUM(DY14,DD14))
A15: 9 | B15: SC | C15: G | D15: 9109 | E15: 10584 | F15: 35050 | G15: A 009 | H15: B 009 | I15: C 009 | J15: 10 | K15: 10 | L15: 9 | M15: 1 | N15: 70 | O15: 32 | P15: 4 | Q15: 9 | R15: 8 | S15: 1 | T15: 70 | U15: 100 | V15: SANSKRIT | W15: 10 | X15: 10 | Y15: 9 | Z15: 0.5 | AA15: 70 | AB15: 100 | AC15: 8 | AD15: 3 | AE15: 8 | AF15: 2 | AG15: 70 | AH15: 100 | AN15: 10 | AO15: 10 | AP15: 9 | AQ15: 0.5 | AR15: 70 | AS15: 100 | AT15: 5 | AU15: 4 | AV15: 8 | AW15: 1 | AX15: 25 | AY15: 90 | AZ15: 10 | BA15: 10 | BB15: 10 | BC15: 70 | BD15: 100 | BE15: 6 | BF15: 8 | BG15: 4 | BH15: 7 | BI15: 15 | BJ15: 10 | BK15: 24 | BL15: 14 | BM15: 30 | BN15: 70 | BO15: 10 | BP15: 10 | BQ15: 10 | BR15: 33 | BS15: 18 | BT15: 60 | BU15: 30 | BV15: 24 | BW15: 44 | BX15: 30 | BY15: 24 | BZ15: 28 | CA15: 27 | CB15: 14 | CG15: =IF(CG$6="","",CG$6) | CI15: =IF(CI$6="","",CI$6) | CK15: =IF(CK$6="","",CK$6) | CM15: =IF(CM$6="","",CM$6) | CO15: =IF(CO$6="","",CO$6) | CQ15: =IF(CQ$6="","",CQ$6) | CS15: =IF(CS$6="","",CS$6) | CU15: =IF(CU$6="","",CU$6) | CW15: =IF(CW$6="","",CW$6) | CY15: =IF(CY$6="","",CY$6) | DA15: =IF(DA$6="","",DA$6) | DC15: =IF(DC$6="","",DC$6) | DF15: =IF(CI15="","",SUM(CG15,CI15)) | DG15: =IF(CJ15="","",SUM(CH15,CJ15)) | DH15: =IF(CK15="","",SUM(DF15,CK15)) | DI15: =IF(CL15="","",SUM(DG15,CL15)) | DJ15: =IF(CM15="","",SUM(DH15,CM15)) | DK15: =IF(CN15="","",SUM(DI15,CN15)) | DL15: =IF(CO15="","",SUM(DJ15,CO15)) | DM15: =IF(CP15="","",SUM(DK15,CP15)) | DN15: =IF(CQ15="","",SUM(DL15,CQ15)) | DO15: =IF(CR15="","",SUM(DM15,CR15)) | ... EA15: =IF(DD15="","",SUM(DY15,DD15))
A16: 10 | B16: OBC | C16: G | D16: 9110 | E16: 10514 | F16: 35828 | G16: A 010 | H16: B 010 | I16: C 010 | J16: 10 | K16: 10 | L16: 9 | M16: 1 | N16: 70 | O16: 45 | P16: 4 | Q16: 9 | R16: 8 | S16: 1 | T16: 70 | U16: 100 | V16: SANSKRIT | W16: 10 | X16: 10 | Y16: 9 | Z16: 0.5 | AA16: 70 | AB16: 100 | AC16: 8 | AD16: 3 | AE16: 8 | AF16: 2 | AG16: 70 | AH16: 100 | AN16: 10 | AO16: 10 | AP16: 9 | AQ16: 0.5 | AR16: 70 | AS16: 100 | AT16: 5 | AU16: 4 | AV16: 8 | AW16: 1 | AX16: 25 | AY16: 90 | AZ16: 10 | BA16: 10 | BB16: 10 | BC16: 70 | BD16: 100 | BE16: 6 | BF16: 8 | BG16: 4 | BH16: 7 | BI16: 15 | BJ16: 10 | BK16: 24 | BL16: 14 | BM16: 30 | BN16: 70 | BO16: 10 | BP16: 10 | BQ16: 10 | BR16: 33 | BS16: 18 | BT16: 60 | BU16: 30 | BV16: 24 | BW16: 44 | BX16: 30 | BY16: 24 | BZ16: 28 | CA16: 27 | CB16: 14 | CG16: =IF(CG$6="","",CG$6) | CI16: =IF(CI$6="","",CI$6) | CK16: =IF(CK$6="","",CK$6) | CM16: =IF(CM$6="","",CM$6) | CO16: =IF(CO$6="","",CO$6) | CQ16: =IF(CQ$6="","",CQ$6) | CS16: =IF(CS$6="","",CS$6) | CU16: =IF(CU$6="","",CU$6) | CW16: =IF(CW$6="","",CW$6) | CY16: =IF(CY$6="","",CY$6) | DA16: =IF(DA$6="","",DA$6) | DC16: =IF(DC$6="","",DC$6) | DF16: =IF(CI16="","",SUM(CG16,CI16)) | DG16: =IF(CJ16="","",SUM(CH16,CJ16)) | DH16: =IF(CK16="","",SUM(DF16,CK16)) | DI16: =IF(CL16="","",SUM(DG16,CL16)) | DJ16: =IF(CM16="","",SUM(DH16,CM16)) | DK16: =IF(CN16="","",SUM(DI16,CN16)) | DL16: =IF(CO16="","",SUM(DJ16,CO16)) | DM16: =IF(CP16="","",SUM(DK16,CP16)) | DN16: =IF(CQ16="","",SUM(DL16,CQ16)) | DO16: =IF(CR16="","",SUM(DM16,CR16)) | ... EA16: =IF(DD16="","",SUM(DY16,DD16))
AI17: BEAUTY AND HEALTH | AJ17: 34 | AK17: 1 | AL17: 5 | AM17: 10 | AN17: 10 | AO17: 10 | AP17: 9 | AQ17: 0.5 | AR17: 70 | AS17: 100 | AT17: 5 | AU17: 4 | AV17: 8 | AW17: 1 | AX17: 25 | AY17: 90 | AZ17: 10 | BA17: 10 | BB17: 10 | BC17: 70 | BD17: 100 | BE17: 6 | BF17: 8 | BG17: 4 | BH17: 7 | BI17: 15 | BJ17: 10 | BK17: 24 | BL17: 14 | BM17: 30 | BN17: 70 | BO17: 10 | BP17: 10 | BQ17: 10 | BR17: 33 | BS17: 18 | BT17: 60 | BU17: 30 | BV17: 24 | BW17: 44 | BX17: 30 | BY17: 24 | BZ17: 28 | CA17: 27 | CB17: 14 | CD17: B | CG17: =IF(CG$6="","",CG$6) | CI17: =IF(CI$6="","",CI$6) | CK17: =IF(CK$6="","",CK$6) | CM17: =IF(CM$6="","",CM$6) | CO17: =IF(CO$6="","",CO$6) | CQ17: =IF(CQ$6="","",CQ$6) | CS17: =IF(CS$6="","",CS$6) | CU17: =IF(CU$6="","",CU$6) | CW17: =IF(CW$6="","",CW$6) | CY17: =IF(CY$6="","",CY$6) | DA17: =IF(DA$6="","",DA$6) | DC17: =IF(DC$6="","",DC$6) | DF17: =IF(CI17="","",SUM(CG17,CI17)) | DG17: =IF(CJ17="","",SUM(CH17,CJ17)) | DH17: =IF(CK17="","",SUM(DF17,CK17)) | DI17: =IF(CL17="","",SUM(DG17,CL17)) | DJ17: =IF(CM17="","",SUM(DH17,CM17)) | DK17: =IF(CN17="","",SUM(DI17,CN17)) | DL17: =IF(CO17="","",SUM(DJ17,CO17)) | DM17: =IF(CP17="","",SUM(DK17,CP17)) | DN17: =IF(CQ17="","",SUM(DL17,CQ17)) | DO17: =IF(CR17="","",SUM(DM17,CR17)) | ... EA17: =IF(DD17="","",SUM(DY17,DD17))
AN18: 10 | AO18: 10 | AP18: 9 | AQ18: 0.5 | AR18: 70 | AS18: 100 | AT18: 5 | AU18: 4 | AV18: 8 | AW18: 1 | AX18: 25 | AY18: 90 | AZ18: 10 | BA18: 10 | BB18: 10 | BC18: 70 | BD18: 100 | BE18: 6 | BF18: 8 | BG18: 4 | BH18: 7 | BI18: 15 | BJ18: 10 | BK18: 24 | BL18: 14 | BM18: 30 | BN18: 70 | BO18: 10 | BP18: 10 | BQ18: 10 | BR18: 33 | BS18: 18 | BT18: 60 | BU18: 30 | BV18: 24 | BW18: 44 | BX18: 30 | BY18: 24 | BZ18: 28 | CA18: 27 | CB18: 14 | CD18: G | CG18: =IF(CG$6="","",CG$6) | CI18: =IF(CI$6="","",CI$6) | CK18: =IF(CK$6="","",CK$6) | CM18: =IF(CM$6="","",CM$6) | CO18: =IF(CO$6="","",CO$6) | CQ18: =IF(CQ$6="","",CQ$6) | CS18: =IF(CS$6="","",CS$6) | CU18: =IF(CU$6="","",CU$6) | CW18: =IF(CW$6="","",CW$6) | CY18: =IF(CY$6="","",CY$6) | DA18: =IF(DA$6="","",DA$6) | DC18: =IF(DC$6="","",DC$6) | DF18: =IF(CI18="","",SUM(CG18,CI18)) | DG18: =IF(CJ18="","",SUM(CH18,CJ18)) | DH18: =IF(CK18="","",SUM(DF18,CK18)) | DI18: =IF(CL18="","",SUM(DG18,CL18)) | DJ18: =IF(CM18="","",SUM(DH18,CM18)) | DK18: =IF(CN18="","",SUM(DI18,CN18)) | DL18: =IF(CO18="","",SUM(DJ18,CO18)) | DM18: =IF(CP18="","",SUM(DK18,CP18)) | DN18: =IF(CQ18="","",SUM(DL18,CQ18)) | DO18: =IF(CR18="","",SUM(DM18,CR18)) | ... EA18: =IF(DD18="","",SUM(DY18,DD18))
AN19: 10 | AO19: 10 | AP19: 9 | AQ19: 0.5 | AR19: 70 | AS19: 100 | AT19: 5 | AU19: 4 | AV19: 8 | AW19: 1 | AX19: 25 | AY19: 90 | AZ19: 10 | BA19: 10 | BB19: 10 | BC19: 70 | BD19: 100 | BE19: 6 | BF19: 8 | BG19: 4 | BH19: 7 | BI19: 15 | BJ19: 10 | BK19: 24 | BL19: 14 | BM19: 30 | BN19: 70 | BO19: 10 | BP19: 10 | BQ19: 10 | BR19: 33 | BS19: 18 | BT19: 60 | BU19: 30 | BV19: 24 | BW19: 44 | BX19: 30 | BY19: 24 | BZ19: 28 | CA19: 27 | CB19: 14 | CG19: =IF(CG$6="","",CG$6) | CI19: =IF(CI$6="","",CI$6) | CK19: =IF(CK$6="","",CK$6) | CM19: =IF(CM$6="","",CM$6) | CO19: =IF(CO$6="","",CO$6) | CQ19: =IF(CQ$6="","",CQ$6) | CS19: =IF(CS$6="","",CS$6) | CU19: =IF(CU$6="","",CU$6) | CW19: =IF(CW$6="","",CW$6) | CY19: =IF(CY$6="","",CY$6) | DA19: =IF(DA$6="","",DA$6) | DC19: =IF(DC$6="","",DC$6) | DF19: =IF(CI19="","",SUM(CG19,CI19)) | DG19: =IF(CJ19="","",SUM(CH19,CJ19)) | DH19: =IF(CK19="","",SUM(DF19,CK19)) | DI19: =IF(CL19="","",SUM(DG19,CL19)) | DJ19: =IF(CM19="","",SUM(DH19,CM19)) | DK19: =IF(CN19="","",SUM(DI19,CN19)) | DL19: =IF(CO19="","",SUM(DJ19,CO19)) | DM19: =IF(CP19="","",SUM(DK19,CP19)) | DN19: =IF(CQ19="","",SUM(DL19,CQ19)) | DO19: =IF(CR19="","",SUM(DM19,CR19)) | ... EA19: =IF(DD19="","",SUM(DY19,DD19))
AI20: HEALTH CARE | AJ20: 34 | AK20: 1 | AL20: 26 | AM20: 84 | AN20: 10 | AO20: 10 | AP20: 9 | AQ20: 0.5 | AR20: 70 | AS20: 100 | AT20: 5 | AU20: 4 | AV20: 8 | AW20: 1 | AX20: 25 | AY20: 90 | AZ20: 10 | BA20: 10 | BB20: 10 | BC20: 70 | BD20: 100 | BE20: 6 | BF20: 8 | BG20: 4 | BH20: 7 | BI20: 15 | BJ20: 10 | BK20: 24 | BL20: 14 | BM20: 30 | BN20: 70 | BO20: 10 | BP20: 10 | BQ20: 10 | BR20: 33 | BS20: 18 | BT20: 60 | BU20: 30 | BV20: 24 | BW20: 44 | BX20: 30 | BY20: 24 | BZ20: 28 | CA20: 27 | CB20: 14 | CD20: a | CG20: =IF(CG$6="","",CG$6) | CI20: =IF(CI$6="","",CI$6) | CK20: =IF(CK$6="","",CK$6) | CM20: =IF(CM$6="","",CM$6) | CO20: =IF(CO$6="","",CO$6) | CQ20: =IF(CQ$6="","",CQ$6) | CS20: =IF(CS$6="","",CS$6) | CU20: =IF(CU$6="","",CU$6) | CW20: =IF(CW$6="","",CW$6) | CY20: =IF(CY$6="","",CY$6) | DA20: =IF(DA$6="","",DA$6) | DC20: =IF(DC$6="","",DC$6) | DF20: =IF(CI20="","",SUM(CG20,CI20)) | DG20: =IF(CJ20="","",SUM(CH20,CJ20)) | DH20: =IF(CK20="","",SUM(DF20,CK20)) | DI20: =IF(CL20="","",SUM(DG20,CL20)) | DJ20: =IF(CM20="","",SUM(DH20,CM20)) | DK20: =IF(CN20="","",SUM(DI20,CN20)) | DL20: =IF(CO20="","",SUM(DJ20,CO20)) | DM20: =IF(CP20="","",SUM(DK20,CP20)) | DN20: =IF(CQ20="","",SUM(DL20,CQ20)) | DO20: =IF(CR20="","",SUM(DM20,CR20)) | ... EA20: =IF(DD20="","",SUM(DY20,DD20))
AI21: HEALTH CARE | AJ21: 36 | AK21: 1 | AL21: 40 | AM21: 92 | AN21: 10 | AO21: 10 | AP21: 9 | AQ21: 0.5 | AR21: 70 | AS21: 100 | AT21: 5 | AU21: 4 | AV21: 8 | AW21: 1 | AX21: 25 | AY21: 90 | AZ21: 10 | BA21: 10 | BB21: 10 | BC21: 70 | BD21: 100 | BE21: 6 | BF21: 8 | BG21: 4 | BH21: 7 | BI21: 15 | BJ21: 10 | BK21: 24 | BL21: 14 | BM21: 30 | BN21: 70 | BO21: 10 | BP21: 10 | BQ21: 10 | BR21: 33 | BS21: 18 | BT21: 60 | BU21: 30 | BV21: 24 | BW21: 44 | BX21: 30 | BY21: 24 | BZ21: 28 | CA21: 27 | CB21: 14 | CD21: b | CG21: =IF(CG$6="","",CG$6) | CI21: =IF(CI$6="","",CI$6) | CK21: =IF(CK$6="","",CK$6) | CM21: =IF(CM$6="","",CM$6) | CO21: =IF(CO$6="","",CO$6) | CQ21: =IF(CQ$6="","",CQ$6) | CS21: =IF(CS$6="","",CS$6) | CU21: =IF(CU$6="","",CU$6) | CW21: =IF(CW$6="","",CW$6) | CY21: =IF(CY$6="","",CY$6) | DA21: =IF(DA$6="","",DA$6) | DC21: =IF(DC$6="","",DC$6) | DF21: =IF(CI21="","",SUM(CG21,CI21)) | DG21: =IF(CJ21="","",SUM(CH21,CJ21)) | DH21: =IF(CK21="","",SUM(DF21,CK21)) | DI21: =IF(CL21="","",SUM(DG21,CL21)) | DJ21: =IF(CM21="","",SUM(DH21,CM21)) | DK21: =IF(CN21="","",SUM(DI21,CN21)) | DL21: =IF(CO21="","",SUM(DJ21,CO21)) | DM21: =IF(CP21="","",SUM(DK21,CP21)) | DN21: =IF(CQ21="","",SUM(DL21,CQ21)) | DO21: =IF(CR21="","",SUM(DM21,CR21)) | ... EA21: =IF(DD21="","",SUM(DY21,DD21))
AI22: HEALTH CARE | AJ22: 36 | AK22: 1 | AL22: 28 | AM22: 84 | AN22: 10 | AO22: 10 | AP22: 9 | AQ22: 0.5 | AR22: 70 | AS22: 100 | AT22: 5 | AU22: 4 | AV22: 8 | AW22: 1 | AX22: 25 | AY22: 90 | AZ22: 10 | BA22: 10 | BB22: 10 | BC22: 70 | BD22: 100 | BE22: 6 | BF22: 8 | BG22: 4 | BH22: 7 | BI22: 15 | BJ22: 10 | BK22: 24 | BL22: 14 | BM22: 30 | BN22: 70 | BO22: 10 | BP22: 10 | BQ22: 10 | BR22: 33 | BS22: 18 | BT22: 60 | BU22: 30 | BV22: 24 | BW22: 44 | BX22: 30 | BY22: 24 | BZ22: 28 | CA22: 27 | CB22: 14 | CD22: c | CG22: =IF(CG$6="","",CG$6) | CI22: =IF(CI$6="","",CI$6) | CK22: =IF(CK$6="","",CK$6) | CM22: =IF(CM$6="","",CM$6) | CO22: =IF(CO$6="","",CO$6) | CQ22: =IF(CQ$6="","",CQ$6) | CS22: =IF(CS$6="","",CS$6) | CU22: =IF(CU$6="","",CU$6) | CW22: =IF(CW$6="","",CW$6) | CY22: =IF(CY$6="","",CY$6) | DA22: =IF(DA$6="","",DA$6) | DC22: =IF(DC$6="","",DC$6) | DF22: =IF(CI22="","",SUM(CG22,CI22)) | DG22: =IF(CJ22="","",SUM(CH22,CJ22)) | DH22: =IF(CK22="","",SUM(DF22,CK22)) | DI22: =IF(CL22="","",SUM(DG22,CL22)) | DJ22: =IF(CM22="","",SUM(DH22,CM22)) | DK22: =IF(CN22="","",SUM(DI22,CN22)) | DL22: =IF(CO22="","",SUM(DJ22,CO22)) | DM22: =IF(CP22="","",SUM(DK22,CP22)) | DN22: =IF(CQ22="","",SUM(DL22,CQ22)) | DO22: =IF(CR22="","",SUM(DM22,CR22)) | ... EA22: =IF(DD22="","",SUM(DY22,DD22))
AN23: 10 | AO23: 10 | AP23: 9 | AQ23: 0.5 | AR23: 70 | AS23: 100 | AT23: 5 | AU23: 4 | AV23: 8 | AW23: 1 | AX23: 25 | AY23: 90 | AZ23: 10 | BA23: 10 | BB23: 10 | BC23: 70 | BD23: 100 | BE23: 6 | BF23: 8 | BG23: 4 | BH23: 7 | BI23: 15 | BJ23: 10 | BK23: 24 | BL23: 14 | BM23: 30 | BN23: 70 | BO23: 10 | BP23: 10 | BQ23: 10 | BR23: 33 | BS23: 18 | BT23: 60 | BU23: 30 | BV23: 24 | BW23: 44 | BX23: 30 | BY23: 24 | BZ23: 28 | CA23: 27 | CB23: 14 | CD23: d | CG23: =IF(CG$6="","",CG$6) | CI23: =IF(CI$6="","",CI$6) | CK23: =IF(CK$6="","",CK$6) | CM23: =IF(CM$6="","",CM$6) | CO23: =IF(CO$6="","",CO$6) | CQ23: =IF(CQ$6="","",CQ$6) | CS23: =IF(CS$6="","",CS$6) | CU23: =IF(CU$6="","",CU$6) | CW23: =IF(CW$6="","",CW$6) | CY23: =IF(CY$6="","",CY$6) | DA23: =IF(DA$6="","",DA$6) | DC23: =IF(DC$6="","",DC$6) | DF23: =IF(CI23="","",SUM(CG23,CI23)) | DG23: =IF(CJ23="","",SUM(CH23,CJ23)) | DH23: =IF(CK23="","",SUM(DF23,CK23)) | DI23: =IF(CL23="","",SUM(DG23,CL23)) | DJ23: =IF(CM23="","",SUM(DH23,CM23)) | DK23: =IF(CN23="","",SUM(DI23,CN23)) | DL23: =IF(CO23="","",SUM(DJ23,CO23)) | DM23: =IF(CP23="","",SUM(DK23,CP23)) | DN23: =IF(CQ23="","",SUM(DL23,CQ23)) | DO23: =IF(CR23="","",SUM(DM23,CR23)) | ... EA23: =IF(DD23="","",SUM(DY23,DD23))
AN24: 10 | AO24: 10 | AP24: 9 | AQ24: 0.5 | AR24: 70 | AS24: 100 | AT24: 5 | AU24: 4 | AV24: 8 | AW24: 1 | AX24: 25 | AY24: 90 | AZ24: 10 | BA24: 10 | BB24: 10 | BC24: 70 | BD24: 100 | BE24: 6 | BF24: 8 | BG24: 4 | BH24: 7 | BI24: 15 | BJ24: 10 | BK24: 24 | BL24: 14 | BM24: 30 | BN24: 70 | BO24: 10 | BP24: 10 | BQ24: 10 | BR24: 33 | BS24: 18 | BT24: 60 | BU24: 30 | BV24: 24 | BW24: 44 | BX24: 30 | BY24: 24 | BZ24: 28 | CA24: 27 | CB24: 14 | CG24: =IF(CG$6="","",CG$6) | CI24: =IF(CI$6="","",CI$6) | CK24: =IF(CK$6="","",CK$6) | CM24: =IF(CM$6="","",CM$6) | CO24: =IF(CO$6="","",CO$6) | CQ24: =IF(CQ$6="","",CQ$6) | CS24: =IF(CS$6="","",CS$6) | CU24: =IF(CU$6="","",CU$6) | CW24: =IF(CW$6="","",CW$6) | CY24: =IF(CY$6="","",CY$6) | DA24: =IF(DA$6="","",DA$6) | DC24: =IF(DC$6="","",DC$6) | DF24: =IF(CI24="","",SUM(CG24,CI24)) | DG24: =IF(CJ24="","",SUM(CH24,CJ24)) | DH24: =IF(CK24="","",SUM(DF24,CK24)) | DI24: =IF(CL24="","",SUM(DG24,CL24)) | DJ24: =IF(CM24="","",SUM(DH24,CM24)) | DK24: =IF(CN24="","",SUM(DI24,CN24)) | DL24: =IF(CO24="","",SUM(DJ24,CO24)) | DM24: =IF(CP24="","",SUM(DK24,CP24)) | DN24: =IF(CQ24="","",SUM(DL24,CQ24)) | DO24: =IF(CR24="","",SUM(DM24,CR24)) | ... EA24: =IF(DD24="","",SUM(DY24,DD24))
AN25: 10 | AO25: 10 | AP25: 9 | AQ25: 0.5 | AR25: 70 | AS25: 100 | AT25: 5 | AU25: 4 | AV25: 8 | AW25: 1 | AX25: 25 | AY25: 90 | AZ25: 10 | BA25: 10 | BB25: 10 | BC25: 70 | BD25: 100 | BE25: 6 | BF25: 8 | BG25: 4 | BH25: 7 | BI25: 15 | BJ25: 10 | BK25: 24 | BL25: 14 | BM25: 30 | BN25: 70 | BO25: 10 | BP25: 10 | BQ25: 10 | BR25: 33 | BS25: 18 | BT25: 60 | BU25: 30 | BV25: 24 | BW25: 44 | BX25: 30 | BY25: 24 | BZ25: 28 | CA25: 27 | CB25: 14 | CD25: SANSKRIT | CG25: =IF(CG$6="","",CG$6) | CI25: =IF(CI$6="","",CI$6) | CK25: =IF(CK$6="","",CK$6) | CM25: =IF(CM$6="","",CM$6) | CO25: =IF(CO$6="","",CO$6) | CQ25: =IF(CQ$6="","",CQ$6) | CS25: =IF(CS$6="","",CS$6) | CU25: =IF(CU$6="","",CU$6) | CW25: =IF(CW$6="","",CW$6) | CY25: =IF(CY$6="","",CY$6) | DA25: =IF(DA$6="","",DA$6) | DC25: =IF(DC$6="","",DC$6) | DF25: =IF(CI25="","",SUM(CG25,CI25)) | DG25: =IF(CJ25="","",SUM(CH25,CJ25)) | DH25: =IF(CK25="","",SUM(DF25,CK25)) | DI25: =IF(CL25="","",SUM(DG25,CL25)) | DJ25: =IF(CM25="","",SUM(DH25,CM25)) | DK25: =IF(CN25="","",SUM(DI25,CN25)) | DL25: =IF(CO25="","",SUM(DJ25,CO25)) | DM25: =IF(CP25="","",SUM(DK25,CP25)) | DN25: =IF(CQ25="","",SUM(DL25,CQ25)) | DO25: =IF(CR25="","",SUM(DM25,CR25)) | ... EA25: =IF(DD25="","",SUM(DY25,DD25))
AN26: 10 | AO26: 10 | AP26: 9 | AQ26: 0.5 | AR26: 70 | AS26: 100 | AT26: 5 | AU26: 4 | AV26: 8 | AW26: 1 | AX26: 25 | AY26: 90 | AZ26: 10 | BA26: 10 | BB26: 10 | BC26: 70 | BD26: 100 | BE26: 6 | BF26: 8 | BG26: 4 | BH26: 7 | BI26: 15 | BJ26: 10 | BK26: 24 | BL26: 14 | BM26: 30 | BN26: 70 | BO26: 10 | BP26: 10 | BQ26: 10 | BR26: 33 | BS26: 18 | BT26: 60 | BU26: 30 | BV26: 24 | BW26: 44 | BX26: 30 | BY26: 24 | BZ26: 28 | CA26: 27 | CB26: 14 | CD26: URDU | CG26: =IF(CG$6="","",CG$6) | CI26: =IF(CI$6="","",CI$6) | CK26: =IF(CK$6="","",CK$6) | CM26: =IF(CM$6="","",CM$6) | CO26: =IF(CO$6="","",CO$6) | CQ26: =IF(CQ$6="","",CQ$6) | CS26: =IF(CS$6="","",CS$6) | CU26: =IF(CU$6="","",CU$6) | CW26: =IF(CW$6="","",CW$6) | CY26: =IF(CY$6="","",CY$6) | DA26: =IF(DA$6="","",DA$6) | DC26: =IF(DC$6="","",DC$6) | DF26: =IF(CI26="","",SUM(CG26,CI26)) | DG26: =IF(CJ26="","",SUM(CH26,CJ26)) | DH26: =IF(CK26="","",SUM(DF26,CK26)) | DI26: =IF(CL26="","",SUM(DG26,CL26)) | DJ26: =IF(CM26="","",SUM(DH26,CM26)) | DK26: =IF(CN26="","",SUM(DI26,CN26)) | DL26: =IF(CO26="","",SUM(DJ26,CO26)) | DM26: =IF(CP26="","",SUM(DK26,CP26)) | DN26: =IF(CQ26="","",SUM(DL26,CQ26)) | DO26: =IF(CR26="","",SUM(DM26,CR26)) | ... EA26: =IF(DD26="","",SUM(DY26,DD26))
AI27: BEAUTY AND HEALTH | AJ27: 34 | AK27: 1 | AL27: 26 | AM27: 84 | AN27: 10 | AO27: 10 | AP27: 9 | AQ27: 0.5 | AR27: 70 | AS27: 100 | AT27: 5 | AU27: 4 | AV27: 8 | AW27: 1 | AX27: 25 | AY27: 90 | AZ27: 10 | BA27: 10 | BB27: 10 | BC27: 70 | BD27: 100 | BE27: 6 | BF27: 8 | BG27: 4 | BH27: 7 | BI27: 15 | BJ27: 10 | BK27: 24 | BL27: 14 | BM27: 30 | BN27: 70 | BO27: 10 | BP27: 10 | BQ27: 10 | BR27: 33 | BS27: 18 | BT27: 60 | BU27: 30 | BV27: 24 | BW27: 44 | BX27: 30 | BY27: 24 | BZ27: 28 | CA27: 27 | CB27: 14 | CD27: GUJRATI | CG27: =IF(CG$6="","",CG$6) | CI27: =IF(CI$6="","",CI$6) | CK27: =IF(CK$6="","",CK$6) | CM27: =IF(CM$6="","",CM$6) | CO27: =IF(CO$6="","",CO$6) | CQ27: =IF(CQ$6="","",CQ$6) | CS27: =IF(CS$6="","",CS$6) | CU27: =IF(CU$6="","",CU$6) | CW27: =IF(CW$6="","",CW$6) | CY27: =IF(CY$6="","",CY$6) | DA27: =IF(DA$6="","",DA$6) | DC27: =IF(DC$6="","",DC$6) | DF27: =IF(CI27="","",SUM(CG27,CI27)) | DG27: =IF(CJ27="","",SUM(CH27,CJ27)) | DH27: =IF(CK27="","",SUM(DF27,CK27)) | DI27: =IF(CL27="","",SUM(DG27,CL27)) | DJ27: =IF(CM27="","",SUM(DH27,CM27)) | DK27: =IF(CN27="","",SUM(DI27,CN27)) | DL27: =IF(CO27="","",SUM(DJ27,CO27)) | DM27: =IF(CP27="","",SUM(DK27,CP27)) | DN27: =IF(CQ27="","",SUM(DL27,CQ27)) | DO27: =IF(CR27="","",SUM(DM27,CR27)) | ... EA27: =IF(DD27="","",SUM(DY27,DD27))
AN28: 10 | AO28: 10 | AP28: 9 | AQ28: 0.5 | AR28: 70 | AS28: 100 | AT28: 5 | AU28: 4 | AV28: 8 | AW28: 1 | AX28: 25 | AY28: 90 | AZ28: 10 | BA28: 10 | BB28: 10 | BC28: 70 | BD28: 100 | BE28: 6 | BF28: 8 | BG28: 4 | BH28: 7 | BI28: 15 | BJ28: 10 | BK28: 24 | BL28: 14 | BM28: 30 | BN28: 70 | BO28: 10 | BP28: 10 | BQ28: 10 | BR28: 33 | BS28: 18 | BT28: 60 | BU28: 30 | BV28: 24 | BW28: 44 | BX28: 30 | BY28: 24 | BZ28: 28 | CA28: 27 | CB28: 14 | CD28: PUNJABI | CG28: =IF(CG$6="","",CG$6) | CI28: =IF(CI$6="","",CI$6) | CK28: =IF(CK$6="","",CK$6) | CM28: =IF(CM$6="","",CM$6) | CO28: =IF(CO$6="","",CO$6) | CQ28: =IF(CQ$6="","",CQ$6) | CS28: =IF(CS$6="","",CS$6) | CU28: =IF(CU$6="","",CU$6) | CW28: =IF(CW$6="","",CW$6) | CY28: =IF(CY$6="","",CY$6) | DA28: =IF(DA$6="","",DA$6) | DC28: =IF(DC$6="","",DC$6) | DF28: =IF(CI28="","",SUM(CG28,CI28)) | DG28: =IF(CJ28="","",SUM(CH28,CJ28)) | DH28: =IF(CK28="","",SUM(DF28,CK28)) | DI28: =IF(CL28="","",SUM(DG28,CL28)) | DJ28: =IF(CM28="","",SUM(DH28,CM28)) | DK28: =IF(CN28="","",SUM(DI28,CN28)) | DL28: =IF(CO28="","",SUM(DJ28,CO28)) | DM28: =IF(CP28="","",SUM(DK28,CP28)) | DN28: =IF(CQ28="","",SUM(DL28,CQ28)) | DO28: =IF(CR28="","",SUM(DM28,CR28)) | ... EA28: =IF(DD28="","",SUM(DY28,DD28))
AN29: 10 | AO29: 10 | AP29: 9 | AQ29: 0.5 | AR29: 70 | AS29: 100 | AT29: 5 | AU29: 4 | AV29: 8 | AW29: 1 | AX29: 25 | AY29: 90 | AZ29: 10 | BA29: 10 | BB29: 10 | BC29: 70 | BD29: 100 | BE29: 6 | BF29: 8 | BG29: 4 | BH29: 7 | BI29: 15 | BJ29: 10 | BK29: 24 | BL29: 14 | BM29: 30 | BN29: 70 | BO29: 10 | BP29: 10 | BQ29: 10 | BR29: 33 | BS29: 18 | BT29: 60 | BU29: 30 | BV29: 24 | BW29: 44 | BX29: 30 | BY29: 24 | BZ29: 28 | CA29: 27 | CB29: 14 | CD29: SINDHI | CG29: =IF(CG$6="","",CG$6) | CI29: =IF(CI$6="","",CI$6) | CK29: =IF(CK$6="","",CK$6) | CM29: =IF(CM$6="","",CM$6) | CO29: =IF(CO$6="","",CO$6) | CQ29: =IF(CQ$6="","",CQ$6) | CS29: =IF(CS$6="","",CS$6) | CU29: =IF(CU$6="","",CU$6) | CW29: =IF(CW$6="","",CW$6) | CY29: =IF(CY$6="","",CY$6) | DA29: =IF(DA$6="","",DA$6) | DC29: =IF(DC$6="","",DC$6) | DF29: =IF(CI29="","",SUM(CG29,CI29)) | DG29: =IF(CJ29="","",SUM(CH29,CJ29)) | DH29: =IF(CK29="","",SUM(DF29,CK29)) | DI29: =IF(CL29="","",SUM(DG29,CL29)) | DJ29: =IF(CM29="","",SUM(DH29,CM29)) | DK29: =IF(CN29="","",SUM(DI29,CN29)) | DL29: =IF(CO29="","",SUM(DJ29,CO29)) | DM29: =IF(CP29="","",SUM(DK29,CP29)) | DN29: =IF(CQ29="","",SUM(DL29,CQ29)) | DO29: =IF(CR29="","",SUM(DM29,CR29)) | ... EA29: =IF(DD29="","",SUM(DY29,DD29))
AI30: HEALTH CARE | AJ30: 34 | AK30: 1 | AL30: 26 | AM30: 84 | AN30: 10 | AO30: 10 | AP30: 9 | AQ30: 0.5 | AR30: 70 | AS30: 100 | AT30: 5 | AU30: 4 | AV30: 8 | AW30: 1 | AX30: 25 | AY30: 90 | AZ30: 10 | BA30: 10 | BB30: 10 | BC30: 70 | BD30: 100 | BE30: 6 | BF30: 8 | BG30: 4 | BH30: 7 | BI30: 15 | BJ30: 10 | BK30: 24 | BL30: 14 | BM30: 30 | BN30: 70 | BO30: 10 | BP30: 10 | BQ30: 10 | BR30: 33 | BS30: 18 | BT30: 60 | BU30: 30 | BV30: 24 | BW30: 44 | BX30: 30 | BY30: 24 | BZ30: 28 | CA30: 27 | CB30: 14 | CG30: =IF(CG$6="","",CG$6) | CI30: =IF(CI$6="","",CI$6) | CK30: =IF(CK$6="","",CK$6) | CM30: =IF(CM$6="","",CM$6) | CO30: =IF(CO$6="","",CO$6) | CQ30: =IF(CQ$6="","",CQ$6) | CS30: =IF(CS$6="","",CS$6) | CU30: =IF(CU$6="","",CU$6) | CW30: =IF(CW$6="","",CW$6) | CY30: =IF(CY$6="","",CY$6) | DA30: =IF(DA$6="","",DA$6) | DC30: =IF(DC$6="","",DC$6) | DF30: =IF(CI30="","",SUM(CG30,CI30)) | DG30: =IF(CJ30="","",SUM(CH30,CJ30)) | DH30: =IF(CK30="","",SUM(DF30,CK30)) | DI30: =IF(CL30="","",SUM(DG30,CL30)) | DJ30: =IF(CM30="","",SUM(DH30,CM30)) | DK30: =IF(CN30="","",SUM(DI30,CN30)) | DL30: =IF(CO30="","",SUM(DJ30,CO30)) | DM30: =IF(CP30="","",SUM(DK30,CP30)) | DN30: =IF(CQ30="","",SUM(DL30,CQ30)) | DO30: =IF(CR30="","",SUM(DM30,CR30)) | ... EA30: =IF(DD30="","",SUM(DY30,DD30))
AI31: HEALTH CARE | AJ31: 36 | AK31: 1 | AL31: 40 | AM31: 92 | AN31: 10 | AO31: 10 | AP31: 9 | AQ31: 0.5 | AR31: 70 | AS31: 100 | AT31: 5 | AU31: 4 | AV31: 8 | AW31: 1 | AX31: 25 | AY31: 90 | AZ31: 10 | BA31: 10 | BB31: 10 | BC31: 70 | BD31: 100 | BE31: 6 | BF31: 8 | BG31: 4 | BH31: 7 | BI31: 15 | BJ31: 10 | BK31: 24 | BL31: 14 | BM31: 30 | BN31: 70 | BO31: 10 | BP31: 10 | BQ31: 10 | BR31: 33 | BS31: 18 | BT31: 60 | BU31: 30 | BV31: 24 | BW31: 44 | BX31: 30 | BY31: 24 | BZ31: 28 | CA31: 27 | CB31: 14 | CG31: =IF(CG$6="","",CG$6) | CI31: =IF(CI$6="","",CI$6) | CK31: =IF(CK$6="","",CK$6) | CM31: =IF(CM$6="","",CM$6) | CO31: =IF(CO$6="","",CO$6) | CQ31: =IF(CQ$6="","",CQ$6) | CS31: =IF(CS$6="","",CS$6) | CU31: =IF(CU$6="","",CU$6) | CW31: =IF(CW$6="","",CW$6) | CY31: =IF(CY$6="","",CY$6) | DA31: =IF(DA$6="","",DA$6) | DC31: =IF(DC$6="","",DC$6) | DF31: =IF(CI31="","",SUM(CG31,CI31)) | DG31: =IF(CJ31="","",SUM(CH31,CJ31)) | DH31: =IF(CK31="","",SUM(DF31,CK31)) | DI31: =IF(CL31="","",SUM(DG31,CL31)) | DJ31: =IF(CM31="","",SUM(DH31,CM31)) | DK31: =IF(CN31="","",SUM(DI31,CN31)) | DL31: =IF(CO31="","",SUM(DJ31,CO31)) | DM31: =IF(CP31="","",SUM(DK31,CP31)) | DN31: =IF(CQ31="","",SUM(DL31,CQ31)) | DO31: =IF(CR31="","",SUM(DM31,CR31)) | ... EA31: =IF(DD31="","",SUM(DY31,DD31))
AI32: HEALTH CARE | AJ32: 36 | AK32: 1 | AL32: 28 | AM32: 84 | AN32: 10 | AO32: 10 | AP32: 9 | AQ32: 0.5 | AR32: 70 | AS32: 100 | AT32: 5 | AU32: 4 | AV32: 8 | AW32: 1 | AX32: 25 | AY32: 90 | AZ32: 10 | BA32: 10 | BB32: 10 | BC32: 70 | BD32: 100 | BE32: 6 | BF32: 8 | BG32: 4 | BH32: 7 | BI32: 15 | BJ32: 10 | BK32: 24 | BL32: 14 | BM32: 30 | BN32: 70 | BO32: 10 | BP32: 10 | BQ32: 10 | BR32: 33 | BS32: 18 | BT32: 60 | BU32: 30 | BV32: 24 | BW32: 44 | BX32: 30 | BY32: 24 | BZ32: 28 | CA32: 27 | CB32: 14 | CD32: AUTOMOBILE | CG32: =IF(CG$6="","",CG$6) | CI32: =IF(CI$6="","",CI$6) | CK32: =IF(CK$6="","",CK$6) | CM32: =IF(CM$6="","",CM$6) | CO32: =IF(CO$6="","",CO$6) | CQ32: =IF(CQ$6="","",CQ$6) | CS32: =IF(CS$6="","",CS$6) | CU32: =IF(CU$6="","",CU$6) | CW32: =IF(CW$6="","",CW$6) | CY32: =IF(CY$6="","",CY$6) | DA32: =IF(DA$6="","",DA$6) | DC32: =IF(DC$6="","",DC$6) | DF32: =IF(CI32="","",SUM(CG32,CI32)) | DG32: =IF(CJ32="","",SUM(CH32,CJ32)) | DH32: =IF(CK32="","",SUM(DF32,CK32)) | DI32: =IF(CL32="","",SUM(DG32,CL32)) | DJ32: =IF(CM32="","",SUM(DH32,CM32)) | DK32: =IF(CN32="","",SUM(DI32,CN32)) | DL32: =IF(CO32="","",SUM(DJ32,CO32)) | DM32: =IF(CP32="","",SUM(DK32,CP32)) | DN32: =IF(CQ32="","",SUM(DL32,CQ32)) | DO32: =IF(CR32="","",SUM(DM32,CR32)) | ... EA32: =IF(DD32="","",SUM(DY32,DD32))
AN33: 10 | AO33: 10 | AP33: 9 | AQ33: 0.5 | AR33: 70 | AS33: 100 | AT33: 5 | AU33: 4 | AV33: 8 | AW33: 1 | AX33: 25 | AY33: 90 | AZ33: 10 | BA33: 10 | BB33: 10 | BC33: 70 | BD33: 100 | BE33: 6 | BF33: 8 | BG33: 4 | BH33: 7 | BI33: 15 | BJ33: 10 | BK33: 24 | BL33: 14 | BM33: 30 | BN33: 70 | BO33: 10 | BP33: 10 | BQ33: 10 | BR33: 33 | BS33: 18 | BT33: 60 | BU33: 30 | BV33: 24 | BW33: 44 | BX33: 30 | BY33: 24 | BZ33: 28 | CA33: 27 | CB33: 14 | CD33: BEAUTY AND HEALTH | CG33: =IF(CG$6="","",CG$6) | CI33: =IF(CI$6="","",CI$6) | CK33: =IF(CK$6="","",CK$6) | CM33: =IF(CM$6="","",CM$6) | CO33: =IF(CO$6="","",CO$6) | CQ33: =IF(CQ$6="","",CQ$6) | CS33: =IF(CS$6="","",CS$6) | CU33: =IF(CU$6="","",CU$6) | CW33: =IF(CW$6="","",CW$6) | CY33: =IF(CY$6="","",CY$6) | DA33: =IF(DA$6="","",DA$6) | DC33: =IF(DC$6="","",DC$6) | DF33: =IF(CI33="","",SUM(CG33,CI33)) | DG33: =IF(CJ33="","",SUM(CH33,CJ33)) | DH33: =IF(CK33="","",SUM(DF33,CK33)) | DI33: =IF(CL33="","",SUM(DG33,CL33)) | DJ33: =IF(CM33="","",SUM(DH33,CM33)) | DK33: =IF(CN33="","",SUM(DI33,CN33)) | DL33: =IF(CO33="","",SUM(DJ33,CO33)) | DM33: =IF(CP33="","",SUM(DK33,CP33)) | DN33: =IF(CQ33="","",SUM(DL33,CQ33)) | DO33: =IF(CR33="","",SUM(DM33,CR33)) | ... EA33: =IF(DD33="","",SUM(DY33,DD33))
AN34: 10 | AO34: 10 | AP34: 9 | AQ34: 0.5 | AR34: 70 | AS34: 100 | AT34: 5 | AU34: 4 | AV34: 8 | AW34: 1 | AX34: 25 | AY34: 90 | AZ34: 10 | BA34: 10 | BB34: 10 | BC34: 70 | BD34: 100 | BE34: 6 | BF34: 8 | BG34: 4 | BH34: 7 | BI34: 15 | BJ34: 10 | BK34: 24 | BL34: 14 | BM34: 30 | BN34: 70 | BO34: 10 | BP34: 10 | BQ34: 10 | BR34: 33 | BS34: 18 | BT34: 60 | BU34: 30 | BV34: 24 | BW34: 44 | BX34: 30 | BY34: 24 | BZ34: 28 | CA34: 27 | CB34: 14 | CD34: DRESS DESIGNING AND HOME DECORATION | CG34: =IF(CG$6="","",CG$6) | CI34: =IF(CI$6="","",CI$6) | CK34: =IF(CK$6="","",CK$6) | CM34: =IF(CM$6="","",CM$6) | CO34: =IF(CO$6="","",CO$6) | CQ34: =IF(CQ$6="","",CQ$6) | CS34: =IF(CS$6="","",CS$6) | CU34: =IF(CU$6="","",CU$6) | CW34: =IF(CW$6="","",CW$6) | CY34: =IF(CY$6="","",CY$6) | DA34: =IF(DA$6="","",DA$6) | DC34: =IF(DC$6="","",DC$6) | DF34: =IF(CI34="","",SUM(CG34,CI34)) | DG34: =IF(CJ34="","",SUM(CH34,CJ34)) | DH34: =IF(CK34="","",SUM(DF34,CK34)) | DI34: =IF(CL34="","",SUM(DG34,CL34)) | DJ34: =IF(CM34="","",SUM(DH34,CM34)) | DK34: =IF(CN34="","",SUM(DI34,CN34)) | DL34: =IF(CO34="","",SUM(DJ34,CO34)) | DM34: =IF(CP34="","",SUM(DK34,CP34)) | DN34: =IF(CQ34="","",SUM(DL34,CQ34)) | DO34: =IF(CR34="","",SUM(DM34,CR34)) | ... EA34: =IF(DD34="","",SUM(DY34,DD34))
AN35: 10 | AO35: 10 | AP35: 9 | AQ35: 0.5 | AR35: 70 | AS35: 100 | AT35: 5 | AU35: 4 | AV35: 8 | AW35: 1 | AX35: 25 | AY35: 90 | AZ35: 10 | BA35: 10 | BB35: 10 | BC35: 70 | BD35: 100 | BE35: 6 | BF35: 8 | BG35: 4 | BH35: 7 | BI35: 15 | BJ35: 10 | BK35: 24 | BL35: 14 | BM35: 30 | BN35: 70 | BO35: 10 | BP35: 10 | BQ35: 10 | BR35: 33 | BS35: 18 | BT35: 60 | BU35: 30 | BV35: 24 | BW35: 44 | BX35: 30 | BY35: 24 | BZ35: 28 | CA35: 27 | CB35: 14 | CD35: ELECTRICALS AND ELECTRONICS | CG35: =IF(CG$6="","",CG$6) | CI35: =IF(CI$6="","",CI$6) | CK35: =IF(CK$6="","",CK$6) | CM35: =IF(CM$6="","",CM$6) | CO35: =IF(CO$6="","",CO$6) | CQ35: =IF(CQ$6="","",CQ$6) | CS35: =IF(CS$6="","",CS$6) | CU35: =IF(CU$6="","",CU$6) | CW35: =IF(CW$6="","",CW$6) | CY35: =IF(CY$6="","",CY$6) | DA35: =IF(DA$6="","",DA$6) | DC35: =IF(DC$6="","",DC$6) | DF35: =IF(CI35="","",SUM(CG35,CI35)) | DG35: =IF(CJ35="","",SUM(CH35,CJ35)) | DH35: =IF(CK35="","",SUM(DF35,CK35)) | DI35: =IF(CL35="","",SUM(DG35,CL35)) | DJ35: =IF(CM35="","",SUM(DH35,CM35)) | DK35: =IF(CN35="","",SUM(DI35,CN35)) | DL35: =IF(CO35="","",SUM(DJ35,CO35)) | DM35: =IF(CP35="","",SUM(DK35,CP35)) | DN35: =IF(CQ35="","",SUM(DL35,CQ35)) | DO35: =IF(CR35="","",SUM(DM35,CR35)) | ... EA35: =IF(DD35="","",SUM(DY35,DD35))
AN36: 10 | AO36: 10 | AP36: 9 | AQ36: 0.5 | AR36: 70 | AS36: 100 | AT36: 5 | AU36: 4 | AV36: 8 | AW36: 1 | AX36: 25 | AY36: 90 | AZ36: 10 | BA36: 10 | BB36: 10 | BC36: 70 | BD36: 100 | BE36: 6 | BF36: 8 | BG36: 4 | BH36: 7 | BI36: 15 | BJ36: 10 | BK36: 24 | BL36: 14 | BM36: 30 | BN36: 70 | BO36: 10 | BP36: 10 | BQ36: 10 | BR36: 33 | BS36: 18 | BT36: 60 | BU36: 30 | BV36: 24 | BW36: 44 | BX36: 30 | BY36: 24 | BZ36: 28 | CA36: 27 | CB36: 14 | CD36: HEALTH CARE | CG36: =IF(CG$6="","",CG$6) | CI36: =IF(CI$6="","",CI$6) | CK36: =IF(CK$6="","",CK$6) | CM36: =IF(CM$6="","",CM$6) | CO36: =IF(CO$6="","",CO$6) | CQ36: =IF(CQ$6="","",CQ$6) | CS36: =IF(CS$6="","",CS$6) | CU36: =IF(CU$6="","",CU$6) | CW36: =IF(CW$6="","",CW$6) | CY36: =IF(CY$6="","",CY$6) | DA36: =IF(DA$6="","",DA$6) | DC36: =IF(DC$6="","",DC$6) | DF36: =IF(CI36="","",SUM(CG36,CI36)) | DG36: =IF(CJ36="","",SUM(CH36,CJ36)) | DH36: =IF(CK36="","",SUM(DF36,CK36)) | DI36: =IF(CL36="","",SUM(DG36,CL36)) | DJ36: =IF(CM36="","",SUM(DH36,CM36)) | DK36: =IF(CN36="","",SUM(DI36,CN36)) | DL36: =IF(CO36="","",SUM(DJ36,CO36)) | DM36: =IF(CP36="","",SUM(DK36,CP36)) | DN36: =IF(CQ36="","",SUM(DL36,CQ36)) | DO36: =IF(CR36="","",SUM(DM36,CR36)) | ... EA36: =IF(DD36="","",SUM(DY36,DD36))
AN37: 10 | AO37: 10 | AP37: 9 | AQ37: 0.5 | AR37: 70 | AS37: 100 | AT37: 5 | AU37: 4 | AV37: 8 | AW37: 1 | AX37: 25 | AY37: 90 | AZ37: 10 | BA37: 10 | BB37: 10 | BC37: 70 | BD37: 100 | BE37: 6 | BF37: 8 | BG37: 4 | BH37: 7 | BI37: 15 | BJ37: 10 | BK37: 24 | BL37: 14 | BM37: 30 | BN37: 70 | BO37: 10 | BP37: 10 | BQ37: 10 | BR37: 33 | BS37: 18 | BT37: 60 | BU37: 30 | BV37: 24 | BW37: 44 | BX37: 30 | BY37: 24 | BZ37: 28 | CA37: 27 | CB37: 14 | CD37: INFORMATION TECHNOLOGY Ites | CG37: =IF(CG$6="","",CG$6) | CI37: =IF(CI$6="","",CI$6) | CK37: =IF(CK$6="","",CK$6) | CM37: =IF(CM$6="","",CM$6) | CO37: =IF(CO$6="","",CO$6) | CQ37: =IF(CQ$6="","",CQ$6) | CS37: =IF(CS$6="","",CS$6) | CU37: =IF(CU$6="","",CU$6) | CW37: =IF(CW$6="","",CW$6) | CY37: =IF(CY$6="","",CY$6) | DA37: =IF(DA$6="","",DA$6) | DC37: =IF(DC$6="","",DC$6) | DF37: =IF(CI37="","",SUM(CG37,CI37)) | DG37: =IF(CJ37="","",SUM(CH37,CJ37)) | DH37: =IF(CK37="","",SUM(DF37,CK37)) | DI37: =IF(CL37="","",SUM(DG37,CL37)) | DJ37: =IF(CM37="","",SUM(DH37,CM37)) | DK37: =IF(CN37="","",SUM(DI37,CN37)) | DL37: =IF(CO37="","",SUM(DJ37,CO37)) | DM37: =IF(CP37="","",SUM(DK37,CP37)) | DN37: =IF(CQ37="","",SUM(DL37,CQ37)) | DO37: =IF(CR37="","",SUM(DM37,CR37)) | ... EA37: =IF(DD37="","",SUM(DY37,DD37))
AN38: 10 | AO38: 10 | AP38: 9 | AQ38: 0.5 | AR38: 70 | AS38: 100 | AT38: 5 | AU38: 4 | AV38: 8 | AW38: 1 | AX38: 25 | AY38: 90 | AZ38: 10 | BA38: 10 | BB38: 10 | BC38: 70 | BD38: 100 | BE38: 6 | BF38: 8 | BG38: 4 | BH38: 7 | BI38: 15 | BJ38: 10 | BK38: 24 | BL38: 14 | BM38: 30 | BN38: 70 | BO38: 10 | BP38: 10 | BQ38: 10 | BR38: 33 | BS38: 18 | BT38: 60 | BU38: 30 | BV38: 24 | BW38: 44 | BX38: 30 | BY38: 24 | BZ38: 28 | CA38: 27 | CB38: 14 | CD38: MICRO IRRIGATION SYSTEM | CG38: =IF(CG$6="","",CG$6) | CI38: =IF(CI$6="","",CI$6) | CK38: =IF(CK$6="","",CK$6) | CM38: =IF(CM$6="","",CM$6) | CO38: =IF(CO$6="","",CO$6) | CQ38: =IF(CQ$6="","",CQ$6) | CS38: =IF(CS$6="","",CS$6) | CU38: =IF(CU$6="","",CU$6) | CW38: =IF(CW$6="","",CW$6) | CY38: =IF(CY$6="","",CY$6) | DA38: =IF(DA$6="","",DA$6) | DC38: =IF(DC$6="","",DC$6) | DF38: =IF(CI38="","",SUM(CG38,CI38)) | DG38: =IF(CJ38="","",SUM(CH38,CJ38)) | DH38: =IF(CK38="","",SUM(DF38,CK38)) | DI38: =IF(CL38="","",SUM(DG38,CL38)) | DJ38: =IF(CM38="","",SUM(DH38,CM38)) | DK38: =IF(CN38="","",SUM(DI38,CN38)) | DL38: =IF(CO38="","",SUM(DJ38,CO38)) | DM38: =IF(CP38="","",SUM(DK38,CP38)) | DN38: =IF(CQ38="","",SUM(DL38,CQ38)) | DO38: =IF(CR38="","",SUM(DM38,CR38)) | ... EA38: =IF(DD38="","",SUM(DY38,DD38))
AN39: 10 | AO39: 10 | AP39: 9 | AQ39: 0.5 | AR39: 70 | AS39: 100 | AT39: 5 | AU39: 4 | AV39: 8 | AW39: 1 | AX39: 25 | AY39: 90 | AZ39: 10 | BA39: 10 | BB39: 10 | BC39: 70 | BD39: 100 | BE39: 6 | BF39: 8 | BG39: 4 | BH39: 7 | BI39: 15 | BJ39: 10 | BK39: 24 | BL39: 14 | BM39: 30 | BN39: 70 | BO39: 10 | BP39: 10 | BQ39: 10 | BR39: 33 | BS39: 18 | BT39: 60 | BU39: 30 | BV39: 24 | BW39: 44 | BX39: 30 | BY39: 24 | BZ39: 28 | CA39: 27 | CB39: 14 | CD39: PERSONAL SECURITY | CG39: =IF(CG$6="","",CG$6) | CI39: =IF(CI$6="","",CI$6) | CK39: =IF(CK$6="","",CK$6) | CM39: =IF(CM$6="","",CM$6) | CO39: =IF(CO$6="","",CO$6) | CQ39: =IF(CQ$6="","",CQ$6) | CS39: =IF(CS$6="","",CS$6) | CU39: =IF(CU$6="","",CU$6) | CW39: =IF(CW$6="","",CW$6) | CY39: =IF(CY$6="","",CY$6) | DA39: =IF(DA$6="","",DA$6) | DC39: =IF(DC$6="","",DC$6) | DF39: =IF(CI39="","",SUM(CG39,CI39)) | DG39: =IF(CJ39="","",SUM(CH39,CJ39)) | DH39: =IF(CK39="","",SUM(DF39,CK39)) | DI39: =IF(CL39="","",SUM(DG39,CL39)) | DJ39: =IF(CM39="","",SUM(DH39,CM39)) | DK39: =IF(CN39="","",SUM(DI39,CN39)) | DL39: =IF(CO39="","",SUM(DJ39,CO39)) | DM39: =IF(CP39="","",SUM(DK39,CP39)) | DN39: =IF(CQ39="","",SUM(DL39,CQ39)) | DO39: =IF(CR39="","",SUM(DM39,CR39)) | ... EA39: =IF(DD39="","",SUM(DY39,DD39))
AN40: 10 | AO40: 10 | AP40: 9 | AQ40: 0.5 | AR40: 70 | AS40: 100 | AT40: 5 | AU40: 4 | AV40: 8 | AW40: 1 | AX40: 25 | AY40: 90 | AZ40: 10 | BA40: 10 | BB40: 10 | BC40: 70 | BD40: 100 | BE40: 6 | BF40: 8 | BG40: 4 | BH40: 7 | BI40: 15 | BJ40: 10 | BK40: 24 | BL40: 14 | BM40: 30 | BN40: 70 | BO40: 10 | BP40: 10 | BQ40: 10 | BR40: 33 | BS40: 18 | BT40: 60 | BU40: 30 | BV40: 24 | BW40: 44 | BX40: 30 | BY40: 24 | BZ40: 28 | CA40: 27 | CB40: 14 | CD40: RETAIL SALE | CG40: =IF(CG$6="","",CG$6) | CI40: =IF(CI$6="","",CI$6) | CK40: =IF(CK$6="","",CK$6) | CM40: =IF(CM$6="","",CM$6) | CO40: =IF(CO$6="","",CO$6) | CQ40: =IF(CQ$6="","",CQ$6) | CS40: =IF(CS$6="","",CS$6) | CU40: =IF(CU$6="","",CU$6) | CW40: =IF(CW$6="","",CW$6) | CY40: =IF(CY$6="","",CY$6) | DA40: =IF(DA$6="","",DA$6) | DC40: =IF(DC$6="","",DC$6) | DF40: =IF(CI40="","",SUM(CG40,CI40)) | DG40: =IF(CJ40="","",SUM(CH40,CJ40)) | DH40: =IF(CK40="","",SUM(DF40,CK40)) | DI40: =IF(CL40="","",SUM(DG40,CL40)) | DJ40: =IF(CM40="","",SUM(DH40,CM40)) | DK40: =IF(CN40="","",SUM(DI40,CN40)) | DL40: =IF(CO40="","",SUM(DJ40,CO40)) | DM40: =IF(CP40="","",SUM(DK40,CP40)) | DN40: =IF(CQ40="","",SUM(DL40,CQ40)) | DO40: =IF(CR40="","",SUM(DM40,CR40)) | ... EA40: =IF(DD40="","",SUM(DY40,DD40))
AN41: 10 | AO41: 10 | AP41: 9 | AQ41: 0.5 | AR41: 70 | AS41: 100 | AT41: 5 | AU41: 4 | AV41: 8 | AW41: 1 | AX41: 25 | AY41: 90 | AZ41: 10 | BA41: 10 | BB41: 10 | BC41: 70 | BD41: 100 | BE41: 6 | BF41: 8 | BG41: 4 | BH41: 7 | BI41: 15 | BJ41: 10 | BK41: 24 | BL41: 14 | BM41: 30 | BN41: 70 | BO41: 10 | BP41: 10 | BQ41: 10 | BR41: 33 | BS41: 18 | BT41: 60 | BU41: 30 | BV41: 24 | BW41: 44 | BX41: 30 | BY41: 24 | BZ41: 28 | CA41: 27 | CB41: 14 | CD41: TOURISM AND TRAVEL | CG41: =IF(CG$6="","",CG$6) | CI41: =IF(CI$6="","",CI$6) | CK41: =IF(CK$6="","",CK$6) | CM41: =IF(CM$6="","",CM$6) | CO41: =IF(CO$6="","",CO$6) | CQ41: =IF(CQ$6="","",CQ$6) | CS41: =IF(CS$6="","",CS$6) | CU41: =IF(CU$6="","",CU$6) | CW41: =IF(CW$6="","",CW$6) | CY41: =IF(CY$6="","",CY$6) | DA41: =IF(DA$6="","",DA$6) | DC41: =IF(DC$6="","",DC$6) | DF41: =IF(CI41="","",SUM(CG41,CI41)) | DG41: =IF(CJ41="","",SUM(CH41,CJ41)) | DH41: =IF(CK41="","",SUM(DF41,CK41)) | DI41: =IF(CL41="","",SUM(DG41,CL41)) | DJ41: =IF(CM41="","",SUM(DH41,CM41)) | DK41: =IF(CN41="","",SUM(DI41,CN41)) | DL41: =IF(CO41="","",SUM(DJ41,CO41)) | DM41: =IF(CP41="","",SUM(DK41,CP41)) | DN41: =IF(CQ41="","",SUM(DL41,CQ41)) | DO41: =IF(CR41="","",SUM(DM41,CR41)) | ... EA41: =IF(DD41="","",SUM(DY41,DD41))
...

Sheet statement of marks
A2: =details!A1 -> Govt. Higher Secondary School, XYZ | AX2: =details!G3 -> RESULT SHEET | DR2: =A2 -> Govt. Higher Secondary School, XYZ | GE2: =AX2 -> RESULT SHEET | HN2: ATTENDANCE | HY2: VRUKSHAROPAN TOTAL MARKS
A3: =details!G6 -> 9 'A' | F3: =details!H6 -> 2024-25 | J3: =details!J1 -> HINDI | Y3: =details!P1 -> ENGLISH | AN3: =details!V1 -> THIRD LANGUAGE | BE3: =details!AC1 -> SCIENCE | BT3: =details!AI1 -> VOCATIONAL EDUCATION | CC3: =details!AN1 -> SOCIAL SCIENCE | CL3: =CONCATENATE(CC3,"/",BT3) -> SOCIAL SCIENCE/ VOCATIONAL EDUCATION | CZ3: =details!AT1 -> MATHEMATICS | DO3: TOTAL EXEMPTION | DP3: RESULT | DS3: =details!AZ1 -> RAJASTHAN KA SWARNIM ITIHAS | EG3: =details!BE1 -> PH. AND HEALTH EDU. | FJ3: =details!BO1 -> FOUNDATION OF IT | GE3: =details!BV1 -> S.U.P.W. | GN3: =details!BY1 -> ART EDU. | GX3: SUBJECT-WISE RESULT | HD3: ADDITIONAL SUBJECTS | HE3: SUBJECTS OF FAILURE | HF3: SUBJECTS FOR SUPPL. | HG3: SUBJECTS FOR G1 | HH3: SUBJECTS FOR G2 | HI3: SUBJECTS FOR RE-EXAM. | HK3: RESULT | HZ3: RESULT | JB3: BACK TO DETAILS
