Workbook
Name BP17DL7: 'statement of marks'!$BT$17
Name IK: 'statement of marks'!$I$126

Sheet from the developer's desk
A1: Please Read This Ammendment Carefully 04/04/2020
A2: This workbook will be useful from sessin 2022-23
A3: There is a change in marking scheme for Supplementary exam. After 18th March 2020. Now you need to enter the supplementary exam. theory marks in such a way that when the total practical marks for the year ( half yearly + annual) is added to the theory marks, the subject total should come to 200 where as in case of re-exam. the the theory marks should be so adjusted that when added to annual (only annual) practical marks, the total shoudl come to 100.
A4: The marks for supplementary exam. theory should be entered in the sheet named 'result subject-wise' where as the marks for re-exam. theory should be entered in the sheet named 'details' because re-exam. is the first attempt for a student who has been granted permission due to special cicumstances. And note that there is no suppl. for practical exam.
A5: पूरक परीक्षा के सैद्धांतिक प्रश्न पत्र के अंक 'result subject -wise' sheet में इस तरह भरने हैं कि प्रायोगिक अंकों के अर्द्ध वार्षिक एवं वार्षिक अंकों का योग पूरक परीक्षा के सैद्धांतिक प्रश्न पत्र अंक के साथ जुड़कर विषय योग 200 बन स सके।
A6: For help in adjusting marks proportionately, plz click here. अंकों के आनुपातिक परिवर्तन में सहायता लिए यहाँ क्लिक करें।
A7: जब कि पुनः परीक्षा के सैद्धांतिक प्रश्न पत्र के अंक 'details' sheet में इस तरह भरने हैं कि प्रायोगिक अंकों के केवल वार्षिक अंक पुनः परीक्षा के सैद्धांतिक प्रश्न पत्र अंकों के साथ जुड़कर विषय योग 100 बन स सके।
A8: पुनः परीक्षा में बैठने योग्य विद्यार्थी की अंक तालिका तब तक नहीं बनेगी जब तक की पुनः परीक्षा के अंकों की पविश्ति नहीं होगी। अतः मुख्य परीक्षा के साथ ऐसे विद्यार्थियों को अंक तालिका नहीं देनी है और केवल उन्हें पुनः परीक्षा में सम्मिलित होने की सूचना देनी है।
A10: This application has been designed for the Secondary and Higher Secondary schools of Rajasthan. All rights are reserved with the director of Secondary Education, Bikaner, Rajasthan.
A11: designed by D. Kavita Principal GSSS, Marjeevi Nimbahera, Distt. Chittaurgarh, Rajasthan kavita.fadnavis@gmail.com
A12: In cooperation with
A13: Pushpendra Kumar Sharma Principal Govt. Hr. Sec. School, Veerpura Distt. Udaipur, Rajasthan | B13: Anil Kumar Somani Principal SVGMS Nimbahera, Distt. Chittaurgarh, Rajasthan | C13: Arvind Kumar Sharma Sr.Teacher (Maths) Govt. Girls Sec. School Ramsar, Srinagar (Ajmer) Distt. Ajmer, Rajasthan
A14: Plz. download a fresh copy of this workbook and a copy of latest bylaws ( exam. rules) to avoid errors. Plz. Read all instructions given in this pages carefully before you proceed. For more help you can download the training videos from www.ctor.in
A15: WHAT IS SPECIAL ABOUT THIS WORKBOOK?
A16: This work book all in one because it is suitable for all those schools that have more than 4 options for each column of optional subjects and also for those that wish to give their students two practical subjects with different marking scheme in one column for example Geography and Music in one place. However it can also be used in normal cases.
A17: It is also helpful for Vocational Education as third optional subject. You already know that 4th optional subject is not to be shown in the progress reports for class 11th students and so if a student offers any of the trades of vocational education as a fourth optional, his/her overall result does not get affected due to the fourth optional subject.
A18: Put the subjects with 70 marks practicals such as music and drawing in last columns viz., Z,AA, AH,AI and give 'g' or 'h' (as per the selected column) as subject code.
A19: Put the Vocational Subjects only in column of third or fourth optional that too under columns AP,AQ and AX,AY only and give 'g' or 'h' (as per the selected column) as subject code.
A20: You may use this workbook for Typing and Short Hand subject provided you can change the max. marks in 'details' in Cell No. AN8 and AP8 (theory) by changing them to 35 and 50 instead of 20 and 30, but do not mix these with any other practical subject which do not match the marking scheme.
A21: The users are expected to give feedback at kavita.fadnavis@gmail.com for its improvement. No claims of perfection till session 2021-22
A22: This workbook can prepare results of 100 students of a class. According the the the departmental norms we can split the class into two sections as soon as the strength crosses 60 students, yet this workbooks supports result upto a strength of 100 students. Please limit your class strength not to exceed 100. If there occur any errors in your result due to accidental deletion or feeding in wrong sheets, you can rectify all such errors by using a fresh workbook and just copying the 'details' of your old workbook into the new one. Password to enter details entries is 'shivira'. All sheets are protected. The password to unprotect sheets is 'dkf'. For any queries regarding the use of this application, drop a mail to kavita.fadnavis@gmail.com You may also contact the master trainers of your own district. D. Kavita
A23: Plz. always read the latest class promotion rules before you begin to work on this workbook. Use this workbook only if you find it as per rules. The cell pertaining to the result of a student of class 8th is deliberately left blank in case he/she obtains grade 'e' in any of the subjects. Fill it using your own understanding of the rules.
A24: fjtYV odZcqd ds iz;ksx esa vkusokyh lkekU; leL;k,¡ o lek/kku
A25: CLICK HERE TO GO BACK TO DETAILS TO CONTINUE DATA ENTRY
... A87: vf/kd lg;ksx pkgus gsrq ohfM;ks ns[ksaA

Sheet details
A1: Govt. Higher Secondary School, XYZ | J1: HINDI | P1: ENGLISH | V1: THIRD LANGUAGE | AC1: SCIENCE | AI1: VOCATIONAL EDUCATION | AN1: SOCIAL SCIENCE | AT1: MATHEMATICS | AZ1: RAJASTHAN KA SWARNIM ITIHAS | BE1: PH. AND HEALTH EDU. | BO1: FOUNDATION OF IT | BV1: S.U.P.W. | BY1: ART EDU. | CG1: MONTHLY ATTENDANCE | DF1: TOTAL ATTENDANCE UPTO
A3: S. NO. | B3: CATEGORY | C3: GENGER | D3: ROLL. NO. | E3: S.R. NO. | F3: CLICK HERE TO VIEW THE RESULT | G3: RESULT SHEET | H3: DATE OF SUPPL. EXAM. RESULT DECLARATION | I3: 45786 | J3: PRAHALAD VAISHNAV | P3: MO.RASHID KHAN | V3: MAHBOOB ASIF | X3: N | AC3: BRIJESH PATIDAR | AJ3: NAVNEET SONI | AN3: MADHUBALA MUNDRA | AT3: BANSHI LAL SUTHAR | AZ3: XYZ | BE3: KANAK MAL MEHTA | BO3: BRIJESH PATIDAR | BV3: DEEPAK KUMAWAT | BY3: RITA KRIPLANI | CG3: APRIL | CH3: APRIL | CI3: MAY | CJ3: MAY | CK3: JULY | CL3: JULY | CM3: AUGUST | CN3: AUGUST | CO3: SEPTEMBER | CP3: SEPTEMBER | CQ3: OCTOBER | CR3: OCTOBER | CS3: NOVEMBER | CT3: NOVEMBER | CU3: DECEMBER | CV3: DECEMBER | CW3: JANUARY | CX3: JANUARY | CY3: FEBRUARY | CZ3: FEBRUARY | DA3: MARCH | DB3: MARCH | DC3: APRIL | DD3: APRIL | DF3: TOTAL UPTO MAY | DH3: TOTAL UPTO JULY | DJ3: TOTAL UPTO AUGUST | DL3: TOTAL UPTO SEPTEMBER | DN3: TOTAL UPTO OCTOBER | DP3: TOTAL UPTO NOVEMBER | DR3: TOTAL UPTO DECEMBER | DT3: TOTAL UPTO JANUARY | DV3: TOTAL UPTO FEBRUARY | DX3: TOTAL UPTO MARCH | DZ3: TOTAL FOR THE SESSION
G4: CLICK HERE FOR HELP | J4: UNIT TEST | M4: Vruksharopan | N4: HALF YEARLY EXAM | O4: ANNUAL EXAM | P4: UNIT TEST | S4: Vruksharopan | T4: HALF YEARLY EXAM | U4: ANNUAL EXAM | V4: SUBJECT CODE | W4: UNIT TEST | Z4: Vruksharopan | AA4: HALF YEARLY EXAM | AB4: ANNUAL EXAM | AC4: UNIT TEST | AF4: Vruksharopan | AG4: HALF YEARLY EXAM | AH4: ANNUAL EXAM | AJ4: SESSIONAL MARKS | AK4: Vruksharopan | AL4: THEORY | AM4: PRACTICAL | AN4: UNIT TEST | AQ4: Vruksharopan | AR4: HALF YEARLY EXAM | AS4: ANNUAL EXAM | AT4: UNIT TEST | AW4: Vruksharopan | AX4: HALF YEARLY EXAM | AY4: ANNUAL EXAM | AZ4: UNIT TEST | BC4: HALF YEARLY EXAM | BD4: ANNUAL EXAM | BE4: UNIT TEST | BK4: HALF YEARLY EXAM. | BM4: ANNUAL EXAM | BO4: UNIT TEST | BR4: HALF YEARLY EXAM. | BT4: ANNUAL EXAM. | BV4: COMP. ACT. | BW4: OPT. ACT. | BX4: CAMP | BY4: THEORY | BZ4: PRACTICAL | CA4: PRACTICAL | CB4: ASSIGNMENT
F5: DATE OF BIRTH | G5: NAME OF THE STUDENT | H5: FATHER'S NAME | I5: MOTHER'S NAME | J5: FIRST | K5: SECOND | L5: THIRD | P5: FIRST | Q5: SECOND | R5: THIRD | W5: FIRST | X5: SECOND | Y5: THIRD | AC5: FIRST | AD5: SECOND | AE5: THIRD | AN5: FIRST | AO5: SECOND | AP5: THIRD | AT5: FIRST | AU5: SECOND | AV5: THIRD | AZ5: FIRST | BA5: SECOND | BB5: THIRD | BE5: FIRST TH. | BF5: FIRST PR. | BG5: SECOND TH. | BH5: SECOND PR. | BI5: THIRD TH. | BJ5: THIRD PR. | BK5: THEORY | BL5: PRACT. | BM5: THEORY | BN5: PRACT. | BO5: FIRST | BP5: SECOND | BQ5: THIRD | BR5: THEORY | BS5: PRACT. | BT5: THEORY | BU5: PRACT. | CG5: TOTAL MTNGS. | CI5: TOTAL MTNGS. | CJ5: ST. ATT. | CK5: TOTAL MTNGS. | CL5: ST. ATT. | CM5: TOTAL MTNGS. | CN5: ST. ATT. | CO5: TOTAL MTNGS. | CP5: ST. ATT. | CQ5: TOTAL MTNGS. | CR5: ST. ATT. | CS5: TOTAL MTNGS. | CT5: ST. ATT. | CU5: TOTAL MTNGS. | CV5: ST. ATT. | CW5: TOTAL MTNGS. | CX5: ST. ATT. | CY5: TOTAL MTNGS. | CZ5: ST. ATT. | DA5: TOTAL MTNGS. | DB5: ST. ATT. | DC5: TOTAL MTNGS. | DD5: ST. ATT. | DF5: TOTAL MTNGS. | DG5: ST. ATT. | DH5: TOTAL MTNGS. | DI5: ST. ATT. | DJ5: TOTAL MTNGS. | DK5: ST. ATT. | DL5: TOTAL MTNGS. | DM5: ST. ATT. | DN5: TOTAL MTNGS. | DO5: ST. ATT. | DP5: TOTAL MTNGS. | DQ5: ST. ATT. | DR5: TOTAL MTNGS. | DS5: ST. ATT. | DT5: TOTAL MTNGS. | DU5: ST. ATT. | DV5: TOTAL MTNGS. | DW5: ST. ATT. | DX5: TOTAL MTNGS. | DY5: ST. ATT. | DZ5: TOTAL MTNGS. | EA5: ST. ATT.
A6: DATE OF RESULT DECLARATION | F6: 45781 | G6: 9 'A' | H6: 2024-25 | J6: 10 | K6: 10 | L6: 9 | M6: 1 | N6: 70 | O6: 100 | P6: 10 | Q6: 10 | R6: 9 | S6: 1 | T6: 70 | U6: 100 | W6: 10 | X6: 10 | Y6: 9 | Z6: 1 | AA6: 70 | AB6: 100 | AC6: 10 | AD6: 10 | AE6: 8 | AF6: 2 | AG6: 70 | AH6: 100 | AJ6: 39 | AK6: 1 | AL6: 60 | AM6: 100 | AN6: 10 | AO6: 10 | AP6: 9 | AQ6: 1 | AR6: 70 | AS6: 100 | AT6: 10 | AU6: 10 | AV6: 9 | AW6: 1 | AX6: 70 | AY6: 100 | AZ6: 10 | BA6: 10 | BB6: 10 | BC6: 70 | BD6: 100 | BE6: 10 | BF6: 8 | BG6: 10 | BH6: 7 | BI6: 15 | BJ6: 10 | BK6: 25 | BL6: 15 | BM6: 30 | BN6: 70 | BO6: 10 | BP6: 10 | BQ6: 10 | BR6: 50 | BS6: 20 | BT6: 70 | BU6: 30 | BV6: 25 | BW6: 45 | BX6: 30 | BY6: 25 | BZ6: 30 | CA6: 30 | CB6: 15 | CE6: MEETINGS | CJ6: 0 | CL6: 0 | CN6: 0 | CP6: 0 | CR6: 0 | CT6: 0 | CV6: 0 | CX6: 0 | CZ6: 0 | DB6: 0 | DD6: 0 | DF6: =IF(CI6="","",SUM(CG6,CI6)) | DG6: =IF(CJ6="","",SUM(CH6,CJ6)) -> 0 | DH6: =IF(CK6="","",SUM(DF6,CK6)) | DI6: =IF(CL6="","",SUM(DG6,CL6)) -> 0 | DJ6: =IF(CM6="","",SUM(DH6,CM6)) | DK6: =IF(CN6="","",SUM(DI6,CN6)) -> 0 | DL6: =IF(CO6="","",SUM(DJ6,CO6)) | DM6: =IF(CP6="","",SUM(DK6,CP6)) -> 0 | DN6: =IF(CQ6="","",SUM(DL6,CQ6)) | DO6: =IF(CR6="","",SUM(DM6,CR6)) -> 0 | ... EA6: =IF(DD6="","",SUM(DY6,DD6)) -> 0
A7: 1 | B7: SC | C7: G | D7: 9101 | E7: 10601 | F7: 36158 | G7: A 001 | H7: B 001 | I7: C 001 | J7: 10 | K7: 10 | L7: 9 | M7: 1 | N7: 70 | O7: 40 | P7: 4 | Q7: 9 | R7: 8 | S7: 1 | T7: 70 | U7: 100 | V7: SANSKRIT | W7: 10 | X7: 10 | Y7: 9 | Z7: 0.5 | AA7: 70 | AB7: 100 | AC7: 8 | AD7: 3 | AE7: 8 | AF7: 2 | AG7: 70 | AH7: 100 | AN7: 10 | AO7: 10 | AP7: 9 | AQ7: 0.5 | AR7: 70 | AS7: 100 | AT7: 5 | AU7: 4 | AV7: 8 | AW7: 1 | AX7: 25 | AY7: 90 | AZ7: 10 | BA7: 10 | BB7: 10 | BC7: 70 | BD7: 100 | BE7: 6 | BF7: 8 | BG7: 4 | BH7: 7 | BI7: 15 | BJ7: 10 | BK7: 24 | BL7: 14 | BM7: 30 | BN7: 70 | BO7: 10 | BP7: 10 | BQ7: 10 | BR7: 33 | BS7: 18 | BT7: 60 | BU7: 30 | BV7: 24 | BW7: 44 | BX7: 30 | BY7: 24 | BZ7: 28 | CA7: 27 | CB7: 14 | CG7: =IF(CG$6="","",CG$6) | CI7: =IF(CI$6="","",CI$6) | CK7: =IF(CK$6="","",CK$6) | CM7: =IF(CM$6="","",CM$6) | CO7: =IF(CO$6="","",CO$6) | CQ7: =IF(CQ$6="","",CQ$6) | CS7: =IF(CS$6="","",CS$6) | CU7: =IF(CU$6="","",CU$6) | CW7: =IF(CW$6="","",CW$6) | CY7: =IF(CY$6="","",CY$6) | DA7: =IF(DA$6="","",DA$6) | DC7: =IF(DC$6="","",DC$6) | DF7: =IF(CI7="","",SUM(CG7,CI7)) | DG7: =IF(CJ7="","",SUM(CH7,CJ7)) | DH7: =IF(CK7="","",SUM(DF7,CK7)) | DI7: =IF(CL7="","",SUM(DG7,CL7)) | DJ7: =IF(CM7="","",SUM(DH7,CM7)) | DK7: =IF(CN7="","",SUM(DI7,CN7)) | DL7: =IF(CO7="","",SUM(DJ7,CO7)) | DM7: =IF(CP7="","",SUM(DK7,CP7)) | DN7: =IF(CQ7="","",SUM(DL7,CQ7)) | DO7: =IF(CR7="","",SUM(DM7,CR7)) | ... EA7: =IF(DD7="","",SUM(DY7,DD7))
A8: 2 | B8: GEN | C8: G | D8: 9102 | E8: 10721 | F8: 36373 | G8: A 002 | H8: B 002 | I8: C 002 | J8: 10 | K8: 10 | L8: 9 | M8: 1 | N8: 70 | O8: 39 | P8: 4 | Q8: 9 | R8: 8 | S8: 1 | T8: 70 | U8: 100 | V8: SANSKRIT | W8: 10 | X8: 10 | Y8: 9 | Z8: 0.5 | AA8: 70 | AB8: 100 | AC8: 8 | AD8: 3 | AE8: 8 | AF8: 2 | AG8: 70 | AH8: 100 | AN8: 10 | AO8: 10 | AP8: 9 | AQ8: 0.5 | AR8: 70 | AS8: 100 | AT8: 5 | AU8: 4 | AV8: 8 | AW8: 1 | AX8: 25 | AY8: 90 | AZ8: 10 | BA8: 10 | BB8: 10 | BC8: 70 | BD8: 100 | BE8: 6 | BF8: 8 | BG8: 4 | BH8: 7 | BI8: 15 | BJ8: 10 | BK8: 24 | BL8: 14 | BM8: 30 | BN8: 70 | BO8: 10 | BP8: 10 | BQ8: 10 | BR8: 33 | BS8: 18 | BT8: 60 | BU8: 30 | BV8: 24 | BW8: 44 | BX8: 30 | BY8: 24 | BZ8: 28 | CA8: 27 | CB8: 14 | CG8: =IF(CG$6="","",CG$6) | CI8: =IF(CI$6="","",CI$6) | CK8: =IF(CK$6="","",CK$6) | CM8: =IF(CM$6="","",CM$6) | CO8: =IF(CO$6="","",CO$6) | CQ8: =IF(CQ$6="","",CQ$6) | CS8: =IF(CS$6="","",CS$6) | CU8: =IF(CU$6="","",CU$6) | CW8: =IF(CW$6="","",CW$6) | CY8: =IF(CY$6="","",CY$6) | DA8: =IF(DA$6="","",DA$6) | DC8: =IF(DC$6="","",DC$6) | DF8: =IF(CI8="","",SUM(CG8,CI8)) | DG8: =IF(CJ8="","",SUM(CH8,CJ8)) | DH8: =IF(CK8="","",SUM(DF8,CK8)) | DI8: =IF(CL8="","",SUM(DG8,CL8)) | DJ8: =IF(CM8="","",SUM(DH8,CM8)) | DK8: =IF(CN8="","",SUM(DI8,CN8)) | DL8: =IF(CO8="","",SUM(DJ8,CO8)) | DM8: =IF(CP8="","",SUM(DK8,CP8)) | DN8: =IF(CQ8="","",SUM(DL8,CQ8)) | DO8: =IF(CR8="","",SUM(DM8,CR8)) | ... EA8: =IF(DD8="","",SUM(DY8,DD8))
A9: 3 | B9: OBC | C9: G | D9: 9103 | E9: 10014 | F9: 34824 | G9: A 003 | H9: B 003 | I9: C 003 | J9: 10 | K9: 10 | L9: 9 | M9: 1 | N9: 70 | O9: 38 | P9: 4 | Q9: 9 | R9: 8 | S9: 1 | T9: 70 | U9: 100 | V9: SANSKRIT | W9: 10 | X9: 10 | Y9: 9 | Z9: 0.5 | AA9: 70 | AB9: 100 | AC9: 8 | AD9: 3 | AE9: 8 | AF9: 2 | AG9: 70 | AH9: 100 | AN9: 10 | AO9: 10 | AP9: 9 | AQ9: 0.5 | AR9: 70 | AS9: 100 | AT9: 5 | AU9: 4 | AV9: 8 | AW9: 1 | AX9: 25 | AY9: 90 | AZ9: 10 | BA9: 10 | BB9: 10 | BC9: 70 | BD9: 100 | BE9: 6 | BF9: 8 | BG9: 4 | BH9: 7 | BI9: 15 | BJ9: 10 | BK9: 24 | BL9: 14 | BM9: 30 | BN9: 70 | BO9: 10 | BP9: 10 | BQ9: 10 | BR9: 33 | BS9: 18 | BT9: 60 | BU9: 30 | BV9: 24 | BW9: 44 | BX9: 30 | BY9: 24 | BZ9: 28 | CA9: 27 | CB9: 14 | CD9: SC | CG9: =IF(CG$6="","",CG$6) | CI9: =IF(CI$6="","",CI$6) | CK9: =IF(CK$6="","",CK$6) | CM9: =IF(CM$6="","",CM$6) | CO9: =IF(CO$6="","",CO$6) | CQ9: =IF(CQ$6="","",CQ$6) | CS9: =IF(CS$6="","",CS$6) | CU9: =IF(CU$6="","",CU$6) | CW9: =IF(CW$6="","",CW$6) | CY9: =IF(CY$6="","",CY$6) | DA9: =IF(DA$6="","",DA$6) | DC9: =IF(DC$6="","",DC$6) | DF9: =IF(CI9="","",SUM(CG9,CI9)) | DG9: =IF(CJ9="","",SUM(CH9,CJ9)) | DH9: =IF(CK9="","",SUM(DF9,CK9)) | DI9: =IF(CL9="","",SUM(DG9,CL9)) | DJ9: =IF(CM9="","",SUM(DH9,CM9)) | DK9: =IF(CN9="","",SUM(DI9,CN9)) | DL9: =IF(CO9="","",SUM(DJ9,CO9)) | DM9: =IF(CP9="","",SUM(DK9,CP9)) | DN9: =IF(CQ9="","",SUM(DL9,CQ9)) | DO9: =IF(CR9="","",SUM(DM9,CR9)) | ... EA9: =IF(DD9="","",SUM(DY9,DD9))
A10: 4 | B10: ST | C10: G | D10: 9104 | E10: 10625 | F10: 35562 | G10: A 004 | H10: B 004 | I10: C 004 | J10: 10 | K10: 10 | L10: 9 | M10: 1 | N10: 70 | O10: 37 | P10: 4 | Q10: 9 | R10: 8 | S10: 1 | T10: 70 | U10: 100 | V10: SANSKRIT | W10: 10 | X10: 10 | Y10: 9 | Z10: 0.5 | AA10: 70 | AB10: 100 | AC10: 8 | AD10: 3 | AE10: 8 | AF10: 2 | AG10: 70 | AH10: 100 | AN10: 10 | AO10: 10 | AP10: 9 | AQ10: 0.5 | AR10: 70 | AS10: 100 | AT10: 5 | AU10: 4 | AV10: 8 | AW10: 1 | AX10: 25 | AY10: 90 | AZ10: 10 | BA10: 10 | BB10: 10 | BC10: 70 | BD10: 100 | BE10: 6 | BF10: 8 | BG10: 4 | BH10: 7 | BI10: 15 | BJ10: 10 | BK10: 24 | BL10: 14 | BM10: 30 | BN10: 70 | BO10: 10 | BP10: 10 | BQ10: 10 | BR10: 33 | BS10: 18 | BT10: 60 | BU10: 30 | BV10: 24 | BW10: 44 | BX10: 30 | BY10: 24 | BZ10: 28 | CA10: 27 | CB10: 14 | CD10: ST | CG10: =IF(CG$6="","",CG$6) | CI10: =IF(CI$6="","",CI$6) | CK10: =IF(CK$6="","",CK$6) | CM10: =IF(CM$6="","",CM$6) | CO10: =IF(CO$6="","",CO$6) | CQ10: =IF(CQ$6="","",CQ$6) | CS10: =IF(CS$6="","",CS$6) | CU10: =IF(CU$6="","",CU$6) | CW10: =IF(CW$6="","",CW$6) | CY10: =IF(CY$6="","",CY$6) | DA10: =IF(DA$6="","",DA$6) | DC10: =IF(DC$6="","",DC$6) | DF10: =IF(CI10="","",SUM(CG10,CI10)) | DG10: =IF(CJ10="","",SUM(CH10,CJ10)) | DH10: =IF(CK10="","",SUM(DF10,CK10)) | DI10: =IF(CL10="","",SUM(DG10,CL10)) | DJ10: =IF(CM10="","",SUM(DH10,CM10)) | DK10: =IF(CN10="","",SUM(DI10,CN10)) | DL10: =IF(CO10="","",SUM(DJ10,CO10)) | DM10: =IF(CP10="","",SUM(DK10,CP10)) | DN10: =IF(CQ10="","",SUM(DL10,CQ10)) | DO10: =IF(CR10="","",SUM(DM10,CR10)) | ... EA10: =IF(DD10="","",SUM(DY10,DD10))
A11: 5 | B11: OBC | C11: G | D11: 9105 | E11: 9486 | F11: 35740 | G11: A 005 | H11: B 005 | I11: C 005 | J11: 10 | K11: 10 | L11: 9 | M11: 1 | N11: 70 | O11: 42 | P11: 4 | Q11: 9 | R11: 8 | S11: 1 | T11: 70 | U11: 100 | V11: SANSKRIT | W11: 10 | X11: 10 | Y11: 9 | Z11: 0.5 | AA11: 70 | AB11: 100 | AC11: 8 | AD11: 3 | AE11: 8 | AF11: 2 | AG11: 70 | AH11: 100 | AN11: 10 | AO11: 10 | AP11: 9 | AQ11: 0.5 | AR11: 70 | AS11: 100 | AT11: 5 | AU11: 4 | AV11: 8 | AW11: 1 | AX11: 25 | AY11: 90 | AZ11: 10 | BA11: 10 | BB11: 10 | BC11: 70 | BD11: 100 | BE11: 6 | BF11: 8 | BG11: 4 | BH11: 7 | BI11: 15 | BJ11: 10 | BK11: 24 | BL11: 14 | BM11: 30 | BN11: 70 | BO11: 10 | BP11: 10 | BQ11: 10 | BR11: 33 | BS11: 18 | BT11: 60 | BU11: 30 | BV11: 24 | BW11: 44 | BX11: 30 | BY11: 24 | BZ11: 28 | CA11: 27 | CB11: 14 | CD11: OBC | CG11: =IF(CG$6="","",CG$6) | CI11: =IF(CI$6="","",CI$6) | CK11: =IF(CK$6="","",CK$6) | CM11: =IF(CM$6="","",CM$6) | CO11: =IF(CO$6="","",CO$6) | CQ11: =IF(CQ$6="","",CQ$6) | CS11: =IF(CS$6="","",CS$6) | CU11: =IF(CU$6="","",CU$6) | CW11: =IF(CW$6="","",CW$6) | CY11: =IF(CY$6="","",CY$6) | DA11: =IF(DA$6="","",DA$6) | DC11: =IF(DC$6="","",DC$6) | DF11: =IF(CI11="","",SUM(CG11,CI11)) | DG11: =IF(CJ11="","",SUM(CH11,CJ11)) | DH11: =IF(CK11="","",SUM(DF11,CK11)) | DI11: =IF(CL11="","",SUM(DG11,CL11)) | DJ11: =IF(CM11="","",SUM(DH11,CM11)) | DK11: =IF(CN11="","",SUM(DI11,CN11)) | DL11: =IF(CO11="","",SUM(DJ11,CO11)) | DM11: =IF(CP11="","",SUM(DK11,CP11)) | DN11: =IF(CQ11="","",SUM(DL11,CQ11)) | DO11: =IF(CR11="","",SUM(DM11,CR11)) | ... EA11: =IF(DD11="","",SUM(DY11,DD11))
A12: 6 | B12: GEN | C12: G | D12: 9106 | E12: 10695 | F12: 36968 | G12: A 006 | H12: B 006 | I12: C 006 | J12: 10 | K12: 10 | L12: 9 | M12: 1 | N12: 70 | O12: 35 | P12: 4 | Q12: 9 | R12: 8 | S12: 1 | T12: 70 | U12: 100 | V12: SANSKRIT | W12: 10 | X12: 10 | Y12: 9 | Z12: 0.5 | AA12: 70 | AB12: 100 | AC12: 8 | AD12: 3 | AE12: 8 | AF12: 2 | AG12: 70 | AH12: 100 | AN12: 10 | AO12: 10 | AP12: 9 | AQ12: 0.5 | AR12: 70 | AS12: 100 | AT12: 5 | AU12: 4 | AV12: 8 | AW12: 1 | AX12: 25 | AY12: 90 | AZ12: 10 | BA12: 10 | BB12: 10 | BC12: 70 | BD12: 100 | BE12: 6 | BF12: 8 | BG12: 4 | BH12: 7 | BI12: 15 | BJ12: 10 | BK12: 24 | BL12: 14 | BM12: 30 | BN12: 70 | BO12: 10 | BP12: 10 | BQ12: 10 | BR12: 33 | BS12: 18 | BT12: 60 | BU12: 30 | BV12: 24 | BW12: 44 | BX12: 30 | BY12: 24 | BZ12: 28 | CA12: 27 | CB12: 14 | CD12: SBC | CG12: =IF(CG$6="","",CG$6) | CI12: =IF(CI$6="","",CI$6) | CK12: =IF(CK$6="","",CK$6) | CM12: =IF(CM$6="","",CM$6) | CO12: =IF(CO$6="","",CO$6) | CQ12: =IF(CQ$6="","",CQ$6) | CS12: =IF(CS$6="","",CS$6) | CU12: =IF(CU$6="","",CU$6) | CW12: =IF(CW$6="","",CW$6) | CY12: =IF(CY$6="","",CY$6) | DA12: =IF(DA$6="","",DA$6) | DC12: =IF(DC$6="","",DC$6) | DF12: =IF(CI12="","",SUM(CG12,CI12)) | DG12: =IF(CJ12="","",SUM(CH12,CJ12)) | DH12: =IF(CK12="","",SUM(DF12,CK12)) | DI12: =IF(CL12="","",SUM(DG12,CL12)) | DJ12: =IF(CM12="","",SUM(DH12,CM12)) | DK12: =IF(CN12="","",SUM(DI12,CN12)) | DL12: =IF(CO12="","",SUM(DJ12,CO12)) | DM12: =IF(CP12="","",SUM(DK12,CP12)) | DN12: =IF(CQ12="","",SUM(DL12,CQ12)) | DO12: =IF(CR12="","",SUM(DM12,CR12)) | ... EA12: =IF(DD12="","",SUM(DY12,DD12))
A13: 7 | B13: SC | C13: G | D13: 9107 | E13: 10365 | F13: 35197 | G13: A 007 | H13: B 007 | I13: C 007 | J13: 10 | K13: 10 | L13: 9 | M13: 1 | N13: 70 | O13: 34 | P13: 4 | Q13: 9 | R13: 8 | S13: 1 | T13: 70 | U13: 100 | V13: SANSKRIT | W13: 10 | X13: 10 | Y13: 9 | Z13: 0.5 | AA13: 70 | AB13: 100 | AC13: 8 | AD13: 3 | AE13: 8 | AF13: 2 | AG13: 70 | AH13: 100 | AN13: 10 | AO13: 10 | AP13: 9 | AQ13: 0.5 | AR13: 70 | AS13: 100 | AT13: 5 | AU13: 4 | AV13: 8 | AW13: 1 | AX13: 25 | AY13: 90 | AZ13: 10 | BA13: 10 | BB13: 10 | BC13: 70 | BD13: 100 | BE13: 6 | BF13: 8 | BG13: 4 | BH13: 7 | BI13: 15 | BJ13: 10 | BK13: 24 | BL13: 14 | BM13: 30 | BN13: 70 | BO13: 10 | BP13: 10 | BQ13: 10 | BR13: 33 | BS13: 18 | BT13: 60 | BU13: 30 | BV13: 24 | BW13: 44 | BX13: 30 | BY13: 24 | BZ13: 28 | CA13: 27 | CB13: 14 | CD13: GEN | CG13: =IF(CG$6="","",CG$6) | CI13: =IF(CI$6="","",CI$6) | CK13: =IF(CK$6="","",CK$6) | CM13: =IF(CM$6="","",CM$6) | CO13: =IF(CO$6="","",CO$6) | CQ13: =IF(CQ$6="","",CQ$6) | CS13: =IF(CS$6="","",CS$6) | CU13: =IF(CU$6="","",CU$6) | CW13: =IF(CW$6="","",CW$6) | CY13: =IF(CY$6="","",CY$6) | DA13: =IF(DA$6="","",DA$6) | DC13: =IF(DC$6="","",DC$6) | DF13: =IF(CI13="","",SUM(CG13,CI13)) | DG13: =IF(CJ13="","",SUM(CH13,CJ13)) | DH13: =IF(CK13="","",SUM(DF13,CK13)) | DI13: =IF(CL13="","",SUM(DG13,CL13)) | DJ13: =IF(CM13="","",SUM(DH13,CM13)) | DK13: =IF(CN13="","",SUM(DI13,CN13)) | DL13: =IF(CO13="","",SUM(DJ13,CO13)) | DM13: =IF(CP13="","",SUM(DK13,CP13)) | DN13: =IF(CQ13="","",SUM(DL13,CQ13)) | DO13: =IF(CR13="","",SUM(DM13,CR13)) | ... EA13: =IF(DD13="","",SUM(DY13,DD13))
A14: 8 | B14: SC | C14: G | D14: 9108 | E14: 10583 | F14: 35998 | G14: A 008 | H14: B 008 | I14: C 008 | J14: 10 | K14: 10 | L14: 9 | M14: 1 | N14: 70 | O14: 33 | P14: 4 | Q14: 9 | R14: 8 | S14: 1 | T14: 70 | U14: 100 | V14: SANSKRIT | W14: 10 | X14: 10 | Y14: 9 | Z14: 0.5 | AA14: 70 | AB14: 100 | AC14: 8 | AD14: 3 | AE14: 8 | AF14: 2 | AG14: 70 | AH14: 100 | AN14: 10 | AO14: 10 | AP14: 9 | AQ14: 0.5 | AR14: 70 | AS14: 100 | AT14: 5 | AU14: 4 | AV14: 8 | AW14: 1 | AX14: 25 | AY14: 90 | AZ14: 10 | BA14: 10 | BB14: 10 | BC14: 70 | BD14: 100 | BE14: 6 | BF14: 8 | BG14: 4 | BH14: 7 | BI14: 15 | BJ14: 10 | BK14: 24 | BL14: 14 | BM14: 30 | BN14: 70 | BO14: 10 | BP14: 10 | BQ14: 10 | BR14: 33 | BS14: 18 | BT14: 60 | BU14: 30 | BV14: 24 | BW14: 44 | BX14: 30 | BY14: 24 | BZ14: 28 | CA14: 27 | CB14: 14 | CD14: MIN | CG14: =IF(CG$6="","",CG$6) | CI14: =IF(CI$6="","",CI$6) | CK14: =IF(CK$6="","",CK$6) | CM14: =IF(CM$6="","",CM$6) | CO14: =IF(CO$6="","",CO$6) | CQ14: =IF(CQ$6="","",CQ$6) | CS14: =IF(CS$6="","",CS$6) | CU14: =IF(CU$6="","",CU$6) | CW14: =IF(CW$6="","",CW$6) | CY14: =IF(CY$6="","",CY$6) | DA14: =IF(DA$6="","",DA$6) | DC14: =IF(DC$6="","",DC$6) | DF14: =IF(CI14="","",SUM(CG14,CI14)) | DG14: =IF(CJ14="","",SUM(CH14,CJ14)) | DH14: =IF(CK14="","",SUM(DF14,CK14)) | DI14: =IF(CL14="","",SUM(DG14,CL14)) | DJ14: =IF(CM14="","",SUM(DH14,CM14)) | DK14: =IF(CN14="","",SUM(DI14,CN14)) | DL14: =IF(CO14="","",SUM(DJ14,CO14)) | DM14: =IF(CP14="","",SUM(DK14,CP14)) | DN14: =IF(CQ14="","",SUM(DL14,CQ14)) | DO14: =IF(CR14="","",SUM(DM14,CR14)) | ... EA14: =IF(DD14="","",SUM(DY14,DD14))
A15: 9 | B15: SC | C15: G | D15: 9109 | E15: 10584 | F15: 35050 | G15: A 009 | H15: B 009 | I15: C 009 | J15: 10 | K15: 10 | L15: 9 | M15: 1 | N15: 70 | O15: 32 | P15: 4 | Q15: 9 | R15: 8 | S15: 1 | T15: 70 | U15: 100 | V15: SANSKRIT | W15: 10 | X15: 10 | Y15: 9 | Z15: 0.5 | AA15: 70 | AB15: 100 | AC15: 8 | AD15: 3 | AE15: 8 | AF15: 2 | AG15: 70 | AH15: 100 | AN15: 10 | AO15: 10 | AP15: 9 | AQ15: 0.5 | AR15: 70 | AS15: 100 | AT15: 5 | AU15: 4 | AV15: 8 | AW15: 1 | AX15: 25 | AY15: 90 | AZ15: 10 | BA15: 10 | BB15: 10 | BC15: 70 | BD15: 100 | BE15: 6 | BF15: 8 | BG15: 4 | BH15: 7 | BI15: 15 | BJ15: 10 | BK15: 24 | BL15: 14 | BM15: 30 | BN15: 70 | BO15: 10 | BP15: 10 | BQ15: 10 | BR15: 33 | BS15: 18 | BT15: 60 | BU15: 30 | BV15: 24 | BW15: 44 | BX15: 30 | BY15: 24 | BZ15: 28 | CA15: 27 | CB15: 14 | CG15: =IF(CG$6="","",CG$6) | CI15: =IF(CI$6="","",CI$6) | CK15: =IF(CK$6="","",CK$6) | CM15: =IF(CM$6="","",CM$6) | CO15: =IF(CO$6="","",CO$6) | CQ15: =IF(CQ$6="","",CQ$6) | CS15: =IF(CS$6="","",CS$6) | CU15: =IF(CU$6="","",CU$6) | CW15: =IF(CW$6="","",CW$6) | CY15: =IF(CY$6="","",CY$6) | DA15: =IF(DA$6="","",DA$6) | DC15: =IF(DC$6="","",DC$6) | DF15: =IF(CI15="","",SUM(CG15,CI15)) | DG15: =IF(CJ15="","",SUM(CH15,CJ15)) | DH15: =IF(CK15="","",SUM(DF15,CK15)) | DI15: =IF(CL15="","",SUM(DG15,CL15)) | DJ15: =IF(CM15="","",SUM(DH15,CM15)) | DK15: =IF(CN15="","",SUM(DI15,CN15)) | DL15: =IF(CO15="","",SUM(DJ15,CO15)) | DM15: =IF(CP15="","",SUM(DK15,CP15)) | DN15: =IF(CQ15="","",SUM(DL15,CQ15)) | DO15: =IF(CR15="","",SUM(DM15,CR15)) | ... EA15: =IF(DD15="","",SUM(DY15,DD15))
A16: 10 | B16: OBC | C16: G | D16: 9110 | E16: 10514 | F16: 35828 | G16: A 010 | H16: B 010 | I16: C 010 | J16: 10 | K16: 10 | L16: 9 | M16: 1 | N16: 70 | O16: 45 | P16: 4 | Q16: 9 | R16: 8 | S16: 1 | T16: 70 | U16: 100 | V16: SANSKRIT | W16: 10 | X16: 10 | Y16: 9 | Z16: 0.5 | AA16: 70 | AB16: 100 | AC16: 8 | AD16: 3 | AE16: 8 | AF16: 2 | AG16: 70 | AH16: 100 | AN16: 10 | AO16: 10 | AP16: 9 | AQ16: 0.5 | AR16: 70 | AS16: 100 | AT16: 5 | AU16: 4 | AV16: 8 | AW16: 1 | AX16: 25 | AY16: 90 | AZ16: 10 | BA16: 10 | BB16: 10 | BC16: 70 | BD16: 100 | BE16: 6 | BF16: 8 | BG16: 4 | BH16: 7 | BI16: 15 | BJ16: 10 | BK16: 24 | BL16: 14 | BM16: 30 | BN16: 70 | BO16: 10 | BP16: 10 | BQ16: 10 | BR16: 33 | BS16: 18 | BT16: 60 | BU16: 30 | BV16: 24 | BW16: 44 | BX16: 30 | BY16: 24 | BZ16: 28 | CA16: 27 | CB16: 14 | CG16: =IF(CG$6="","",CG$6) | CI16: =IF(CI$6="","",CI$6) | CK16: =IF(CK$6="","",CK$6) | CM16: =IF(CM$6="","",CM$6) | CO16: =IF(CO$6="","",CO$6) | CQ16: =IF(CQ$6="","",CQ$6) | CS16: =IF(CS$6="","",CS$6) | CU16: =IF(CU$6="","",CU$6) | CW16: =IF(CW$6="","",CW$6) | CY16: =IF(CY$6="","",CY$6) | DA16: =IF(DA$6="","",DA$6) | DC16: =IF(DC$6="","",DC$6) | DF16: =IF(CI16="","",SUM(CG16,CI16)) | DG16: =IF(CJ16="","",SUM(CH16,CJ16)) | DH16: =IF(CK16="","",SUM(DF16,CK16)) | DI16: =IF(CL16="","",SUM(DG16,CL16)) | DJ16: =IF(CM16="","",SUM(DH16,CM16)) | DK16: =IF(CN16="","",SUM(DI16,CN16)) | DL16: =IF(CO16="","",SUM(DJ16,CO16)) | DM16: =IF(CP16="","",SUM(DK16,CP16)) | DN16: =IF(CQ16="","",SUM(DL16,CQ16)) | DO16: =IF(CR16="","",SUM(DM16,CR16)) | ... EA16: =IF(DD16="","",SUM(DY16,DD16))
AI17: BEAUTY AND HEALTH | AJ17: 34 | AK17: 1 | AL17: 5 | AM17: 10 | AN17: 10 | AO17: 10 | AP17: 9 | AQ17: 0.5 | AR17: 70 | AS17: 100 | AT17: 5 | AU17: 4 | AV17: 8 | AW17: 1 | AX17: 25 | AY17: 90 | AZ17: 10 | BA17: 10 | BB17: 10 | BC17: 70 | BD17: 100 | BE17: 6 | BF17: 8 | BG17: 4 | BH17: 7 | BI17: 15 | BJ17: 10 | BK17: 24 | BL17: 14 | BM17: 30 | BN17: 70 | BO17: 10 | BP17: 10 | BQ17: 10 | BR17: 33 | BS17: 18 | BT17: 60 | BU17: 30 | BV17: 24 | BW17: 44 | BX17: 30 | BY17: 24 | BZ17: 28 | CA17: 27 | CB17: 14 | CD17: B | CG17: =IF(CG$6="","",CG$6) | CI17: =IF(CI$6="","",CI$6) | CK17: =IF(CK$6="","",CK$6) | CM17: =IF(CM$6="","",CM$6) | CO17: =IF(CO$6="","",CO$6) | CQ17: =IF(CQ$6="","",CQ$6) | CS17: =IF(CS$6="","",CS$6) | CU17: =IF(CU$6="","",CU$6) | CW17: =IF(CW$6="","",CW$6) | CY17: =IF(CY$6="","",CY$6) | DA17: =IF(DA$6="","",DA$6) | DC17: =IF(DC$6="","",DC$6) | DF17: =IF(CI17="","",SUM(CG17,CI17)) | DG17: =IF(CJ17="","",SUM(CH17,CJ17)) | DH17: =IF(CK17="","",SUM(DF17,CK17)) | DI17: =IF(CL17="","",SUM(DG17,CL17)) | DJ17: =IF(CM17="","",SUM(DH17,CM17)) | DK17: =IF(CN17="","",SUM(DI17,CN17)) | DL17: =IF(CO17="","",SUM(DJ17,CO17)) | DM17: =IF(CP17="","",SUM(DK17,CP17)) | DN17: =IF(CQ17="","",SUM(DL17,CQ17)) | DO17: =IF(CR17="","",SUM(DM17,CR17)) | ... EA17: =IF(DD17="","",SUM(DY17,DD17))
AN18: 10 | AO18: 10 | AP18: 9 | AQ18: 0.5 | AR18: 70 | AS18: 100 | AT18: 5 | AU18: 4 | AV18: 8 | AW18: 1 | AX18: 25 | AY18: 90 | AZ18: 10 | BA18: 10 | BB18: 10 | BC18: 70 | BD18: 100 | BE18: 6 | BF18: 8 | BG18: 4 | BH18: 7 | BI18: 15 | BJ18: 10 | BK18: 24 | BL18: 14 | BM18: 30 | BN18: 70 | BO18: 10 | BP18: 10 | BQ18: 10 | BR18: 33 | BS18: 18 | BT18: 60 | BU18: 30 | BV18: 24 | BW18: 44 | BX18: 30 | BY18: 24 | BZ18: 28 | CA18: 27 | CB18: 14 | CD18: G | CG18: =IF(CG$6="","",CG$6) | CI18: =IF(CI$6="","",CI$6) | CK18: =IF(CK$6="","",CK$6) | CM18: =IF(CM$6="","",CM$6) | CO18: =IF(CO$6="","",CO$6) | CQ18: =IF(CQ$6="","",CQ$6) | CS18: =IF(CS$6="","",CS$6) | CU18: =IF(CU$6="","",CU$6) | CW18: =IF(CW$6="","",CW$6) | CY18: =IF(CY$6="","",CY$6) | DA18: =IF(DA$6="","",DA$6) | DC18: =IF(DC$6="","",DC$6) | DF18: =IF(CI18="","",SUM(CG18,CI18)) | DG18: =IF(CJ18="","",SUM(CH18,CJ18)) | DH18: =IF(CK18="","",SUM(DF18,CK18)) | DI18: =IF(CL18="","",SUM(DG18,CL18)) | DJ18: =IF(CM18="","",SUM(DH18,CM18)) | DK18: =IF(CN18="","",SUM(DI18,CN18)) | DL18: =IF(CO18="","",SUM(DJ18,CO18)) | DM18: =IF(CP18="","",SUM(DK18,CP18)) | DN18: =IF(CQ18="","",SUM(DL18,CQ18)) | DO18: =IF(CR18="","",SUM(DM18,CR18)) | ... EA18: =IF(DD18="","",SUM(DY18,DD18))
AN19: 10 | AO19: 10 | AP19: 9 | AQ19: 0.5 | AR19: 70 | AS19: 100 | AT19: 5 | AU19: 4 | AV19: 8 | AW19: 1 | AX19: 25 | AY19: 90 | AZ19: 10 | BA19: 10 | BB19: 10 | BC19: 70 | BD19: 100 | BE19: 6 | BF19: 8 | BG19: 4 | BH19: 7 | BI19: 15 | BJ19: 10 | BK19: 24 | BL19: 14 | BM19: 30 | BN19: 70 | BO19: 10 | BP19: 10 | BQ19: 10 | BR19: 33 | BS19: 18 | BT19: 60 | BU19: 30 | BV19: 24 | BW19: 44 | BX19: 30 | BY19: 24 | BZ19: 28 | CA19: 27 | CB19: 14 | CG19: =IF(CG$6="","",CG$6) | CI19: =IF(CI$6="","",CI$6) | CK19: =IF(CK$6="","",CK$6) | CM19: =IF(CM$6="","",CM$6) | CO19: =IF(CO$6="","",CO$6) | CQ19: =IF(CQ$6="","",CQ$6) | CS19: =IF(CS$6="","",CS$6) | CU19: =IF(CU$6="","",CU$6) | CW19: =IF(CW$6="","",CW$6) | CY19: =IF(CY$6="","",CY$6) | DA19: =IF(DA$6="","",DA$6) | DC19: =IF(DC$6="","",DC$6) | DF19: =IF(CI19="","",SUM(CG19,CI19)) | DG19: =IF(CJ19="","",SUM(CH19,CJ19)) | DH19: =IF(CK19="","",SUM(DF19,CK19)) | DI19: =IF(CL19="","",SUM(DG19,CL19)) | DJ19: =IF(CM19="","",SUM(DH19,CM19)) | DK19: =IF(CN19="","",SUM(DI19,CN19)) | DL19: =IF(CO19="","",SUM(DJ19,CO19)) | DM19: =IF(CP19="","",SUM(DK19,CP19)) | DN19: =IF(CQ19="","",SUM(DL19,CQ19)) | DO19: =IF(CR19="","",SUM(DM19,CR19)) | ... EA19: =IF(DD19="","",SUM(DY19,DD19))
AI20: HEALTH CARE | AJ20: 34 | AK20: 1 | AL20: 26 | AM20: 84 | AN20: 10 | AO20: 10 | AP20: 9 | AQ20: 0.5 | AR20: 70 | AS20: 100 | AT20: 5 | AU20: 4 | AV20: 8 | AW20: 1 | AX20: 25 | AY20: 90 | AZ20: 10 | BA20: 10 | BB20: 10 | BC20: 70 | BD20: 100 | BE20: 6 | BF20: 8 | BG20: 4 | BH20: 7 | BI20: 15 | BJ20: 10 | BK20: 24 | BL20: 14 | BM20: 30 | BN20: 70 | BO20: 10 | BP20: 10 | BQ20: 10 | BR20: 33 | BS20: 18 | BT20: 60 | BU20: 30 | BV20: 24 | BW20: 44 | BX20: 30 | BY20: 24 | BZ20: 28 | CA20: 27 | CB20: 14 | CD20: a | CG20: =IF(CG$6="","",CG$6) | CI20: =IF(CI$6="","",CI$6) | CK20: =IF(CK$6="","",CK$6) | CM20: =IF(CM$6="","",CM$6) | CO20: =IF(CO$6="","",CO$6) | CQ20: =IF(CQ$6="","",CQ$6) | CS20: =IF(CS$6="","",CS$6) | CU20: =IF(CU$6="","",CU$6) | CW20: =IF(CW$6="","",CW$6) | CY20: =IF(CY$6="","",CY$6) | DA20: =IF(DA$6="","",DA$6) | DC20: =IF(DC$6="","",DC$6) | DF20: =IF(CI20="","",SUM(CG20,CI20)) | DG20: =IF(CJ20="","",SUM(CH20,CJ20)) | DH20: =IF(CK20="","",SUM(DF20,CK20)) | DI20: =IF(CL20="","",SUM(DG20,CL20)) | DJ20: =IF(CM20="","",SUM(DH20,CM20)) | DK20: =IF(CN20="","",SUM(DI20,CN20)) | DL20: =IF(CO20="","",SUM(DJ20,CO20)) | DM20: =IF(CP20="","",SUM(DK20,CP20)) | DN20: =IF(CQ20="","",SUM(DL20,CQ20)) | DO20: =IF(CR20="","",SUM(DM20,CR20)) | ... EA20: =IF(DD20="","",SUM(DY20,DD20))
AI21: HEALTH CARE | AJ21: 36 | AK21: 1 | AL21: 40 | AM21: 92 | AN21: 10 | AO21: 10 | AP21: 9 | AQ21: 0.5 | AR21: 70 | AS21: 100 | AT21: 5 | AU21: 4 | AV21: 8 | AW21: 1 | AX21: 25 | AY21: 90 | AZ21: 10 | BA21: 10 | BB21: 10 | BC21: 70 | BD21: 100 | BE21: 6 | BF21: 8 | BG21: 4 | BH21: 7 | BI21: 15 | BJ21: 10 | BK21: 24 | BL21: 14 | BM21: 30 | BN21: 70 | BO21: 10 | BP21: 10 | BQ21: 10 | BR21: 33 | BS21: 18 | BT21: 60 | BU21: 30 | BV21: 24 | BW21: 44 | BX21: 30 | BY21: 24 | BZ21: 28 | CA21: 27 | CB21: 14 | CD21: b | CG21: =IF(CG$6="","",CG$6) | CI21: =IF(CI$6="","",CI$6) | CK21: =IF(CK$6="","",CK$6) | CM21: =IF(CM$6="","",CM$6) | CO21: =IF(CO$6="","",CO$6) | CQ21: =IF(CQ$6="","",CQ$6) | CS21: =IF(CS$6="","",CS$6) | CU21: =IF(CU$6="","",CU$6) | CW21: =IF(CW$6="","",CW$6) | CY21: =IF(CY$6="","",CY$6) | DA21: =IF(DA$6="","",DA$6) | DC21: =IF(DC$6="","",DC$6) | DF21: =IF(CI21="","",SUM(CG21,CI21)) | DG21: =IF(CJ21="","",SUM(CH21,CJ21)) | DH21: =IF(CK21="","",SUM(DF21,CK21)) | DI21: =IF(CL21="","",SUM(DG21,CL21)) | DJ21: =IF(CM21="","",SUM(DH21,CM21)) | DK21: =IF(CN21="","",SUM(DI21,CN21)) | DL21: =IF(CO21="","",SUM(DJ21,CO21)) | DM21: =IF(CP21="","",SUM(DK21,CP21)) | DN21: =IF(CQ21="","",SUM(DL21,CQ21)) | DO21: =IF(CR21="","",SUM(DM21,CR21)) | ... EA21: =IF(DD21="","",SUM(DY21,DD21))
AI22: HEALTH CARE | AJ22: 36 | AK22: 1 | AL22: 28 | AM22: 84 | AN22: 10 | AO22: 10 | AP22: 9 | AQ22: 0.5 | AR22: 70 | AS22: 100 | AT22: 5 | AU22: 4 | AV22: 8 | AW22: 1 | AX22: 25 | AY22: 90 | AZ22: 10 | BA22: 10 | BB22: 10 | BC22: 70 | BD22: 100 | BE22: 6 | BF22: 8 | BG22: 4 | BH22: 7 | BI22: 15 | BJ22: 10 | BK22: 24 | BL22: 14 | BM22: 30 | BN22: 70 | BO22: 10 | BP22: 10 | BQ22: 10 | BR22: 33 | BS22: 18 | BT22: 60 | BU22: 30 | BV22: 24 | BW22: 44 | BX22: 30 | BY22: 24 | BZ22: 28 | CA22: 27 | CB22: 14 | CD22: c | CG22: =IF(CG$6="","",CG$6) | CI22: =IF(CI$6="","",CI$6) | CK22: =IF(CK$6="","",CK$6) | CM22: =IF(CM$6="","",CM$6) | CO22: =IF(CO$6="","",CO$6) | CQ22: =IF(CQ$6="","",CQ$6) | CS22: =IF(CS$6="","",CS$6) | CU22: =IF(CU$6="","",CU$6) | CW22: =IF(CW$6="","",CW$6) | CY22: =IF(CY$6="","",CY$6) | DA22: =IF(DA$6="","",DA$6) | DC22: =IF(DC$6="","",DC$6) | DF22: =IF(CI22="","",SUM(CG22,CI22)) | DG22: =IF(CJ22="","",SUM(CH22,CJ22)) | DH22: =IF(CK22="","",SUM(DF22,CK22)) | DI22: =IF(CL22="","",SUM(DG22,CL22)) | DJ22: =IF(CM22="","",SUM(DH22,CM22)) | DK22: =IF(CN22="","",SUM(DI22,CN22)) | DL22: =IF(CO22="","",SUM(DJ22,CO22)) | DM22: =IF(CP22="","",SUM(DK22,CP22)) | DN22: =IF(CQ22="","",SUM(DL22,CQ22)) | DO22: =IF(CR22="","",SUM(DM22,CR22)) | ... EA22: =IF(DD22="","",SUM(DY22,DD22))
AN23: 10 | AO23: 10 | AP23: 9 | AQ23: 0.5 | AR23: 70 | AS23: 100 | AT23: 5 | AU23: 4 | AV23: 8 | AW23: 1 | AX23: 25 | AY23: 90 | AZ23: 10 | BA23: 10 | BB23: 10 | BC23: 70 | BD23: 100 | BE23: 6 | BF23: 8 | BG23: 4 | BH23: 7 | BI23: 15 | BJ23: 10 | BK23: 24 | BL23: 14 | BM23: 30 | BN23: 70 | BO23: 10 | BP23: 10 | BQ23: 10 | BR23: 33 | BS23: 18 | BT23: 60 | BU23: 30 | BV23: 24 | BW23: 44 | BX23: 30 | BY23: 24 | BZ23: 28 | CA23: 27 | CB23: 14 | CD23: d | CG23: =IF(CG$6="","",CG$6) | CI23: =IF(CI$6="","",CI$6) | CK23: =IF(CK$6="","",CK$6) | CM23: =IF(CM$6="","",CM$6) | CO23: =IF(CO$6="","",CO$6) | CQ23: =IF(CQ$6="","",CQ$6) | CS23: =IF(CS$6="","",CS$6) | CU23: =IF(CU$6="","",CU$6) | CW23: =IF(CW$6="","",CW$6) | CY23: =IF(CY$6="","",CY$6) | DA23: =IF(DA$6="","",DA$6) | DC23: =IF(DC$6="","",DC$6) | DF23: =IF(CI23="","",SUM(CG23,CI23)) | DG23: =IF(CJ23="","",SUM(CH23,CJ23)) | DH23: =IF(CK23="","",SUM(DF23,CK23)) | DI23: =IF(CL23="","",SUM(DG23,CL23)) | DJ23: =IF(CM23="","",SUM(DH23,CM23)) | DK23: =IF(CN23="","",SUM(DI23,CN23)) | DL23: =IF(CO23="","",SUM(DJ23,CO23)) | DM23: =IF(CP23="","",SUM(DK23,CP23)) | DN23: =IF(CQ23="","",SUM(DL23,CQ23)) | DO23: =IF(CR23="","",SUM(DM23,CR23)) | ... EA23: =IF(DD23="","",SUM(DY23,DD23))
AN24: 10 | AO24: 10 | AP24: 9 | AQ24: 0.5 | AR24: 70 | AS24: 100 | AT24: 5 | AU24: 4 | AV24: 8 | AW24: 1 | AX24: 25 | AY24: 90 | AZ24: 10 | BA24: 10 | BB24: 10 | BC24: 70 | BD24: 100 | BE24: 6 | BF24: 8 | BG24: 4 | BH24: 7 | BI24: 15 | BJ24: 10 | BK24: 24 | BL24: 14 | BM24: 30 | BN24: 70 | BO24: 10 | BP24: 10 | BQ24: 10 | BR24: 33 | BS24: 18 | BT24: 60 | BU24: 30 | BV24: 24 | BW24: 44 | BX24: 30 | BY24: 24 | BZ24: 28 | CA24: 27 | CB24: 14 | CG24: =IF(CG$6="","",CG$6) | CI24: =IF(CI$6="","",CI$6) | CK24: =IF(CK$6="","",CK$6) | CM24: =IF(CM$6="","",CM$6) | CO24: =IF(CO$6="","",CO$6) | CQ24: =IF(CQ$6="","",CQ$6) | CS24: =IF(CS$6="","",CS$6) | CU24: =IF(CU$6="","",CU$6) | CW24: =IF(CW$6="","",CW$6) | CY24: =IF(CY$6="","",CY$6) | DA24: =IF(DA$6="","",DA$6) | DC24: =IF(DC$6="","",DC$6) | DF24: =IF(CI24="","",SUM(CG24,CI24)) | DG24: =IF(CJ24="","",SUM(CH24,CJ24)) | DH24: =IF(CK24="","",SUM(DF24,CK24)) | DI24: =IF(CL24="","",SUM(DG24,CL24)) | DJ24: =IF(CM24="","",SUM(DH24,CM24)) | DK24: =IF(CN24="","",SUM(DI24,CN24)) | DL24: =IF(CO24="","",SUM(DJ24,CO24)) | DM24: =IF(CP24="","",SUM(DK24,CP24)) | DN24: =IF(CQ24="","",SUM(DL24,CQ24)) | DO24: =IF(CR24="","",SUM(DM24,CR24)) | ... EA24: =IF(DD24="","",SUM(DY24,DD24))
AN25: 10 | AO25: 10 | AP25: 9 | AQ25: 0.5 | AR25: 70 | AS25: 100 | AT25: 5 | AU25: 4 | AV25: 8 | AW25: 1 | AX25: 25 | AY25: 90 | AZ25: 10 | BA25: 10 | BB25: 10 | BC25: 70 | BD25: 100 | BE25: 6 | BF25: 8 | BG25: 4 | BH25: 7 | BI25: 15 | BJ25: 10 | BK25: 24 | BL25: 14 | BM25: 30 | BN25: 70 | BO25: 10 | BP25: 10 | BQ25: 10 | BR25: 33 | BS25: 18 | BT25: 60 | BU25: 30 | BV25: 24 | BW25: 44 | BX25: 30 | BY25: 24 | BZ25: 28 | CA25: 27 | CB25: 14 | CD25: SANSKRIT | CG25: =IF(CG$6="","",CG$6) | CI25: =IF(CI$6="","",CI$6) | CK25: =IF(CK$6="","",CK$6) | CM25: =IF(CM$6="","",CM$6) | CO25: =IF(CO$6="","",CO$6) | CQ25: =IF(CQ$6="","",CQ$6) | CS25: =IF(CS$6="","",CS$6) | CU25: =IF(CU$6="","",CU$6) | CW25: =IF(CW$6="","",CW$6) | CY25: =IF(CY$6="","",CY$6) | DA25: =IF(DA$6="","",DA$6) | DC25: =IF(DC$6="","",DC$6) | DF25: =IF(CI25="","",SUM(CG25,CI25)) | DG25: =IF(CJ25="","",SUM(CH25,CJ25)) | DH25: =IF(CK25="","",SUM(DF25,CK25)) | DI25: =IF(CL25="","",SUM(DG25,CL25)) | DJ25: =IF(CM25="","",SUM(DH25,CM25)) | DK25: =IF(CN25="","",SUM(DI25,CN25)) | DL25: =IF(CO25="","",SUM(DJ25,CO25)) | DM25: =IF(CP25="","",SUM(DK25,CP25)) | DN25: =IF(CQ25="","",SUM(DL25,CQ25)) | DO25: =IF(CR25="","",SUM(DM25,CR25)) | ... EA25: =IF(DD25="","",SUM(DY25,DD25))
AN26: 10 | AO26: 10 | AP26: 9 | AQ26: 0.5 | AR26: 70 | AS26: 100 | AT26: 5 | AU26: 4 | AV26: 8 | AW26: 1 | AX26: 25 | AY26: 90 | AZ26: 10 | BA26: 10 | BB26: 10 | BC26: 70 | BD26: 100 | BE26: 6 | BF26: 8 | BG26: 4 | BH26: 7 | BI26: 15 | BJ26: 10 | BK26: 24 | BL26: 14 | BM26: 30 | BN26: 70 | BO26: 10 | BP26: 10 | BQ26: 10 | BR26: 33 | BS26: 18 | BT26: 60 | BU26: 30 | BV26: 24 | BW26: 44 | BX26: 30 | BY26: 24 | BZ26: 28 | CA26: 27 | CB26: 14 | CD26: URDU | CG26: =IF(CG$6="","",CG$6) | CI26: =IF(CI$6="","",CI$6) | CK26: =IF(CK$6="","",CK$6) | CM26: =IF(CM$6="","",CM$6) | CO26: =IF(CO$6="","",CO$6) | CQ26: =IF(CQ$6="","",CQ$6) | CS26: =IF(CS$6="","",CS$6) | CU26: =IF(CU$6="","",CU$6) | CW26: =IF(CW$6="","",CW$6) | CY26: =IF(CY$6="","",CY$6) | DA26: =IF(DA$6="","",DA$6) | DC26: =IF(DC$6="","",DC$6) | DF26: =IF(CI26="","",SUM(CG26,CI26)) | DG26: =IF(CJ26="","",SUM(CH26,CJ26)) | DH26: =IF(CK26="","",SUM(DF26,CK26)) | DI26: =IF(CL26="","",SUM(DG26,CL26)) | DJ26: =IF(CM26="","",SUM(DH26,CM26)) | DK26: =IF(CN26="","",SUM(DI26,CN26)) | DL26: =IF(CO26="","",SUM(DJ26,CO26)) | DM26: =IF(CP26="","",SUM(DK26,CP26)) | DN26: =IF(CQ26="","",SUM(DL26,CQ26)) | DO26: =IF(CR26="","",SUM(DM26,CR26)) | ... EA26: =IF(DD26="","",SUM(DY26,DD26))
AI27: BEAUTY AND HEALTH | AJ27: 34 | AK27: 1 | AL27: 26 | AM27: 84 | AN27: 10 | AO27: 10 | AP27: 9 | AQ27: 0.5 | AR27: 70 | AS27: 100 | AT27: 5 | AU27: 4 | AV27: 8 | AW27: 1 | AX27: 25 | AY27: 90 | AZ27: 10 | BA27: 10 | BB27: 10 | BC27: 70 | BD27: 100 | BE27: 6 | BF27: 8 | BG27: 4 | BH27: 7 | BI27: 15 | BJ27: 10 | BK27: 24 | BL27: 14 | BM27: 30 | BN27: 70 | BO27: 10 | BP27: 10 | BQ27: 10 | BR27: 33 | BS27: 18 | BT27: 60 | BU27: 30 | BV27: 24 | BW27: 44 | BX27: 30 | BY27: 24 | BZ27: 28 | CA27: 27 | CB27: 14 | CD27: GUJRATI | CG27: =IF(CG$6="","",CG$6) | CI27: =IF(CI$6="","",CI$6) | CK27: =IF(CK$6="","",CK$6) | CM27: =IF(CM$6="","",CM$6) | CO27: =IF(CO$6="","",CO$6) | CQ27: =IF(CQ$6="","",CQ$6) | CS27: =IF(CS$6="","",CS$6) | CU27: =IF(CU$6="","",CU$6) | CW27: =IF(CW$6="","",CW$6) | CY27: =IF(CY$6="","",CY$6) | DA27: =IF(DA$6="","",DA$6) | DC27: =IF(DC$6="","",DC$6) | DF27: =IF(CI27="","",SUM(CG27,CI27)) | DG27: =IF(CJ27="","",SUM(CH27,CJ27)) | DH27: =IF(CK27="","",SUM(DF27,CK27)) | DI27: =IF(CL27="","",SUM(DG27,CL27)) | DJ27: =IF(CM27="","",SUM(DH27,CM27)) | DK27: =IF(CN27="","",SUM(DI27,CN27)) | DL27: =IF(CO27="","",SUM(DJ27,CO27)) | DM27: =IF(CP27="","",SUM(DK27,CP27)) | DN27: =IF(CQ27="","",SUM(DL27,CQ27)) | DO27: =IF(CR27="","",SUM(DM27,CR27)) | ... EA27: =IF(DD27="","",SUM(DY27,DD27))
AN28: 10 | AO28: 10 | AP28: 9 | AQ28: 0.5 | AR28: 70 | AS28: 100 | AT28: 5 | AU28: 4 | AV28: 8 | AW28: 1 | AX28: 25 | AY28: 90 | AZ28: 10 | BA28: 10 | BB28: 10 | BC28: 70 | BD28: 100 | BE28: 6 | BF28: 8 | BG28: 4 | BH28: 7 | BI28: 15 | BJ28: 10 | BK28: 24 | BL28: 14 | BM28: 30 | BN28: 70 | BO28: 10 | BP28: 10 | BQ28: 10 | BR28: 33 | BS28: 18 | BT28: 60 | BU28: 30 | BV28: 24 | BW28: 44 | BX28: 30 | BY28: 24 | BZ28: 28 | CA28: 27 | CB28: 14 | CD28: PUNJABI | CG28: =IF(CG$6="","",CG$6) | CI28: =IF(CI$6="","",CI$6) | CK28: =IF(CK$6="","",CK$6) | CM28: =IF(CM$6="","",CM$6) | CO28: =IF(CO$6="","",CO$6) | CQ28: =IF(CQ$6="","",CQ$6) | CS28: =IF(CS$6="","",CS$6) | CU28: =IF(CU$6="","",CU$6) | CW28: =IF(CW$6="","",CW$6) | CY28: =IF(CY$6="","",CY$6) | DA28: =IF(DA$6="","",DA$6) | DC28: =IF(DC$6="","",DC$6) | DF28: =IF(CI28="","",SUM(CG28,CI28)) | DG28: =IF(CJ28="","",SUM(CH28,CJ28)) | DH28: =IF(CK28="","",SUM(DF28,CK28)) | DI28: =IF(CL28="","",SUM(DG28,CL28)) | DJ28: =IF(CM28="","",SUM(DH28,CM28)) | DK28: =IF(CN28="","",SUM(DI28,CN28)) | DL28: =IF(CO28="","",SUM(DJ28,CO28)) | DM28: =IF(CP28="","",SUM(DK28,CP28)) | DN28: =IF(CQ28="","",SUM(DL28,CQ28)) | DO28: =IF(CR28="","",SUM(DM28,CR28)) | ... EA28: =IF(DD28="","",SUM(DY28,DD28))
AN29: 10 | AO29: 10 | AP29: 9 | AQ29: 0.5 | AR29: 70 | AS29: 100 | AT29: 5 | AU29: 4 | AV29: 8 | AW29: 1 | AX29: 25 | AY29: 90 | AZ29: 10 | BA29: 10 | BB29: 10 | BC29: 70 | BD29: 100 | BE29: 6 | BF29: 8 | BG29: 4 | BH29: 7 | BI29: 15 | BJ29: 10 | BK29: 24 | BL29: 14 | BM29: 30 | BN29: 70 | BO29: 10 | BP29: 10 | BQ29: 10 | BR29: 33 | BS29: 18 | BT29: 60 | BU29: 30 | BV29: 24 | BW29: 44 | BX29: 30 | BY29: 24 | BZ29: 28 | CA29: 27 | CB29: 14 | CD29: SINDHI | CG29: =IF(CG$6="","",CG$6) | CI29: =IF(CI$6="","",CI$6) | CK29: =IF(CK$6="","",CK$6) | CM29: =IF(CM$6="","",CM$6) | CO29: =IF(CO$6="","",CO$6) | CQ29: =IF(CQ$6="","",CQ$6) | CS29: =IF(CS$6="","",CS$6) | CU29: =IF(CU$6="","",CU$6) | CW29: =IF(CW$6="","",CW$6) | CY29: =IF(CY$6="","",CY$6) | DA29: =IF(DA$6="","",DA$6) | DC29: =IF(DC$6="","",DC$6) | DF29: =IF(CI29="","",SUM(CG29,CI29)) | DG29: =IF(CJ29="","",SUM(CH29,CJ29)) | DH29: =IF(CK29="","",SUM(DF29,CK29)) | DI29: =IF(CL29="","",SUM(DG29,CL29)) | DJ29: =IF(CM29="","",SUM(DH29,CM29)) | DK29: =IF(CN29="","",SUM(DI29,CN29)) | DL29: =IF(CO29="","",SUM(DJ29,CO29)) | DM29: =IF(CP29="","",SUM(DK29,CP29)) | DN29: =IF(CQ29="","",SUM(DL29,CQ29)) | DO29: =IF(CR29="","",SUM(DM29,CR29)) | ... EA29: =IF(DD29="","",SUM(DY29,DD29))
AI30: HEALTH CARE | AJ30: 34 | AK30: 1 | AL30: 26 | AM30: 84 | AN30: 10 | AO30: 10 | AP30: 9 | AQ30: 0.5 | AR30: 70 | AS30: 100 | AT30: 5 | AU30: 4 | AV30: 8 | AW30: 1 | AX30: 25 | AY30: 90 | AZ30: 10 | BA30: 10 | BB30: 10 | BC30: 70 | BD30: 100 | BE30: 6 | BF30: 8 | BG30: 4 | BH30: 7 | BI30: 15 | BJ30: 10 | BK30: 24 | BL30: 14 | BM30: 30 | BN30: 70 | BO30: 10 | BP30: 10 | BQ30: 10 | BR30: 33 | BS30: 18 | BT30: 60 | BU30: 30 | BV30: 24 | BW30: 44 | BX30: 30 | BY30: 24 | BZ30: 28 | CA30: 27 | CB30: 14 | CG30: =IF(CG$6="","",CG$6) | CI30: =IF(CI$6="","",CI$6) | CK30: =IF(CK$6="","",CK$6) | CM30: =IF(CM$6="","",CM$6) | CO30: =IF(CO$6="","",CO$6) | CQ30: =IF(CQ$6="","",CQ$6) | CS30: =IF(CS$6="","",CS$6) | CU30: =IF(CU$6="","",CU$6) | CW30: =IF(CW$6="","",CW$6) | CY30: =IF(CY$6="","",CY$6) | DA30: =IF(DA$6="","",DA$6) | DC30: =IF(DC$6="","",DC$6) | DF30: =IF(CI30="","",SUM(CG30,CI30)) | DG30: =IF(CJ30="","",SUM(CH30,CJ30)) | DH30: =IF(CK30="","",SUM(DF30,CK30)) | DI30: =IF(CL30="","",SUM(DG30,CL30)) | DJ30: =IF(CM30="","",SUM(DH30,CM30)) | DK30: =IF(CN30="","",SUM(DI30,CN30)) | DL30: =IF(CO30="","",SUM(DJ30,CO30)) | DM30: =IF(CP30="","",SUM(DK30,CP30)) | DN30: =IF(CQ30="","",SUM(DL30,CQ30)) | DO30: =IF(CR30="","",SUM(DM30,CR30)) | ... EA30: =IF(DD30="","",SUM(DY30,DD30))
AI31: HEALTH CARE | AJ31: 36 | AK31: 1 | AL31: 40 | AM31: 92 | AN31: 10 | AO31: 10 | AP31: 9 | AQ31: 0.5 | AR31: 70 | AS31: 100 | AT31: 5 | AU31: 4 | AV31: 8 | AW31: 1 | AX31: 25 | AY31: 90 | AZ31: 10 | BA31: 10 | BB31: 10 | BC31: 70 | BD31: 100 | BE31: 6 | BF31: 8 | BG31: 4 | BH31: 7 | BI31: 15 | BJ31: 10 | BK31: 24 | BL31: 14 | BM31: 30 | BN31: 70 | BO31: 10 | BP31: 10 | BQ31: 10 | BR31: 33 | BS31: 18 | BT31: 60 | BU31: 30 | BV31: 24 | BW31: 44 | BX31: 30 | BY31: 24 | BZ31: 28 | CA31: 27 | CB31: 14 | CG31: =IF(CG$6="","",CG$6) | CI31: =IF(CI$6="","",CI$6) | CK31: =IF(CK$6="","",CK$6) | CM31: =IF(CM$6="","",CM$6) | CO31: =IF(CO$6="","",CO$6) | CQ31: =IF(CQ$6="","",CQ$6) | CS31: =IF(CS$6="","",CS$6) | CU31: =IF(CU$6="","",CU$6) | CW31: =IF(CW$6="","",CW$6) | CY31: =IF(CY$6="","",CY$6) | DA31: =IF(DA$6="","",DA$6) | DC31: =IF(DC$6="","",DC$6) | DF31: =IF(CI31="","",SUM(CG31,CI31)) | DG31: =IF(CJ31="","",SUM(CH31,CJ31)) | DH31: =IF(CK31="","",SUM(DF31,CK31)) | DI31: =IF(CL31="","",SUM(DG31,CL31)) | DJ31: =IF(CM31="","",SUM(DH31,CM31)) | DK31: =IF(CN31="","",SUM(DI31,CN31)) | DL31: =IF(CO31="","",SUM(DJ31,CO31)) | DM31: =IF(CP31="","",SUM(DK31,CP31)) | DN31: =IF(CQ31="","",SUM(DL31,CQ31)) | DO31: =IF(CR31="","",SUM(DM31,CR31)) | ... EA31: =IF(DD31="","",SUM(DY31,DD31))
AI32: HEALTH CARE | AJ32: 36 | AK32: 1 | AL32: 28 | AM32: 84 | AN32: 10 | AO32: 10 | AP32: 9 | AQ32: 0.5 | AR32: 70 | AS32: 100 | AT32: 5 | AU32: 4 | AV32: 8 | AW32: 1 | AX32: 25 | AY32: 90 | AZ32: 10 | BA32: 10 | BB32: 10 | BC32: 70 | BD32: 100 | BE32: 6 | BF32: 8 | BG32: 4 | BH32: 7 | BI32: 15 | BJ32: 10 | BK32: 24 | BL32: 14 | BM32: 30 | BN32: 70 | BO32: 10 | BP32: 10 | BQ32: 10 | BR32: 33 | BS32: 18 | BT32: 60 | BU32: 30 | BV32: 24 | BW32: 44 | BX32: 30 | BY32: 24 | BZ32: 28 | CA32: 27 | CB32: 14 | CD32: AUTOMOBILE | CG32: =IF(CG$6="","",CG$6) | CI32: =IF(CI$6="","",CI$6) | CK32: =IF(CK$6="","",CK$6) | CM32: =IF(CM$6="","",CM$6) | CO32: =IF(CO$6="","",CO$6) | CQ32: =IF(CQ$6="","",CQ$6) | CS32: =IF(CS$6="","",CS$6) | CU32: =IF(CU$6="","",CU$6) | CW32: =IF(CW$6="","",CW$6) | CY32: =IF(CY$6="","",CY$6) | DA32: =IF(DA$6="","",DA$6) | DC32: =IF(DC$6="","",DC$6) | DF32: =IF(CI32="","",SUM(CG32,CI32)) | DG32: =IF(CJ32="","",SUM(CH32,CJ32)) | DH32: =IF(CK32="","",SUM(DF32,CK32)) | DI32: =IF(CL32="","",SUM(DG32,CL32)) | DJ32: =IF(CM32="","",SUM(DH32,CM32)) | DK32: =IF(CN32="","",SUM(DI32,CN32)) | DL32: =IF(CO32="","",SUM(DJ32,CO32)) | DM32: =IF(CP32="","",SUM(DK32,CP32)) | DN32: =IF(CQ32="","",SUM(DL32,CQ32)) | DO32: =IF(CR32="","",SUM(DM32,CR32)) | ... EA32: =IF(DD32="","",SUM(DY32,DD32))
AN33: 10 | AO33: 10 | AP33: 9 | AQ33: 0.5 | AR33: 70 | AS33: 100 | AT33: 5 | AU33: 4 | AV33: 8 | AW33: 1 | AX33: 25 | AY33: 90 | AZ33: 10 | BA33: 10 | BB33: 10 | BC33: 70 | BD33: 100 | BE33: 6 | BF33: 8 | BG33: 4 | BH33: 7 | BI33: 15 | BJ33: 10 | BK33: 24 | BL33: 14 | BM33: 30 | BN33: 70 | BO33: 10 | BP33: 10 | BQ33: 10 | BR33: 33 | BS33: 18 | BT33: 60 | BU33: 30 | BV33: 24 | BW33: 44 | BX33: 30 | BY33: 24 | BZ33: 28 | CA33: 27 | CB33: 14 | CD33: BEAUTY AND HEALTH | CG33: =IF(CG$6="","",CG$6) | CI33: =IF(CI$6="","",CI$6) | CK33: =IF(CK$6="","",CK$6) | CM33: =IF(CM$6="","",CM$6) | CO33: =IF(CO$6="","",CO$6) | CQ33: =IF(CQ$6="","",CQ$6) | CS33: =IF(CS$6="","",CS$6) | CU33: =IF(CU$6="","",CU$6) | CW33: =IF(CW$6="","",CW$6) | CY33: =IF(CY$6="","",CY$6) | DA33: =IF(DA$6="","",DA$6) | DC33: =IF(DC$6="","",DC$6) | DF33: =IF(CI33="","",SUM(CG33,CI33)) | DG33: =IF(CJ33="","",SUM(CH33,CJ33)) | DH33: =IF(CK33="","",SUM(DF33,CK33)) | DI33: =IF(CL33="","",SUM(DG33,CL33)) | DJ33: =IF(CM33="","",SUM(DH33,CM33)) | DK33: =IF(CN33="","",SUM(DI33,CN33)) | DL33: =IF(CO33="","",SUM(DJ33,CO33)) | DM33: =IF(CP33="","",SUM(DK33,CP33)) | DN33: =IF(CQ33="","",SUM(DL33,CQ33)) | DO33: =IF(CR33="","",SUM(DM33,CR33)) | ... EA33: =IF(DD33="","",SUM(DY33,DD33))
AN34: 10 | AO34: 10 | AP34: 9 | AQ34: 0.5 | AR34: 70 | AS34: 100 | AT34: 5 | AU34: 4 | AV34: 8 | AW34: 1 | AX34: 25 | AY34: 90 | AZ34: 10 | BA34: 10 | BB34: 10 | BC34: 70 | BD34: 100 | BE34: 6 | BF34: 8 | BG34: 4 | BH34: 7 | BI34: 15 | BJ34: 10 | BK34: 24 | BL34: 14 | BM34: 30 | BN34: 70 | BO34: 10 | BP34: 10 | BQ34: 10 | BR34: 33 | BS34: 18 | BT34: 60 | BU34: 30 | BV34: 24 | BW34: 44 | BX34: 30 | BY34: 24 | BZ34: 28 | CA34: 27 | CB34: 14 | CD34: DRESS DESIGNING AND HOME DECORATION | CG34: =IF(CG$6="","",CG$6) | CI34: =IF(CI$6="","",CI$6) | CK34: =IF(CK$6="","",CK$6) | CM34: =IF(CM$6="","",CM$6) | CO34: =IF(CO$6="","",CO$6) | CQ34: =IF(CQ$6="","",CQ$6) | CS34: =IF(CS$6="","",CS$6) | CU34: =IF(CU$6="","",CU$6) | CW34: =IF(CW$6="","",CW$6) | CY34: =IF(CY$6="","",CY$6) | DA34: =IF(DA$6="","",DA$6) | DC34: =IF(DC$6="","",DC$6) | DF34: =IF(CI34="","",SUM(CG34,CI34)) | DG34: =IF(CJ34="","",SUM(CH34,CJ34)) | DH34: =IF(CK34="","",SUM(DF34,CK34)) | DI34: =IF(CL34="","",SUM(DG34,CL34)) | DJ34: =IF(CM34="","",SUM(DH34,CM34)) | DK34: =IF(CN34="","",SUM(DI34,CN34)) | DL34: =IF(CO34="","",SUM(DJ34,CO34)) | DM34: =IF(CP34="","",SUM(DK34,CP34)) | DN34: =IF(CQ34="","",SUM(DL34,CQ34)) | DO34: =IF(CR34="","",SUM(DM34,CR34)) | ... EA34: =IF(DD34="","",SUM(DY34,DD34))
AN35: 10 | AO35: 10 | AP35: 9 | AQ35: 0.5 | AR35: 70 | AS35: 100 | AT35: 5 | AU35: 4 | AV35: 8 | AW35: 1 | AX35: 25 | AY35: 90 | AZ35: 10 | BA35: 10 | BB35: 10 | BC35: 70 | BD35: 100 | BE35: 6 | BF35: 8 | BG35: 4 | BH35: 7 | BI35: 15 | BJ35: 10 | BK35: 24 | BL35: 14 | BM35: 30 | BN35: 70 | BO35: 10 | BP35: 10 | BQ35: 10 | BR35: 33 | BS35: 18 | BT35: 60 | BU35: 30 | BV35: 24 | BW35: 44 | BX35: 30 | BY35: 24 | BZ35: 28 | CA35: 27 | CB35: 14 | CD35: ELECTRICALS AND ELECTRONICS | CG35: =IF(CG$6="","",CG$6) | CI35: =IF(CI$6="","",CI$6) | CK35: =IF(CK$6="","",CK$6) | CM35: =IF(CM$6="","",CM$6) | CO35: =IF(CO$6="","",CO$6) | CQ35: =IF(CQ$6="","",CQ$6) | CS35: =IF(CS$6="","",CS$6) | CU35: =IF(CU$6="","",CU$6) | CW35: =IF(CW$6="","",CW$6) | CY35: =IF(CY$6="","",CY$6) | DA35: =IF(DA$6="","",DA$6) | DC35: =IF(DC$6="","",DC$6) | DF35: =IF(CI35="","",SUM(CG35,CI35)) | DG35: =IF(CJ35="","",SUM(CH35,CJ35)) | DH35: =IF(CK35="","",SUM(DF35,CK35)) | DI35: =IF(CL35="","",SUM(DG35,CL35)) | DJ35: =IF(CM35="","",SUM(DH35,CM35)) | DK35: =IF(CN35="","",SUM(DI35,CN35)) | DL35: =IF(CO35="","",SUM(DJ35,CO35)) | DM35: =IF(CP35="","",SUM(DK35,CP35)) | DN35: =IF(CQ35="","",SUM(DL35,CQ35)) | DO35: =IF(CR35="","",SUM(DM35,CR35)) | ... EA35: =IF(DD35="","",SUM(DY35,DD35))
AN36: 10 | AO36: 10 | AP36: 9 | AQ36: 0.5 | AR36: 70 | AS36: 100 | AT36: 5 | AU36: 4 | AV36: 8 | AW36: 1 | AX36: 25 | AY36: 90 | AZ36: 10 | BA36: 10 | BB36: 10 | BC36: 70 | BD36: 100 | BE36: 6 | BF36: 8 | BG36: 4 | BH36: 7 | BI36: 15 | BJ36: 10 | BK36: 24 | BL36: 14 | BM36: 30 | BN36: 70 | BO36: 10 | BP36: 10 | BQ36: 10 | BR36: 33 | BS36: 18 | BT36: 60 | BU36: 30 | BV36: 24 | BW36: 44 | BX36: 30 | BY36: 24 | BZ36: 28 | CA36: 27 | CB36: 14 | CD36: HEALTH CARE | CG36: =IF(CG$6="","",CG$6) | CI36: =IF(CI$6="","",CI$6) | CK36: =IF(CK$6="","",CK$6) | CM36: =IF(CM$6="","",CM$6) | CO36: =IF(CO$6="","",CO$6) | CQ36: =IF(CQ$6="","",CQ$6) | CS36: =IF(CS$6="","",CS$6) | CU36: =IF(CU$6="","",CU$6) | CW36: =IF(CW$6="","",CW$6) | CY36: =IF(CY$6="","",CY$6) | DA36: =IF(DA$6="","",DA$6) | DC36: =IF(DC$6="","",DC$6) | DF36: =IF(CI36="","",SUM(CG36,CI36)) | DG36: =IF(CJ36="","",SUM(CH36,CJ36)) | DH36: =IF(CK36="","",SUM(DF36,CK36)) | DI36: =IF(CL36="","",SUM(DG36,CL36)) | DJ36: =IF(CM36="","",SUM(DH36,CM36)) | DK36: =IF(CN36="","",SUM(DI36,CN36)) | DL36: =IF(CO36="","",SUM(DJ36,CO36)) | DM36: =IF(CP36="","",SUM(DK36,CP36)) | DN36: =IF(CQ36="","",SUM(DL36,CQ36)) | DO36: =IF(CR36="","",SUM(DM36,CR36)) | ... EA36: =IF(DD36="","",SUM(DY36,DD36))
AN37: 10 | AO37: 10 | AP37: 9 | AQ37: 0.5 | AR37: 70 | AS37: 100 | AT37: 5 | AU37: 4 | AV37: 8 | AW37: 1 | AX37: 25 | AY37: 90 | AZ37: 10 | BA37: 10 | BB37: 10 | BC37: 70 | BD37: 100 | BE37: 6 | BF37: 8 | BG37: 4 | BH37: 7 | BI37: 15 | BJ37: 10 | BK37: 24 | BL37: 14 | BM37: 30 | BN37: 70 | BO37: 10 | BP37: 10 | BQ37: 10 | BR37: 33 | BS37: 18 | BT37: 60 | BU37: 30 | BV37: 24 | BW37: 44 | BX37: 30 | BY37: 24 | BZ37: 28 | CA37: 27 | CB37: 14 | CD37: INFORMATION TECHNOLOGY Ites | CG37: =IF(CG$6="","",CG$6) | CI37: =IF(CI$6="","",CI$6) | CK37: =IF(CK$6="","",CK$6) | CM37: =IF(CM$6="","",CM$6) | CO37: =IF(CO$6="","",CO$6) | CQ37: =IF(CQ$6="","",CQ$6) | CS37: =IF(CS$6="","",CS$6) | CU37: =IF(CU$6="","",CU$6) | CW37: =IF(CW$6="","",CW$6) | CY37: =IF(CY$6="","",CY$6) | DA37: =IF(DA$6="","",DA$6) | DC37: =IF(DC$6="","",DC$6) | DF37: =IF(CI37="","",SUM(CG37,CI37)) | DG37: =IF(CJ37="","",SUM(CH37,CJ37)) | DH37: =IF(CK37="","",SUM(DF37,CK37)) | DI37: =IF(CL37="","",SUM(DG37,CL37)) | DJ37: =IF(CM37="","",SUM(DH37,CM37)) | DK37: =IF(CN37="","",SUM(DI37,CN37)) | DL37: =IF(CO37="","",SUM(DJ37,CO37)) | DM37: =IF(CP37="","",SUM(DK37,CP37)) | DN37: =IF(CQ37="","",SUM(DL37,CQ37)) | DO37: =IF(CR37="","",SUM(DM37,CR37)) | ... EA37: =IF(DD37="","",SUM(DY37,DD37))
AN38: 10 | AO38: 10 | AP38: 9 | AQ38: 0.5 | AR38: 70 | AS38: 100 | AT38: 5 | AU38: 4 | AV38: 8 | AW38: 1 | AX38: 25 | AY38: 90 | AZ38: 10 | BA38: 10 | BB38: 10 | BC38: 70 | BD38: 100 | BE38: 6 | BF38: 8 | BG38: 4 | BH38: 7 | BI38: 15 | BJ38: 10 | BK38: 24 | BL38: 14 | BM38: 30 | BN38: 70 | BO38: 10 | BP38: 10 | BQ38: 10 | BR38: 33 | BS38: 18 | BT38: 60 | BU38: 30 | BV38: 24 | BW38: 44 | BX38: 30 | BY38: 24 | BZ38: 28 | CA38: 27 | CB38: 14 | CD38: MICRO IRRIGATION SYSTEM | CG38: =IF(CG$6="","",CG$6) | CI38: =IF(CI$6="","",CI$6) | CK38: =IF(CK$6="","",CK$6) | CM38: =IF(CM$6="","",CM$6) | CO38: =IF(CO$6="","",CO$6) | CQ38: =IF(CQ$6="","",CQ$6) | CS38: =IF(CS$6="","",CS$6) | CU38: =IF(CU$6="","",CU$6) | CW38: =IF(CW$6="","",CW$6) | CY38: =IF(CY$6="","",CY$6) | DA38: =IF(DA$6="","",DA$6) | DC38: =IF(DC$6="","",DC$6) | DF38: =IF(CI38="","",SUM(CG38,CI38)) | DG38: =IF(CJ38="","",SUM(CH38,CJ38)) | DH38: =IF(CK38="","",SUM(DF38,CK38)) | DI38: =IF(CL38="","",SUM(DG38,CL38)) | DJ38: =IF(CM38="","",SUM(DH38,CM38)) | DK38: =IF(CN38="","",SUM(DI38,CN38)) | DL38: =IF(CO38="","",SUM(DJ38,CO38)) | DM38: =IF(CP38="","",SUM(DK38,CP38)) | DN38: =IF(CQ38="","",SUM(DL38,CQ38)) | DO38: =IF(CR38="","",SUM(DM38,CR38)) | ... EA38: =IF(DD38="","",SUM(DY38,DD38))
AN39: 10 | AO39: 10 | AP39: 9 | AQ39: 0.5 | AR39: 70 | AS39: 100 | AT39: 5 | AU39: 4 | AV39: 8 | AW39: 1 | AX39: 25 | AY39: 90 | AZ39: 10 | BA39: 10 | BB39: 10 | BC39: 70 | BD39: 100 | BE39: 6 | BF39: 8 | BG39: 4 | BH39: 7 | BI39: 15 | BJ39: 10 | BK39: 24 | BL39: 14 | BM39: 30 | BN39: 70 | BO39: 10 | BP39: 10 | BQ39: 10 | BR39: 33 | BS39: 18 | BT39: 60 | BU39: 30 | BV39: 24 | BW39: 44 | BX39: 30 | BY39: 24 | BZ39: 28 | CA39: 27 | CB39: 14 | CD39: PERSONAL SECURITY | CG39: =IF(CG$6="","",CG$6) | CI39: =IF(CI$6="","",CI$6) | CK39: =IF(CK$6="","",CK$6) | CM39: =IF(CM$6="","",CM$6) | CO39: =IF(CO$6="","",CO$6) | CQ39: =IF(CQ$6="","",CQ$6) | CS39: =IF(CS$6="","",CS$6) | CU39: =IF(CU$6="","",CU$6) | CW39: =IF(CW$6="","",CW$6) | CY39: =IF(CY$6="","",CY$6) | DA39: =IF(DA$6="","",DA$6) | DC39: =IF(DC$6="","",DC$6) | DF39: =IF(CI39="","",SUM(CG39,CI39)) | DG39: =IF(CJ39="","",SUM(CH39,CJ39)) | DH39: =IF(CK39="","",SUM(DF39,CK39)) | DI39: =IF(CL39="","",SUM(DG39,CL39)) | DJ39: =IF(CM39="","",SUM(DH39,CM39)) | DK39: =IF(CN39="","",SUM(DI39,CN39)) | DL39: =IF(CO39="","",SUM(DJ39,CO39)) | DM39: =IF(CP39="","",SUM(DK39,CP39)) | DN39: =IF(CQ39="","",SUM(DL39,CQ39)) | DO39: =IF(CR39="","",SUM(DM39,CR39)) | ... EA39: =IF(DD39="","",SUM(DY39,DD39))
AN40: 10 | AO40: 10 | AP40: 9 | AQ40: 0.5 | AR40: 70 | AS40: 100 | AT40: 5 | AU40: 4 | AV40: 8 | AW40: 1 | AX40: 25 | AY40: 90 | AZ40: 10 | BA40: 10 | BB40: 10 | BC40: 70 | BD40: 100 | BE40: 6 | BF40: 8 | BG40: 4 | BH40: 7 | BI40: 15 | BJ40: 10 | BK40: 24 | BL40: 14 | BM40: 30 | BN40: 70 | BO40: 10 | BP40: 10 | BQ40: 10 | BR40: 33 | BS40: 18 | BT40: 60 | BU40: 30 | BV40: 24 | BW40: 44 | BX40: 30 | BY40: 24 | BZ40: 28 | CA40: 27 | CB40: 14 | CD40: RETAIL SALE | CG40: =IF(CG$6="","",CG$6) | CI40: =IF(CI$6="","",CI$6) | CK40: =IF(CK$6="","",CK$6) | CM40: =IF(CM$6="","",CM$6) | CO40: =IF(CO$6="","",CO$6) | CQ40: =IF(CQ$6="","",CQ$6) | CS40: =IF(CS$6="","",CS$6) | CU40: =IF(CU$6="","",CU$6) | CW40: =IF(CW$6="","",CW$6) | CY40: =IF(CY$6="","",CY$6) | DA40: =IF(DA$6="","",DA$6) | DC40: =IF(DC$6="","",DC$6) | DF40: =IF(CI40="","",SUM(CG40,CI40)) | DG40: =IF(CJ40="","",SUM(CH40,CJ40)) | DH40: =IF(CK40="","",SUM(DF40,CK40)) | DI40: =IF(CL40="","",SUM(DG40,CL40)) | DJ40: =IF(CM40="","",SUM(DH40,CM40)) | DK40: =IF(CN40="","",SUM(DI40,CN40)) | DL40: =IF(CO40="","",SUM(DJ40,CO40)) | DM40: =IF(CP40="","",SUM(DK40,CP40)) | DN40: =IF(CQ40="","",SUM(DL40,CQ40)) | DO40: =IF(CR40="","",SUM(DM40,CR40)) | ... EA40: =IF(DD40="","",SUM(DY40,DD40))
AN41: 10 | AO41: 10 | AP41: 9 | AQ41: 0.5 | AR41: 70 | AS41: 100 | AT41: 5 | AU41: 4 | AV41: 8 | AW41: 1 | AX41: 25 | AY41: 90 | AZ41: 10 | BA41: 10 | BB41: 10 | BC41: 70 | BD41: 100 | BE41: 6 | BF41: 8 | BG41: 4 | BH41: 7 | BI41: 15 | BJ41: 10 | BK41: 24 | BL41: 14 | BM41: 30 | BN41: 70 | BO41: 10 | BP41: 10 | BQ41: 10 | BR41: 33 | BS41: 18 | BT41: 60 | BU41: 30 | BV41: 24 | BW41: 44 | BX41: 30 | BY41: 24 | BZ41: 28 | CA41: 27 | CB41: 14 | CD41: TOURISM AND TRAVEL | CG41: =IF(CG$6="","",CG$6) | CI41: =IF(CI$6="","",CI$6) | CK41: =IF(CK$6="","",CK$6) | CM41: =IF(CM$6="","",CM$6) | CO41: =IF(CO$6="","",CO$6) | CQ41: =IF(CQ$6="","",CQ$6) | CS41: =IF(CS$6="","",CS$6) | CU41: =IF(CU$6="","",CU$6) | CW41: =IF(CW$6="","",CW$6) | CY41: =IF(CY$6="","",CY$6) | DA41: =IF(DA$6="","",DA$6) | DC41: =IF(DC$6="","",DC$6) | DF41: =IF(CI41="","",SUM(CG41,CI41)) | DG41: =IF(CJ41="","",SUM(CH41,CJ41)) | DH41: =IF(CK41="","",SUM(DF41,CK41)) | DI41: =IF(CL41="","",SUM(DG41,CL41)) | DJ41: =IF(CM41="","",SUM(DH41,CM41)) | DK41: =IF(CN41="","",SUM(DI41,CN41)) | DL41: =IF(CO41="","",SUM(DJ41,CO41)) | DM41: =IF(CP41="","",SUM(DK41,CP41)) | DN41: =IF(CQ41="","",SUM(DL41,CQ41)) | DO41: =IF(CR41="","",SUM(DM41,CR41)) | ... EA41: =IF(DD41="","",SUM(DY41,DD41))
AN42: 10 | AO42: 10 | AP42: 9 | AQ42: 0.5 | AR42: 70 | AS42: 100 | AT42: 5 | AU42: 4 | AV42: 8 | AW42: 1 | AX42: 25 | AY42: 90 | AZ42: 10 | BA42: 10 | BB42: 10 | BC42: 70 | BD42: 100 | BE42: 6 | BF42: 8 | BG42: 4 | BH42: 7 | BI42: 15 | BJ42: 10 | BK42: 24 | BL42: 14 | BM42: 30 | BN42: 70 | BO42: 10 | BP42: 10 | BQ42: 10 | BR42: 33 | BS42: 18 | BT42: 60 | BU42: 30 | BV42: 24 | BW42: 44 | BX42: 30 | BY42: 24 | BZ42: 28 | CA42: 27 | CB42: 14 | CD42: VOCATIONAL EDUCATION | CG42: =IF(CG$6="","",CG$6) | CI42: =IF(CI$6="","",CI$6) | CK42: =IF(CK$6="","",CK$6) | CM42: =IF(CM$6="","",CM$6) | CO42: =IF(CO$6="","",CO$6) | CQ42: =IF(CQ$6="","",CQ$6) | CS42: =IF(CS$6="","",CS$6) | CU42: =IF(CU$6="","",CU$6) | CW42: =IF(CW$6="","",CW$6) | CY42: =IF(CY$6="","",CY$6) | DA42: =IF(DA$6="","",DA$6) | DC42: =IF(DC$6="","",DC$6) | DF42: =IF(CI42="","",SUM(CG42,CI42)) | DG42: =IF(CJ42="","",SUM(CH42,CJ42)) | DH42: =IF(CK42="","",SUM(DF42,CK42)) | DI42: =IF(CL42="","",SUM(DG42,CL42)) | DJ42: =IF(CM42="","",SUM(DH42,CM42)) | DK42: =IF(CN42="","",SUM(DI42,CN42)) | DL42: =IF(CO42="","",SUM(DJ42,CO42)) | DM42: =IF(CP42="","",SUM(DK42,CP42)) | DN42: =IF(CQ42="","",SUM(DL42,CQ42)) | DO42: =IF(CR42="","",SUM(DM42,CR42)) | ... EA42: =IF(DD42="","",SUM(DY42,DD42))
AN43: 10 | AO43: 10 | AP43: 9 | AQ43: 0.5 | AR43: 70 | AS43: 100 | AT43: 5 | AU43: 4 | AV43: 8 | AW43: 1 | AX43: 25 | AY43: 90 | AZ43: 10 | BA43: 10 | BB43: 10 | BC43: 70 | BD43: 100 | BE43: 6 | BF43: 8 | BG43: 4 | BH43: 7 | BI43: 15 | BJ43: 10 | BK43: 24 | BL43: 14 | BM43: 30 | BN43: 70 | BO43: 10 | BP43: 10 | BQ43: 10 | BR43: 33 | BS43: 18 | BT43: 60 | BU43: 30 | BV43: 24 | BW43: 44 | BX43: 30 | BY43: 24 | BZ43: 28 | CA43: 27 | CB43: 14 | CG43: =IF(CG$6="","",CG$6) | CI43: =IF(CI$6="","",CI$6) | CK43: =IF(CK$6="","",CK$6) | CM43: =IF(CM$6="","",CM$6) | CO43: =IF(CO$6="","",CO$6) | CQ43: =IF(CQ$6="","",CQ$6) | CS43: =IF(CS$6="","",CS$6) | CU43: =IF(CU$6="","",CU$6) | CW43: =IF(CW$6="","",CW$6) | CY43: =IF(CY$6="","",CY$6) | DA43: =IF(DA$6="","",DA$6) | DC43: =IF(DC$6="","",DC$6) | DF43: =IF(CI43="","",SUM(CG43,CI43)) | DG43: =IF(CJ43="","",SUM(CH43,CJ43)) | DH43: =IF(CK43="","",SUM(DF43,CK43)) | DI43: =IF(CL43="","",SUM(DG43,CL43)) | DJ43: =IF(CM43="","",SUM(DH43,CM43)) | DK43: =IF(CN43="","",SUM(DI43,CN43)) | DL43: =IF(CO43="","",SUM(DJ43,CO43)) | DM43: =IF(CP43="","",SUM(DK43,CP43)) | DN43: =IF(CQ43="","",SUM(DL43,CQ43)) | DO43: =IF(CR43="","",SUM(DM43,CR43)) | ... EA43: =IF(DD43="","",SUM(DY43,DD43))
AN44: 10 | AO44: 10 | AP44: 9 | AQ44: 0.5 | AR44: 70 | AS44: 100 | AT44: 5 | AU44: 4 | AV44: 8 | AW44: 1 | AX44: 25 | AY44: 90 | AZ44: 10 | BA44: 10 | BB44: 10 | BC44: 70 | BD44: 100 | BE44: 6 | BF44: 8 | BG44: 4 | BH44: 7 | BI44: 15 | BJ44: 10 | BK44: 24 | BL44: 14 | BM44: 30 | BN44: 70 | BO44: 10 | BP44: 10 | BQ44: 10 | BR44: 33 | BS44: 18 | BT44: 60 | BU44: 30 | BV44: 24 | BW44: 44 | BX44: 30 | BY44: 24 | BZ44: 28 | CA44: 27 | CB44: 14 | CG44: =IF(CG$6="","",CG$6) | CI44: =IF(CI$6="","",CI$6) | CK44: =IF(CK$6="","",CK$6) | CM44: =IF(CM$6="","",CM$6) | CO44: =IF(CO$6="","",CO$6) | CQ44: =IF(CQ$6="","",CQ$6) | CS44: =IF(CS$6="","",CS$6) | CU44: =IF(CU$6="","",CU$6) | CW44: =IF(CW$6="","",CW$6) | CY44: =IF(CY$6="","",CY$6) | DA44: =IF(DA$6="","",DA$6) | DC44: =IF(DC$6="","",DC$6) | DF44: =IF(CI44="","",SUM(CG44,CI44)) | DG44: =IF(CJ44="","",SUM(CH44,CJ44)) | DH44: =IF(CK44="","",SUM(DF44,CK44)) | DI44: =IF(CL44="","",SUM(DG44,CL44)) | DJ44: =IF(CM44="","",SUM(DH44,CM44)) | DK44: =IF(CN44="","",SUM(DI44,CN44)) | DL44: =IF(CO44="","",SUM(DJ44,CO44)) | DM44: =IF(CP44="","",SUM(DK44,CP44)) | DN44: =IF(CQ44="","",SUM(DL44,CQ44)) | DO44: =IF(CR44="","",SUM(DM44,CR44)) | ... EA44: =IF(DD44="","",SUM(DY44,DD44))
AN45: 10 | AO45: 10 | AP45: 9 | AQ45: 0.5 | AR45: 70 | AS45: 100 | AT45: 5 | AU45: 4 | AV45: 8 | AW45: 1 | AX45: 25 | AY45: 90 | AZ45: 10 | BA45: 10 | BB45: 10 | BC45: 70 | BD45: 100 | BE45: 6 | BF45: 8 | BG45: 4 | BH45: 7 | BI45: 15 | BJ45: 10 | BK45: 24 | BL45: 14 | BM45: 30 | BN45: 70 | BO45: 10 | BP45: 10 | BQ45: 10 | BR45: 33 | BS45: 18 | BT45: 60 | BU45: 30 | BV45: 24 | BW45: 44 | BX45: 30 | BY45: 24 | BZ45: 28 | CA45: 27 | CB45: 14 | CG45: =IF(CG$6="","",CG$6) | CI45: =IF(CI$6="","",CI$6) | CK45: =IF(CK$6="","",CK$6) | CM45: =IF(CM$6="","",CM$6) | CO45: =IF(CO$6="","",CO$6) | CQ45: =IF(CQ$6="","",CQ$6) | CS45: =IF(CS$6="","",CS$6) | CU45: =IF(CU$6="","",CU$6) | CW45: =IF(CW$6="","",CW$6) | CY45: =IF(CY$6="","",CY$6) | DA45: =IF(DA$6="","",DA$6) | DC45: =IF(DC$6="","",DC$6) | DF45: =IF(CI45="","",SUM(CG45,CI45)) | DG45: =IF(CJ45="","",SUM(CH45,CJ45)) | DH45: =IF(CK45="","",SUM(DF45,CK45)) | DI45: =IF(CL45="","",SUM(DG45,CL45)) | DJ45: =IF(CM45="","",SUM(DH45,CM45)) | DK45: =IF(CN45="","",SUM(DI45,CN45)) | DL45: =IF(CO45="","",SUM(DJ45,CO45)) | DM45: =IF(CP45="","",SUM(DK45,CP45)) | DN45: =IF(CQ45="","",SUM(DL45,CQ45)) | DO45: =IF(CR45="","",SUM(DM45,CR45)) | ... EA45: =IF(DD45="","",SUM(DY45,DD45))
AN46: 10 | AO46: 10 | AP46: 9 | AQ46: 0.5 | AR46: 70 | AS46: 100 | AT46: 5 | AU46: 4 | AV46: 8 | AW46: 1 | AX46: 25 | AY46: 90 | AZ46: 10 | BA46: 10 | BB46: 10 | BC46: 70 | BD46: 100 | BE46: 6 | BF46: 8 | BG46: 4 | BH46: 7 | BI46: 15 | BJ46: 10 | BK46: 24 | BL46: 14 | BM46: 30 | BN46: 70 | BO46: 10 | BP46: 10 | BQ46: 10 | BR46: 33 | BS46: 18 | BT46: 60 | BU46: 30 | BV46: 24 | BW46: 44 | BX46: 30 | BY46: 24 | BZ46: 28 | CA46: 27 | CB46: 14 | CG46: =IF(CG$6="","",CG$6) | CI46: =IF(CI$6="","",CI$6) | CK46: =IF(CK$6="","",CK$6) | CM46: =IF(CM$6="","",CM$6) | CO46: =IF(CO$6="","",CO$6) | CQ46: =IF(CQ$6="","",CQ$6) | CS46: =IF(CS$6="","",CS$6) | CU46: =IF(CU$6="","",CU$6) | CW46: =IF(CW$6="","",CW$6) | CY46: =IF(CY$6="","",CY$6) | DA46: =IF(DA$6="","",DA$6) | DC46: =IF(DC$6="","",DC$6) | DF46: =IF(CI46="","",SUM(CG46,CI46)) | DG46: =IF(CJ46="","",SUM(CH46,CJ46)) | DH46: =IF(CK46="","",SUM(DF46,CK46)) | DI46: =IF(CL46="","",SUM(DG46,CL46)) | DJ46: =IF(CM46="","",SUM(DH46,CM46)) | DK46: =IF(CN46="","",SUM(DI46,CN46)) | DL46: =IF(CO46="","",SUM(DJ46,CO46)) | DM46: =IF(CP46="","",SUM(DK46,CP46)) | DN46: =IF(CQ46="","",SUM(DL46,CQ46)) | DO46: =IF(CR46="","",SUM(DM46,CR46)) | ... EA46: =IF(DD46="","",SUM(DY46,DD46))
AN47: 10 | AO47: 10 | AP47: 9 | AQ47: 0.5 | AR47: 70 | AS47: 100 | AT47: 5 | AU47: 4 | AV47: 8 | AW47: 1 | AX47: 25 | AY47: 90 | AZ47: 10 | BA47: 10 | BB47: 10 | BC47: 70 | BD47: 100 | BE47: 6 | BF47: 8 | BG47: 4 | BH47: 7 | BI47: 15 | BJ47: 10 | BK47: 24 | BL47: 14 | BM47: 30 | BN47: 70 | BO47: 10 | BP47: 10 | BQ47: 10 | BR47: 33 | BS47: 18 | BT47: 60 | BU47: 30 | BV47: 24 | BW47: 44 | BX47: 30 | BY47: 24 | BZ47: 28 | CA47: 27 | CB47: 14 | CG47: =IF(CG$6="","",CG$6) | CI47: =IF(CI$6="","",CI$6) | CK47: =IF(CK$6="","",CK$6) | CM47: =IF(CM$6="","",CM$6) | CO47: =IF(CO$6="","",CO$6) | CQ47: =IF(CQ$6="","",CQ$6) | CS47: =IF(CS$6="","",CS$6) | CU47: =IF(CU$6="","",CU$6) | CW47: =IF(CW$6="","",CW$6) | CY47: =IF(CY$6="","",CY$6) | DA47: =IF(DA$6="","",DA$6) | DC47: =IF(DC$6="","",DC$6) | DF47: =IF(CI47="","",SUM(CG47,CI47)) | DG47: =IF(CJ47="","",SUM(CH47,CJ47)) | DH47: =IF(CK47="","",SUM(DF47,CK47)) | DI47: =IF(CL47="","",SUM(DG47,CL47)) | DJ47: =IF(CM47="","",SUM(DH47,CM47)) | DK47: =IF(CN47="","",SUM(DI47,CN47)) | DL47: =IF(CO47="","",SUM(DJ47,CO47)) | DM47: =IF(CP47="","",SUM(DK47,CP47)) | DN47: =IF(CQ47="","",SUM(DL47,CQ47)) | DO47: =IF(CR47="","",SUM(DM47,CR47)) | ... EA47: =IF(DD47="","",SUM(DY47,DD47))
AN48: 10 | AO48: 10 | AP48: 9 | AQ48: 0.5 | AR48: 70 | AS48: 100 | AT48: 5 | AU48: 4 | AV48: 8 | AW48: 1 | AX48: 25 | AY48: 90 | AZ48: 10 | BA48: 10 | BB48: 10 | BC48: 70 | BD48: 100 | BE48: 6 | BF48: 8 | BG48: 4 | BH48: 7 | BI48: 15 | BJ48: 10 | BK48: 24 | BL48: 14 | BM48: 30 | BN48: 70 | BO48: 10 | BP48: 10 | BQ48: 10 | BR48: 33 | BS48: 18 | BT48: 60 | BU48: 30 | BV48: 24 | BW48: 44 | BX48: 30 | BY48: 24 | BZ48: 28 | CA48: 27 | CB48: 14 | CG48: =IF(CG$6="","",CG$6) | CI48: =IF(CI$6="","",CI$6) | CK48: =IF(CK$6="","",CK$6) | CM48: =IF(CM$6="","",CM$6) | CO48: =IF(CO$6="","",CO$6) | CQ48: =IF(CQ$6="","",CQ$6) | CS48: =IF(CS$6="","",CS$6) | CU48: =IF(CU$6="","",CU$6) | CW48: =IF(CW$6="","",CW$6) | CY48: =IF(CY$6="","",CY$6) | DA48: =IF(DA$6="","",DA$6) | DC48: =IF(DC$6="","",DC$6) | DF48: =IF(CI48="","",SUM(CG48,CI48)) | DG48: =IF(CJ48="","",SUM(CH48,CJ48)) | DH48: =IF(CK48="","",SUM(DF48,CK48)) | DI48: =IF(CL48="","",SUM(DG48,CL48)) | DJ48: =IF(CM48="","",SUM(DH48,CM48)) | DK48: =IF(CN48="","",SUM(DI48,CN48)) | DL48: =IF(CO48="","",SUM(DJ48,CO48)) | DM48: =IF(CP48="","",SUM(DK48,CP48)) | DN48: =IF(CQ48="","",SUM(DL48,CQ48)) | DO48: =IF(CR48="","",SUM(DM48,CR48)) | ... EA48: =IF(DD48="","",SUM(DY48,DD48))
AN49: 10 | AO49: 10 | AP49: 9 | AQ49: 0.5 | AR49: 70 | AS49: 100 | AT49: 5 | AU49: 4 | AV49: 8 | AW49: 1 | AX49: 25 | AY49: 90 | AZ49: 10 | BA49: 10 | BB49: 10 | BC49: 70 | BD49: 100 | BE49: 6 | BF49: 8 | BG49: 4 | BH49: 7 | BI49: 15 | BJ49: 10 | BK49: 24 | BL49: 14 | BM49: 30 | BN49: 70 | BO49: 10 | BP49: 10 | BQ49: 10 | BR49: 33 | BS49: 18 | BT49: 60 | BU49: 30 | BV49: 24 | BW49: 44 | BX49: 30 | BY49: 24 | BZ49: 28 | CA49: 27 | CB49: 14 | CG49: =IF(CG$6="","",CG$6) | CI49: =IF(CI$6="","",CI$6) | CK49: =IF(CK$6="","",CK$6) | CM49: =IF(CM$6="","",CM$6) | CO49: =IF(CO$6="","",CO$6) | CQ49: =IF(CQ$6="","",CQ$6) | CS49: =IF(CS$6="","",CS$6) | CU49: =IF(CU$6="","",CU$6) | CW49: =IF(CW$6="","",CW$6) | CY49: =IF(CY$6="","",CY$6) | DA49: =IF(DA$6="","",DA$6) | DC49: =IF(DC$6="","",DC$6) | DF49: =IF(CI49="","",SUM(CG49,CI49)) | DG49: =IF(CJ49="","",SUM(CH49,CJ49)) | DH49: =IF(CK49="","",SUM(DF49,CK49)) | DI49: =IF(CL49="","",SUM(DG49,CL49)) | DJ49: =IF(CM49="","",SUM(DH49,CM49)) | DK49: =IF(CN49="","",SUM(DI49,CN49)) | DL49: =IF(CO49="","",SUM(DJ49,CO49)) | DM49: =IF(CP49="","",SUM(DK49,CP49)) | DN49: =IF(CQ49="","",SUM(DL49,CQ49)) | DO49: =IF(CR49="","",SUM(DM49,CR49)) | ... EA49: =IF(DD49="","",SUM(DY49,DD49))
AN50: 10 | AO50: 10 | AP50: 9 | AQ50: 0.5 | AR50: 70 | AS50: 100 | AT50: 5 | AU50: 4 | AV50: 8 | AW50: 1 | AX50: 25 | AY50: 90 | AZ50: 10 | BA50: 10 | BB50: 10 | BC50: 70 | BD50: 100 | BE50: 6 | BF50: 8 | BG50: 4 | BH50: 7 | BI50: 15 | BJ50: 10 | BK50: 24 | BL50: 14 | BM50: 30 | BN50: 70 | BO50: 10 | BP50: 10 | BQ50: 10 | BR50: 33 | BS50: 18 | BT50: 60 | BU50: 30 | BV50: 24 | BW50: 44 | BX50: 30 | BY50: 24 | BZ50: 28 | CA50: 27 | CB50: 14 | CG50: =IF(CG$6="","",CG$6) | CI50: =IF(CI$6="","",CI$6) | CK50: =IF(CK$6="","",CK$6) | CM50: =IF(CM$6="","",CM$6) | CO50: =IF(CO$6="","",CO$6) | CQ50: =IF(CQ$6="","",CQ$6) | CS50: =IF(CS$6="","",CS$6) | CU50: =IF(CU$6="","",CU$6) | CW50: =IF(CW$6="","",CW$6) | CY50: =IF(CY$6="","",CY$6) | DA50: =IF(DA$6="","",DA$6) | DC50: =IF(DC$6="","",DC$6) | DF50: =IF(CI50="","",SUM(CG50,CI50)) | DG50: =IF(CJ50="","",SUM(CH50,CJ50)) | DH50: =IF(CK50="","",SUM(DF50,CK50)) | DI50: =IF(CL50="","",SUM(DG50,CL50)) | DJ50: =IF(CM50="","",SUM(DH50,CM50)) | DK50: =IF(CN50="","",SUM(DI50,CN50)) | DL50: =IF(CO50="","",SUM(DJ50,CO50)) | DM50: =IF(CP50="","",SUM(DK50,CP50)) | DN50: =IF(CQ50="","",SUM(DL50,CQ50)) | DO50: =IF(CR50="","",SUM(DM50,CR50)) | ... EA50: =IF(DD50="","",SUM(DY50,DD50))
AN51: 10 | AO51: 10 | AP51: 9 | AQ51: 0.5 | AR51: 70 | AS51: 100 | AT51: 5 | AU51: 4 | AV51: 8 | AW51: 1 | AX51: 25 | AY51: 90 | AZ51: 10 | BA51: 10 | BB51: 10 | BC51: 70 | BD51: 100 | BE51: 6 | BF51: 8 | BG51: 4 | BH51: 7 | BI51: 15 | BJ51: 10 | BK51: 24 | BL51: 14 | BM51: 30 | BN51: 70 | BO51: 10 | BP51: 10 | BQ51: 10 | BR51: 33 | BS51: 18 | BT51: 60 | BU51: 30 | BV51: 24 | BW51: 44 | BX51: 30 | BY51: 24 | BZ51: 28 | CA51: 27 | CB51: 14 | CG51: =IF(CG$6="","",CG$6) | CI51: =IF(CI$6="","",CI$6) | CK51: =IF(CK$6="","",CK$6) | CM51: =IF(CM$6="","",CM$6) | CO51: =IF(CO$6="","",CO$6) | CQ51: =IF(CQ$6="","",CQ$6) | CS51: =IF(CS$6="","",CS$6) | CU51: =IF(CU$6="","",CU$6) | CW51: =IF(CW$6="","",CW$6) | CY51: =IF(CY$6="","",CY$6) | DA51: =IF(DA$6="","",DA$6) | DC51: =IF(DC$6="","",DC$6) | DF51: =IF(CI51="","",SUM(CG51,CI51)) | DG51: =IF(CJ51="","",SUM(CH51,CJ51)) | DH51: =IF(CK51="","",SUM(DF51,CK51)) | DI51: =IF(CL51="","",SUM(DG51,CL51)) | DJ51: =IF(CM51="","",SUM(DH51,CM51)) | DK51: =IF(CN51="","",SUM(DI51,CN51)) | DL51: =IF(CO51="","",SUM(DJ51,CO51)) | DM51: =IF(CP51="","",SUM(DK51,CP51)) | DN51: =IF(CQ51="","",SUM(DL51,CQ51)) | DO51: =IF(CR51="","",SUM(DM51,CR51)) | ... EA51: =IF(DD51="","",SUM(DY51,DD51))
AN52: 10 | AO52: 10 | AP52: 9 | AQ52: 0.5 | AR52: 70 | AS52: 100 | AT52: 5 | AU52: 4 | AV52: 8 | AW52: 1 | AX52: 25 | AY52: 90 | AZ52: 10 | BA52: 10 | BB52: 10 | BC52: 70 | BD52: 100 | BE52: 6 | BF52: 8 | BG52: 4 | BH52: 7 | BI52: 15 | BJ52: 10 | BK52: 24 | BL52: 14 | BM52: 30 | BN52: 70 | BO52: 10 | BP52: 10 | BQ52: 10 | BR52: 33 | BS52: 18 | BT52: 60 | BU52: 30 | BV52: 24 | BW52: 44 | BX52: 30 | BY52: 24 | BZ52: 28 | CA52: 27 | CB52: 14 | CG52: =IF(CG$6="","",CG$6) | CI52: =IF(CI$6="","",CI$6) | CK52: =IF(CK$6="","",CK$6) | CM52: =IF(CM$6="","",CM$6) | CO52: =IF(CO$6="","",CO$6) | CQ52: =IF(CQ$6="","",CQ$6) | CS52: =IF(CS$6="","",CS$6) | CU52: =IF(CU$6="","",CU$6) | CW52: =IF(CW$6="","",CW$6) | CY52: =IF(CY$6="","",CY$6) | DA52: =IF(DA$6="","",DA$6) | DC52: =IF(DC$6="","",DC$6) | DF52: =IF(CI52="","",SUM(CG52,CI52)) | DG52: =IF(CJ52="","",SUM(CH52,CJ52)) | DH52: =IF(CK52="","",SUM(DF52,CK52)) | DI52: =IF(CL52="","",SUM(DG52,CL52)) | DJ52: =IF(CM52="","",SUM(DH52,CM52)) | DK52: =IF(CN52="","",SUM(DI52,CN52)) | DL52: =IF(CO52="","",SUM(DJ52,CO52)) | DM52: =IF(CP52="","",SUM(DK52,CP52)) | DN52: =IF(CQ52="","",SUM(DL52,CQ52)) | DO52: =IF(CR52="","",SUM(DM52,CR52)) | ... EA52: =IF(DD52="","",SUM(DY52,DD52))
AN53: 10 | AO53: 10 | AP53: 9 | AQ53: 0.5 | AR53: 70 | AS53: 100 | AT53: 5 | AU53: 4 | AV53: 8 | AW53: 1 | AX53: 25 | AY53: 90 | AZ53: 10 | BA53: 10 | BB53: 10 | BC53: 70 | BD53: 100 | BE53: 6 | BF53: 8 | BG53: 4 | BH53: 7 | BI53: 15 | BJ53: 10 | BK53: 24 | BL53: 14 | BM53: 30 | BN53: 70 | BO53: 10 | BP53: 10 | BQ53: 10 | BR53: 33 | BS53: 18 | BT53: 60 | BU53: 30 | BV53: 24 | BW53: 44 | BX53: 30 | BY53: 24 | BZ53: 28 | CA53: 27 | CB53: 14 | CG53: =IF(CG$6="","",CG$6) | CI53: =IF(CI$6="","",CI$6) | CK53: =IF(CK$6="","",CK$6) | CM53: =IF(CM$6="","",CM$6) | CO53: =IF(CO$6="","",CO$6) | CQ53: =IF(CQ$6="","",CQ$6) | CS53: =IF(CS$6="","",CS$6) | CU53: =IF(CU$6="","",CU$6) | CW53: =IF(CW$6="","",CW$6) | CY53: =IF(CY$6="","",CY$6) | DA53: =IF(DA$6="","",DA$6) | DC53: =IF(DC$6="","",DC$6) | DF53: =IF(CI53="","",SUM(CG53,CI53)) | DG53: =IF(CJ53="","",SUM(CH53,CJ53)) | DH53: =IF(CK53="","",SUM(DF53,CK53)) | DI53: =IF(CL53="","",SUM(DG53,CL53)) | DJ53: =IF(CM53="","",SUM(DH53,CM53)) | DK53: =IF(CN53="","",SUM(DI53,CN53)) | DL53: =IF(CO53="","",SUM(DJ53,CO53)) | DM53: =IF(CP53="","",SUM(DK53,CP53)) | DN53: =IF(CQ53="","",SUM(DL53,CQ53)) | DO53: =IF(CR53="","",SUM(DM53,CR53)) | ... EA53: =IF(DD53="","",SUM(DY53,DD53))
AN54: 10 | AO54: 10 | AP54: 9 | AQ54: 0.5 | AR54: 70 | AS54: 100 | AT54: 5 | AU54: 4 | AV54: 8 | AW54: 1 | AX54: 25 | AY54: 90 | AZ54: 10 | BA54: 10 | BB54: 10 | BC54: 70 | BD54: 100 | BE54: 6 | BF54: 8 | BG54: 4 | BH54: 7 | BI54: 15 | BJ54: 10 | BK54: 24 | BL54: 14 | BM54: 30 | BN54: 70 | BO54: 10 | BP54: 10 | BQ54: 10 | BR54: 33 | BS54: 18 | BT54: 60 | BU54: 30 | BV54: 24 | BW54: 44 | BX54: 30 | BY54: 24 | BZ54: 28 | CA54: 27 | CB54: 14 | CG54: =IF(CG$6="","",CG$6) | CI54: =IF(CI$6="","",CI$6) | CK54: =IF(CK$6="","",CK$6) | CM54: =IF(CM$6="","",CM$6) | CO54: =IF(CO$6="","",CO$6) | CQ54: =IF(CQ$6="","",CQ$6) | CS54: =IF(CS$6="","",CS$6) | CU54: =IF(CU$6="","",CU$6) | CW54: =IF(CW$6="","",CW$6) | CY54: =IF(CY$6="","",CY$6) | DA54: =IF(DA$6="","",DA$6) | DC54: =IF(DC$6="","",DC$6) | DF54: =IF(CI54="","",SUM(CG54,CI54)) | DG54: =IF(CJ54="","",SUM(CH54,CJ54)) | DH54: =IF(CK54="","",SUM(DF54,CK54)) | DI54: =IF(CL54="","",SUM(DG54,CL54)) | DJ54: =IF(CM54="","",SUM(DH54,CM54)) | DK54: =IF(CN54="","",SUM(DI54,CN54)) | DL54: =IF(CO54="","",SUM(DJ54,CO54)) | DM54: =IF(CP54="","",SUM(DK54,CP54)) | DN54: =IF(CQ54="","",SUM(DL54,CQ54)) | DO54: =IF(CR54="","",SUM(DM54,CR54)) | ... EA54: =IF(DD54="","",SUM(DY54,DD54))
... AN106: 10 | AO106: 10 | AP106: 9 | AQ106: 0.5 | AR106: 70 | AS106: 100 | AT106: 5 | AU106: 4 | AV106: 8 | AW106: 1 | AX106: 25 | AY106: 90 | AZ106: 10 | BA106: 10 | BB106: 10 | BC106: 70 | BD106: 100 | BE106: 6 | BF106: 8 | BG106: 4 | BH106: 7 | BI106: 15 | BJ106: 10 | BK106: 24 | BL106: 14 | BM106: 30 | BN106: 70 | BO106: 10 | BP106: 10 | BQ106: 10 | BR106: 33 | BS106: 18 | BT106: 60 | BU106: 30 | BV106: 24 | BW106: 44 | BX106: 30 | BY106: 24 | BZ106: 28 | CA106: 27 | CB106: 14 | CG106: =IF(CG$6="","",CG$6) | CI106: =IF(CI$6="","",CI$6) | CK106: =IF(CK$6="","",CK$6) | CM106: =IF(CM$6="","",CM$6) | CO106: =IF(CO$6="","",CO$6) | CQ106: =IF(CQ$6="","",CQ$6) | CS106: =IF(CS$6="","",CS$6) | CU106: =IF(CU$6="","",CU$6) | CW106: =IF(CW$6="","",CW$6) | CY106: =IF(CY$6="","",CY$6) | DA106: =IF(DA$6="","",DA$6) | DC106: =IF(DC$6="","",DC$6) | DF106: =IF(CI106="","",SUM(CG106,CI106)) | DG106: =IF(CJ106="","",SUM(CH106,CJ106)) | DH106: =IF(CK106="","",SUM(DF106,CK106)) | DI106: =IF(CL106="","",SUM(DG106,CL106)) | DJ106: =IF(CM106="","",SUM(DH106,CM106)) | DK106: =IF(CN106="","",SUM(DI106,CN106)) | DL106: =IF(CO106="","",SUM(DJ106,CO106)) | DM106: =IF(CP106="","",SUM(DK106,CP106)) | DN106: =IF(CQ106="","",SUM(DL106,CQ106)) | DO106: =IF(CR106="","",SUM(DM106,CR106)) | ... EA106: =IF(DD106="","",SUM(DY106,DD106))
CG107: =IF(OR($D107="",CG$6=""),"",CG$6) | CI107: =IF($D107="","",CI$6) | CK107: =IF($D107="","",CK$6) | CM107: =IF($D107="","",CM$6) | CO107: =IF($D107="","",CO$6) | CQ107: =IF($D107="","",CQ$6) | CS107: =IF($D107="","",CS$6) | CU107: =IF($D107="","",CU$6) | CW107: =IF($D107="","",CW$6) | CY107: =IF($D107="","",CY$6) | DA107: =IF($D107="","",DA$6) | DC107: =IF($D107="","",DC$6) | DF107: =IF(CI107="","",SUM(CG107,CI107)) | DG107: =IF(CJ107="","",SUM(CH107,CJ107)) | DH107: =IF(CK107="","",SUM(DF107,CK107)) | DI107: =IF(CL107="","",SUM(DG107,CL107)) | DJ107: =IF(CM107="","",SUM(DH107,CM107)) | DK107: =IF(CN107="","",SUM(DI107,CN107)) | DL107: =IF(CO107="","",SUM(DJ107,CO107)) | DM107: =IF(CP107="","",SUM(DK107,CP107)) | DN107: =IF(CQ107="","",SUM(DL107,CQ107)) | DO107: =IF(CR107="","",SUM(DM107,CR107)) | ... EA107: =IF(DD107="","",SUM(DY107,DD107))
CE108: total attendance for the month | CG108: =SUM(CG8:CG107) -> 0 | CH108: =SUM(CH8:CH107) -> 0 | CI108: =SUM(CI8:CI107) -> 0 | CJ108: =SUM(CJ8:CJ107) -> 0 | CK108: =SUM(CK8:CK107) -> 0 | CL108: =SUM(CL8:CL107) -> 0 | CM108: =SUM(CM8:CM107) -> 0 | CN108: =SUM(CN8:CN107) -> 0 | ... DD108: =SUM(DD8:DD107) -> 0 | DF108: =SUM(CG108,CI108) -> 0 | DG108: =SUM(CH108,CJ108) -> 0 | DH108: =SUM(DF108,CK108) -> 0 | DI108: =SUM(DG108,CL108) -> 0 | DJ108: =SUM(DH108,CM108) -> 0 | DK108: =SUM(DI108,CN108) -> 0 | DL108: =SUM(DJ108,CO108) -> 0 | DM108: =SUM(DK108,CP108) -> 0 | DN108: =SUM(DL108,CQ108) -> 0 | DO108: =SUM(DM108,CR108) -> 0 | ... DY108: =SUM(DW108,DB108) -> 0 | DZ108: =SUM(DZ8:DZ107) -> 0 | EA108: =SUM(EA8:EA107) -> 0
CE109: daily average attendance | CH109: =IF(CG108=0,"",CH108/CG6) | CJ109: =IF(CI108=0,"",CJ108/CI6) | CL109: =IF(CK108=0,"",CL108/CK6) | CN109: =IF(CM108=0,"",CN108/CM6) | CP109: =IF(CO108=0,"",CP108/CO6) | CR109: =IF(CQ108=0,"",CR108/CQ6) | CT109: =IF(CS108=0,"",CT108/CS6) | CV109: =IF(CU108=0,"",CV108/CU6) | CX109: =IF(CW108=0,"",CX108/CW6) | CZ109: =IF(CY108=0,"",CZ108/CY6) | DB109: =IF(DA108=0,"",DB108/DA6) | DD109: =IF(DC108=0,"",DD108/DC6)

Sheet statement of marks
A2: =details!A1 -> Govt. Higher Secondary School, XYZ | AX2: =details!G3 -> RESULT SHEET | DR2: =A2 -> Govt. Higher Secondary School, XYZ | GE2: =AX2 -> RESULT SHEET | HN2: ATTENDANCE | HY2: VRUKSHAROPAN TOTAL MARKS
A3: =details!G6 -> 9 'A' | F3: =details!H6 -> 2024-25 | J3: =details!J1 -> HINDI | Y3: =details!P1 -> ENGLISH | AN3: =details!V1 -> THIRD LANGUAGE | BE3: =details!AC1 -> SCIENCE | BT3: =details!AI1 -> VOCATIONAL EDUCATION | CC3: =details!AN1 -> SOCIAL SCIENCE | CL3: =CONCATENATE(CC3,"/",BT3) -> SOCIAL SCIENCE/ VOCATIONAL EDUCATION | CZ3: =details!AT1 -> MATHEMATICS | DO3: TOTAL EXEMPTION | DP3: RESULT | DS3: =details!AZ1 -> RAJASTHAN KA SWARNIM ITIHAS | EG3: =details!BE1 -> PH. AND HEALTH EDU. | FJ3: =details!BO1 -> FOUNDATION OF IT | GE3: =details!BV1 -> S.U.P.W. | GN3: =details!BY1 -> ART EDU. | GX3: SUBJECT-WISE RESULT | HD3: ADDITIONAL SUBJECTS | HE3: SUBJECTS OF FAILURE | HF3: SUBJECTS FOR SUPPL. | HG3: SUBJECTS FOR G1 | HH3: SUBJECTS FOR G2 | HI3: SUBJECTS FOR RE-EXAM. | HK3: RESULT | HZ3: RESULT | JB3: BACK TO DETAILS
A4: =details!A3 -> S. NO. | B4: =details!B3 -> CATEGORY | C4: =details!C3 -> GENGER | D4: =details!D3 -> ROLL. NO. | E4: =details!E3 -> S.R. NO. | F4: =details!F5 -> DATE OF BIRTH | G4: =details!G5 -> NAME OF THE STUDENT | H4: =details!H5 -> FATHER'S NAME | I4: =details!I5 -> MOTHER'S NAME | J4: =details!J4 -> UNIT TEST | N4: =details!M4 -> Vruksharopan | O4: =details!N4 -> HALF YEARLY EXAM | P4: TOTAL UPTO HYE | Q4: =details!O4 -> ANNUAL EXAM | R4: SUBJECT TOTAL | S4: EXEMPTION | T4: EXEMPTION | U4: SUBJECT MM | V4: 2T+E OR 2E+T | W4: SUBJECT RESULT | X4: SUBJECT DIVISION | Y4: =details!P4 -> UNIT TEST | AC4: =details!S4 -> Vruksharopan | AD4: =details!T4 -> HALF YEARLY EXAM | AE4: TOTAL UPTO HYE | AF4: =details!U4 -> ANNUAL EXAM | AG4: SUBJECT TOTAL | AH4: EXEMPTION | AI4: EXEMPTION | AJ4: SUBJECT MM | AK4: 2T+E OR 2E+T | AL4: SUBJECT RESULT | AM4: SUBJECT DIVISION | AN4: =details!V4 -> SUBJECT CODE | AO4: SUBECT | AP4: =details!AC4 -> UNIT TEST | AT4: =details!Z4 -> Vruksharopan | AU4: =details!AA4 -> HALF YEARLY EXAM | AV4: TOTAL UPTO HYE | AW4: =details!AB4 -> ANNUAL EXAM | AX4: SUBJECT TOTAL | AY4: EXEMPTION | AZ4: EXEMPTION | BA4: SUBJECT MM | BB4: 2T+E OR 2E+T | BC4: SUBJECT RESULT | BD4: SUBJECT DIVISION | BE4: =details!AC4 -> UNIT TEST | BI4: =details!AF4 -> Vruksharopan | BJ4: =details!AG4 -> HALF YEARLY EXAM | BK4: TOTAL UPTO HYE | BL4: =details!AH4 -> ANNUAL EXAM | BM4: SUBJECT TOTAL | BN4: EXEMPTION | BO4: EXEMPTION | BP4: SUBJECT MM | BQ4: 2T+E OR 2E+T | BR4: SUBJECT RESULT | BS4: SUBJECT DIVISION | BU4: This option will be shown in the progress report | BV4: =details!AJ4 -> SESSIONAL MARKS | BW4: =details!AK4 -> Vruksharopan | BX4: =details!AL4 -> THEORY | BY4: TOTAL THEORY | BZ4: =details!AM4 -> PRACTICAL | CA4: RESULT | CB4: SUBJECT TOTAL | CC4: =details!AT4 -> UNIT TEST | CG4: =details!AQ4 -> Vruksharopan | CH4: =details!AX4 -> HALF YEARLY EXAM | CI4: TOTAL UPTO HYE | CJ4: =details!AY4 -> ANNUAL EXAM | CK4: SUBJECT TOTAL | CL4: =BV4 -> SESSIONAL MARKS | CP4: THEORY/HALF YEARLY | CQ4: =BY4 -> TOTAL THEORY | CR4: PRACTICAL/ANNUAL | CS4: SUBJECT TOTAL | CT4: EXEMPTION | CU4: EXEMPTION | CV4: SUBJECT MM | CW4: 2T+E OR 2E+T | CX4: SUBJECT RESULT | CY4: SUBJECT DIVISION | CZ4: =details!AT4 -> UNIT TEST | DD4: =details!AW4 -> Vruksharopan | DE4: =details!AX4 -> HALF YEARLY EXAM | DF4: TOTAL UPTO HYE | DG4: =details!AY4 -> ANNUAL EXAM | DH4: SUBJECT TOTAL | DI4: EXEMPTION | DJ4: EXEMPTION | DK4: SUBJECT MM | DL4: 2T+E OR 2E+T | DM4: SUBJECT RESULT | DN4: SUBJECT DIVISION | DP4: GRAND TOTAL | DQ4: PERCENTAGE | DR4: DIVISION | DS4: =details!BO4 -> UNIT TEST | DW4: =details!BC4 -> HALF YEARLY EXAM | DX4: TOTAL UPTO HYE | DY4: =details!BD4 -> ANNUAL EXAM | DZ4: SUBJECT TOTAL | EA4: EXEMPTION | EB4: EXEMPTION | EC4: SUBJECT MM | ED4: 2T+E OR 2E+T | EE4: SUBJECT RESULT | EF4: SUBJECT DIVISION | EG4: =details!BE4 -> UNIT TEST | ES4: =details!BK4 -> HALF YEARLY EXAM. | EV4: TOTAL UPTO HYE TH. | EW4: TOTAL UPTO HYE PR. | EX4: =details!BM4 -> ANNUAL EXAM | FA4: SUBJECT TOTAL TH. | FB4: SUBJECT TOTAL PR. | FC4: SUBJECT TOTAL | FD4: EXEMPTION | FE4: EXEMPTION | FF4: SUBJECT MM | FG4: 2T+E OR 2E+T | FH4: SUBJECT RESULT | FI4: SUBJECT DIVISION | FJ4: =details!BO4 -> UNIT TEST | FN4: =details!BR4 -> HALF YEARLY EXAM. | FQ4: SUBJECT TOTAL TH. | FR4: SUBJECT TOTAL PR. | FS4: =details!BT4 -> ANNUAL EXAM. | FV4: SUBJECT TOTAL TH. | FW4: SUBJECT TOTAL PR. | FX4: SUBJECT TOTAL | FY4: EXEMPTION | FZ4: EXEMPTION | GA4: SUBJECT MM | GB4: 2T+E OR 2E+T | GC4: SUBJECT RESULT | GD4: SUBJECT DIVISION | GE4: =details!BV4 -> COMP. ACT. | GF4: =details!BW4 -> OPT. ACT. | GG4: =details!BX4 -> CAMP | GH4: SUBJECT TOTAL | GI4: EXEMPTION | GJ4: SUBJECT MM | GK4: 2T+E OR 2E+T | GL4: SUBJECT RESULT | GM4: SUBJECT DIVISION | GN4: =details!BY4 -> THEORY | GO4: =details!BZ4 -> PRACTICAL | GP4: =details!CA4 -> PRACTICAL | GQ4: =details!CB4 -> ASSIGNMENT | GR4: SUBJECT TOTAL | GS4: EXEMPTION | GT4: SUBJECT MM | GU4: 2T+E OR 2E+T | GV4: SUBJECT RESULT | GW4: SUBJECT DIVISION | HJ4: PASS/ PASS BY GRACE/ FAIL/ SUPPL./ ABSENT | HK4: PASS/ PASS BY GRACE/ FAIL/ SUPPL./ ABSENT | HM4: RANK | HN4: MTNGS | HO4: ST. ATT. | HP4: MTNGS | HQ4: ST. ATT. | HR4: MTNGS | HS4: ST. ATT. | HT4: MTNGS | HU4: ST. ATT. | HV4: MTNGS | HW4: ST. ATT. | HX4: % | JC4: CLICK HERE TO VIEW THE SUPPLEMENTRY RESULT | JE4: CLICK HERE TO VIEW THE FINAL REPORT | JG4: ='result subject-wise'!AV3 -> RESULT OF SUPPL.
J5: =details!J5 -> FIRST | K5: =details!K5 -> SECOND | L5: =details!L5 -> THIRD | M5: TOTAL | Y5: =details!P5 -> FIRST | Z5: =details!Q5 -> SECOND | AA5: =details!R5 -> THIRD | AB5: TOTAL | AP5: =details!W5 -> FIRST | AQ5: =details!X5 -> SECOND | AR5: =details!Y5 -> THIRD | AS5: TOTAL | BE5: =details!AC5 -> FIRST | BF5: =details!AD5 -> SECOND | BG5: =details!AE5 -> THIRD | BH5: TOTAL | CC5: =details!AT5 -> FIRST | CD5: =details!AU5 -> SECOND | CE5: =details!AV5 -> THIRD | CF5: TOTAL | CL5: FIRST | CM5: SECOND | CN5: THIRD / SESSIONAL | CO5: =details!AQ4 -> Vruksharopan | CP5: 0 | CR5: 0 | CZ5: =details!AT5 -> FIRST | DA5: =details!AU5 -> SECOND | DB5: =details!AV5 -> THIRD | DC5: TOTAL | DD5: 0 | DE5: 0 | DG5: 0 | DS5: =details!BO5 -> FIRST | DT5: =details!BP5 -> SECOND | DU5: =details!BQ5 -> THIRD | DV5: TOTAL | EG5: =details!BE5 -> FIRST TH. | EH5: =details!BF5 -> FIRST PR. | EI5: TOTAL | EJ5: =details!BG5 -> SECOND TH. | EK5: =details!BH5 -> SECOND PR. | EL5: TOTAL | EM5: =details!BI5 -> THIRD TH. | EN5: =details!BJ5 -> THIRD PR. | EO5: TOTAL | EP5: TOTAL TH. | EQ5: TOTAL PR. | ER5: TOTAL | ES5: =details!BK5 -> THEORY | ET5: =details!BL5 -> PRACT. | EU5: TOTAL | EX5: =details!BM5 -> THEORY | EY5: =details!BN5 -> PRACT. | EZ5: TOTAL | FJ5: =details!BO5 -> FIRST | FK5: =details!BP5 -> SECOND | FL5: =details!BQ5 -> THIRD | FM5: TOTAL | FN5: =details!BR5 -> THEORY | FO5: =details!BS5 -> PRACT. | FP5: TOTAL | FS5: =details!BT5 -> THEORY | FT5: =details!BU5 -> PRACT. | FU5: TOTAL | HN5: =details!DJ3 -> TOTAL UPTO AUGUST | HP5: =details!DN3 -> TOTAL UPTO OCTOBER | HR5: =details!DR3 -> TOTAL UPTO DECEMBER | HT5: =details!DV3 -> TOTAL UPTO FEBRUARY | HV5: =details!DZ3 -> TOTAL FOR THE SESSION | HX5: ATTENDACNE %AGE | HZ5: =J3 -> HINDI | IC5: =Y3 -> ENGLISH | IF5: =AN3 -> THIRD LANGUAGE | IG5: SANSKRIT | IH5: URDU | II5: GUJRATI | IJ5: PUNJABI | IK5: SINDHI | IN5: =BE3 -> SCIENCE | IQ5: =CL3 -> SOCIAL SCIENCE/ VOCATIONAL EDUCATION | IT5: =CZ3 -> MATHEMATICS | IW5: =DS3 -> RAJASTHAN KA SWARNIM ITIHAS | IX5: =EG3 -> PH. AND HEALTH EDU. | IY5: =FJ3 -> FOUNDATION OF IT | IZ5: =GE3 -> S.U.P.W. | JA5: =GN3 -> ART EDU. | JB5: SUBJECTS OF FAILURE | JC5: SUBJECTS FOR SUPPL. EXAM. | JD5: SUBJECTS OF GRACE MARKS | JE5: SUBJECTS FOR RE-EXAM. | JF5: SUBJECTS OF DISTINCTION | JG5: FINAL RESULT | JH5: ='result subject-wise'!AW2 -> TOTAL MARKS OBTAINED AFTER SUPPL. | JI5: ='result subject-wise'!AX2 -> DIV. OBTAINED AFTER SUPPL. | JJ5: REMARKS
F6: CLICK TO VIEW THE RESULT AT A GLANCE | I6: MAX. MARKS | J6: =IF(details!J6="","",details!J6) -> 10 | K6: =IF(details!K6="","",details!K6) -> 10 | L6: =IF(details!L6="","",details!L6) -> 9 | M6: =IF(AND(J6="",K6="",L6=""),"",SUM(J6:L6)) -> 29 | N6: =IF(details!M6="","",details!M6) -> 1 | O6: =IF(details!N6="","",details!N6) -> 70 | P6: =IF(AND(M6="",O6=""),"",SUM(M6:O6)) -> 100 | Q6: =IF(details!O6="","",details!O6) -> 100 | R6: =IF(AND(P6="",Q6=""),"",SUM(P6:Q6)) -> 200 | S6: =COUNTIF(J6:L6,"NA")*10 -> 0 | T6: =(COUNTIF(J6:L6,"ML")*10)+(COUNTIF(O6,"ML")*70)+(COUNTIF(Q6,"ML")*100) -> 0 | U6: =IF(OR(D6="NSO",D6=0),"",IF(AND(J6="",K6="",L6="",O6="",Q6=""),"",IF(AND(K6="",L6="",O6="",Q6=""),10-S6-T6,IF(AND(L6="",O6="",Q6=""),20-S6-T6,IF(AND(L6="",Q6=""),90-S6-T6,IF(Q6="",100-S6-T6,200-S6-T6)))))) | V6: =IF(AND(OR(J6="ab",J6="ml"),OR(K6="ab",K6="ml"),OR(L6="ab",L6="ml")),"AB",IF(AND(OR(J6="ab",J6="ml"),OR(K6="ab",K6="ml"),OR(O6="ab",O6="ml")),"AB",IF(AND(OR(J6="ab",J6="ml"),OR(O6="ab",O6="ml"),OR(L6="ab",L6="ml")),"AB",IF(AND(OR(O6="ab",O6="ml"),OR(K6="ab",K6="ml"),OR(L6="ab",L6="ml")),"AB","")))) | W6: =IF(OR($D6="NSO",$D6="",Q6=""),"",IF(OR(V6="AB",Q6="ab"),"AB",IF(Q6="ML","RE",IF(AND(R6>=36%*U6,Q6>=20),"P",IF(AND(R6>=34%*U6,T6=0,Q6>=20),"G2",IF(AND(R6>=31%*U6,T6=0,Q6>=20),"G1",IF(R6>=25%*U6,"S","F"))))))) | X6: =IF(OR(W6="",W6=0,W6="S",W6="F",W6="AB",W6="RE"),W6,IF(R6>=75%*U6,"D",IF(R6>=60%*U6,"I",IF(R6>=48%*U6,"II",IF(R6>=36%*U6,"III",W6))))) | Y6: =IF(details!P6="","",details!P6) -> 10 | Z6: =IF(details!Q6="","",details!Q6) -> 10 | AA6: =IF(details!R6="","",details!R6) -> 9 | AB6: =IF(AND(Y6="",Z6="",AA6=""),"",SUM(Y6:AA6)) -> 29 | AC6: =IF(details!S6="","",details!S6) -> 1 | AD6: =IF(details!T6="","",details!T6) -> 70 | AE6: =IF(AND(AB6="",AD6=""),"",SUM(AB6:AD6)) -> 100 | AF6: =IF(details!U6="","",details!U6) -> 100 | AG6: =IF(AND(AE6="",AF6=""),"",SUM(AE6:AF6)) -> 200 | AH6: =COUNTIF(Y6:AA6,"NA")*10 -> 0 | AI6: =(COUNTIF(Y6:AA6,"ML")*10)+(COUNTIF(AD6,"ML")*70)+(COUNTIF(AF6,"ML")*100) -> 0 | AJ6: =IF(OR(DS6="NSO",D6=0),"",IF(AND(Y6="",Z6="",AA6="",AD6="",AF6=""),"",IF(AND(Z6="",AA6="",AD6="",AF6=""),10-AH6-AI6,IF(AND(AA6="",AD6="",AF6=""),20-AH6-AI6,IF(AND(AA6="",AF6=""),90-AH6-AI6,IF(AF6="",100-AH6-AI6,200-AH6-AI6)))))) | AK6: =IF(AND(OR(Y6="ab",Y6="ml"),OR(Z6="ab",Z6="ml"),OR(AA6="ab",AA6="ml")),"AB",IF(AND(OR(Y6="ab",Y6="ml"),OR(Z6="ab",Z6="ml"),OR(AD6="ab",AD6="ml")),"AB",IF(AND(OR(Y6="ab",Y6="ml"),OR(AD6="ab",AD6="ml"),OR(AA6="ab",AA6="ml")),"AB",IF(AND(OR(AD6="ab",AD6="ml"),OR(Z6="ab",Z6="ml"),OR(AA6="ab",AA6="ml")),"AB","")))) | AL6: =IF(OR($D6="NSO",$D6="",AF6=""),"",IF(OR(AK6="AB",AF6="ab"),"AB",IF(AF6="ML","RE",IF(AND(AG6>=36%*AJ6,AF6>=20),"P",IF(AND(AG6>=34%*AJ6,AI6=0,AF6>=20),"G2",IF(AND(AG6>=31%*AJ6,AI6=0,AF6>=20),"G1",IF(AG6>=25%*AJ6,"S","F"))))))) | AM6: =IF(OR(AL6="",AL6=0,AL6="S",AL6="RE",AL6="F",AL6="AB"),AL6,IF(AG6>=75%*AJ6,"D",IF(AG6>=60%*AJ6,"I",IF(AG6>=48%*AJ6,"II",IF(AG6>=36%*AJ6,"III",AL6))))) | AN6: =IF(details!V6="","",details!V6) | AP6: =IF(details!W6="","",details!W6) -> 10 | AQ6: =IF(details!X6="","",details!X6) -> 10 | AR6: =IF(details!Y6="","",details!Y6) -> 9 | AS6: =IF(AND(AP6="",AQ6="",AR6=""),"",SUM(AP6:AR6)) -> 29 | AT6: =IF(details!Z6="","",details!Z6) -> 1 | AU6: =IF(details!AA6="","",details!AA6) -> 70 | AV6: =IF(AND(AS6="",AU6=""),"",SUM(AS6:AU6)) -> 100 | AW6: =IF(details!AB6="","",details!AB6) -> 100 | AX6: =IF(AND(AV6="",AW6=""),"",SUM(AV6:AW6)) -> 200 | AY6: =COUNTIF(AP6:AR6,"NA")*10 -> 0 | AZ6: =(COUNTIF(AP6:AR6,"ML")*10)+(COUNTIF(AU6,"ML")*70)+(COUNTIF(AW6,"ML")*100) -> 0 | BA6: =IF(OR(D6="NSO",D6=0),"",IF(AND(AP6="",AQ6="",AR6="",AU6="",AW6=""),"",IF(AND(AQ6="",AR6="",AU6="",AW6=""),10-AY6-AZ6,IF(AND(AR6="",AU6="",AW6=""),20-AY6-AZ6,IF(AND(AR6="",AW6=""),90-AY6-AZ6,IF(AW6="",100-AY6-AZ6,200-AY6-AZ6)))))) | BB6: =IF(AND(OR(AP6="ab",AP6="ml"),OR(AQ6="ab",AQ6="ml"),OR(AR6="ab",AR6="ml")),"AB",IF(AND(OR(AP6="ab",AP6="ml"),OR(AQ6="ab",AQ6="ml"),OR(AU6="ab",AU6="ml")),"AB",IF(AND(OR(AP6="ab",AP6="ml"),OR(AU6="ab",AU6="ml"),OR(AR6="ab",AR6="ml")),"AB",IF(AND(OR(AU6="ab",AU6="ml"),OR(AQ6="ab",AQ6="ml"),OR(AR6="ab",AR6="ml")),"AB","")))) | BC6: =IF(OR($D6="NSO",$D6="",AW6=""),"",IF(OR(BB6="AB",AW6="ab"),"AB",IF(AW6="ML","RE",IF(AND(AX6>=36%*BA6,AW6>=20),"P",IF(AND(AX6>=34%*BA6,AZ6=0,AW6>=20),"G2",IF(AND(AX6>=31%*BA6,AZ6=0,AW6>=20),"G1",IF(AX6>=25%*BA6,"S","F"))))))) | BD6: =IF(OR(BC6="",BC6=0,BC6="S",BC6="RE",BC6="F",BC6="AB"),BC6,IF(AX6>=75%*BA6,"D",IF(AX6>=60%*BA6,"I",IF(AX6>=48%*BA6,"II",IF(AX6>=36%*BA6,"III",BC6))))) | BE6: =IF(details!AC6="","",details!AC6) -> 10 | BF6: =IF(details!AD6="","",details!AD6) -> 10 | BG6: =IF(details!AE6="","",details!AE6) -> 8 | BH6: =IF(AND(BE6="",BF6="",BG6=""),"",SUM(BE6:BG6)) -> 28 | BI6: =IF(details!AF6="","",details!AF6) -> 2 | BJ6: =IF(details!AG6="","",details!AG6) -> 70 | BK6: =IF(AND(BH6="",BJ6=""),"",SUM(BH6:BJ6)) -> 100 | BL6: =IF(details!AH6="","",details!AH6) -> 100 | BM6: =IF(AND(BK6="",BL6=""),"",SUM(BK6:BL6)) -> 200 | BN6: =COUNTIF(BE6:BG6,"NA")*10 -> 0 | BO6: =(COUNTIF(BE6:BG6,"ML")*10)+(COUNTIF(BJ6,"ML")*70)+(COUNTIF(BL6,"ML")*100) -> 0 | BP6: =IF(OR(D6="NSO",D6=0),"",IF(AND(BE6="",BF6="",BG6="",BJ6="",BL6=""),"",IF(AND(BF6="",BG6="",BJ6="",BL6=""),10-BN6-BO6,IF(AND(BG6="",BJ6="",BL6=""),20-BN6-BO6,IF(AND(BG6="",BL6=""),90-BN6-BO6,IF(BL6="",100-BN6-BO6,200-BN6-BO6)))))) | BQ6: =IF(AND(OR(BE6="ab",BE6="ml"),OR(BF6="ab",BF6="ml"),OR(BG6="ab",BG6="ml")),"AB",IF(AND(OR(BE6="ab",BE6="ml"),OR(BF6="ab",BF6="ml"),OR(BJ6="ab",BJ6="ml")),"AB",IF(AND(OR(BE6="ab",BE6="ml"),OR(BJ6="ab",BJ6="ml"),OR(BG6="ab",BG6="ml")),"AB",IF(AND(OR(BJ6="ab",BJ6="ml"),OR(BF6="ab",BF6="ml"),OR(BG6="ab",BG6="ml")),"AB","")))) | BR6: =IF(OR($D6="NSO",$D6="",BL6=""),"",IF(OR(BQ6="AB",BL6="ab"),"AB",IF(BL6="ML","RE",IF(AND(BM6>=36%*BP6,BL6>=20),"P",IF(AND(BM6>=34%*BP6,BO6=0,BL6>=20),"G2",IF(AND(BM6>=31%*BP6,BO6=0,BL6>=20),"G1",IF(BM6>=25%*BP6,"S","F"))))))) | BS6: =IF(OR(BR6="",BR6=0,BR6="S",BR6="RE",BR6="F",BR6="AB"),BR6,IF(BM6>=75%*BP6,"D",IF(BM6>=60%*BP6,"I",IF(BM6>=48%*BP6,"II",IF(BM6>=36%*BP6,"III",BR6))))) | BV6: =IF(details!AJ6="","",details!AJ6) -> 39 | BW6: =IF(details!AK6="","",details!AK6) -> 1 | BX6: =IF(details!AL6="","",details!AL6) -> 60 | BY6: =IF(AND(BV6="",BX6="",BZ6=""),"",SUM(BV6:BX6)) -> 100 | BZ6: =IF(details!AM6="","",details!AM6) -> 100 | CA6: =IF(AND(BX6="",BZ6=""),"",IF(AND(BX6>=36%*BX$6,BZ6>=36%*BZ$6),"P","SS")) -> P | CB6: =IF(CA6="P",(BY6+BZ6),"") -> 200 | CC6: =IF(details!AN6="","",details!AN6) -> 10 | CD6: =IF(details!AO6="","",details!AO6) -> 10 | CE6: =IF(details!AP6="","",details!AP6) -> 9 | CF6: =IF(AND(CC6="",CD6="",CE6=""),"",SUM(CC6:CE6)) -> 29 | CG6: =IF(details!AQ6="","",details!AQ6) -> 1 | CH6: =IF(details!AR6="","",details!AR6) -> 70 | CI6: =IF(AND(CF6="",CH6=""),"",SUM(CF6:CH6)) -> 100 | CJ6: =IF(details!AS6="","",details!AS6) -> 100 | CK6: =IF(AND(CI6="",CJ6=""),"",SUM(CI6:CJ6)) -> 200 | CL6: =IF(AND(CA6="P",CB6>=CK6),"",CC6) | CM6: =IF(AND(CA6="P",CB6>=CK6),"",CD6) | CN6: =IF(AND(CA6="P",CB6>=CK6),BV6,CE6) -> 39 | CO6: =IF(AND(CA6="P",CB6>=CK6),BW6,CG6) -> 1 | CP6: =IF(AND(CA6="P",CB6>=CK6),BX6,CH6) -> 60 | CQ6: =IF(AND(CA6="P",CB6>=CK6),BY6,CI6) -> 100 | CR6: =IF(AND(CA6="P",CB6>=CK6),BZ6,CJ6) -> 100 | CS6: =IF(AND(CA6="P",CB6>=CK6),CB6,CK6) -> 200 | CT6: =COUNTIF(CL6:CN6,"NA")*10 -> 0 | CU6: =(COUNTIF(CL6:CN6,"ML")*10)+(COUNTIF(CP6,"ML")*70)+(COUNTIF(CR6,"ML")*100) -> 0 | CV6: =IF(OR(D6="NSO",D6=0),"",IF(AND(CL6="",CM6="",CN6="",CP6="",CR6=""),"",IF(AND(CM6="",CN6="",CP6="",CR6=""),10-CT6-CU6,IF(AND(CN6="",CP6="",CR6=""),20-CT6-CU6,IF(AND(CN6="",CR6=""),90-CT6-CU6,IF(CR6="",100-CT6-CU6,200-CT6-CU6)))))) | CW6: =IF(AND(OR(CL6="ab",CL6="ml"),OR(CM6="ab",CM6="ml"),OR(CN6="ab",CN6="ml")),"AB",IF(AND(OR(CL6="ab",CL6="ml"),OR(CM6="ab",CM6="ml"),OR(CP6="ab",CP6="ml")),"AB",IF(AND(OR(CL6="ab",CL6="ml"),OR(CP6="ab",CP6="ml"),OR(CN6="ab",CN6="ml")),"AB",IF(AND(OR(CP6="ab",CP6="ml"),OR(CM6="ab",CM6="ml"),OR(CN6="ab",CN6="ml")),"AB","")))) | CX6: =IF(OR($D6="NSO",$D6="",CR6=""),"",IF(OR(CW6="AB",CR6="ab"),"AB",IF(CR6="ML","RE",IF(AND(CS6>=36%*CV6,CR6>=20),"P",IF(AND(CS6>=34%*CV6,CU6=0,CR6>=20),"G2",IF(AND(CS6>=31%*CV6,CU6=0,CR6>=20),"G1",IF(CS6>=25%*CV6,"S","F"))))))) | CY6: =IF(OR(CX6="",CX6=0,CX6="S",CX6="RE",CX6="F",CX6="AB"),CX6,IF(CS6>=75%*CV6,"D",IF(CS6>=60%*CV6,"I",IF(CS6>=48%*CV6,"II",IF(CS6>=36%*CV6,"III",CX6))))) | CZ6: =IF(details!AT6="","",details!AT6) -> 10 | DA6: =IF(details!AU6="","",details!AU6) -> 10 | DB6: =IF(details!AV6="","",details!AV6) -> 9 | DC6: =IF(AND(CZ6="",DA6="",DB6=""),"",SUM(CZ6:DB6)) -> 29 | DD6: =IF(details!AW6="","",details!AW6) -> 1 | DE6: =IF(details!AX6="","",details!AX6) -> 70 | DF6: =IF(AND(DC6="",DE6=""),"",SUM(DC6:DE6)) -> 100 | DG6: =IF(details!AY6="","",details!AY6) -> 100 | DH6: =IF(AND(DF6="",DG6=""),"",SUM(DF6:DG6)) -> 200 | DI6: =COUNTIF(CZ6:DB6,"NA")*10 -> 0 | DJ6: =(COUNTIF(CZ6:DB6,"ML")*10)+(COUNTIF(DE6,"ML")*70)+(COUNTIF(DG6,"ML")*100) -> 0 | DK6: =IF(OR(D6="NSO",D6=0),"",IF(AND(CZ6="",DA6="",DB6="",DE6="",DG6=""),"",IF(AND(DA6="",DB6="",DE6="",DG6=""),10-DI6-DJ6,IF(AND(DB6="",DE6="",DG6=""),20-DI6-DJ6,IF(AND(DB6="",DG6=""),90-DI6-DJ6,IF(DG6="",100-DI6-DJ6,200-DI6-DJ6)))))) | DL6: =IF(AND(OR(CZ6="ab",CZ6="ml"),OR(DA6="ab",DA6="ml"),OR(DB6="ab",DB6="ml")),"AB",IF(AND(OR(CZ6="ab",CZ6="ml"),OR(DA6="ab",DA6="ml"),OR(DE6="ab",DE6="ml")),"AB",IF(AND(OR(CZ6="ab",CZ6="ml"),OR(DE6="ab",DE6="ml"),OR(DB6="ab",DB6="ml")),"AB",IF(AND(OR(DE6="ab",DE6="ml"),OR(DA6="ab",DA6="ml"),OR(DB6="ab",DB6="ml")),"AB","")))) | DM6: =IF(OR($D6="NSO",$D6="",DG6=""),"",IF(OR(DL6="AB",DG6="ab"),"AB",IF(DG6="ML","RE",IF(AND(DH6>=36%*DK6,DG6>=20),"P",IF(AND(DH6>=34%*DK6,DJ6=0,DG6>=20),"G2",IF(AND(DH6>=31%*DK6,DJ6=0,DG6>=20),"G1",IF(DH6>=25%*DK6,"S","F"))))))) | DN6: =IF(OR(DM6="",DM6=0,DM6="S",DM6="RE",DM6="F",DM6="AB"),DM6,IF(DH6>=75%*DK6,"D",IF(DH6>=60%*DK6,"I",IF(DH6>=48%*DK6,"II",IF(DH6>=36%*DK6,"III",DM6))))) | DO6: =SUM(S6,T6,AH6,AI6,AY6,AZ6,BN6,BO6,CT6,CU6,DI6,DJ6) -> 0 | DP6: =SUM(R6,AG6,AX6,BM6,CS6,DH6) -> 1200 | DQ6: =DP6*100/(1200-DO6) -> 100 | DR6: =IF(AND(DQ6>=60,HK6="PASS"),"FIRST",IF(AND(DQ6>=60,HK6="PASS BY GRACE"),"FIRST",IF(AND(DQ6>=48,HK6="PASS"),"SECOND",IF(AND(DQ6>=48,HK6="PASS BY GRACE"),"SECOND",IF(OR(HK6="PASS",HK6="PASS BY GRACE"),"THIRD",""))))) | DS6: =IF(details!AZ6="","",details!AZ6) -> 10 | DT6: =IF(details!BA6="","",details!BA6) -> 10 | DU6: =IF(details!BB6="","",details!BB6) -> 10 | DV6: =IF(AND(DS6="",DT6="",DU6=""),"",SUM(DS6:DU6)) -> 30 | DW6: =IF(details!BC6="","",details!BC6) -> 70 | DX6: =IF(AND(DV6="",DW6=""),"",SUM(DV6:DW6)) -> 100 | DY6: =IF(details!BD6="","",details!BD6) -> 100 | DZ6: =IF(AND(DX6="",DY6=""),"",SUM(DX6:DY6)) -> 200 | EA6: =(COUNTIF(DS6:DU6,"NA")*10) -> 0 | EB6: =(COUNTIF(DS6:DU6,"ML")*10)+(COUNTIF(DW6,"ML")*70)+(COUNTIF(DY6,"ML")*100) -> 0 | EC6: =IF(OR(D6="NSO",D6=0),"",IF(AND(DS6="",DT6="",DU6="",DW6="",DY6=""),"",IF(AND(DT6="",DU6="",DW6="",DY6=""),10-EA6-EB6,IF(AND(DU6="",DW6="",DY6=""),20-EA6-EB6,IF(AND(DU6="",DY6=""),90-EA6-EB6,IF(DY6="",100-EA6-EB6,200-EA6-EB6)))))) | ED6: =IF(AND(OR(DS6="ab",DS6="ml"),OR(DT6="ab",DT6="ml"),OR(DU6="ab",DU6="ml")),"AB",IF(AND(OR(DS6="ab",DS6="ml"),OR(DT6="ab",DT6="ml"),OR(DW6="ab",DW6="ml")),"AB",IF(AND(OR(DS6="ab",DS6="ml"),OR(DW6="ab",DW6="ml"),OR(DU6="ab",DU6="ml")),"AB",IF(AND(OR(DW6="ab",DW6="ml"),OR(DT6="ab",DT6="ml"),OR(DU6="ab",DU6="ml")),"AB","")))) | EE6: =IF(OR($D6="NSO",$D6="",DY6=""),"",IF(OR(ED6="AB",DY6="ab"),"AB",IF(DY6="ML","RE",IF(AND(DZ6>=36%*EC6,DY6>=20),"P","RE")))) | EF6: =IF(OR(EE6="RE",EE6="",EE6="F",EE6="AB"),EE6,IF(DZ6>=80%*EC6,"A",IF(DZ6>=60%*EC6,"B",IF(DZ6>=40%*EC6,"C","D")))) | EG6: =IF(details!BE6="","",details!BE6) -> 10 | EH6: =IF(details!BF6="","",details!BF6) -> 8 | EI6: =IF(AND(EG6="",EH6=""),"",IF(AND(EG6="ml",EH6="ml"),"ml",IF(AND(EG6="AB",EH6="AB"),"AB",SUM(EG6:EH6)))) -> 18 | EJ6: =IF(details!BG6="","",details!BG6) -> 10 | EK6: =IF(details!BH6="","",details!BH6) -> 7 | EL6: =IF(AND(EJ6="",EK6=""),"",IF(AND(EJ6="ml",EK6="ml"),"ml",IF(AND(EJ6="AB",EK6="AB"),"AB",SUM(EJ6:EK6)))) -> 17 | EM6: =IF(details!BI6="","",details!BI6) -> 15 | EN6: =IF(details!BJ6="","",details!BJ6) -> 10 | EO6: =IF(AND(EM6="",EN6=""),"",IF(AND(EM6="ml",EN6="ml"),"ml",IF(AND(EM6="AB",EN6="AB"),"AB",SUM(EM6:EN6)))) -> 25 | EP6: =IF(AND(EG6="",EJ6="",EM6=""),"",SUM(EG6,EJ6,EM6)) -> 35 | EQ6: =IF(AND(EH6="",EK6="",EN6=""),"",SUM(EH6,EK6,EN6)) -> 25 | ER6: =IF(AND(EP6="",EQ6=""),"",IF(AND(EP6="ml",EQ6="ml"),"ml",IF(AND(EP6="AB",EQ6="AB"),"AB",SUM(EP6:EQ6)))) -> 60 | ES6: =IF(details!BK6="","",details!BK6) -> 25 | ET6: =IF(details!BL6="","",details!BL6) -> 15 | EU6: =IF(AND(ES6="",ET6=""),"",IF(AND(ES6="ml",ET6="ml"),"ml",IF(AND(ES6="AB",ET6="AB"),"AB",SUM(ES6:ET6)))) -> 40 | EV6: =IF(AND(EP6="",ES6=""),"",SUM(EP6,ES6)) -> 60 | EW6: =IF(AND(EQ6="",FS6=""),"",SUM(EQ6,ET6)) -> 40 | EX6: =IF(details!BM6="","",details!BM6) -> 30 | EY6: =IF(details!BN6="","",details!BN6) -> 70 | EZ6: =IF(AND(EX6="",EY6=""),"",IF(AND(EX6="ml",EY6="ml"),"ml",IF(AND(EX6="AB",EY6="AB"),"AB",SUM(EX6:EY6)))) -> 100 | FA6: =IF(AND(EV6="",EX6=""),"",SUM(EV6,EX6)) -> 90 | FB6: =IF(AND(EW6="",EY6=""),"",SUM(EW6,EY6)) -> 110 | FC6: =IF(AND(FA6="",FB6=""),"",SUM(FA6:FB6)) -> 200 | FD6: =COUNTIF(EG6,"na")*10+COUNTIF(EH6,"na")*8+COUNTIF(EJ6,"na")*10+COUNTIF(EK6,"na")*7+COUNTIF(EM6,"na")*15+COUNTIF(EN6,"na")*10 -> 0 | FE6: =COUNTIF(EG6,"ml")*10+COUNTIF(EH6,"ml")*8+COUNTIF(EJ6,"ml")*10+COUNTIF(EK6,"ml")*7+COUNTIF(EM6,"ml")*15+COUNTIF(EN6,"ml")*10+(COUNTIF(ES6,"ML")*25)+(COUNTIF(ET6,"ML")*15)+(COUNTIF(EX6,"ML")*40)+(COUNTIF(EY6,"ML")*60) -> 0 | FF6: =IF(OR(D6="NSO",D6=0),"",IF(AND(EI6="",EL6="",EO6="",EU6="",EZ6=""),"",IF(AND(EL6="",EO6="",EU6="",EZ6=""),18-FD6-FE6,IF(AND(EO6="",EU6="",EZ6=""),35-FD6-FE6,IF(AND(EO6="",EZ6=""),75-FD6-FE6,IF(EZ6="",100-FD6-FE6,200-FD6-FE6)))))) | FG6: =IF(AND(OR(EI6="ab",EI6="ml"),OR(EL6="ab",EL6="ml"),OR(EO6="ab",EO6="ml")),"AB",IF(AND(OR(EI6="ab",EI6="ml"),OR(EL6="ab",EL6="ml"),OR(EU6="ab",EU6="ml")),"AB",IF(AND(OR(EL6="ab",EL6="ml"),OR(EO6="ab",EO6="ml"),OR(EU6="ab",EU6="ml")),"AB",IF(AND(OR(EI6="ab",EI6="ml"),OR(EO6="ab",EO6="ml"),OR(EU6="ab",EU6="ml")),"AB","")))) | FH6: =IF(OR($D6="NSO",$D6=0,EZ6=""),"",IF(OR(FG6="AB",EZ6="AB"),"AB",IF(EZ6="ML","RE",IF(AND(FC6>=36%*FF6,EZ6>=20),"P","RE")))) | FI6: =IF(OR(FH6="RE",FH6="",FH6="F",FH6="AB"),FH6,IF(FC6>=80%*FF6,"A",IF(FC6>=60%*FF6,"B",IF(FC6>=40%*FF6,"C","D")))) | FJ6: =IF(details!BO6="","",details!BO6) -> 10 | FK6: =IF(details!BP6="","",details!BP6) -> 10 | FL6: =IF(details!BQ6="","",details!BQ6) -> 10 | FM6: =IF(AND(FJ6="",FK6="",FL6=""),"",SUM(FJ6:FL6)) -> 30 | FN6: =IF(details!BR6="","",details!BR6) -> 50 | FO6: =IF(details!BS6="","",details!BS6) -> 20 | FP6: =IF(AND(FN6="",FO6=""),"",IF(AND(FN6="ml",FO6="ml"),"ml",IF(AND(FN6="AB",FO6="AB"),"AB",SUM(FN6:FO6)))) -> 70 | FQ6: =IF(AND(FM6="",FN6=""),"",SUM(FM6,FN6)) -> 80 | FR6: =FO6 -> 20 | FS6: =IF(details!BT6="","",details!BT6) -> 70 | FT6: =IF(details!BU6="","",details!BU6) -> 30 | FU6: =IF(AND(FS6="",FT6=""),"",IF(AND(FS6="ml",FT6="ml"),"ml",IF(AND(FS6="AB",FT6="AB"),"AB",SUM(FS6:FT6)))) -> 100 | FV6: =IF(AND(FQ6="",FS6=""),"",SUM(FQ6,FS6)) -> 150 | FW6: =IF(AND(FR6="",FT6=""),"",SUM(FR6,FT6)) -> 50 | FX6: =IF(AND(FV6="",FW6=""),"",SUM(FV6:FW6)) -> 200 | FY6: =COUNTIF(FJ6:FL6,"NA")*5 -> 0 | FZ6: =(COUNTIF(FJ6:FL6,"ML")*5)+(COUNTIF(FN6,"ML")*50)+(COUNTIF(FO6,"ML")*35)+(COUNTIF(FS6,"ML")*60)+(COUNTIF(FT6,"ML")*40) -> 0 | GA6: =IF(OR(D6="NSO",D6=0),"",IF(AND(FJ6="",FK6="",FL6="",FP6="",FU6=""),"",IF(AND(FK6="",FL6="",FP6="",FU6=""),10-FY6-FZ6,IF(AND(FL6="",FP6="",FU6=""),20-FY6-FZ6,IF(AND(FL6="",FU6=""),95-FY6-FZ6,IF(FU6="",100-FY6-FZ6,200-FY6-FZ6)))))) | GB6: =IF(AND(OR(FJ6="ab",FJ6="ml"),OR(FK6="ab",FK6="ml"),OR(FL6="ab",FL6="ml")),"AB",IF(AND(OR(FJ6="ab",FJ6="ml"),OR(FK6="ab",FK6="ml"),OR(FP6="ab",FP6="ml")),"AB",IF(AND(OR(FL6="ab",FL6="ml"),OR(FK6="ab",FK6="ml"),OR(FP6="ab",FP6="ml")),"AB",IF(AND(OR(FJ6="ab",FJ6="ml"),OR(FL6="ab",FL6="ml"),OR(FP6="ab",FP6="ml")),"AB","")))) | GC6: =IF(OR($D6="NSO",$D6=0,FU6=""),"",IF(OR(GB6="AB",FU6="AB"),"AB",IF(FU6="ML","RE",IF(AND(FX6>=36%*GA6,FU6>=20),"P","RE")))) | GD6: =IF(OR(GC6="RE",GC6="",GC6="F",GC6="AB"),GC6,IF(FX6>=80%*GA6,"A",IF(FX6>=60%*GA6,"B",IF(FX6>=40%*GA6,"C",IF(FX6>=36%*GA6,"D",""))))) | GE6: =IF(details!BV6="","",details!BV6) -> 25 | GF6: =IF(details!BW6="","",details!BW6) -> 45 | GG6: =IF(details!BX6="","",details!BX6) -> 30 | GH6: =IF(AND(GE6="",GF6="",GG6=""),"",SUM(GE6:GG6)) -> 100 | GI6: =COUNTIF(GE6,"ML")*25+COUNTIF(GF6,"ML")*45+COUNTIF(GG6,"ML")*30 -> 0 | GJ6: =IF(OR(D6="NSO",D6=0),"",IF(AND(GE6="",GF6="",GG6=""),"",IF(AND(GF6="",GG6=""),25-GI6,IF(GG6="",75-GI6,100-GI6)))) | GK6: =IF(AND(OR(GE6="ab",GE6="ml"),OR(GF6="ab",GF6="ml")),"AB","") | GL6: =IF(OR($D6="NSO",$D6=0,GG6=""),"",IF(OR(GG6="AB",GK6="AB"),"AB",IF(GG6="ML","RE",IF(GH6>=36%*GJ6,"P","RE")))) | GM6: =IF(OR(GL6="",GL6="F",GL6="AB"),GL6,IF(GH6>=81%*GJ6,"A",IF(GH6>=61%*GJ6,"B",IF(GH6>=41%*GJ6,"C",IF(GH6>=21%*GJ6,"D","E"))))) | GN6: =IF(details!BY6="","",details!BY6) -> 25 | GO6: =IF(details!BZ6="","",details!BZ6) -> 30 | GP6: =IF(details!CA6="","",details!CA6) -> 30 | GQ6: =IF(details!CB6="","",details!CB6) -> 15 | GR6: =IF(AND(GN6="",GO6="",GP6="",GQ6=""),"",SUM(GN6:GQ6)) -> 100 | GS6: =COUNTIF(GN6,"ML")*25+COUNTIF(GO6,"ML")*30+COUNTIF(GP6,"ML")*30+COUNTIF(GQ6,"ML")*15 -> 0 | GT6: =IF(OR(D6="NSO",D6=0),"",IF(AND(GN6="",GO6="",GP6="",GQ6=""),"",IF(AND(GO6="",GP6="",GQ6=""),25-GS6,IF(AND(GP6="",GQ6=""),55-GS6,IF(GQ6="",85-GS6,100-GS6))))) | GU6: =IF(AND(OR(GN6="ab",GN6="ml"),OR(GO6="ab",GO6="ml")),"AB",IF(AND(OR(GO6="ab",GO6="ml"),OR(GP6="ab",GP6="ml")),"AB",IF(AND(OR(GN6="ab",GN6="ml"),OR(GP6="ab",GP6="ml")),"AB",""))) | GV6: =IF(OR($D6="NSO",$D6=0,GQ6=""),"",IF(OR(GQ6="AB",GU6="AB"),"AB",IF(GQ6="ML","RE",IF(GR6>=36%*GT6,"P","RE")))) | GW6: =IF(OR(GV6="",GV6="F",GV6="AB"),GV6,IF(GR6>=81%*GT6,"A",IF(GR6>=61%*GT6,"B",IF(GR6>=41%*GT6,"C",IF(GR6>=21%*GT6,"D","E"))))) | GX6: H | GY6: E | GZ6: TL | HA6: SC | HB6: SO | HC6: M | HD6: =IF(OR(FI6="F",GD6="F",EF6="F",GM6="F",GW6="F"),"F",IF(OR(FI6="AB",GD6="AB",EF6="AB",GM6="AB",GW6="AB"),"AB",IF(OR(FI6="RE",GD6="RE",EF6="RE",GM6="RE",GW6="RE"),"RE",""))) | HE6: F | HF6: S | HG6: G1 | HH6: G2 | HI6: RE | HJ6: =IF(D6="NSO","NSO",IF(OR(D6=0,Q6="",AF6="",AW6="",BL6="",CR6="",DG6=""),"",IF(OR(HE6>0,(HF6+HG6+HH6)>2),"FAIL",IF(HI6>0,"RE-EXAM.",IF(OR(HF6>0,HG6>1),"SUPPL.",IF(AND(HG6>0,HH6>0),"SUPPL.",IF((HG6+HH6),"PASS BY GRACE","PASS"))))))) | HN6: =IF(details!DJ6="","",details!DJ6) | HO6: =IF(details!DK6="","",details!DK6) -> 0 | HP6: =IF(details!DN6="","",details!DN6) | HQ6: =IF(details!DO6="","",details!DO6) -> 0 | HR6: =IF(details!DR6="","",details!DR6) | HS6: =IF(details!DS6="","",details!DS6) -> 0 | HT6: =IF(details!DV6="","",details!DV6) | HU6: =IF(details!DW6="","",details!DW6) -> 0 | HV6: =IF(details!DZ6="","",details!DZ6) | HW6: =IF(details!EA6="","",details!EA6) -> 0 | HY6: =SUM(N6,AC6,AT6,BI6,CO6,DD6) -> 7 | HZ6: DIV | IB6: GR | IC6: DIV | IE6: GR | IF6: Div. | IG6: S | IH6: U | II6: G | IJ6: P | IK6: SD | IM6: GR | IN6: DIV | IP6: GR | IQ6: DIV | IS6: GR | IT6: DIV | IV6: GR | JI6: =IF(AND(JH6>=60,JG6="PASS"),"FIRST",IF(AND(JH6>=60,JG6="PASS BY GRACE"),"FIRST",IF(AND(JH6>=48,JG6="PASS"),"SECOND",IF(AND(JH6>=48,JG6="PASS BY GRACE"),"SECOND",IF(OR(JG6="PASS",JG6="PASS BY GRACE"),"THIRD","")))))
A7: =details!A7 -> 1 | B7: =IF(details!B7="","",details!B7) -> SC | C7: =IF(details!C7="","",details!C7) -> G | D7: =IF(details!D7="","",details!D7) -> 9101 | E7: =IF(details!E7="","",details!E7) -> 10601 | F7: =IF(details!F7="","",details!F7) -> 36158 | G7: =IF(details!G7="","",details!G7) -> A 001 | H7: =IF(details!H7="","",details!H7) -> B 001 | I7: =IF(details!I7="","",details!I7) -> C 001 | ... L7: =IF(details!L7="","",details!L7) -> 9 | M7: =IF(AND(J7="",K7="",L7=""),"",SUM(J7:L7)) -> 29 | N7: =IF(details!M7="","",details!M7) -> 1 | O7: =IF(details!N7="","",details!N7) -> 70 | P7: =IF(AND(M7="",O7=""),"",SUM(M7:O7)) -> 100 | Q7: =IF(details!O7="","",details!O7) -> 40 | R7: =IF(AND(P7="",Q7=""),"",SUM(P7:Q7)) -> 140 | S7: =COUNTIF(J7:L7,"NA")*J$6 -> 0 | T7: =(COUNTIF(J7:L7,"ML")*J$6)+(COUNTIF(O7,"ML")*O$6) -> 0 | U7: =IF(OR($D7="NSO",$D7=0),"",IF(AND(J7="",K7="",L7="",O7="",Q7=""),"",IF(AND(K7="",L7="",O7="",Q7=""),10-S7-T7,IF(AND(L7="",O7="",Q7=""),20-S7-T7,IF(AND(L7="",Q7=""),90-S7-T7,IF(Q7="",100-S7-T7,200-S7-T7)))))) -> 200 | V7: =IF(AND(OR(J7="ab",J7="ml"),OR(K7="ab",K7="ml"),OR(L7="ab",L7="ml")),"AB",IF(AND(OR(J7="ab",J7="ml"),OR(K7="ab",K7="ml"),OR(O7="ab",O7="ml")),"AB",IF(AND(OR(J7="ab",J7="ml"),OR(O7="ab",O7="ml"),OR(L7="ab",L7="ml")),"AB",IF(AND(OR(O7="ab",O7="ml"),OR(K7="ab",K7="ml"),OR(L7="ab",L7="ml")),"AB","")))) | W7: =IF(OR($D7="NSO",$D7="",Q7=""),"",IF(OR(V7="AB",Q7="ab"),"AB",IF(Q7="ML","RE",IF(AND(R7>=36%*U7,Q7>=20),"P",IF(AND(R7>=34%*U7,T7=0,Q7>=20),"G2",IF(AND(R7>=31%*U7,T7=0,Q7>=20),"G1",IF(R7>=25%*U7,"S","F"))))))) -> P | X7: =IF(OR(W7="",W7=0,W7="S",W7="F",W7="AB",W7="RE"),W7,IF(R7>=75%*U7,"D",IF(R7>=60%*U7,"I",IF(R7>=48%*U7,"II",IF(R7>=36%*U7,"III",W7))))) -> I | Y7: =IF(details!P7="","",details!P7) -> 4 | Z7: =IF(details!Q7="","",details!Q7) -> 9 | AA7: =IF(details!R7="","",details!R7) -> 8 | AB7: =IF(AND(Y7="",Z7="",AA7=""),"",SUM(Y7:AA7)) -> 21 | AC7: =IF(details!S7="","",details!S7) -> 1 | AD7: =IF(details!T7="","",details!T7) -> 70 | AE7: =IF(AND(AB7="",AD7=""),"",SUM(AB7:AD7)) -> 92 | AF7: =IF(details!U7="","",details!U7) -> 100 | AG7: =IF(AND(AE7="",AF7=""),"",SUM(AE7:AF7)) -> 192 | AH7: =COUNTIF(Y7:AA7,"NA")*Y$6 -> 0 | AI7: =(COUNTIF(Y7:AA7,"ML")*Y$6)+(COUNTIF(AD7,"ML")*AD$6) -> 0 | AJ7: =IF(OR($D7="NSO",$D7=0),"",IF(AND(Y7="",Z7="",AA7="",AD7="",AF7=""),"",IF(AND(Z7="",AA7="",AD7="",AF7=""),10-AH7-AI7,IF(AND(AA7="",AD7="",AF7=""),20-AH7-AI7,IF(AND(AA7="",AF7=""),90-AH7-AI7,IF(AF7="",100-AH7-AI7,200-AH7-AI7)))))) -> 200 | AK7: =IF(AND(OR(Y7="ab",Y7="ml"),OR(Z7="ab",Z7="ml"),OR(AA7="ab",AA7="ml")),"AB",IF(AND(OR(Y7="ab",Y7="ml"),OR(Z7="ab",Z7="ml"),OR(AD7="ab",AD7="ml")),"AB",IF(AND(OR(Y7="ab",Y7="ml"),OR(AD7="ab",AD7="ml"),OR(AA7="ab",AA7="ml")),"AB",IF(AND(OR(AD7="ab",AD7="ml"),OR(Z7="ab",Z7="ml"),OR(AA7="ab",AA7="ml")),"AB","")))) | AL7: =IF(OR($D7="NSO",$D7="",AF7=""),"",IF(OR(AK7="AB",AF7="ab"),"AB",IF(AF7="ML","RE",IF(AND(AG7>=36%*AJ7,AF7>=20),"P",IF(AND(AG7>=34%*AJ7,AI7=0,AF7>=20),"G2",IF(AND(AG7>=31%*AJ7,AI7=0,AF7>=20),"G1",IF(AG7>=25%*AJ7,"S","F"))))))) -> P | AM7: =IF(OR(AL7="",AL7=0,AL7="S",AL7="RE",AL7="F",AL7="AB"),AL7,IF(AG7>=75%*AJ7,"D",IF(AG7>=60%*AJ7,"I",IF(AG7>=48%*AJ7,"II",IF(AG7>=36%*AJ7,"III",AL7))))) -> D | AN7: =IF(details!V7="","",details!V7) -> SANSKRIT | AO7: =IF(details!V7="","",details!V7) -> SANSKRIT | AP7: =IF(details!W7="","",details!W7) -> 10 | AQ7: =IF(details!X7="","",details!X7) -> 10 | AR7: =IF(details!Y7="","",details!Y7) -> 9 | AS7: =IF(AND(AP7="",AQ7="",AR7=""),"",SUM(AP7:AR7)) -> 29 | AT7: =IF(details!Z7="","",details!Z7) -> 0.5 | AU7: =IF(details!AA7="","",details!AA7) -> 70 | AV7: =IF(AND(AS7="",AU7=""),"",SUM(AS7:AU7)) -> 99.5 | AW7: =IF(details!AB7="","",details!AB7) -> 100 | AX7: =IF(AND(AV7="",AW7=""),"",SUM(AV7:AW7)) -> 199.5 | AY7: =COUNTIF(AP7:AR7,"NA")*AP$6 -> 0 | AZ7: =(COUNTIF(AP7:AR7,"ML")*AP$6)+(COUNTIF(AU7,"ML")*AU$6) -> 0 | BA7: =IF(OR($D7="NSO",$D7=0),"",IF(AND(AP7="",AQ7="",AR7="",AU7="",AW7=""),"",IF(AND(AQ7="",AR7="",AU7="",AW7=""),10-AY7-AZ7,IF(AND(AR7="",AU7="",AW7=""),20-AY7-AZ7,IF(AND(AR7="",AW7=""),90-AY7-AZ7,IF(AW7="",100-AY7-AZ7,200-AY7-AZ7)))))) -> 200 | BB7: =IF(AND(OR(AP7="ab",AP7="ml"),OR(AQ7="ab",AQ7="ml"),OR(AR7="ab",AR7="ml")),"AB",IF(AND(OR(AP7="ab",AP7="ml"),OR(AQ7="ab",AQ7="ml"),OR(AU7="ab",AU7="ml")),"AB",IF(AND(OR(AP7="ab",AP7="ml"),OR(AU7="ab",AU7="ml"),OR(AR7="ab",AR7="ml")),"AB",IF(AND(OR(AU7="ab",AU7="ml"),OR(AQ7="ab",AQ7="ml"),OR(AR7="ab",AR7="ml")),"AB","")))) | BC7: =IF(OR($D7="NSO",$D7="",AW7=""),"",IF(OR(BB7="AB",AW7="ab"),"AB",IF(AW7="ML","RE",IF(AND(AX7>=36%*BA7,AW7>=20),"P",IF(AND(AX7>=34%*BA7,AZ7=0,AW7>=20),"G2",IF(AND(AX7>=31%*BA7,AZ7=0,AW7>=20),"G1",IF(AX7>=25%*BA7,"S","F"))))))) -> P | BD7: =IF(OR(BC7="",BC7=0,BC7="S",BC7="RE",BC7="F",BC7="AB"),BC7,IF(AX7>=75%*BA7,"D",IF(AX7>=60%*BA7,"I",IF(AX7>=48%*BA7,"II",IF(AX7>=36%*BA7,"III",BC7))))) -> D | BE7: =IF(details!AC7="","",details!AC7) -> 8 | BF7: =IF(details!AD7="","",details!AD7) -> 3 | BG7: =IF(details!AE7="","",details!AE7) -> 8 | BH7: =IF(AND(BE7="",BF7="",BG7=""),"",SUM(BE7:BG7)) -> 19 | BI7: =IF(details!AF7="","",details!AF7) -> 2 | BJ7: =IF(details!AG7="","",details!AG7) -> 70 | BK7: =IF(AND(BH7="",BJ7=""),"",SUM(BH7:BJ7)) -> 91 | BL7: =IF(details!AH7="","",details!AH7) -> 100 | BM7: =IF(AND(BK7="",BL7=""),"",SUM(BK7:BL7)) -> 191 | BN7: =COUNTIF(BE7:BG7,"NA")*BE$6 -> 0 | BO7: =(COUNTIF(BE7:BG7,"ML")*BE$6)+(COUNTIF(BJ7,"ML")*BJ$6) -> 0 | BP7: =IF(OR($D7="NSO",$D7=0),"",IF(AND(BE7="",BF7="",BG7="",BJ7="",BL7=""),"",IF(AND(BF7="",BG7="",BJ7="",BL7=""),10-BN7-BO7,IF(AND(BG7="",BJ7="",BL7=""),20-BN7-BO7,IF(AND(BG7="",BL7=""),90-BN7-BO7,IF(BL7="",100-BN7-BO7,200-BN7-BO7)))))) -> 200 | BQ7: =IF(AND(OR(BE7="ab",BE7="ml"),OR(BF7="ab",BF7="ml"),OR(BG7="ab",BG7="ml")),"AB",IF(AND(OR(BE7="ab",BE7="ml"),OR(BF7="ab",BF7="ml"),OR(BJ7="ab",BJ7="ml")),"AB",IF(AND(OR(BE7="ab",BE7="ml"),OR(BJ7="ab",BJ7="ml"),OR(BG7="ab",BG7="ml")),"AB",IF(AND(OR(BJ7="ab",BJ7="ml"),OR(BF7="ab",BF7="ml"),OR(BG7="ab",BG7="ml")),"AB","")))) | BR7: =IF(OR($D7="NSO",$D7="",BL7=""),"",IF(OR(BQ7="AB",BL7="ab"),"AB",IF(BL7="ML","RE",IF(AND(BM7>=36%*BP7,BL7>=20),"P",IF(AND(BM7>=34%*BP7,BO7=0,BL7>=20),"G2",IF(AND(BM7>=31%*BP7,BO7=0,BL7>=20),"G1",IF(BM7>=25%*BP7,"S","F"))))))) -> P | BS7: =IF(OR(BR7="",BR7=0,BR7="S",BR7="RE",BR7="F",BR7="AB"),BR7,IF(BM7>=75%*BP7,"D",IF(BM7>=60%*BP7,"I",IF(BM7>=48%*BP7,"II",IF(BM7>=36%*BP7,"III",BR7))))) -> D | BT7: =IF(details!AI7="","",details!AI7) | BU7: =IF(AND(CA7="P",CB7>=CK7),CONCATENATE(BT7," (Pr 40 Th 60)"),CC$3) -> SOCIAL SCIENCE | BV7: =IF(details!AJ7="","",details!AJ7) | BW7: =IF(details!AK7="","",details!AK7) | BX7: =IF(details!AL7="","",details!AL7) | BY7: =IF(AND(BV7="",BX7="",BZ7=""),"",SUM(BV7:BX7)) | BZ7: =IF(details!AM7="","",details!AM7) | CA7: =IF(AND(BX7="",BZ7=""),"",IF(AND(BX7>=36%*BX$6,BZ7>=36%*BZ$6),"P","SS")) | CB7: =IF(CA7="P",(BY7+BZ7),"") | CC7: =IF(details!AN7="","",details!AN7) -> 10 | CD7: =IF(details!AO7="","",details!AO7) -> 10 | CE7: =IF(details!AP7="","",details!AP7) -> 9 | CF7: =IF(AND(CC7="",CD7="",CE7=""),"",SUM(CC7:CE7)) -> 29 | CG7: =IF(details!AQ7="","",details!AQ7) -> 0.5 | CH7: =IF(details!AR7="","",details!AR7) -> 70 | CI7: =IF(AND(CF7="",CH7=""),"",SUM(CF7:CH7)) -> 99.5 | CJ7: =IF(details!AS7="","",details!AS7) -> 100 | CK7: =IF(AND(CI7="",CJ7=""),"",SUM(CI7:CJ7)) -> 199.5 | CL7: =IF(AND(CA7="P",CB7>=CK7),"",CC7) -> 10 | CM7: =IF(AND(CA7="P",CB7>=CK7),"",CD7) -> 10 | CN7: =IF(AND(CA7="P",CB7>=CK7),BV7,CE7) -> 9 | CO7: =IF(AND(CA7="P",CB7>=CK7),BW7,CG7) -> 0.5 | CP7: =IF(AND(CA7="P",CB7>=CK7),BX7,CH7) -> 70 | CQ7: =IF(AND(CA7="P",CB7>=CK7),BY7,CI7) -> 99.5 | CR7: =IF(AND(CA7="P",CB7>=CK7),BZ7,CJ7) -> 100 | CS7: =IF(AND(CA7="P",CB7>=CK7),CB7,CK7) -> 199.5 | CT7: =COUNTIF(CL7:CN7,"NA")*10 -> 0 | CU7: =(COUNTIF(CL7:CN7,"ML")*10)+(COUNTIF(CP7,"ML")*70) -> 0 | CV7: =IF(OR($D7="NSO",$D7=0),"",IF(AND(CL7="",CM7="",CN7="",CP7="",CR7=""),"",IF(AND(CM7="",CN7="",CP7="",CR7=""),10-CT7-CU7,IF(AND(CN7="",CP7="",CR7=""),20-CT7-CU7,IF(AND(CN7="",CR7=""),90-CT7-CU7,IF(CR7="",100-CT7-CU7,200-CT7-CU7)))))) -> 200 | CW7: =IF(AND(OR(CL7="ab",CL7="ml"),OR(CM7="ab",CM7="ml"),OR(CN7="ab",CN7="ml")),"AB",IF(AND(OR(CL7="ab",CL7="ml"),OR(CM7="ab",CM7="ml"),OR(CP7="ab",CP7="ml")),"AB",IF(AND(OR(CL7="ab",CL7="ml"),OR(CP7="ab",CP7="ml"),OR(CN7="ab",CN7="ml")),"AB",IF(AND(OR(CP7="ab",CP7="ml"),OR(CM7="ab",CM7="ml"),OR(CN7="ab",CN7="ml")),"AB","")))) | CX7: =IF(OR($D7="NSO",$D7="",CR7=""),"",IF(OR(CW7="AB",CR7="ab"),"AB",IF(CR7="ML","RE",IF(AND(CS7>=36%*CV7,CR7>=20),"P",IF(AND(CS7>=34%*CV7,CU7=0,CR7>=20),"G2",IF(AND(CS7>=31%*CV7,CU7=0,CR7>=20),"G1",IF(CS7>=25%*CV7,"S","F"))))))) -> P | CY7: =IF(OR(CX7="",CX7=0,CX7="S",CX7="RE",CX7="F",CX7="AB"),CX7,IF(CS7>=75%*CV7,"D",IF(CS7>=60%*CV7,"I",IF(CS7>=48%*CV7,"II",IF(CS7>=36%*CV7,"III",CX7))))) -> D | CZ7: =IF(details!AT7="","",details!AT7) -> 5 | DA7: =IF(details!AU7="","",details!AU7) -> 4 | DB7: =IF(details!AV7="","",details!AV7) -> 8 | DC7: =IF(AND(CZ7="",DA7="",DB7=""),"",SUM(CZ7:DB7)) -> 17 | DD7: =IF(details!AW7="","",details!AW7) -> 1 | DE7: =IF(details!AX7="","",details!AX7) -> 25 | DF7: =IF(AND(DC7="",DE7=""),"",SUM(DC7:DE7)) -> 43 | DG7: =IF(details!AY7="","",details!AY7) -> 90 | DH7: =IF(AND(DF7="",DG7=""),"",SUM(DF7:DG7)) -> 133 | DI7: =COUNTIF(CZ7:DB7,"NA")*CZ$6 -> 0 | DJ7: =(COUNTIF(CZ7:DB7,"ML")*CZ$6)+(COUNTIF(DE7,"ML")*DE$6) -> 0 | DK7: =IF(OR($D7="NSO",$D7=0),"",IF(AND(CZ7="",DA7="",DB7="",DE7="",DG7=""),"",IF(AND(DA7="",DB7="",DE7="",DG7=""),10-DI7-DJ7,IF(AND(DB7="",DE7="",DG7=""),20-DI7-DJ7,IF(AND(DB7="",DG7=""),90-DI7-DJ7,IF(DG7="",100-DI7-DJ7,200-DI7-DJ7)))))) -> 200 | DL7: =IF(AND(OR(CZ7="ab",CZ7="ml"),OR(DA7="ab",DA7="ml"),OR(DB7="ab",DB7="ml")),"AB",IF(AND(OR(CZ7="ab",CZ7="ml"),OR(DA7="ab",DA7="ml"),OR(DE7="ab",DE7="ml")),"AB",IF(AND(OR(CZ7="ab",CZ7="ml"),OR(DE7="ab",DE7="ml"),OR(DB7="ab",DB7="ml")),"AB",IF(AND(OR(DE7="ab",DE7="ml"),OR(DA7="ab",DA7="ml"),OR(DB7="ab",DB7="ml")),"AB","")))) | DM7: =IF(OR($D7="NSO",$D7="",DG7=""),"",IF(OR(DL7="AB",DG7="ab"),"AB",IF(DG7="ML","RE",IF(AND(DH7>=36%*DK7,DG7>=20),"P",IF(AND(DH7>=34%*DK7,DJ7=0,DG7>=20),"G2",IF(AND(DH7>=31%*DK7,DJ7=0,DG7>=20),"G1",IF(DH7>=25%*DK7,"S","F"))))))) -> P | DN7: =IF(OR(DM7="",DM7=0,DM7="S",DM7="RE",DM7="F",DM7="AB"),DM7,IF(DH7>=75%*DK7,"D",IF(DH7>=60%*DK7,"I",IF(DH7>=48%*DK7,"II",IF(DH7>=36%*DK7,"III",DM7))))) -> I | DO7: =SUM(S7,T7,AH7,AI7,AY7,AZ7,BN7,BO7,CT7,CU7,DI7,DJ7) -> 0 | DP7: =SUM(R7,AG7,AX7,BM7,CS7,DH7) -> 1055 | DQ7: =DP7*100/(1200-DO7) -> 87.916667 | DR7: =IF(AND(DQ7>=60,HK7="PASS"),"FIRST",IF(AND(DQ7>=60,HK7="PASS BY GRACE"),"FIRST",IF(AND(DQ7>=48,HK7="PASS"),"SECOND",IF(AND(DQ7>=48,HK7="PASS BY GRACE"),"SECOND",IF(OR(HK7="PASS",HK7="PASS BY GRACE"),"THIRD",""))))) -> FIRST | DS7: =IF(details!AZ7="","",details!AZ7) -> 10 | DT7: =IF(details!BA7="","",details!BA7) -> 10 | DU7: =IF(details!BB7="","",details!BB7) -> 10 | DV7: =IF(AND(DS7="",DT7="",DU7=""),"",SUM(DS7:DU7)) -> 30 | DW7: =IF(details!BC7="","",details!BC7) -> 70 | DX7: =IF(AND(DV7="",DW7=""),"",SUM(DV7:DW7)) -> 100 | DY7: =IF(details!BD7="","",details!BD7) -> 100 | DZ7: =IF(AND(DX7="",DY7=""),"",SUM(DX7:DY7)) -> 200 | EA7: =(COUNTIF(DS7:DU7,"NA")*10) -> 0 | EB7: =(COUNTIF(DS7:DU7,"ML")*10)+(COUNTIF(DW7,"ML")*70) -> 0 | EC7: =IF(OR($D7="NSO",$D7=0),"",IF(AND(DS7="",DT7="",DU7="",DW7="",DY7=""),"",IF(AND(DT7="",DU7="",DW7="",DY7=""),10-EA7-EB7,IF(AND(DU7="",DW7="",DY7=""),20-EA7-EB7,IF(AND(DU7="",DY7=""),90-EA7-EB7,IF(DY7="",100-EA7-EB7,200-EA7-EB7)))))) -> 200 | ED7: =IF(AND(OR(DS7="ab",DS7="ml"),OR(DT7="ab",DT7="ml"),OR(DU7="ab",DU7="ml")),"AB",IF(AND(OR(DS7="ab",DS7="ml"),OR(DT7="ab",DT7="ml"),OR(DW7="ab",DW7="ml")),"AB",IF(AND(OR(DS7="ab",DS7="ml"),OR(DW7="ab",DW7="ml"),OR(DU7="ab",DU7="ml")),"AB",IF(AND(OR(DW7="ab",DW7="ml"),OR(DT7="ab",DT7="ml"),OR(DU7="ab",DU7="ml")),"AB","")))) | EE7: =IF(OR($D7="NSO",$D7="",DY7=""),"",IF(OR(ED7="AB",DY7="ab"),"AB",IF(DY7="ML","RE",IF(AND(DZ7>=36%*EC7,DY7>=20),"P","RE")))) -> P | EF7: =IF(OR(EE7="RE",EE7="",EE7="F",EE7="AB"),EE7,IF(DZ7>=80%*EC7,"A",IF(DZ7>=60%*EC7,"B",IF(DZ7>=40%*EC7,"C","D")))) -> A | EG7: =IF(details!BE7="","",details!BE7) -> 6 | EH7: =IF(details!BF7="","",details!BF7) -> 8 | EI7: =IF(AND(EG7="",EH7=""),"",IF(AND(EG7="ml",EH7="ml"),"ml",IF(AND(EG7="AB",EH7="AB"),"AB",SUM(EG7:EH7)))) -> 14 | EJ7: =IF(details!BG7="","",details!BG7) -> 4 | EK7: =IF(details!BH7="","",details!BH7) -> 7 | EL7: =IF(AND(EJ7="",EK7=""),"",IF(AND(EJ7="ml",EK7="ml"),"ml",IF(AND(EJ7="AB",EK7="AB"),"AB",SUM(EJ7:EK7)))) -> 11 | EM7: =IF(details!BI7="","",details!BI7) -> 15 | EN7: =IF(details!BJ7="","",details!BJ7) -> 10 | EO7: =IF(AND(EM7="",EN7=""),"",IF(AND(EM7="ml",EN7="ml"),"ml",IF(AND(EM7="AB",EN7="AB"),"AB",SUM(EM7:EN7)))) -> 25 | EP7: =IF(AND(EG7="",EJ7="",EM7=""),"",SUM(EG7,EJ7,EM7)) -> 25 | EQ7: =IF(AND(EH7="",EK7="",EN7=""),"",SUM(EH7,EK7,EN7)) -> 25 | ER7: =IF(AND(EP7="",EQ7=""),"",IF(AND(EP7="ml",EQ7="ml"),"ml",IF(AND(EP7="AB",EQ7="AB"),"AB",SUM(EP7:EQ7)))) -> 50 | ES7: =IF(details!BK7="","",details!BK7) -> 24 | ET7: =IF(details!BL7="","",details!BL7) -> 14 | EU7: =IF(AND(ES7="",ET7=""),"",IF(AND(ES7="ml",ET7="ml"),"ml",IF(AND(ES7="AB",ET7="AB"),"AB",SUM(ES7:ET7)))) -> 38 | EV7: =IF(AND(EP7="",ES7=""),"",SUM(EP7,ES7)) -> 49 | EW7: =IF(AND(EQ7="",FS7=""),"",SUM(EQ7,ET7)) -> 39 | EX7: =IF(details!BM7="","",details!BM7) -> 30 | EY7: =IF(details!BN7="","",details!BN7) -> 70 | EZ7: =IF(AND(EX7="",EY7=""),"",IF(AND(EX7="AB",EY7="AB"),"AB",SUM(EX7:EY7))) -> 100 | FA7: =IF(AND(EV7="",EX7=""),"",SUM(EV7,EX7)) -> 79 | FB7: =IF(AND(EW7="",EY7=""),"",SUM(EW7,EY7)) -> 109 | FC7: =IF(AND(FA7="",FB7=""),"",SUM(FA7:FB7)) -> 188 | FD7: =COUNTIF(EG7,"na")*EG$6+COUNTIF(EH7,"na")*EH$6+COUNTIF(EJ7,"na")*EJ$6+COUNTIF(EK7,"na")*EK$6+COUNTIF(EM7,"na")*EM$6+COUNTIF(EN7,"na")*EN$6 -> 0 | FE7: =COUNTIF(EG7,"ml")*EG$6+COUNTIF(EH7,"ml")*EH$6+COUNTIF(EJ7,"ml")*EJ$6+COUNTIF(EK7,"ml")*EK$6+COUNTIF(EM7,"ml")*EM$6+COUNTIF(EN7,"ml")*EN$6+(COUNTIF(ES7,"ML")*ES$6)+(COUNTIF(ET7,"ML")*ET$6) -> 0 | FF7: =IF(OR($D7="NSO",$D7=0),"",IF(AND(EI7="",EL7="",EO7="",EU7="",EZ7=""),"",IF(AND(EL7="",EO7="",EU7="",EZ7=""),18-FD7-FE7,IF(AND(EO7="",EU7="",EZ7=""),35-FD7-FE7,IF(AND(EO7="",EZ7=""),75-FD7-FE7,IF(EZ7="",100-FD7-FE7,200-FD7-FE7)))))) -> 200 | FG7: =IF(AND(OR(EI7="ab",EI7="ml"),OR(EL7="ab",EL7="ml"),OR(EO7="ab",EO7="ml")),"AB",IF(AND(OR(EI7="ab",EI7="ml"),OR(EL7="ab",EL7="ml"),OR(EU7="ab",EU7="ml")),"AB",IF(AND(OR(EL7="ab",EL7="ml"),OR(EO7="ab",EO7="ml"),OR(EU7="ab",EU7="ml")),"AB",IF(AND(OR(EI7="ab",EI7="ml"),OR(EO7="ab",EO7="ml"),OR(EU7="ab",EU7="ml")),"AB","")))) | FH7: =IF(OR($D7="NSO",$D7=0,EZ7=""),"",IF(OR(FG7="AB",EZ7="AB"),"AB",IF(EZ7="ML","RE",IF(AND(FC7>=36%*FF7,EZ7>=20),"P","RE")))) -> P | FI7: =IF(OR(FH7="RE",FH7="",FH7="F",FH7="AB"),FH7,IF(FC7>=80%*FF7,"A",IF(FC7>=60%*FF7,"B",IF(FC7>=40%*FF7,"C","D")))) -> A | FJ7: =IF(details!BO7="","",details!BO7) -> 10 | FK7: =IF(details!BP7="","",details!BP7) -> 10 | FL7: =IF(details!BQ7="","",details!BQ7) -> 10 | FM7: =IF(AND(FJ7="",FK7="",FL7=""),"",SUM(FJ7:FL7)) -> 30 | FN7: =IF(details!BR7="","",details!BR7) -> 33 | FO7: =IF(details!BS7="","",details!BS7) -> 18 | FP7: =IF(AND(FN7="",FO7=""),"",IF(AND(FN7="ml",FO7="ml"),"ml",IF(AND(FN7="AB",FO7="AB"),"AB",SUM(FN7:FO7)))) -> 51 | FQ7: =IF(AND(FM7="",FN7=""),"",SUM(FM7,FN7)) -> 63 | FR7: =FO7 -> 18 | FS7: =IF(details!BT7="","",details!BT7) -> 60 | FT7: =IF(details!BU7="","",details!BU7) -> 30 | FU7: =IF(AND(FS7="",FT7=""),"",IF(AND(FS7="AB",FT7="AB"),"AB",SUM(FS7:FT7))) -> 90 | FV7: =IF(AND(FQ7="",FS7=""),"",SUM(FQ7,FS7)) -> 123 | FW7: =IF(AND(FR7="",FT7=""),"",SUM(FR7,FT7)) -> 48 | FX7: =IF(AND(FV7="",FW7=""),"",SUM(FV7:FW7)) -> 171 | FY7: =COUNTIF(FJ7:FL7,"NA")*FJ$6 -> 0 | FZ7: =(COUNTIF(FJ7:FL7,"ML")*FJ$6)+(COUNTIF(FN7,"ML")*FN$6)+(COUNTIF(FO7,"ML")*FO$6)+(COUNTIF(FS7,"ML")*FS$6)+(COUNTIF(FT7,"ML")*FT$6) -> 0 | GA7: =IF(OR(D7="NSO",D7=0),"",IF(AND(FJ7="",FK7="",FL7="",FP7="",FU7=""),"",IF(AND(FK7="",FL7="",FP7="",FU7=""),10-FY7-FZ7,IF(AND(FL7="",FP7="",FU7=""),20-FY7-FZ7,IF(AND(FL7="",FU7=""),95-FY7-FZ7,IF(FU7="",100-FY7-FZ7,200-FY7-FZ7)))))) -> 200 | GB7: =IF(AND(OR(FJ7="ab",FJ7="ml"),OR(FK7="ab",FK7="ml"),OR(FL7="ab",FL7="ml")),"AB",IF(AND(OR(FJ7="ab",FJ7="ml"),OR(FK7="ab",FK7="ml"),OR(FP7="ab",FP7="ml")),"AB",IF(AND(OR(FL7="ab",FL7="ml"),OR(FK7="ab",FK7="ml"),OR(FP7="ab",FP7="ml")),"AB",IF(AND(OR(FJ7="ab",FJ7="ml"),OR(FL7="ab",FL7="ml"),OR(FP7="ab",FP7="ml")),"AB","")))) | GC7: =IF(OR($D7="NSO",$D7=0,FU7=""),"",IF(OR(GB7="AB",FU7="AB"),"AB",IF(FU7="ML","RE",IF(AND(FX7>=36%*GA7,FU7>=20),"P","RE")))) -> P | GD7: =IF(OR(GC7="RE",GC7="",GC7="F",GC7="AB"),GC7,IF(FX7>=80%*GA7,"A",IF(FX7>=60%*GA7,"B",IF(FX7>=40%*GA7,"C",IF(FX7>=36%*GA7,"D",""))))) -> A | GE7: =IF(details!BV7="","",details!BV7) -> 24 | GF7: =IF(details!BW7="","",details!BW7) -> 44 | GG7: =IF(details!BX7="","",details!BX7) -> 30 | GH7: =IF(AND(GE7="",GF7="",GG7=""),"",SUM(GE7:GG7)) -> 98 | GI7: =COUNTIF(GE7,"ML")*GE$6+COUNTIF(GF7,"ML")*GF$6+COUNTIF(GG7,"ML")*GG$6 -> 0 | GJ7: =IF(OR($D7="NSO",$D7=0),"",IF(AND(GE7="",GF7="",GG7=""),"",IF(AND(GF7="",GG7=""),25-GI7,IF(GG7="",75-GI7,100-GI7)))) -> 100 | GK7: =IF(AND(OR(GE7="ab",GE7="ml"),OR(GF7="ab",GF7="ml")),"AB","") | GL7: =IF(OR($D7="NSO",$D7=0,GG7=""),"",IF(OR(GG7="AB",GK7="AB"),"AB",IF(GG7="ML","RE",IF(GH7>=36%*GJ7,"P","RE")))) -> P | GM7: =IF(OR(GL7="",GL7="F",GL7="AB"),GL7,IF(GH7>=81%*GJ7,"A",IF(GH7>=61%*GJ7,"B",IF(GH7>=41%*GJ7,"C",IF(GH7>=21%*GJ7,"D","E"))))) -> A | GN7: =IF(details!BY7="","",details!BY7) -> 24 | GO7: =IF(details!BZ7="","",details!BZ7) -> 28 | GP7: =IF(details!CA7="","",details!CA7) -> 27 | GQ7: =IF(details!CB7="","",details!CB7) -> 14 | GR7: =IF(AND(GN7="",GO7="",GP7="",GQ7=""),"",SUM(GN7:GQ7)) -> 93 | GS7: =COUNTIF(GN7,"ML")*GN$6+COUNTIF(GO7,"ML")*GO$6+COUNTIF(GP7,"ML")*GP$6+COUNTIF(GQ7,"ML")*GQ$6 -> 0 | GT7: =IF(OR($D7="NSO",$D7=0),"",IF(AND(GN7="",GO7="",GP7="",GQ7=""),"",IF(AND(GO7="",GP7="",GQ7=""),25-GS7,IF(AND(GP7="",GQ7=""),55-GS7,IF(GQ7="",85-GS7,100-GS7))))) -> 100 | GU7: =IF(AND(OR(GN7="ab",GN7="ml"),OR(GO7="ab",GO7="ml")),"AB",IF(AND(OR(GO7="ab",GO7="ml"),OR(GP7="ab",GP7="ml")),"AB",IF(AND(OR(GN7="ab",GN7="ml"),OR(GP7="ab",GP7="ml")),"AB",""))) | GV7: =IF(OR($D7="NSO",$D7=0,GQ7=""),"",IF(OR(GQ7="AB",GU7="AB"),"AB",IF(GQ7="ML","RE",IF(GR7>=36%*GT7,"P","RE")))) -> P | GW7: =IF(OR(GV7="",GV7="F",GV7="AB"),GV7,IF(GR7>=81%*GT7,"A",IF(GR7>=61%*GT7,"B",IF(GR7>=41%*GT7,"C",IF(GR7>=21%*GT7,"D","E"))))) -> A | GX7: =X7 -> I | GY7: =AM7 -> D | GZ7: =BD7 -> D | HA7: =BS7 -> D | HB7: =CY7 -> D | HC7: =DN7 -> I | HD7: =IF(OR(FI7="F",GD7="F",EF7="F",GM7="F",GW7="F"),"F",IF(OR(FI7="AB",GD7="AB",EF7="AB",GM7="AB",GW7="AB"),"AB",IF(OR(FI7="RE",GD7="RE",EF7="RE",GM7="RE",GW7="RE"),"RE",""))) | HE7: =COUNTIF(GX7:HD7,"F")+COUNTIF(GX7:HD7,"AB") -> 0 | HF7: =COUNTIF(GX7:HC7,"S") -> 0 | HG7: =COUNTIF(GX7:HC7,"G1") -> 0 | HH7: =COUNTIF(GX7:HC7,"G2") -> 0 | HI7: =COUNTIF(GX7:HD7,"RE") -> 0 | HJ7: =IF(D7="NSO","NSO",IF(OR(D7=0,Q7="",AF7="",AW7="",BL7="",CR7="",DG7=""),"",IF(OR(HE7>0,(HF7+HG7+HH7)>2),"FAIL",IF(HI7>0,"RE-EXAM.",IF(OR(HF7>0,HG7>1),"SUPPL.",IF(AND(HG7>0,HH7>0),"SUPPL.",IF((HG7+HH7),"PASS BY GRACE","PASS"))))))) -> PASS | HK7: =IF(AND(OR(HJ7="PASS",HJ7="PASS BY GRACE"),HD7="F"),"FAIL",IF(AND(OR(HJ7="PASS",HJ7="PASS BY GRACE"),HD7="RE"),"RE-EXAM.",HJ7)) -> PASS | HL7: =IF(OR(HK7="PASS",HK7="PASS BY GRACE"),DQ7,"") -> 87.916667 | HM7: {=IF(HL7="","",SUMPRODUCT((HL7<HL$7:HL$106)/COUNTIF(HL$7:HL$106,HL$7:HL$106)))} -> 3 | HN7: =IF(details!DJ7="","",details!DJ7) | HO7: =IF(details!DK7="","",details!DK7) | HP7: =IF(details!DN7="","",details!DN7) | HQ7: =IF(details!DO7="","",details!DO7) | HR7: =IF(details!DR7="","",details!DR7) | HS7: =IF(details!DS7="","",details!DS7) | HT7: =IF(details!DV7="","",details!DV7) | HU7: =IF(details!DW7="","",details!DW7) | HV7: =IF(details!DZ7="","",details!DZ7) | HW7: =IF(details!EA7="","",details!EA7) | HX7: =IF(HV7="","",HW7/HV7*100) | HY7: =SUM(N7,AC7,AT7,BI7,CO7,DD7) -> 6 | HZ7: =IF(AND(HJ7="FAIL",(OR(GX7="G1",GX7="G2",GX7="S"))),"F",IF(AND(HJ7="FAIL",GX7="RE"),"AB",IF(AND(HJ7="RE-EXAM.",(OR(GX7="G1",GX7="G2",GX7="S"))),"S",IF(AND(HJ7="SUPPL.",(OR(GX7="G1",GX7="G2"))),"S",IF(AND(HJ7="PASS BY GRACE",(OR(GX7="G1",GX7="G2"))),"G",GX7))))) -> I | IA7: =IF(HZ7="G",",+","") | IB7: =IF(HZ7="G",ROUNDUP(36%*U7-R7,0),"") | IC7: =IF(AND(HJ7="FAIL",(OR(GY7="G1",GY7="G2",GY7="S"))),"F",IF(AND(HJ7="FAIL",GY7="RE"),"AB",IF(AND(HJ7="RE-EXAM.",(OR(GY7="G1",GY7="G2",GY7="S"))),"S",IF(AND(HJ7="SUPPL.",(OR(GY7="G1",GY7="G2"))),"S",IF(AND(HJ7="PASS BY GRACE",(OR(GY7="G1",GY7="G2"))),"G",GY7))))) -> D | ID7: =IF(IC7="G",",+","") | IE7: =IF(IC7="G",ROUNDUP(36%*AJ7-AG7,0),"") | IF7: =IF(AND(HJ7="FAIL",(OR(GZ7="G1",GZ7="G2",GZ7="S"))),"F",IF(AND(HJ7="FAIL",GZ7="RE"),"AB",IF(AND(HJ7="RE-EXAM.",(OR(GZ7="G1",GZ7="G2",GZ7="S"))),"S",IF(AND(HJ7="SUPPL.",(OR(GZ7="G1",GZ7="G2"))),"S",IF(AND(HJ7="PASS BY GRACE",(OR(GZ7="G1",GZ7="G2"))),"G",GZ7))))) -> D | IG7: =IF($AO7=IG$5,$IF7,"") -> D | IH7: =IF($AO7=IH$5,$IF7,"") | II7: =IF($AO7=II$5,$IF7,"") | IJ7: =IF($AO7=IJ$5,$IF7,"") | IK7: =IF($AO7=IK$5,$IF7,"") | IL7: =IF(IF7="G",",+","") | IM7: =IF(IF7="G",ROUNDUP(36%*BA7-AX7,0),"") | IN7: =IF(AND(HJ7="FAIL",(OR(HA7="G1",HA7="G2",HA7="S"))),"F",IF(AND(HJ7="FAIL",HA7="RE"),"AB",IF(AND(HJ7="RE-EXAM.",(OR(HA7="G1",HA7="G2",HA7="S"))),"S",IF(AND(HJ7="SUPPL.",(OR(HA7="G1",HA7="G2"))),"S",IF(AND(HJ7="PASS BY GRACE",(OR(HA7="G1",HA7="G2"))),"G",HA7))))) -> D | IO7: =IF(IN7="G",",+","") | IP7: =IF(IN7="G",ROUNDUP(36%*BP7-BM7,0),"") | IQ7: =IF(AND(HJ7="FAIL",(OR(HB7="G1",HB7="G2",HB7="S"))),"F",IF(AND(HJ7="FAIL",HB7="RE"),"AB",IF(AND(HJ7="RE-EXAM.",(OR(HB7="G1",HB7="G2",HB7="S"))),"S",IF(AND(HJ7="SUPPL.",(OR(HB7="G1",HB7="G2"))),"S",IF(AND(HJ7="PASS BY GRACE",(OR(HB7="G1",HB7="G2"))),"G",HB7))))) -> D | IR7: =IF(IQ7="G",",+","") | IS7: =IF(IQ7="G",ROUNDUP(36%*CV7-CS7,0),"") | IT7: =IF(AND(HJ7="FAIL",(OR(HC7="G1",HC7="G2",HC7="S"))),"F",IF(AND(HJ7="FAIL",HC7="RE"),"AB",IF(AND(HJ7="RE-EXAM.",(OR(HC7="G1",HC7="G2",HC7="S"))),"S",IF(AND(HJ7="SUPPL.",(OR(HC7="G1",HC7="G2"))),"S",IF(AND(HJ7="PASS BY GRACE",(OR(HC7="G1",HC7="G2"))),"G",HC7))))) -> I | IU7: =IF(IT7="G",",+","") | IV7: =IF(IT7="G",ROUNDUP(36%*DK7-DH7,0),"") | IW7: =IF(AND(HJ7="FAIL",DY7="ML"),"AB",IF(AND(HJ7="FAIL",EF7="RE"),"F",EF7)) -> A | IX7: =IF(AND(HJ7="FAIL",EZ7="ML"),"AB",IF(AND(HJ7="FAIL",FI7="RE"),"F",FI7)) -> A | IY7: =IF(AND(HJ7="FAIL",FU7="ML"),"AB",IF(AND(HJ7="FAIL",GD7="RE"),"F",GD7)) -> A | IZ7: =IF(AND(HJ7="FAIL",GG7="ML"),"AB",IF(AND(HJ7="FAIL",GM7="RE"),"F",GM7)) -> A | JA7: =IF(AND(HJ7="FAIL",GQ7="ML"),"AB",IF(AND(HJ7="FAIL",GW7="RE"),"F",GW7)) -> A | JB7: =CONCATENATE(IF(HZ7="F",$HZ$5,"")," ",IF(IC7="F",$IC$5,"")," ",IF(IG7="F",$IG$5,"")," ",IF(IH7="F",$IH$5,"")," ",IF(II7="F",$II$5,"")," ",IF(IJ7="F",$IJ$5,"")," ",IF(IK7="F",$IK$5,"")," ",IF(IN7="F",$IN$5,"")," ",IF(IQ7="F",$IQ$5,"")," ",IF(IT7="F",$IT$5,"")," ",IF(IW7="F",$IW$5,"")," ",IF(IX7="F",$IX$5,"")," ",IF(IY7="F",$IY$5,"")) | JC7: =CONCATENATE(IF(HZ7="S",$HZ$5,"")," ",IF(IC7="S",$IC$5,"")," ",IF(IG7="S",$IG$5,"")," ",IF(IH7="S",$IH$5,"")," ",IF(II7="S",$II$5,"")," ",IF(IJ7="S",$IJ$5,"")," ",IF(IK7="S",$IK$5,"")," ",IF(IN7="S",$IN$5,"")," ",IF(IQ7="S",$IQ$5,"")," ",IF(IT7="S",$IT$5,"")," ",IF(IW7="S",$IW$5,"")," ",IF(IX7="S",$IX$5,"")," ",IF(IY7="S",$IY$5,"")) | JD7: =CONCATENATE(IF(HZ7="G",CONCATENATE($HZ$5," +",IB7),""),IF(IC7="G",CONCATENATE($IC$5," +",IE7),""),IF(IF7="G",CONCATENATE($IF$5," +",IM7),""),IF(IN7="G",CONCATENATE($IN$5," +",IP7),""),IF(IQ7="G",CONCATENATE($IQ$5," +",IS7),""),IF(IT7="G",CONCATENATE($IT$5," +",IV7),"")) | JF7: =CONCATENATE(IF(HZ7="D",$HZ$5,"")," ",IF(IC7="D",$IC$5,"")," ",IF(IG7="D",$IG$5,"")," ",IF(IH7="D",$IH$5,"")," ",IF(II7="D",$II$5,"")," ",IF(IJ7="D",$IJ$5,"")," ",IF(IK7="D",$IK$5,"")," ",IF(IN7="D",$IN$5,"")," ",IF(IQ7="D",$IQ$5,"")," ",IF(IT7="D",$IT$5,"")," ",IF(IW7="D",$IW$5,"")," ",IF(IX7="D",$IX$5,"")," ",IF(IY7="D",$IY$5,"")) -> ENGLISH SANSKRIT SCIENCE SOCIAL SCIENCE/ VOCATIONAL EDUCATION | JG7: =IF(OR(HK7="SUPPL.",HK7="RE-EXAM."),'result subject-wise'!AV7,HK7) -> PASS | JH7: =IF('result subject-wise'!AW7="",DQ7,'result subject-wise'!AW7) -> 87.916667 | JI7: =IF(AND(JH7>=60,JG7="PASS"),"FIRST",IF(AND(JH7>=60,JG7="PASS BY GRACE"),"FIRST",IF(AND(JH7>=48,JG7="PASS"),"SECOND",IF(AND(JH7>=48,JG7="PASS BY GRACE"),"SECOND",IF(OR(JG7="PASS",JG7="PASS BY GRACE"),"THIRD",JG7))))) -> FIRST
A8: =details!A8 -> 2 | B8: =IF(details!B8="","",details!B8) -> GEN | C8: =IF(details!C8="","",details!C8) -> G | D8: =IF(details!D8="","",details!D8) -> 9102 | E8: =IF(details!E8="","",details!E8) -> 10721 | F8: =IF(details!F8="","",details!F8) -> 36373 | G8: =IF(details!G8="","",details!G8) -> A 002 | H8: =IF(details!H8="","",details!H8) -> B 002 | I8: =IF(details!I8="","",details!I8) -> C 002 | ... L8: =IF(details!L8="","",details!L8) -> 9 | M8: =IF(AND(J8="",K8="",L8=""),"",SUM(J8:L8)) -> 29 | N8: =IF(details!M8="","",details!M8) -> 1 | O8: =IF(details!N8="","",details!N8) -> 70 | P8: =IF(AND(M8="",O8=""),"",SUM(M8:O8)) -> 100 | Q8: =IF(details!O8="","",details!O8) -> 39 | R8: =IF(AND(P8="",Q8=""),"",SUM(P8:Q8)) -> 139 | S8: =COUNTIF(J8:L8,"NA")*J$6 -> 0 | T8: =(COUNTIF(J8:L8,"ML")*J$6)+(COUNTIF(O8,"ML")*O$6) -> 0 | U8: =IF(OR($D8="NSO",$D8=0),"",IF(AND(J8="",K8="",L8="",O8="",Q8=""),"",IF(AND(K8="",L8="",O8="",Q8=""),10-S8-T8,IF(AND(L8="",O8="",Q8=""),20-S8-T8,IF(AND(L8="",Q8=""),90-S8-T8,IF(Q8="",100-S8-T8,200-S8-T8)))))) -> 200 | V8: =IF(AND(OR(J8="ab",J8="ml"),OR(K8="ab",K8="ml"),OR(L8="ab",L8="ml")),"AB",IF(AND(OR(J8="ab",J8="ml"),OR(K8="ab",K8="ml"),OR(O8="ab",O8="ml")),"AB",IF(AND(OR(J8="ab",J8="ml"),OR(O8="ab",O8="ml"),OR(L8="ab",L8="ml")),"AB",IF(AND(OR(O8="ab",O8="ml"),OR(K8="ab",K8="ml"),OR(L8="ab",L8="ml")),"AB","")))) | W8: =IF(OR($D8="NSO",$D8="",Q8=""),"",IF(OR(V8="AB",Q8="ab"),"AB",IF(Q8="ML","RE",IF(AND(R8>=36%*U8,Q8>=20),"P",IF(AND(R8>=34%*U8,T8=0,Q8>=20),"G2",IF(AND(R8>=31%*U8,T8=0,Q8>=20),"G1",IF(R8>=25%*U8,"S","F"))))))) -> P | X8: =IF(OR(W8="",W8=0,W8="S",W8="F",W8="AB",W8="RE"),W8,IF(R8>=75%*U8,"D",IF(R8>=60%*U8,"I",IF(R8>=48%*U8,"II",IF(R8>=36%*U8,"III",W8))))) -> I | Y8: =IF(details!P8="","",details!P8) -> 4 | Z8: =IF(details!Q8="","",details!Q8) -> 9 | AA8: =IF(details!R8="","",details!R8) -> 8 | AB8: =IF(AND(Y8="",Z8="",AA8=""),"",SUM(Y8:AA8)) -> 21 | AC8: =IF(details!S8="","",details!S8) -> 1 | AD8: =IF(details!T8="","",details!T8) -> 70 | AE8: =IF(AND(AB8="",AD8=""),"",SUM(AB8:AD8)) -> 92 | AF8: =IF(details!U8="","",details!U8) -> 100 | AG8: =IF(AND(AE8="",AF8=""),"",SUM(AE8:AF8)) -> 192 | AH8: =COUNTIF(Y8:AA8,"NA")*Y$6 -> 0 | AI8: =(COUNTIF(Y8:AA8,"ML")*Y$6)+(COUNTIF(AD8,"ML")*AD$6) -> 0 | AJ8: =IF(OR($D8="NSO",$D8=0),"",IF(AND(Y8="",Z8="",AA8="",AD8="",AF8=""),"",IF(AND(Z8="",AA8="",AD8="",AF8=""),10-AH8-AI8,IF(AND(AA8="",AD8="",AF8=""),20-AH8-AI8,IF(AND(AA8="",AF8=""),90-AH8-AI8,IF(AF8="",100-AH8-AI8,200-AH8-AI8)))))) -> 200 | AK8: =IF(AND(OR(Y8="ab",Y8="ml"),OR(Z8="ab",Z8="ml"),OR(AA8="ab",AA8="ml")),"AB",IF(AND(OR(Y8="ab",Y8="ml"),OR(Z8="ab",Z8="ml"),OR(AD8="ab",AD8="ml")),"AB",IF(AND(OR(Y8="ab",Y8="ml"),OR(AD8="ab",AD8="ml"),OR(AA8="ab",AA8="ml")),"AB",IF(AND(OR(AD8="ab",AD8="ml"),OR(Z8="ab",Z8="ml"),OR(AA8="ab",AA8="ml")),"AB","")))) | AL8: =IF(OR($D8="NSO",$D8="",AF8=""),"",IF(OR(AK8="AB",AF8="ab"),"AB",IF(AF8="ML","RE",IF(AND(AG8>=36%*AJ8,AF8>=20),"P",IF(AND(AG8>=34%*AJ8,AI8=0,AF8>=20),"G2",IF(AND(AG8>=31%*AJ8,AI8=0,AF8>=20),"G1",IF(AG8>=25%*AJ8,"S","F"))))))) -> P | AM8: =IF(OR(AL8="",AL8=0,AL8="S",AL8="RE",AL8="F",AL8="AB"),AL8,IF(AG8>=75%*AJ8,"D",IF(AG8>=60%*AJ8,"I",IF(AG8>=48%*AJ8,"II",IF(AG8>=36%*AJ8,"III",AL8))))) -> D | AN8: =IF(details!V8="","",details!V8) -> SANSKRIT | AO8: =IF(details!V8="","",details!V8) -> SANSKRIT | AP8: =IF(details!W8="","",details!W8) -> 10 | AQ8: =IF(details!X8="","",details!X8) -> 10 | AR8: =IF(details!Y8="","",details!Y8) -> 9 | AS8: =IF(AND(AP8="",AQ8="",AR8=""),"",SUM(AP8:AR8)) -> 29 | AT8: =IF(details!Z8="","",details!Z8) -> 0.5 | AU8: =IF(details!AA8="","",details!AA8) -> 70 | AV8: =IF(AND(AS8="",AU8=""),"",SUM(AS8:AU8)) -> 99.5 | AW8: =IF(details!AB8="","",details!AB8) -> 100 | AX8: =IF(AND(AV8="",AW8=""),"",SUM(AV8:AW8)) -> 199.5 | AY8: =COUNTIF(AP8:AR8,"NA")*AP$6 -> 0 | AZ8: =(COUNTIF(AP8:AR8,"ML")*AP$6)+(COUNTIF(AU8,"ML")*AU$6) -> 0 | BA8: =IF(OR($D8="NSO",$D8=0),"",IF(AND(AP8="",AQ8="",AR8="",AU8="",AW8=""),"",IF(AND(AQ8="",AR8="",AU8="",AW8=""),10-AY8-AZ8,IF(AND(AR8="",AU8="",AW8=""),20-AY8-AZ8,IF(AND(AR8="",AW8=""),90-AY8-AZ8,IF(AW8="",100-AY8-AZ8,200-AY8-AZ8)))))) -> 200 | BB8: =IF(AND(OR(AP8="ab",AP8="ml"),OR(AQ8="ab",AQ8="ml"),OR(AR8="ab",AR8="ml")),"AB",IF(AND(OR(AP8="ab",AP8="ml"),OR(AQ8="ab",AQ8="ml"),OR(AU8="ab",AU8="ml")),"AB",IF(AND(OR(AP8="ab",AP8="ml"),OR(AU8="ab",AU8="ml"),OR(AR8="ab",AR8="ml")),"AB",IF(AND(OR(AU8="ab",AU8="ml"),OR(AQ8="ab",AQ8="ml"),OR(AR8="ab",AR8="ml")),"AB","")))) | BC8: =IF(OR($D8="NSO",$D8="",AW8=""),"",IF(OR(BB8="AB",AW8="ab"),"AB",IF(AW8="ML","RE",IF(AND(AX8>=36%*BA8,AW8>=20),"P",IF(AND(AX8>=34%*BA8,AZ8=0,AW8>=20),"G2",IF(AND(AX8>=31%*BA8,AZ8=0,AW8>=20),"G1",IF(AX8>=25%*BA8,"S","F"))))))) -> P | BD8: =IF(OR(BC8="",BC8=0,BC8="S",BC8="RE",BC8="F",BC8="AB"),BC8,IF(AX8>=75%*BA8,"D",IF(AX8>=60%*BA8,"I",IF(AX8>=48%*BA8,"II",IF(AX8>=36%*BA8,"III",BC8))))) -> D | BE8: =IF(details!AC8="","",details!AC8) -> 8 | BF8: =IF(details!AD8="","",details!AD8) -> 3 | BG8: =IF(details!AE8="","",details!AE8) -> 8 | BH8: =IF(AND(BE8="",BF8="",BG8=""),"",SUM(BE8:BG8)) -> 19 | BI8: =IF(details!AF8="","",details!AF8) -> 2 | BJ8: =IF(details!AG8="","",details!AG8) -> 70 | BK8: =IF(AND(BH8="",BJ8=""),"",SUM(BH8:BJ8)) -> 91 | BL8: =IF(details!AH8="","",details!AH8) -> 100 | BM8: =IF(AND(BK8="",BL8=""),"",SUM(BK8:BL8)) -> 191 | BN8: =COUNTIF(BE8:BG8,"NA")*BE$6 -> 0 | BO8: =(COUNTIF(BE8:BG8,"ML")*BE$6)+(COUNTIF(BJ8,"ML")*BJ$6) -> 0 | BP8: =IF(OR($D8="NSO",$D8=0),"",IF(AND(BE8="",BF8="",BG8="",BJ8="",BL8=""),"",IF(AND(BF8="",BG8="",BJ8="",BL8=""),10-BN8-BO8,IF(AND(BG8="",BJ8="",BL8=""),20-BN8-BO8,IF(AND(BG8="",BL8=""),90-BN8-BO8,IF(BL8="",100-BN8-BO8,200-BN8-BO8)))))) -> 200 | BQ8: =IF(AND(OR(BE8="ab",BE8="ml"),OR(BF8="ab",BF8="ml"),OR(BG8="ab",BG8="ml")),"AB",IF(AND(OR(BE8="ab",BE8="ml"),OR(BF8="ab",BF8="ml"),OR(BJ8="ab",BJ8="ml")),"AB",IF(AND(OR(BE8="ab",BE8="ml"),OR(BJ8="ab",BJ8="ml"),OR(BG8="ab",BG8="ml")),"AB",IF(AND(OR(BJ8="ab",BJ8="ml"),OR(BF8="ab",BF8="ml"),OR(BG8="ab",BG8="ml")),"AB","")))) | BR8: =IF(OR($D8="NSO",$D8="",BL8=""),"",IF(OR(BQ8="AB",BL8="ab"),"AB",IF(BL8="ML","RE",IF(AND(BM8>=36%*BP8,BL8>=20),"P",IF(AND(BM8>=34%*BP8,BO8=0,BL8>=20),"G2",IF(AND(BM8>=31%*BP8,BO8=0,BL8>=20),"G1",IF(BM8>=25%*BP8,"S","F"))))))) -> P | BS8: =IF(OR(BR8="",BR8=0,BR8="S",BR8="RE",BR8="F",BR8="AB"),BR8,IF(BM8>=75%*BP8,"D",IF(BM8>=60%*BP8,"I",IF(BM8>=48%*BP8,"II",IF(BM8>=36%*BP8,"III",BR8))))) -> D | BT8: =IF(details!AI8="","",details!AI8) | BU8: =IF(AND(CA8="P",CB8>=CK8),CONCATENATE(BT8," (Pr 40 Th 60)"),CC$3) -> SOCIAL SCIENCE | BV8: =IF(details!AJ8="","",details!AJ8) | BW8: =IF(details!AK8="","",details!AK8) | BX8: =IF(details!AL8="","",details!AL8) | BY8: =IF(AND(BV8="",BX8="",BZ8=""),"",SUM(BV8:BX8)) | BZ8: =IF(details!AM8="","",details!AM8) | CA8: =IF(AND(BX8="",BZ8=""),"",IF(AND(BX8>=36%*BX$6,BZ8>=36%*BZ$6),"P","SS")) | CB8: =IF(CA8="P",(BY8+BZ8),"") | CC8: =IF(details!AN8="","",details!AN8) -> 10 | CD8: =IF(details!AO8="","",details!AO8) -> 10 | CE8: =IF(details!AP8="","",details!AP8) -> 9 | CF8: =IF(AND(CC8="",CD8="",CE8=""),"",SUM(CC8:CE8)) -> 29 | CG8: =IF(details!AQ8="","",details!AQ8) -> 0.5 | CH8: =IF(details!AR8="","",details!AR8) -> 70 | CI8: =IF(AND(CF8="",CH8=""),"",SUM(CF8:CH8)) -> 99.5 | CJ8: =IF(details!AS8="","",details!AS8) -> 100 | CK8: =IF(AND(CI8="",CJ8=""),"",SUM(CI8:CJ8)) -> 199.5 | CL8: =IF(AND(CA8="P",CB8>=CK8),"",CC8) -> 10 | CM8: =IF(AND(CA8="P",CB8>=CK8),"",CD8) -> 10 | CN8: =IF(AND(CA8="P",CB8>=CK8),BV8,CE8) -> 9 | CO8: =IF(AND(CA8="P",CB8>=CK8),BW8,CG8) -> 0.5 | CP8: =IF(AND(CA8="P",CB8>=CK8),BX8,CH8) -> 70 | CQ8: =IF(AND(CA8="P",CB8>=CK8),BY8,CI8) -> 99.5 | CR8: =IF(AND(CA8="P",CB8>=CK8),BZ8,CJ8) -> 100 | CS8: =IF(AND(CA8="P",CB8>=CK8),CB8,CK8) -> 199.5 | CT8: =COUNTIF(CL8:CN8,"NA")*10 -> 0 | CU8: =(COUNTIF(CL8:CN8,"ML")*10)+(COUNTIF(CP8,"ML")*70) -> 0 | CV8: =IF(OR($D8="NSO",$D8=0),"",IF(AND(CL8="",CM8="",CN8="",CP8="",CR8=""),"",IF(AND(CM8="",CN8="",CP8="",CR8=""),10-CT8-CU8,IF(AND(CN8="",CP8="",CR8=""),20-CT8-CU8,IF(AND(CN8="",CR8=""),90-CT8-CU8,IF(CR8="",100-CT8-CU8,200-CT8-CU8)))))) -> 200 | CW8: =IF(AND(OR(CL8="ab",CL8="ml"),OR(CM8="ab",CM8="ml"),OR(CN8="ab",CN8="ml")),"AB",IF(AND(OR(CL8="ab",CL8="ml"),OR(CM8="ab",CM8="ml"),OR(CP8="ab",CP8="ml")),"AB",IF(AND(OR(CL8="ab",CL8="ml"),OR(CP8="ab",CP8="ml"),OR(CN8="ab",CN8="ml")),"AB",IF(AND(OR(CP8="ab",CP8="ml"),OR(CM8="ab",CM8="ml"),OR(CN8="ab",CN8="ml")),"AB","")))) | CX8: =IF(OR($D8="NSO",$D8="",CR8=""),"",IF(OR(CW8="AB",CR8="ab"),"AB",IF(CR8="ML","RE",IF(AND(CS8>=36%*CV8,CR8>=20),"P",IF(AND(CS8>=34%*CV8,CU8=0,CR8>=20),"G2",IF(AND(CS8>=31%*CV8,CU8=0,CR8>=20),"G1",IF(CS8>=25%*CV8,"S","F"))))))) -> P | CY8: =IF(OR(CX8="",CX8=0,CX8="S",CX8="RE",CX8="F",CX8="AB"),CX8,IF(CS8>=75%*CV8,"D",IF(CS8>=60%*CV8,"I",IF(CS8>=48%*CV8,"II",IF(CS8>=36%*CV8,"III",CX8))))) -> D | CZ8: =IF(details!AT8="","",details!AT8) -> 5 | DA8: =IF(details!AU8="","",details!AU8) -> 4 | DB8: =IF(details!AV8="","",details!AV8) -> 8 | DC8: =IF(AND(CZ8="",DA8="",DB8=""),"",SUM(CZ8:DB8)) -> 17 | DD8: =IF(details!AW8="","",details!AW8) -> 1 | DE8: =IF(details!AX8="","",details!AX8) -> 25 | DF8: =IF(AND(DC8="",DE8=""),"",SUM(DC8:DE8)) -> 43 | DG8: =IF(details!AY8="","",details!AY8) -> 90 | DH8: =IF(AND(DF8="",DG8=""),"",SUM(DF8:DG8)) -> 133 | DI8: =COUNTIF(CZ8:DB8,"NA")*CZ$6 -> 0 | DJ8: =(COUNTIF(CZ8:DB8,"ML")*CZ$6)+(COUNTIF(DE8,"ML")*DE$6) -> 0 | DK8: =IF(OR($D8="NSO",$D8=0),"",IF(AND(CZ8="",DA8="",DB8="",DE8="",DG8=""),"",IF(AND(DA8="",DB8="",DE8="",DG8=""),10-DI8-DJ8,IF(AND(DB8="",DE8="",DG8=""),20-DI8-DJ8,IF(AND(DB8="",DG8=""),90-DI8-DJ8,IF(DG8="",100-DI8-DJ8,200-DI8-DJ8)))))) -> 200 | DL8: =IF(AND(OR(CZ8="ab",CZ8="ml"),OR(DA8="ab",DA8="ml"),OR(DB8="ab",DB8="ml")),"AB",IF(AND(OR(CZ8="ab",CZ8="ml"),OR(DA8="ab",DA8="ml"),OR(DE8="ab",DE8="ml")),"AB",IF(AND(OR(CZ8="ab",CZ8="ml"),OR(DE8="ab",DE8="ml"),OR(DB8="ab",DB8="ml")),"AB",IF(AND(OR(DE8="ab",DE8="ml"),OR(DA8="ab",DA8="ml"),OR(DB8="ab",DB8="ml")),"AB","")))) | DM8: =IF(OR($D8="NSO",$D8="",DG8=""),"",IF(OR(DL8="AB",DG8="ab"),"AB",IF(DG8="ML","RE",IF(AND(DH8>=36%*DK8,DG8>=20),"P",IF(AND(DH8>=34%*DK8,DJ8=0,DG8>=20),"G2",IF(AND(DH8>=31%*DK8,DJ8=0,DG8>=20),"G1",IF(DH8>=25%*DK8,"S","F"))))))) -> P | DN8: =IF(OR(DM8="",DM8=0,DM8="S",DM8="RE",DM8="F",DM8="AB"),DM8,IF(DH8>=75%*DK8,"D",IF(DH8>=60%*DK8,"I",IF(DH8>=48%*DK8,"II",IF(DH8>=36%*DK8,"III",DM8))))) -> I | DO8: =SUM(S8,T8,AH8,AI8,AY8,AZ8,BN8,BO8,CT8,CU8,DI8,DJ8) -> 0 | DP8: =SUM(R8,AG8,AX8,BM8,CS8,DH8) -> 1054 | DQ8: =DP8*100/(1200-DO8) -> 87.833333 | DR8: =IF(AND(DQ8>=60,HK8="PASS"),"FIRST",IF(AND(DQ8>=60,HK8="PASS BY GRACE"),"FIRST",IF(AND(DQ8>=48,HK8="PASS"),"SECOND",IF(AND(DQ8>=48,HK8="PASS BY GRACE"),"SECOND",IF(OR(HK8="PASS",HK8="PASS BY GRACE"),"THIRD",""))))) -> FIRST | DS8: =IF(details!AZ8="","",details!AZ8) -> 10 | DT8: =IF(details!BA8="","",details!BA8) -> 10 | DU8: =IF(details!BB8="","",details!BB8) -> 10 | DV8: =IF(AND(DS8="",DT8="",DU8=""),"",SUM(DS8:DU8)) -> 30 | DW8: =IF(details!BC8="","",details!BC8) -> 70 | DX8: =IF(AND(DV8="",DW8=""),"",SUM(DV8:DW8)) -> 100 | DY8: =IF(details!BD8="","",details!BD8) -> 100 | DZ8: =IF(AND(DX8="",DY8=""),"",SUM(DX8:DY8)) -> 200 | EA8: =(COUNTIF(DS8:DU8,"NA")*10) -> 0 | EB8: =(COUNTIF(DS8:DU8,"ML")*10)+(COUNTIF(DW8,"ML")*70) -> 0 | EC8: =IF(OR($D8="NSO",$D8=0),"",IF(AND(DS8="",DT8="",DU8="",DW8="",DY8=""),"",IF(AND(DT8="",DU8="",DW8="",DY8=""),10-EA8-EB8,IF(AND(DU8="",DW8="",DY8=""),20-EA8-EB8,IF(AND(DU8="",DY8=""),90-EA8-EB8,IF(DY8="",100-EA8-EB8,200-EA8-EB8)))))) -> 200 | ED8: =IF(AND(OR(DS8="ab",DS8="ml"),OR(DT8="ab",DT8="ml"),OR(DU8="ab",DU8="ml")),"AB",IF(AND(OR(DS8="ab",DS8="ml"),OR(DT8="ab",DT8="ml"),OR(DW8="ab",DW8="ml")),"AB",IF(AND(OR(DS8="ab",DS8="ml"),OR(DW8="ab",DW8="ml"),OR(DU8="ab",DU8="ml")),"AB",IF(AND(OR(DW8="ab",DW8="ml"),OR(DT8="ab",DT8="ml"),OR(DU8="ab",DU8="ml")),"AB","")))) | EE8: =IF(OR($D8="NSO",$D8="",DY8=""),"",IF(OR(ED8="AB",DY8="ab"),"AB",IF(DY8="ML","RE",IF(AND(DZ8>=36%*EC8,DY8>=20),"P","RE")))) -> P | EF8: =IF(OR(EE8="RE",EE8="",EE8="F",EE8="AB"),EE8,IF(DZ8>=80%*EC8,"A",IF(DZ8>=60%*EC8,"B",IF(DZ8>=40%*EC8,"C","D")))) -> A | EG8: =IF(details!BE8="","",details!BE8) -> 6 | EH8: =IF(details!BF8="","",details!BF8) -> 8 | EI8: =IF(AND(EG8="",EH8=""),"",IF(AND(EG8="ml",EH8="ml"),"ml",IF(AND(EG8="AB",EH8="AB"),"AB",SUM(EG8:EH8)))) -> 14 | EJ8: =IF(details!BG8="","",details!BG8) -> 4 | EK8: =IF(details!BH8="","",details!BH8) -> 7 | EL8: =IF(AND(EJ8="",EK8=""),"",IF(AND(EJ8="ml",EK8="ml"),"ml",IF(AND(EJ8="AB",EK8="AB"),"AB",SUM(EJ8:EK8)))) -> 11 | EM8: =IF(details!BI8="","",details!BI8) -> 15 | EN8: =IF(details!BJ8="","",details!BJ8) -> 10 | EO8: =IF(AND(EM8="",EN8=""),"",IF(AND(EM8="ml",EN8="ml"),"ml",IF(AND(EM8="AB",EN8="AB"),"AB",SUM(EM8:EN8)))) -> 25 | EP8: =IF(AND(EG8="",EJ8="",EM8=""),"",SUM(EG8,EJ8,EM8)) -> 25 | EQ8: =IF(AND(EH8="",EK8="",EN8=""),"",SUM(EH8,EK8,EN8)) -> 25 | ER8: =IF(AND(EP8="",EQ8=""),"",IF(AND(EP8="ml",EQ8="ml"),"ml",IF(AND(EP8="AB",EQ8="AB"),"AB",SUM(EP8:EQ8)))) -> 50 | ES8: =IF(details!BK8="","",details!BK8) -> 24 | ET8: =IF(details!BL8="","",details!BL8) -> 14 | EU8: =IF(AND(ES8="",ET8=""),"",IF(AND(ES8="ml",ET8="ml"),"ml",IF(AND(ES8="AB",ET8="AB"),"AB",SUM(ES8:ET8)))) -> 38 | EV8: =IF(AND(EP8="",ES8=""),"",SUM(EP8,ES8)) -> 49 | EW8: =IF(AND(EQ8="",FS8=""),"",SUM(EQ8,ET8)) -> 39 | EX8: =IF(details!BM8="","",details!BM8) -> 30 | EY8: =IF(details!BN8="","",details!BN8) -> 70 | EZ8: =IF(AND(EX8="",EY8=""),"",IF(AND(EX8="AB",EY8="AB"),"AB",SUM(EX8:EY8))) -> 100 | FA8: =IF(AND(EV8="",EX8=""),"",SUM(EV8,EX8)) -> 79 | FB8: =IF(AND(EW8="",EY8=""),"",SUM(EW8,EY8)) -> 109 | FC8: =IF(AND(FA8="",FB8=""),"",SUM(FA8:FB8)) -> 188 | FD8: =COUNTIF(EG8,"na")*EG$6+COUNTIF(EH8,"na")*EH$6+COUNTIF(EJ8,"na")*EJ$6+COUNTIF(EK8,"na")*EK$6+COUNTIF(EM8,"na")*EM$6+COUNTIF(EN8,"na")*EN$6 -> 0 | FE8: =COUNTIF(EG8,"ml")*EG$6+COUNTIF(EH8,"ml")*EH$6+COUNTIF(EJ8,"ml")*EJ$6+COUNTIF(EK8,"ml")*EK$6+COUNTIF(EM8,"ml")*EM$6+COUNTIF(EN8,"ml")*EN$6+(COUNTIF(ES8,"ML")*ES$6)+(COUNTIF(ET8,"ML")*ET$6) -> 0 | FF8: =IF(OR($D8="NSO",$D8=0),"",IF(AND(EI8="",EL8="",EO8="",EU8="",EZ8=""),"",IF(AND(EL8="",EO8="",EU8="",EZ8=""),18-FD8-FE8,IF(AND(EO8="",EU8="",EZ8=""),35-FD8-FE8,IF(AND(EO8="",EZ8=""),75-FD8-FE8,IF(EZ8="",100-FD8-FE8,200-FD8-FE8)))))) -> 200 | FG8: =IF(AND(OR(EI8="ab",EI8="ml"),OR(EL8="ab",EL8="ml"),OR(EO8="ab",EO8="ml")),"AB",IF(AND(OR(EI8="ab",EI8="ml"),OR(EL8="ab",EL8="ml"),OR(EU8="ab",EU8="ml")),"AB",IF(AND(OR(EL8="ab",EL8="ml"),OR(EO8="ab",EO8="ml"),OR(EU8="ab",EU8="ml")),"AB",IF(AND(OR(EI8="ab",EI8="ml"),OR(EO8="ab",EO8="ml"),OR(EU8="ab",EU8="ml")),"AB","")))) | FH8: =IF(OR($D8="NSO",$D8=0,EZ8=""),"",IF(OR(FG8="AB",EZ8="AB"),"AB",IF(EZ8="ML","RE",IF(AND(FC8>=36%*FF8,EZ8>=20),"P","RE")))) -> P | FI8: =IF(OR(FH8="RE",FH8="",FH8="F",FH8="AB"),FH8,IF(FC8>=80%*FF8,"A",IF(FC8>=60%*FF8,"B",IF(FC8>=40%*FF8,"C","D")))) -> A | FJ8: =IF(details!BO8="","",details!BO8) -> 10 | FK8: =IF(details!BP8="","",details!BP8) -> 10 | FL8: =IF(details!BQ8="","",details!BQ8) -> 10 | FM8: =IF(AND(FJ8="",FK8="",FL8=""),"",SUM(FJ8:FL8)) -> 30 | FN8: =IF(details!BR8="","",details!BR8) -> 33 | FO8: =IF(details!BS8="","",details!BS8) -> 18 | FP8: =IF(AND(FN8="",FO8=""),"",IF(AND(FN8="ml",FO8="ml"),"ml",IF(AND(FN8="AB",FO8="AB"),"AB",SUM(FN8:FO8)))) -> 51 | FQ8: =IF(AND(FM8="",FN8=""),"",SUM(FM8,FN8)) -> 63 | FR8: =FO8 -> 18 | FS8: =IF(details!BT8="","",details!BT8) -> 60 | FT8: =IF(details!BU8="","",details!BU8) -> 30 | FU8: =IF(AND(FS8="",FT8=""),"",IF(AND(FS8="AB",FT8="AB"),"AB",SUM(FS8:FT8))) -> 90 | FV8: =IF(AND(FQ8="",FS8=""),"",SUM(FQ8,FS8)) -> 123 | FW8: =IF(AND(FR8="",FT8=""),"",SUM(FR8,FT8)) -> 48 | FX8: =IF(AND(FV8="",FW8=""),"",SUM(FV8:FW8)) -> 171 | FY8: =COUNTIF(FJ8:FL8,"NA")*FJ$6 -> 0 | FZ8: =(COUNTIF(FJ8:FL8,"ML")*FJ$6)+(COUNTIF(FN8,"ML")*FN$6)+(COUNTIF(FO8,"ML")*FO$6)+(COUNTIF(FS8,"ML")*FS$6)+(COUNTIF(FT8,"ML")*FT$6) -> 0 | GA8: =IF(OR(D8="NSO",D8=0),"",IF(AND(FJ8="",FK8="",FL8="",FP8="",FU8=""),"",IF(AND(FK8="",FL8="",FP8="",FU8=""),10-FY8-FZ8,IF(AND(FL8="",FP8="",FU8=""),20-FY8-FZ8,IF(AND(FL8="",FU8=""),95-FY8-FZ8,IF(FU8="",100-FY8-FZ8,200-FY8-FZ8)))))) -> 200 | GB8: =IF(AND(OR(FJ8="ab",FJ8="ml"),OR(FK8="ab",FK8="ml"),OR(FL8="ab",FL8="ml")),"AB",IF(AND(OR(FJ8="ab",FJ8="ml"),OR(FK8="ab",FK8="ml"),OR(FP8="ab",FP8="ml")),"AB",IF(AND(OR(FL8="ab",FL8="ml"),OR(FK8="ab",FK8="ml"),OR(FP8="ab",FP8="ml")),"AB",IF(AND(OR(FJ8="ab",FJ8="ml"),OR(FL8="ab",FL8="ml"),OR(FP8="ab",FP8="ml")),"AB","")))) | GC8: =IF(OR($D8="NSO",$D8=0,FU8=""),"",IF(OR(GB8="AB",FU8="AB"),"AB",IF(FU8="ML","RE",IF(AND(FX8>=36%*GA8,FU8>=20),"P","RE")))) -> P | GD8: =IF(OR(GC8="RE",GC8="",GC8="F",GC8="AB"),GC8,IF(FX8>=80%*GA8,"A",IF(FX8>=60%*GA8,"B",IF(FX8>=40%*GA8,"C",IF(FX8>=36%*GA8,"D",""))))) -> A | GE8: =IF(details!BV8="","",details!BV8) -> 24 | GF8: =IF(details!BW8="","",details!BW8) -> 44 | GG8: =IF(details!BX8="","",details!BX8) -> 30 | GH8: =IF(AND(GE8="",GF8="",GG8=""),"",SUM(GE8:GG8)) -> 98 | GI8: =COUNTIF(GE8,"ML")*GE$6+COUNTIF(GF8,"ML")*GF$6+COUNTIF(GG8,"ML")*GG$6 -> 0 | GJ8: =IF(OR($D8="NSO",$D8=0),"",IF(AND(GE8="",GF8="",GG8=""),"",IF(AND(GF8="",GG8=""),25-GI8,IF(GG8="",75-GI8,100-GI8)))) -> 100 | GK8: =IF(AND(OR(GE8="ab",GE8="ml"),OR(GF8="ab",GF8="ml")),"AB","") | GL8: =IF(OR($D8="NSO",$D8=0,GG8=""),"",IF(OR(GG8="AB",GK8="AB"),"AB",IF(GG8="ML","RE",IF(GH8>=36%*GJ8,"P","RE")))) -> P | GM8: =IF(OR(GL8="",GL8="F",GL8="AB"),GL8,IF(GH8>=81%*GJ8,"A",IF(GH8>=61%*GJ8,"B",IF(GH8>=41%*GJ8,"C",IF(GH8>=21%*GJ8,"D","E"))))) -> A | GN8: =IF(details!BY8="","",details!BY8) -> 24 | GO8: =IF(details!BZ8="","",details!BZ8) -> 28 | GP8: =IF(details!CA8="","",details!CA8) -> 27 | GQ8: =IF(details!CB8="","",details!CB8) -> 14 | GR8: =IF(AND(GN8="",GO8="",GP8="",GQ8=""),"",SUM(GN8:GQ8)) -> 93 | GS8: =COUNTIF(GN8,"ML")*GN$6+COUNTIF(GO8,"ML")*GO$6+COUNTIF(GP8,"ML")*GP$6+COUNTIF(GQ8,"ML")*GQ$6 -> 0 | GT8: =IF(OR($D8="NSO",$D8=0),"",IF(AND(GN8="",GO8="",GP8="",GQ8=""),"",IF(AND(GO8="",GP8="",GQ8=""),25-GS8,IF(AND(GP8="",GQ8=""),55-GS8,IF(GQ8="",85-GS8,100-GS8))))) -> 100 | GU8: =IF(AND(OR(GN8="ab",GN8="ml"),OR(GO8="ab",GO8="ml")),"AB",IF(AND(OR(GO8="ab",GO8="ml"),OR(GP8="ab",GP8="ml")),"AB",IF(AND(OR(GN8="ab",GN8="ml"),OR(GP8="ab",GP8="ml")),"AB",""))) | GV8: =IF(OR($D8="NSO",$D8=0,GQ8=""),"",IF(OR(GQ8="AB",GU8="AB"),"AB",IF(GQ8="ML","RE",IF(GR8>=36%*GT8,"P","RE")))) -> P | GW8: =IF(OR(GV8="",GV8="F",GV8="AB"),GV8,IF(GR8>=81%*GT8,"A",IF(GR8>=61%*GT8,"B",IF(GR8>=41%*GT8,"C",IF(GR8>=21%*GT8,"D","E"))))) -> A | GX8: =X8 -> I | GY8: =AM8 -> D | GZ8: =BD8 -> D | HA8: =BS8 -> D | HB8: =CY8 -> D | HC8: =DN8 -> I | HD8: =IF(OR(FI8="F",GD8="F",EF8="F",GM8="F",GW8="F"),"F",IF(OR(FI8="AB",GD8="AB",EF8="AB",GM8="AB",GW8="AB"),"AB",IF(OR(FI8="RE",GD8="RE",EF8="RE",GM8="RE",GW8="RE"),"RE",""))) | HE8: =COUNTIF(GX8:HD8,"F")+COUNTIF(GX8:HD8,"AB") -> 0 | HF8: =COUNTIF(GX8:HC8,"S") -> 0 | HG8: =COUNTIF(GX8:HC8,"G1") -> 0 | HH8: =COUNTIF(GX8:HC8,"G2") -> 0 | HI8: =COUNTIF(GX8:HD8,"RE") -> 0 | HJ8: =IF(D8="NSO","NSO",IF(OR(D8=0,Q8="",AF8="",AW8="",BL8="",CR8="",DG8=""),"",IF(OR(HE8>0,(HF8+HG8+HH8)>2),"FAIL",IF(HI8>0,"RE-EXAM.",IF(OR(HF8>0,HG8>1),"SUPPL.",IF(AND(HG8>0,HH8>0),"SUPPL.",IF((HG8+HH8),"PASS BY GRACE","PASS"))))))) -> PASS | HK8: =IF(AND(OR(HJ8="PASS",HJ8="PASS BY GRACE"),HD8="F"),"FAIL",IF(AND(OR(HJ8="PASS",HJ8="PASS BY GRACE"),HD8="RE"),"RE-EXAM.",HJ8)) -> PASS | HL8: =IF(OR(HK8="PASS",HK8="PASS BY GRACE"),DQ8,"") -> 87.833333 | HM8: =IF(HL8="","",SUMPRODUCT((HL8<HL$7:HL$106)/COUNTIF(HL$7:HL$106,HL$7:HL$106))) -> 4 | HN8: =IF(details!DJ8="","",details!DJ8) | HO8: =IF(details!DK8="","",details!DK8) | HP8: =IF(details!DN8="","",details!DN8) | HQ8: =IF(details!DO8="","",details!DO8) | HR8: =IF(details!DR8="","",details!DR8) | HS8: =IF(details!DS8="","",details!DS8) | HT8: =IF(details!DV8="","",details!DV8) | HU8: =IF(details!DW8="","",details!DW8) | HV8: =IF(details!DZ8="","",details!DZ8) | HW8: =IF(details!EA8="","",details!EA8) | HX8: =IF(HV8="","",HW8/HV8*100) | HY8: =SUM(N8,AC8,AT8,BI8,CO8,DD8) -> 6 | HZ8: =IF(AND(HJ8="FAIL",(OR(GX8="G1",GX8="G2",GX8="S"))),"F",IF(AND(HJ8="FAIL",GX8="RE"),"AB",IF(AND(HJ8="RE-EXAM.",(OR(GX8="G1",GX8="G2",GX8="S"))),"S",IF(AND(HJ8="SUPPL.",(OR(GX8="G1",GX8="G2"))),"S",IF(AND(HJ8="PASS BY GRACE",(OR(GX8="G1",GX8="G2"))),"G",GX8))))) -> I | IA8: =IF(HZ8="G",",+","") | IB8: =IF(HZ8="G",ROUNDUP(36%*U8-R8,0),"") | IC8: =IF(AND(HJ8="FAIL",(OR(GY8="G1",GY8="G2",GY8="S"))),"F",IF(AND(HJ8="FAIL",GY8="RE"),"AB",IF(AND(HJ8="RE-EXAM.",(OR(GY8="G1",GY8="G2",GY8="S"))),"S",IF(AND(HJ8="SUPPL.",(OR(GY8="G1",GY8="G2"))),"S",IF(AND(HJ8="PASS BY GRACE",(OR(GY8="G1",GY8="G2"))),"G",GY8))))) -> D | ID8: =IF(IC8="G",",+","") | IE8: =IF(IC8="G",ROUNDUP(36%*AJ8-AG8,0),"") | IF8: =IF(AND(HJ8="FAIL",(OR(GZ8="G1",GZ8="G2",GZ8="S"))),"F",IF(AND(HJ8="FAIL",GZ8="RE"),"AB",IF(AND(HJ8="RE-EXAM.",(OR(GZ8="G1",GZ8="G2",GZ8="S"))),"S",IF(AND(HJ8="SUPPL.",(OR(GZ8="G1",GZ8="G2"))),"S",IF(AND(HJ8="PASS BY GRACE",(OR(GZ8="G1",GZ8="G2"))),"G",GZ8))))) -> D | IG8: =IF($AO8=IG$5,$IF8,"") -> D | IH8: =IF($AO8=IH$5,$IF8,"") | II8: =IF($AO8=II$5,$IF8,"") | IJ8: =IF($AO8=IJ$5,$IF8,"") | IK8: =IF($AO8=IK$5,$IF8,"") | IL8: =IF(IF8="G",",+","") | IM8: =IF(IF8="G",ROUNDUP(36%*BA8-AX8,0),"") | IN8: =IF(AND(HJ8="FAIL",(OR(HA8="G1",HA8="G2",HA8="S"))),"F",IF(AND(HJ8="FAIL",HA8="RE"),"AB",IF(AND(HJ8="RE-EXAM.",(OR(HA8="G1",HA8="G2",HA8="S"))),"S",IF(AND(HJ8="SUPPL.",(OR(HA8="G1",HA8="G2"))),"S",IF(AND(HJ8="PASS BY GRACE",(OR(HA8="G1",HA8="G2"))),"G",HA8))))) -> D | IO8: =IF(IN8="G",",+","") | IP8: =IF(IN8="G",ROUNDUP(36%*BP8-BM8,0),"") | IQ8: =IF(AND(HJ8="FAIL",(OR(HB8="G1",HB8="G2",HB8="S"))),"F",IF(AND(HJ8="FAIL",HB8="RE"),"AB",IF(AND(HJ8="RE-EXAM.",(OR(HB8="G1",HB8="G2",HB8="S"))),"S",IF(AND(HJ8="SUPPL.",(OR(HB8="G1",HB8="G2"))),"S",IF(AND(HJ8="PASS BY GRACE",(OR(HB8="G1",HB8="G2"))),"G",HB8))))) -> D | IR8: =IF(IQ8="G",",+","") | IS8: =IF(IQ8="G",ROUNDUP(36%*CV8-CS8,0),"") | IT8: =IF(AND(HJ8="FAIL",(OR(HC8="G1",HC8="G2",HC8="S"))),"F",IF(AND(HJ8="FAIL",HC8="RE"),"AB",IF(AND(HJ8="RE-EXAM.",(OR(HC8="G1",HC8="G2",HC8="S"))),"S",IF(AND(HJ8="SUPPL.",(OR(HC8="G1",HC8="G2"))),"S",IF(AND(HJ8="PASS BY GRACE",(OR(HC8="G1",HC8="G2"))),"G",HC8))))) -> I | IU8: =IF(IT8="G",",+","") | IV8: =IF(IT8="G",ROUNDUP(36%*DK8-DH8,0),"") | IW8: =IF(AND(HJ8="FAIL",DY8="ML"),"AB",IF(AND(HJ8="FAIL",EF8="RE"),"F",EF8)) -> A | IX8: =IF(AND(HJ8="FAIL",EZ8="ML"),"AB",IF(AND(HJ8="FAIL",FI8="RE"),"F",FI8)) -> A | IY8: =IF(AND(HJ8="FAIL",FU8="ML"),"AB",IF(AND(HJ8="FAIL",GD8="RE"),"F",GD8)) -> A | IZ8: =IF(AND(HJ8="FAIL",GG8="ML"),"AB",IF(AND(HJ8="FAIL",GM8="RE"),"F",GM8)) -> A | JA8: =IF(AND(HJ8="FAIL",GQ8="ML"),"AB",IF(AND(HJ8="FAIL",GW8="RE"),"F",GW8)) -> A | JB8: =CONCATENATE(IF(HZ8="F",$HZ$5,"")," ",IF(IC8="F",$IC$5,"")," ",IF(IG8="F",$IG$5,"")," ",IF(IH8="F",$IH$5,"")," ",IF(II8="F",$II$5,"")," ",IF(IJ8="F",$IJ$5,"")," ",IF(IK8="F",$IK$5,"")," ",IF(IN8="F",$IN$5,"")," ",IF(IQ8="F",$IQ$5,"")," ",IF(IT8="F",$IT$5,"")," ",IF(IW8="F",$IW$5,"")," ",IF(IX8="F",$IX$5,"")," ",IF(IY8="F",$IY$5,"")) | JC8: =CONCATENATE(IF(HZ8="S",$HZ$5,"")," ",IF(IC8="S",$IC$5,"")," ",IF(IG8="S",$IG$5,"")," ",IF(IH8="S",$IH$5,"")," ",IF(II8="S",$II$5,"")," ",IF(IJ8="S",$IJ$5,"")," ",IF(IK8="S",$IK$5,"")," ",IF(IN8="S",$IN$5,"")," ",IF(IQ8="S",$IQ$5,"")," ",IF(IT8="S",$IT$5,"")," ",IF(IW8="S",$IW$5,"")," ",IF(IX8="S",$IX$5,"")," ",IF(IY8="S",$IY$5,"")) | JD8: =CONCATENATE(IF(HZ8="G",CONCATENATE($HZ$5," +",IB8),""),IF(IC8="G",CONCATENATE($IC$5," +",IE8),""),IF(IF8="G",CONCATENATE($IF$5," +",IM8),""),IF(IN8="G",CONCATENATE($IN$5," +",IP8),""),IF(IQ8="G",CONCATENATE($IQ$5," +",IS8),""),IF(IT8="G",CONCATENATE($IT$5," +",IV8),"")) | JF8: =CONCATENATE(IF(HZ8="D",$HZ$5,"")," ",IF(IC8="D",$IC$5,"")," ",IF(IG8="D",$IG$5,"")," ",IF(IH8="D",$IH$5,"")," ",IF(II8="D",$II$5,"")," ",IF(IJ8="D",$IJ$5,"")," ",IF(IK8="D",$IK$5,"")," ",IF(IN8="D",$IN$5,"")," ",IF(IQ8="D",$IQ$5,"")," ",IF(IT8="D",$IT$5,"")," ",IF(IW8="D",$IW$5,"")," ",IF(IX8="D",$IX$5,"")," ",IF(IY8="D",$IY$5,"")) -> ENGLISH SANSKRIT SCIENCE SOCIAL SCIENCE/ VOCATIONAL EDUCATION | JG8: =IF(OR(HK8="SUPPL.",HK8="RE-EXAM."),'result subject-wise'!AV8,HK8) -> PASS | JH8: =IF('result subject-wise'!AW8="",DQ8,'result subject-wise'!AW8) -> 87.833333 | JI8: =IF(AND(JH8>=60,JG8="PASS"),"FIRST",IF(AND(JH8>=60,JG8="PASS BY GRACE"),"FIRST",IF(AND(JH8>=48,JG8="PASS"),"SECOND",IF(AND(JH8>=48,JG8="PASS BY GRACE"),"SECOND",IF(OR(JG8="PASS",JG8="PASS BY GRACE"),"THIRD",JG8))))) -> FIRST | JM8: =A2 -> Govt. Higher Secondary School, XYZ
A9: =details!A9 -> 3 | B9: =IF(details!B9="","",details!B9) -> OBC | C9: =IF(details!C9="","",details!C9) -> G | D9: =IF(details!D9="","",details!D9) -> 9103 | E9: =IF(details!E9="","",details!E9) -> 10014 | F9: =IF(details!F9="","",details!F9) -> 34824 | G9: =IF(details!G9="","",details!G9) -> A 003 | H9: =IF(details!H9="","",details!H9) -> B 003 | I9: =IF(details!I9="","",details!I9) -> C 003 | ... L9: =IF(details!L9="","",details!L9) -> 9 | M9: =IF(AND(J9="",K9="",L9=""),"",SUM(J9:L9)) -> 29 | N9: =IF(details!M9="","",details!M9) -> 1 | O9: =IF(details!N9="","",details!N9) -> 70 | P9: =IF(AND(M9="",O9=""),"",SUM(M9:O9)) -> 100 | Q9: =IF(details!O9="","",details!O9) -> 38 | R9: =IF(AND(P9="",Q9=""),"",SUM(P9:Q9)) -> 138 | S9: =COUNTIF(J9:L9,"NA")*J$6 -> 0 | T9: =(COUNTIF(J9:L9,"ML")*J$6)+(COUNTIF(O9,"ML")*O$6) -> 0 | U9: =IF(OR($D9="NSO",$D9=0),"",IF(AND(J9="",K9="",L9="",O9="",Q9=""),"",IF(AND(K9="",L9="",O9="",Q9=""),10-S9-T9,IF(AND(L9="",O9="",Q9=""),20-S9-T9,IF(AND(L9="",Q9=""),90-S9-T9,IF(Q9="",100-S9-T9,200-S9-T9)))))) -> 200 | V9: =IF(AND(OR(J9="ab",J9="ml"),OR(K9="ab",K9="ml"),OR(L9="ab",L9="ml")),"AB",IF(AND(OR(J9="ab",J9="ml"),OR(K9="ab",K9="ml"),OR(O9="ab",O9="ml")),"AB",IF(AND(OR(J9="ab",J9="ml"),OR(O9="ab",O9="ml"),OR(L9="ab",L9="ml")),"AB",IF(AND(OR(O9="ab",O9="ml"),OR(K9="ab",K9="ml"),OR(L9="ab",L9="ml")),"AB","")))) | W9: =IF(OR($D9="NSO",$D9="",Q9=""),"",IF(OR(V9="AB",Q9="ab"),"AB",IF(Q9="ML","RE",IF(AND(R9>=36%*U9,Q9>=20),"P",IF(AND(R9>=34%*U9,T9=0,Q9>=20),"G2",IF(AND(R9>=31%*U9,T9=0,Q9>=20),"G1",IF(R9>=25%*U9,"S","F"))))))) -> P | X9: =IF(OR(W9="",W9=0,W9="S",W9="F",W9="AB",W9="RE"),W9,IF(R9>=75%*U9,"D",IF(R9>=60%*U9,"I",IF(R9>=48%*U9,"II",IF(R9>=36%*U9,"III",W9))))) -> I | Y9: =IF(details!P9="","",details!P9) -> 4 | Z9: =IF(details!Q9="","",details!Q9) -> 9 | AA9: =IF(details!R9="","",details!R9) -> 8 | AB9: =IF(AND(Y9="",Z9="",AA9=""),"",SUM(Y9:AA9)) -> 21 | AC9: =IF(details!S9="","",details!S9) -> 1 | AD9: =IF(details!T9="","",details!T9) -> 70 | AE9: =IF(AND(AB9="",AD9=""),"",SUM(AB9:AD9)) -> 92 | AF9: =IF(details!U9="","",details!U9) -> 100 | AG9: =IF(AND(AE9="",AF9=""),"",SUM(AE9:AF9)) -> 192 | AH9: =COUNTIF(Y9:AA9,"NA")*Y$6 -> 0 | AI9: =(COUNTIF(Y9:AA9,"ML")*Y$6)+(COUNTIF(AD9,"ML")*AD$6) -> 0 | AJ9: =IF(OR($D9="NSO",$D9=0),"",IF(AND(Y9="",Z9="",AA9="",AD9="",AF9=""),"",IF(AND(Z9="",AA9="",AD9="",AF9=""),10-AH9-AI9,IF(AND(AA9="",AD9="",AF9=""),20-AH9-AI9,IF(AND(AA9="",AF9=""),90-AH9-AI9,IF(AF9="",100-AH9-AI9,200-AH9-AI9)))))) -> 200 | AK9: =IF(AND(OR(Y9="ab",Y9="ml"),OR(Z9="ab",Z9="ml"),OR(AA9="ab",AA9="ml")),"AB",IF(AND(OR(Y9="ab",Y9="ml"),OR(Z9="ab",Z9="ml"),OR(AD9="ab",AD9="ml")),"AB",IF(AND(OR(Y9="ab",Y9="ml"),OR(AD9="ab",AD9="ml"),OR(AA9="ab",AA9="ml")),"AB",IF(AND(OR(AD9="ab",AD9="ml"),OR(Z9="ab",Z9="ml"),OR(AA9="ab",AA9="ml")),"AB","")))) | AL9: =IF(OR($D9="NSO",$D9="",AF9=""),"",IF(OR(AK9="AB",AF9="ab"),"AB",IF(AF9="ML","RE",IF(AND(AG9>=36%*AJ9,AF9>=20),"P",IF(AND(AG9>=34%*AJ9,AI9=0,AF9>=20),"G2",IF(AND(AG9>=31%*AJ9,AI9=0,AF9>=20),"G1",IF(AG9>=25%*AJ9,"S","F"))))))) -> P | AM9: =IF(OR(AL9="",AL9=0,AL9="S",AL9="RE",AL9="F",AL9="AB"),AL9,IF(AG9>=75%*AJ9,"D",IF(AG9>=60%*AJ9,"I",IF(AG9>=48%*AJ9,"II",IF(AG9>=36%*AJ9,"III",AL9))))) -> D | AN9: =IF(details!V9="","",details!V9) -> SANSKRIT | AO9: =IF(details!V9="","",details!V9) -> SANSKRIT | AP9: =IF(details!W9="","",details!W9) -> 10 | AQ9: =IF(details!X9="","",details!X9) -> 10 | AR9: =IF(details!Y9="","",details!Y9) -> 9 | AS9: =IF(AND(AP9="",AQ9="",AR9=""),"",SUM(AP9:AR9)) -> 29 | AT9: =IF(details!Z9="","",details!Z9) -> 0.5 | AU9: =IF(details!AA9="","",details!AA9) -> 70 | AV9: =IF(AND(AS9="",AU9=""),"",SUM(AS9:AU9)) -> 99.5 | AW9: =IF(details!AB9="","",details!AB9) -> 100 | AX9: =IF(AND(AV9="",AW9=""),"",SUM(AV9:AW9)) -> 199.5 | AY9: =COUNTIF(AP9:AR9,"NA")*AP$6 -> 0 | AZ9: =(COUNTIF(AP9:AR9,"ML")*AP$6)+(COUNTIF(AU9,"ML")*AU$6) -> 0 | BA9: =IF(OR($D9="NSO",$D9=0),"",IF(AND(AP9="",AQ9="",AR9="",AU9="",AW9=""),"",IF(AND(AQ9="",AR9="",AU9="",AW9=""),10-AY9-AZ9,IF(AND(AR9="",AU9="",AW9=""),20-AY9-AZ9,IF(AND(AR9="",AW9=""),90-AY9-AZ9,IF(AW9="",100-AY9-AZ9,200-AY9-AZ9)))))) -> 200 | BB9: =IF(AND(OR(AP9="ab",AP9="ml"),OR(AQ9="ab",AQ9="ml"),OR(AR9="ab",AR9="ml")),"AB",IF(AND(OR(AP9="ab",AP9="ml"),OR(AQ9="ab",AQ9="ml"),OR(AU9="ab",AU9="ml")),"AB",IF(AND(OR(AP9="ab",AP9="ml"),OR(AU9="ab",AU9="ml"),OR(AR9="ab",AR9="ml")),"AB",IF(AND(OR(AU9="ab",AU9="ml"),OR(AQ9="ab",AQ9="ml"),OR(AR9="ab",AR9="ml")),"AB","")))) | BC9: =IF(OR($D9="NSO",$D9="",AW9=""),"",IF(OR(BB9="AB",AW9="ab"),"AB",IF(AW9="ML","RE",IF(AND(AX9>=36%*BA9,AW9>=20),"P",IF(AND(AX9>=34%*BA9,AZ9=0,AW9>=20),"G2",IF(AND(AX9>=31%*BA9,AZ9=0,AW9>=20),"G1",IF(AX9>=25%*BA9,"S","F"))))))) -> P | BD9: =IF(OR(BC9="",BC9=0,BC9="S",BC9="RE",BC9="F",BC9="AB"),BC9,IF(AX9>=75%*BA9,"D",IF(AX9>=60%*BA9,"I",IF(AX9>=48%*BA9,"II",IF(AX9>=36%*BA9,"III",BC9))))) -> D | BE9: =IF(details!AC9="","",details!AC9) -> 8 | BF9: =IF(details!AD9="","",details!AD9) -> 3 | BG9: =IF(details!AE9="","",details!AE9) -> 8 | BH9: =IF(AND(BE9="",BF9="",BG9=""),"",SUM(BE9:BG9)) -> 19 | BI9: =IF(details!AF9="","",details!AF9) -> 2 | BJ9: =IF(details!AG9="","",details!AG9) -> 70 | BK9: =IF(AND(BH9="",BJ9=""),"",SUM(BH9:BJ9)) -> 91 | BL9: =IF(details!AH9="","",details!AH9) -> 100 | BM9: =IF(AND(BK9="",BL9=""),"",SUM(BK9:BL9)) -> 191 | BN9: =COUNTIF(BE9:BG9,"NA")*BE$6 -> 0 | BO9: =(COUNTIF(BE9:BG9,"ML")*BE$6)+(COUNTIF(BJ9,"ML")*BJ$6) -> 0 | BP9: =IF(OR($D9="NSO",$D9=0),"",IF(AND(BE9="",BF9="",BG9="",BJ9="",BL9=""),"",IF(AND(BF9="",BG9="",BJ9="",BL9=""),10-BN9-BO9,IF(AND(BG9="",BJ9="",BL9=""),20-BN9-BO9,IF(AND(BG9="",BL9=""),90-BN9-BO9,IF(BL9="",100-BN9-BO9,200-BN9-BO9)))))) -> 200 | BQ9: =IF(AND(OR(BE9="ab",BE9="ml"),OR(BF9="ab",BF9="ml"),OR(BG9="ab",BG9="ml")),"AB",IF(AND(OR(BE9="ab",BE9="ml"),OR(BF9="ab",BF9="ml"),OR(BJ9="ab",BJ9="ml")),"AB",IF(AND(OR(BE9="ab",BE9="ml"),OR(BJ9="ab",BJ9="ml"),OR(BG9="ab",BG9="ml")),"AB",IF(AND(OR(BJ9="ab",BJ9="ml"),OR(BF9="ab",BF9="ml"),OR(BG9="ab",BG9="ml")),"AB","")))) | BR9: =IF(OR($D9="NSO",$D9="",BL9=""),"",IF(OR(BQ9="AB",BL9="ab"),"AB",IF(BL9="ML","RE",IF(AND(BM9>=36%*BP9,BL9>=20),"P",IF(AND(BM9>=34%*BP9,BO9=0,BL9>=20),"G2",IF(AND(BM9>=31%*BP9,BO9=0,BL9>=20),"G1",IF(BM9>=25%*BP9,"S","F"))))))) -> P | BS9: =IF(OR(BR9="",BR9=0,BR9="S",BR9="RE",BR9="F",BR9="AB"),BR9,IF(BM9>=75%*BP9,"D",IF(BM9>=60%*BP9,"I",IF(BM9>=48%*BP9,"II",IF(BM9>=36%*BP9,"III",BR9))))) -> D | BT9: =IF(details!AI9="","",details!AI9) | BU9: =IF(AND(CA9="P",CB9>=CK9),CONCATENATE(BT9," (Pr 40 Th 60)"),CC$3) -> SOCIAL SCIENCE | BV9: =IF(details!AJ9="","",details!AJ9) | BW9: =IF(details!AK9="","",details!AK9) | BX9: =IF(details!AL9="","",details!AL9) | BY9: =IF(AND(BV9="",BX9="",BZ9=""),"",SUM(BV9:BX9)) | BZ9: =IF(details!AM9="","",details!AM9) | CA9: =IF(AND(BX9="",BZ9=""),"",IF(AND(BX9>=36%*BX$6,BZ9>=36%*BZ$6),"P","SS")) | CB9: =IF(CA9="P",(BY9+BZ9),"") | CC9: =IF(details!AN9="","",details!AN9) -> 10 | CD9: =IF(details!AO9="","",details!AO9) -> 10 | CE9: =IF(details!AP9="","",details!AP9) -> 9 | CF9: =IF(AND(CC9="",CD9="",CE9=""),"",SUM(CC9:CE9)) -> 29 | CG9: =IF(details!AQ9="","",details!AQ9) -> 0.5 | CH9: =IF(details!AR9="","",details!AR9) -> 70 | CI9: =IF(AND(CF9="",CH9=""),"",SUM(CF9:CH9)) -> 99.5 | CJ9: =IF(details!AS9="","",details!AS9) -> 100 | CK9: =IF(AND(CI9="",CJ9=""),"",SUM(CI9:CJ9)) -> 199.5 | CL9: =IF(AND(CA9="P",CB9>=CK9),"",CC9) -> 10 | CM9: =IF(AND(CA9="P",CB9>=CK9),"",CD9) -> 10 | CN9: =IF(AND(CA9="P",CB9>=CK9),BV9,CE9) -> 9 | CO9: =IF(AND(CA9="P",CB9>=CK9),BW9,CG9) -> 0.5 | CP9: =IF(AND(CA9="P",CB9>=CK9),BX9,CH9) -> 70 | CQ9: =IF(AND(CA9="P",CB9>=CK9),BY9,CI9) -> 99.5 | CR9: =IF(AND(CA9="P",CB9>=CK9),BZ9,CJ9) -> 100 | CS9: =IF(AND(CA9="P",CB9>=CK9),CB9,CK9) -> 199.5 | CT9: =COUNTIF(CL9:CN9,"NA")*10 -> 0 | CU9: =(COUNTIF(CL9:CN9,"ML")*10)+(COUNTIF(CP9,"ML")*70) -> 0 | CV9: =IF(OR($D9="NSO",$D9=0),"",IF(AND(CL9="",CM9="",CN9="",CP9="",CR9=""),"",IF(AND(CM9="",CN9="",CP9="",CR9=""),10-CT9-CU9,IF(AND(CN9="",CP9="",CR9=""),20-CT9-CU9,IF(AND(CN9="",CR9=""),90-CT9-CU9,IF(CR9="",100-CT9-CU9,200-CT9-CU9)))))) -> 200 | CW9: =IF(AND(OR(CL9="ab",CL9="ml"),OR(CM9="ab",CM9="ml"),OR(CN9="ab",CN9="ml")),"AB",IF(AND(OR(CL9="ab",CL9="ml"),OR(CM9="ab",CM9="ml"),OR(CP9="ab",CP9="ml")),"AB",IF(AND(OR(CL9="ab",CL9="ml"),OR(CP9="ab",CP9="ml"),OR(CN9="ab",CN9="ml")),"AB",IF(AND(OR(CP9="ab",CP9="ml"),OR(CM9="ab",CM9="ml"),OR(CN9="ab",CN9="ml")),"AB","")))) | CX9: =IF(OR($D9="NSO",$D9="",CR9=""),"",IF(OR(CW9="AB",CR9="ab"),"AB",IF(CR9="ML","RE",IF(AND(CS9>=36%*CV9,CR9>=20),"P",IF(AND(CS9>=34%*CV9,CU9=0,CR9>=20),"G2",IF(AND(CS9>=31%*CV9,CU9=0,CR9>=20),"G1",IF(CS9>=25%*CV9,"S","F"))))))) -> P | CY9: =IF(OR(CX9="",CX9=0,CX9="S",CX9="RE",CX9="F",CX9="AB"),CX9,IF(CS9>=75%*CV9,"D",IF(CS9>=60%*CV9,"I",IF(CS9>=48%*CV9,"II",IF(CS9>=36%*CV9,"III",CX9))))) -> D | CZ9: =IF(details!AT9="","",details!AT9) -> 5 | DA9: =IF(details!AU9="","",details!AU9) -> 4 | DB9: =IF(details!AV9="","",details!AV9) -> 8 | DC9: =IF(AND(CZ9="",DA9="",DB9=""),"",SUM(CZ9:DB9)) -> 17 | DD9: =IF(details!AW9="","",details!AW9) -> 1 | DE9: =IF(details!AX9="","",details!AX9) -> 25 | DF9: =IF(AND(DC9="",DE9=""),"",SUM(DC9:DE9)) -> 43 | DG9: =IF(details!AY9="","",details!AY9) -> 90 | DH9: =IF(AND(DF9="",DG9=""),"",SUM(DF9:DG9)) -> 133 | DI9: =COUNTIF(CZ9:DB9,"NA")*CZ$6 -> 0 | DJ9: =(COUNTIF(CZ9:DB9,"ML")*CZ$6)+(COUNTIF(DE9,"ML")*DE$6) -> 0 | DK9: =IF(OR($D9="NSO",$D9=0),"",IF(AND(CZ9="",DA9="",DB9="",DE9="",DG9=""),"",IF(AND(DA9="",DB9="",DE9="",DG9=""),10-DI9-DJ9,IF(AND(DB9="",DE9="",DG9=""),20-DI9-DJ9,IF(AND(DB9="",DG9=""),90-DI9-DJ9,IF(DG9="",100-DI9-DJ9,200-DI9-DJ9)))))) -> 200 | DL9: =IF(AND(OR(CZ9="ab",CZ9="ml"),OR(DA9="ab",DA9="ml"),OR(DB9="ab",DB9="ml")),"AB",IF(AND(OR(CZ9="ab",CZ9="ml"),OR(DA9="ab",DA9="ml"),OR(DE9="ab",DE9="ml")),"AB",IF(AND(OR(CZ9="ab",CZ9="ml"),OR(DE9="ab",DE9="ml"),OR(DB9="ab",DB9="ml")),"AB",IF(AND(OR(DE9="ab",DE9="ml"),OR(DA9="ab",DA9="ml"),OR(DB9="ab",DB9="ml")),"AB","")))) | DM9: =IF(OR($D9="NSO",$D9="",DG9=""),"",IF(OR(DL9="AB",DG9="ab"),"AB",IF(DG9="ML","RE",IF(AND(DH9>=36%*DK9,DG9>=20),"P",IF(AND(DH9>=34%*DK9,DJ9=0,DG9>=20),"G2",IF(AND(DH9>=31%*DK9,DJ9=0,DG9>=20),"G1",IF(DH9>=25%*DK9,"S","F"))))))) -> P | DN9: =IF(OR(DM9="",DM9=0,DM9="S",DM9="RE",DM9="F",DM9="AB"),DM9,IF(DH9>=75%*DK9,"D",IF(DH9>=60%*DK9,"I",IF(DH9>=48%*DK9,"II",IF(DH9>=36%*DK9,"III",DM9))))) -> I | DO9: =SUM(S9,T9,AH9,AI9,AY9,AZ9,BN9,BO9,CT9,CU9,DI9,DJ9) -> 0 | DP9: =SUM(R9,AG9,AX9,BM9,CS9,DH9) -> 1053 | DQ9: =DP9*100/(1200-DO9) -> 87.75 | DR9: =IF(AND(DQ9>=60,HK9="PASS"),"FIRST",IF(AND(DQ9>=60,HK9="PASS BY GRACE"),"FIRST",IF(AND(DQ9>=48,HK9="PASS"),"SECOND",IF(AND(DQ9>=48,HK9="PASS BY GRACE"),"SECOND",IF(OR(HK9="PASS",HK9="PASS BY GRACE"),"THIRD",""))))) -> FIRST | DS9: =IF(details!AZ9="","",details!AZ9) -> 10 | DT9: =IF(details!BA9="","",details!BA9) -> 10 | DU9: =IF(details!BB9="","",details!BB9) -> 10 | DV9: =IF(AND(DS9="",DT9="",DU9=""),"",SUM(DS9:DU9)) -> 30 | DW9: =IF(details!BC9="","",details!BC9) -> 70 | DX9: =IF(AND(DV9="",DW9=""),"",SUM(DV9:DW9)) -> 100 | DY9: =IF(details!BD9="","",details!BD9) -> 100 | DZ9: =IF(AND(DX9="",DY9=""),"",SUM(DX9:DY9)) -> 200 | EA9: =(COUNTIF(DS9:DU9,"NA")*10) -> 0 | EB9: =(COUNTIF(DS9:DU9,"ML")*10)+(COUNTIF(DW9,"ML")*70) -> 0 | EC9: =IF(OR($D9="NSO",$D9=0),"",IF(AND(DS9="",DT9="",DU9="",DW9="",DY9=""),"",IF(AND(DT9="",DU9="",DW9="",DY9=""),10-EA9-EB9,IF(AND(DU9="",DW9="",DY9=""),20-EA9-EB9,IF(AND(DU9="",DY9=""),90-EA9-EB9,IF(DY9="",100-EA9-EB9,200-EA9-EB9)))))) -> 200 | ED9: =IF(AND(OR(DS9="ab",DS9="ml"),OR(DT9="ab",DT9="ml"),OR(DU9="ab",DU9="ml")),"AB",IF(AND(OR(DS9="ab",DS9="ml"),OR(DT9="ab",DT9="ml"),OR(DW9="ab",DW9="ml")),"AB",IF(AND(OR(DS9="ab",DS9="ml"),OR(DW9="ab",DW9="ml"),OR(DU9="ab",DU9="ml")),"AB",IF(AND(OR(DW9="ab",DW9="ml"),OR(DT9="ab",DT9="ml"),OR(DU9="ab",DU9="ml")),"AB","")))) | EE9: =IF(OR($D9="NSO",$D9="",DY9=""),"",IF(OR(ED9="AB",DY9="ab"),"AB",IF(DY9="ML","RE",IF(AND(DZ9>=36%*EC9,DY9>=20),"P","RE")))) -> P | EF9: =IF(OR(EE9="RE",EE9="",EE9="F",EE9="AB"),EE9,IF(DZ9>=80%*EC9,"A",IF(DZ9>=60%*EC9,"B",IF(DZ9>=40%*EC9,"C","D")))) -> A | EG9: =IF(details!BE9="","",details!BE9) -> 6 | EH9: =IF(details!BF9="","",details!BF9) -> 8 | EI9: =IF(AND(EG9="",EH9=""),"",IF(AND(EG9="ml",EH9="ml"),"ml",IF(AND(EG9="AB",EH9="AB"),"AB",SUM(EG9:EH9)))) -> 14 | EJ9: =IF(details!BG9="","",details!BG9) -> 4 | EK9: =IF(details!BH9="","",details!BH9) -> 7 | EL9: =IF(AND(EJ9="",EK9=""),"",IF(AND(EJ9="ml",EK9="ml"),"ml",IF(AND(EJ9="AB",EK9="AB"),"AB",SUM(EJ9:EK9)))) -> 11 | EM9: =IF(details!BI9="","",details!BI9) -> 15 | EN9: =IF(details!BJ9="","",details!BJ9) -> 10 | EO9: =IF(AND(EM9="",EN9=""),"",IF(AND(EM9="ml",EN9="ml"),"ml",IF(AND(EM9="AB",EN9="AB"),"AB",SUM(EM9:EN9)))) -> 25 | EP9: =IF(AND(EG9="",EJ9="",EM9=""),"",SUM(EG9,EJ9,EM9)) -> 25 | EQ9: =IF(AND(EH9="",EK9="",EN9=""),"",SUM(EH9,EK9,EN9)) -> 25 | ER9: =IF(AND(EP9="",EQ9=""),"",IF(AND(EP9="ml",EQ9="ml"),"ml",IF(AND(EP9="AB",EQ9="AB"),"AB",SUM(EP9:EQ9)))) -> 50 | ES9: =IF(details!BK9="","",details!BK9) -> 24 | ET9: =IF(details!BL9="","",details!BL9) -> 14 | EU9: =IF(AND(ES9="",ET9=""),"",IF(AND(ES9="ml",ET9="ml"),"ml",IF(AND(ES9="AB",ET9="AB"),"AB",SUM(ES9:ET9)))) -> 38 | EV9: =IF(AND(EP9="",ES9=""),"",SUM(EP9,ES9)) -> 49 | EW9: =IF(AND(EQ9="",FS9=""),"",SUM(EQ9,ET9)) -> 39 | EX9: =IF(details!BM9="","",details!BM9) -> 30 | EY9: =IF(details!BN9="","",details!BN9) -> 70 | EZ9: =IF(AND(EX9="",EY9=""),"",IF(AND(EX9="AB",EY9="AB"),"AB",SUM(EX9:EY9))) -> 100 | FA9: =IF(AND(EV9="",EX9=""),"",SUM(EV9,EX9)) -> 79 | FB9: =IF(AND(EW9="",EY9=""),"",SUM(EW9,EY9)) -> 109 | FC9: =IF(AND(FA9="",FB9=""),"",SUM(FA9:FB9)) -> 188 | FD9: =COUNTIF(EG9,"na")*EG$6+COUNTIF(EH9,"na")*EH$6+COUNTIF(EJ9,"na")*EJ$6+COUNTIF(EK9,"na")*EK$6+COUNTIF(EM9,"na")*EM$6+COUNTIF(EN9,"na")*EN$6 -> 0 | FE9: =COUNTIF(EG9,"ml")*EG$6+COUNTIF(EH9,"ml")*EH$6+COUNTIF(EJ9,"ml")*EJ$6+COUNTIF(EK9,"ml")*EK$6+COUNTIF(EM9,"ml")*EM$6+COUNTIF(EN9,"ml")*EN$6+(COUNTIF(ES9,"ML")*ES$6)+(COUNTIF(ET9,"ML")*ET$6) -> 0 | FF9: =IF(OR($D9="NSO",$D9=0),"",IF(AND(EI9="",EL9="",EO9="",EU9="",EZ9=""),"",IF(AND(EL9="",EO9="",EU9="",EZ9=""),18-FD9-FE9,IF(AND(EO9="",EU9="",EZ9=""),35-FD9-FE9,IF(AND(EO9="",EZ9=""),75-FD9-FE9,IF(EZ9="",100-FD9-FE9,200-FD9-FE9)))))) -> 200 | FG9: =IF(AND(OR(EI9="ab",EI9="ml"),OR(EL9="ab",EL9="ml"),OR(EO9="ab",EO9="ml")),"AB",IF(AND(OR(EI9="ab",EI9="ml"),OR(EL9="ab",EL9="ml"),OR(EU9="ab",EU9="ml")),"AB",IF(AND(OR(EL9="ab",EL9="ml"),OR(EO9="ab",EO9="ml"),OR(EU9="ab",EU9="ml")),"AB",IF(AND(OR(EI9="ab",EI9="ml"),OR(EO9="ab",EO9="ml"),OR(EU9="ab",EU9="ml")),"AB","")))) | FH9: =IF(OR($D9="NSO",$D9=0,EZ9=""),"",IF(OR(FG9="AB",EZ9="AB"),"AB",IF(EZ9="ML","RE",IF(AND(FC9>=36%*FF9,EZ9>=20),"P","RE")))) -> P | FI9: =IF(OR(FH9="RE",FH9="",FH9="F",FH9="AB"),FH9,IF(FC9>=80%*FF9,"A",IF(FC9>=60%*FF9,"B",IF(FC9>=40%*FF9,"C","D")))) -> A | FJ9: =IF(details!BO9="","",details!BO9) -> 10 | FK9: =IF(details!BP9="","",details!BP9) -> 10 | FL9: =IF(details!BQ9="","",details!BQ9) -> 10 | FM9: =IF(AND(FJ9="",FK9="",FL9=""),"",SUM(FJ9:FL9)) -> 30 | FN9: =IF(details!BR9="","",details!BR9) -> 33 | FO9: =IF(details!BS9="","",details!BS9) -> 18 | FP9: =IF(AND(FN9="",FO9=""),"",IF(AND(FN9="ml",FO9="ml"),"ml",IF(AND(FN9="AB",FO9="AB"),"AB",SUM(FN9:FO9)))) -> 51 | FQ9: =IF(AND(FM9="",FN9=""),"",SUM(FM9,FN9)) -> 63 | FR9: =FO9 -> 18 | FS9: =IF(details!BT9="","",details!BT9) -> 60 | FT9: =IF(details!BU9="","",details!BU9) -> 30 | FU9: =IF(AND(FS9="",FT9=""),"",IF(AND(FS9="AB",FT9="AB"),"AB",SUM(FS9:FT9))) -> 90 | FV9: =IF(AND(FQ9="",FS9=""),"",SUM(FQ9,FS9)) -> 123 | FW9: =IF(AND(FR9="",FT9=""),"",SUM(FR9,FT9)) -> 48 | FX9: =IF(AND(FV9="",FW9=""),"",SUM(FV9:FW9)) -> 171 | FY9: =COUNTIF(FJ9:FL9,"NA")*FJ$6 -> 0 | FZ9: =(COUNTIF(FJ9:FL9,"ML")*FJ$6)+(COUNTIF(FN9,"ML")*FN$6)+(COUNTIF(FO9,"ML")*FO$6)+(COUNTIF(FS9,"ML")*FS$6)+(COUNTIF(FT9,"ML")*FT$6) -> 0 | GA9: =IF(OR(D9="NSO",D9=0),"",IF(AND(FJ9="",FK9="",FL9="",FP9="",FU9=""),"",IF(AND(FK9="",FL9="",FP9="",FU9=""),10-FY9-FZ9,IF(AND(FL9="",FP9="",FU9=""),20-FY9-FZ9,IF(AND(FL9="",FU9=""),95-FY9-FZ9,IF(FU9="",100-FY9-FZ9,200-FY9-FZ9)))))) -> 200 | GB9: =IF(AND(OR(FJ9="ab",FJ9="ml"),OR(FK9="ab",FK9="ml"),OR(FL9="ab",FL9="ml")),"AB",IF(AND(OR(FJ9="ab",FJ9="ml"),OR(FK9="ab",FK9="ml"),OR(FP9="ab",FP9="ml")),"AB",IF(AND(OR(FL9="ab",FL9="ml"),OR(FK9="ab",FK9="ml"),OR(FP9="ab",FP9="ml")),"AB",IF(AND(OR(FJ9="ab",FJ9="ml"),OR(FL9="ab",FL9="ml"),OR(FP9="ab",FP9="ml")),"AB","")))) | GC9: =IF(OR($D9="NSO",$D9=0,FU9=""),"",IF(OR(GB9="AB",FU9="AB"),"AB",IF(FU9="ML","RE",IF(AND(FX9>=36%*GA9,FU9>=20),"P","RE")))) -> P | GD9: =IF(OR(GC9="RE",GC9="",GC9="F",GC9="AB"),GC9,IF(FX9>=80%*GA9,"A",IF(FX9>=60%*GA9,"B",IF(FX9>=40%*GA9,"C",IF(FX9>=36%*GA9,"D",""))))) -> A | GE9: =IF(details!BV9="","",details!BV9) -> 24 | GF9: =IF(details!BW9="","",details!BW9) -> 44 | GG9: =IF(details!BX9="","",details!BX9) -> 30 | GH9: =IF(AND(GE9="",GF9="",GG9=""),"",SUM(GE9:GG9)) -> 98 | GI9: =COUNTIF(GE9,"ML")*GE$6+COUNTIF(GF9,"ML")*GF$6+COUNTIF(GG9,"ML")*GG$6 -> 0 | GJ9: =IF(OR($D9="NSO",$D9=0),"",IF(AND(GE9="",GF9="",GG9=""),"",IF(AND(GF9="",GG9=""),25-GI9,IF(GG9="",75-GI9,100-GI9)))) -> 100 | GK9: =IF(AND(OR(GE9="ab",GE9="ml"),OR(GF9="ab",GF9="ml")),"AB","") | GL9: =IF(OR($D9="NSO",$D9=0,GG9=""),"",IF(OR(GG9="AB",GK9="AB"),"AB",IF(GG9="ML","RE",IF(GH9>=36%*GJ9,"P","RE")))) -> P | GM9: =IF(OR(GL9="",GL9="F",GL9="AB"),GL9,IF(GH9>=81%*GJ9,"A",IF(GH9>=61%*GJ9,"B",IF(GH9>=41%*GJ9,"C",IF(GH9>=21%*GJ9,"D","E"))))) -> A | GN9: =IF(details!BY9="","",details!BY9) -> 24 | GO9: =IF(details!BZ9="","",details!BZ9) -> 28 | GP9: =IF(details!CA9="","",details!CA9) -> 27 | GQ9: =IF(details!CB9="","",details!CB9) -> 14 | GR9: =IF(AND(GN9="",GO9="",GP9="",GQ9=""),"",SUM(GN9:GQ9)) -> 93 | GS9: =COUNTIF(GN9,"ML")*GN$6+COUNTIF(GO9,"ML")*GO$6+COUNTIF(GP9,"ML")*GP$6+COUNTIF(GQ9,"ML")*GQ$6 -> 0 | GT9: =IF(OR($D9="NSO",$D9=0),"",IF(AND(GN9="",GO9="",GP9="",GQ9=""),"",IF(AND(GO9="",GP9="",GQ9=""),25-GS9,IF(AND(GP9="",GQ9=""),55-GS9,IF(GQ9="",85-GS9,100-GS9))))) -> 100 | GU9: =IF(AND(OR(GN9="ab",GN9="ml"),OR(GO9="ab",GO9="ml")),"AB",IF(AND(OR(GO9="ab",GO9="ml"),OR(GP9="ab",GP9="ml")),"AB",IF(AND(OR(GN9="ab",GN9="ml"),OR(GP9="ab",GP9="ml")),"AB",""))) | GV9: =IF(OR($D9="NSO",$D9=0,GQ9=""),"",IF(OR(GQ9="AB",GU9="AB"),"AB",IF(GQ9="ML","RE",IF(GR9>=36%*GT9,"P","RE")))) -> P | GW9: =IF(OR(GV9="",GV9="F",GV9="AB"),GV9,IF(GR9>=81%*GT9,"A",IF(GR9>=61%*GT9,"B",IF(GR9>=41%*GT9,"C",IF(GR9>=21%*GT9,"D","E"))))) -> A | GX9: =X9 -> I | GY9: =AM9 -> D | GZ9: =BD9 -> D | HA9: =BS9 -> D | HB9: =CY9 -> D | HC9: =DN9 -> I | HD9: =IF(OR(FI9="F",GD9="F",EF9="F",GM9="F",GW9="F"),"F",IF(OR(FI9="AB",GD9="AB",EF9="AB",GM9="AB",GW9="AB"),"AB",IF(OR(FI9="RE",GD9="RE",EF9="RE",GM9="RE",GW9="RE"),"RE",""))) | HE9: =COUNTIF(GX9:HD9,"F")+COUNTIF(GX9:HD9,"AB") -> 0 | HF9: =COUNTIF(GX9:HC9,"S") -> 0 | HG9: =COUNTIF(GX9:HC9,"G1") -> 0 | HH9: =COUNTIF(GX9:HC9,"G2") -> 0 | HI9: =COUNTIF(GX9:HD9,"RE") -> 0 | HJ9: =IF(D9="NSO","NSO",IF(OR(D9=0,Q9="",AF9="",AW9="",BL9="",CR9="",DG9=""),"",IF(OR(HE9>0,(HF9+HG9+HH9)>2),"FAIL",IF(HI9>0,"RE-EXAM.",IF(OR(HF9>0,HG9>1),"SUPPL.",IF(AND(HG9>0,HH9>0),"SUPPL.",IF((HG9+HH9),"PASS BY GRACE","PASS"))))))) -> PASS | HK9: =IF(AND(OR(HJ9="PASS",HJ9="PASS BY GRACE"),HD9="F"),"FAIL",IF(AND(OR(HJ9="PASS",HJ9="PASS BY GRACE"),HD9="RE"),"RE-EXAM.",HJ9)) -> PASS | HL9: =IF(OR(HK9="PASS",HK9="PASS BY GRACE"),DQ9,"") -> 87.75 | HM9: =IF(HL9="","",SUMPRODUCT((HL9<HL$7:HL$106)/COUNTIF(HL$7:HL$106,HL$7:HL$106))) -> 5 | HN9: =IF(details!DJ9="","",details!DJ9) | HO9: =IF(details!DK9="","",details!DK9) | HP9: =IF(details!DN9="","",details!DN9) | HQ9: =IF(details!DO9="","",details!DO9) | HR9: =IF(details!DR9="","",details!DR9) | HS9: =IF(details!DS9="","",details!DS9) | HT9: =IF(details!DV9="","",details!DV9) | HU9: =IF(details!DW9="","",details!DW9) | HV9: =IF(details!DZ9="","",details!DZ9) | HW9: =IF(details!EA9="","",details!EA9) | HX9: =IF(HV9="","",HW9/HV9*100) | HY9: =SUM(N9,AC9,AT9,BI9,CO9,DD9) -> 6 | HZ9: =IF(AND(HJ9="FAIL",(OR(GX9="G1",GX9="G2",GX9="S"))),"F",IF(AND(HJ9="FAIL",GX9="RE"),"AB",IF(AND(HJ9="RE-EXAM.",(OR(GX9="G1",GX9="G2",GX9="S"))),"S",IF(AND(HJ9="SUPPL.",(OR(GX9="G1",GX9="G2"))),"S",IF(AND(HJ9="PASS BY GRACE",(OR(GX9="G1",GX9="G2"))),"G",GX9))))) -> I | IA9: =IF(HZ9="G",",+","") | IB9: =IF(HZ9="G",ROUNDUP(36%*U9-R9,0),"") | IC9: =IF(AND(HJ9="FAIL",(OR(GY9="G1",GY9="G2",GY9="S"))),"F",IF(AND(HJ9="FAIL",GY9="RE"),"AB",IF(AND(HJ9="RE-EXAM.",(OR(GY9="G1",GY9="G2",GY9="S"))),"S",IF(AND(HJ9="SUPPL.",(OR(GY9="G1",GY9="G2"))),"S",IF(AND(HJ9="PASS BY GRACE",(OR(GY9="G1",GY9="G2"))),"G",GY9))))) -> D | ID9: =IF(IC9="G",",+","") | IE9: =IF(IC9="G",ROUNDUP(36%*AJ9-AG9,0),"") | IF9: =IF(AND(HJ9="FAIL",(OR(GZ9="G1",GZ9="G2",GZ9="S"))),"F",IF(AND(HJ9="FAIL",GZ9="RE"),"AB",IF(AND(HJ9="RE-EXAM.",(OR(GZ9="G1",GZ9="G2",GZ9="S"))),"S",IF(AND(HJ9="SUPPL.",(OR(GZ9="G1",GZ9="G2"))),"S",IF(AND(HJ9="PASS BY GRACE",(OR(GZ9="G1",GZ9="G2"))),"G",GZ9))))) -> D | IG9: =IF($AO9=IG$5,$IF9,"") -> D | IH9: =IF($AO9=IH$5,$IF9,"") | II9: =IF($AO9=II$5,$IF9,"") | IJ9: =IF($AO9=IJ$5,$IF9,"") | IK9: =IF($AO9=IK$5,$IF9,"") | IL9: =IF(IF9="G",",+","") | IM9: =IF(IF9="G",ROUNDUP(36%*BA9-AX9,0),"") | IN9: =IF(AND(HJ9="FAIL",(OR(HA9="G1",HA9="G2",HA9="S"))),"F",IF(AND(HJ9="FAIL",HA9="RE"),"AB",IF(AND(HJ9="RE-EXAM.",(OR(HA9="G1",HA9="G2",HA9="S"))),"S",IF(AND(HJ9="SUPPL.",(OR(HA9="G1",HA9="G2"))),"S",IF(AND(HJ9="PASS BY GRACE",(OR(HA9="G1",HA9="G2"))),"G",HA9))))) -> D | IO9: =IF(IN9="G",",+","") | IP9: =IF(IN9="G",ROUNDUP(36%*BP9-BM9,0),"") | IQ9: =IF(AND(HJ9="FAIL",(OR(HB9="G1",HB9="G2",HB9="S"))),"F",IF(AND(HJ9="FAIL",HB9="RE"),"AB",IF(AND(HJ9="RE-EXAM.",(OR(HB9="G1",HB9="G2",HB9="S"))),"S",IF(AND(HJ9="SUPPL.",(OR(HB9="G1",HB9="G2"))),"S",IF(AND(HJ9="PASS BY GRACE",(OR(HB9="G1",HB9="G2"))),"G",HB9))))) -> D | IR9: =IF(IQ9="G",",+","") | IS9: =IF(IQ9="G",ROUNDUP(36%*CV9-CS9,0),"") | IT9: =IF(AND(HJ9="FAIL",(OR(HC9="G1",HC9="G2",HC9="S"))),"F",IF(AND(HJ9="FAIL",HC9="RE"),"AB",IF(AND(HJ9="RE-EXAM.",(OR(HC9="G1",HC9="G2",HC9="S"))),"S",IF(AND(HJ9="SUPPL.",(OR(HC9="G1",HC9="G2"))),"S",IF(AND(HJ9="PASS BY GRACE",(OR(HC9="G1",HC9="G2"))),"G",HC9))))) -> I | IU9: =IF(IT9="G",",+","") | IV9: =IF(IT9="G",ROUNDUP(36%*DK9-DH9,0),"") | IW9: =IF(AND(HJ9="FAIL",DY9="ML"),"AB",IF(AND(HJ9="FAIL",EF9="RE"),"F",EF9)) -> A | IX9: =IF(AND(HJ9="FAIL",EZ9="ML"),"AB",IF(AND(HJ9="FAIL",FI9="RE"),"F",FI9)) -> A | IY9: =IF(AND(HJ9="FAIL",FU9="ML"),"AB",IF(AND(HJ9="FAIL",GD9="RE"),"F",GD9)) -> A | IZ9: =IF(AND(HJ9="FAIL",GG9="ML"),"AB",IF(AND(HJ9="FAIL",GM9="RE"),"F",GM9)) -> A | JA9: =IF(AND(HJ9="FAIL",GQ9="ML"),"AB",IF(AND(HJ9="FAIL",GW9="RE"),"F",GW9)) -> A | JB9: =CONCATENATE(IF(HZ9="F",$HZ$5,"")," ",IF(IC9="F",$IC$5,"")," ",IF(IG9="F",$IG$5,"")," ",IF(IH9="F",$IH$5,"")," ",IF(II9="F",$II$5,"")," ",IF(IJ9="F",$IJ$5,"")," ",IF(IK9="F",$IK$5,"")," ",IF(IN9="F",$IN$5,"")," ",IF(IQ9="F",$IQ$5,"")," ",IF(IT9="F",$IT$5,"")," ",IF(IW9="F",$IW$5,"")," ",IF(IX9="F",$IX$5,"")," ",IF(IY9="F",$IY$5,"")) | JC9: =CONCATENATE(IF(HZ9="S",$HZ$5,"")," ",IF(IC9="S",$IC$5,"")," ",IF(IG9="S",$IG$5,"")," ",IF(IH9="S",$IH$5,"")," ",IF(II9="S",$II$5,"")," ",IF(IJ9="S",$IJ$5,"")," ",IF(IK9="S",$IK$5,"")," ",IF(IN9="S",$IN$5,"")," ",IF(IQ9="S",$IQ$5,"")," ",IF(IT9="S",$IT$5,"")," ",IF(IW9="S",$IW$5,"")," ",IF(IX9="S",$IX$5,"")," ",IF(IY9="S",$IY$5,"")) | JD9: =CONCATENATE(IF(HZ9="G",CONCATENATE($HZ$5," +",IB9),""),IF(IC9="G",CONCATENATE($IC$5," +",IE9),""),IF(IF9="G",CONCATENATE($IF$5," +",IM9),""),IF(IN9="G",CONCATENATE($IN$5," +",IP9),""),IF(IQ9="G",CONCATENATE($IQ$5," +",IS9),""),IF(IT9="G",CONCATENATE($IT$5," +",IV9),"")) | JF9: =CONCATENATE(IF(HZ9="D",$HZ$5,"")," ",IF(IC9="D",$IC$5,"")," ",IF(IG9="D",$IG$5,"")," ",IF(IH9="D",$IH$5,"")," ",IF(II9="D",$II$5,"")," ",IF(IJ9="D",$IJ$5,"")," ",IF(IK9="D",$IK$5,"")," ",IF(IN9="D",$IN$5,"")," ",IF(IQ9="D",$IQ$5,"")," ",IF(IT9="D",$IT$5,"")," ",IF(IW9="D",$IW$5,"")," ",IF(IX9="D",$IX$5,"")," ",IF(IY9="D",$IY$5,"")) -> ENGLISH SANSKRIT SCIENCE SOCIAL SCIENCE/ VOCATIONAL EDUCATION | JG9: =IF(OR(HK9="SUPPL.",HK9="RE-EXAM."),'result subject-wise'!AV9,HK9) -> PASS | JH9: =IF('result subject-wise'!AW9="",DQ9,'result subject-wise'!AW9) -> 87.75 | JI9: =IF(AND(JH9>=60,JG9="PASS"),"FIRST",IF(AND(JH9>=60,JG9="PASS BY GRACE"),"FIRST",IF(AND(JH9>=48,JG9="PASS"),"SECOND",IF(AND(JH9>=48,JG9="PASS BY GRACE"),"SECOND",IF(OR(JG9="PASS",JG9="PASS BY GRACE"),"THIRD",JG9))))) -> FIRST | JM9: SUBJECT-WISE AND AGGREGATE RESULT OF THE CALSS | JV9: SESSION | JX9: =F3 -> 2024-25
