Workbook
Name _EQG7: #REF!
Name a: #REF!
Name CR: 'statement of marks'!$B$114
Name xxx1: #REF!

Sheet from the developer's desk
A1: This application has been designed for the Secondary and Higher Secondary schools of Rajasthan. All rights are reserved with the director of Secondary Education, Bikaner, Rajasthan.
A3: designed by D. Kavita Lecturer in English Govt. Girls' Hr. Sec. School, Nimbahera, Distt. Chittaurgarh, Rajasthan kavita.fadnavis@gmail.com
A7: In cooperation with
A8: Pushpendra Kumar Sharma Principal Govt. Hr. Sec. School, Veerpura Distt. Udaipur, Rajasthan | B8: Anil Kumar Somani Lecturer in Physics Govt. Hr. Sec. School, Nimbahera, Distt. Chittaurgarh, Rajasthan | C8: Arvind Kumar Sharma Sr.Teacher (Maths) Govt. Girls Sec. School Ramsar, Srinagar (Ajmer) Distt. Ajmer, Rajasthan
A12: Plz. Read all instructions given in this pages carefully before you proceed. For more help you can download the training videos from www.ctor.in
A14: WHAT IS SPECIAL ABOUT THIS WORKBOOK?
A16: This work book has been developed for those schools that have more than 4 options for each column of optional subjects and also for those that wish to give their students two practical subjects with different marking scheme in one column for example Geography and Music in one place. However it can also be used in normal cases.
A20: It is also helpful for Vocational Education as third optional subject. You already know that 4th optional subject is not to be shown in the progress reports for class 11th students and so if a student offers any of the trades of vocational education as a fourth optional, his/her result can not be prepared in this workbook.
A23: Put the subjects with 70 marks practicals such as music and drawing in last columns viz., Z,AA, AH,AI and give 'g' or 'h' (as per the selected column) as subject code.
A25: Put the subjects with 50 marks practicals such as typing and shorthand in last columns viz., AP,AQ and give 'g' or 'h' (as per the selected column) as subject code.
A27: This workbook is for trial and the users are expected to give feedback at kavita.fadnavis@gmail.com for its improvement. No claims of perfection.
A31: This workbook can prepare results of 100 students of a class. According the the the departmental norms we can split the class into two sections as soon as the strength crosses 60 students, yet this workbooks supports result upto a strength of 100 students. Please limit your class strength not to exceed If there occur any errors in your result due to accidental deletion or feeding in wrong sheets, you can rectify all such errors by using a fresh workbook and just copying the 'details' of your old workbook into the new one. Password to enter details entries is 'shivira'. All sheets are protected. The password to unprotect sheets is 'dkf'. For any queries regarding the use of this application, drop a mail to kavita.fadnavis@gmail.com You may also contact the master trainers of your own district. D. Kavita
A38: Plz. Read the class promotion rules before you begin to work on this workbook. Use this workbook only if you find it as per rules. The cell pertaining to the result of a student of class 8th is deliberately left blank in case he/she sobtains grade 'e' in any of the subjects. Fill it using your own understanding of the rules.
A41: fjtYV odZcqd ds iz;ksx esa vkusokyh lkekU; leL;k,¡ o lek/kku
A42: CLICK HERE TO GO BACK TO DETAILS TO CONTINUE DATA ENTRY
A43: HOW TO MAKE ENTRIES?
... A118: vf/kd lg;ksx pkgus gsrq ohfM;ks ns[ksaA

Sheet details
A1: Govt. Hr. Sec. School, | J1: PROGRESS REPORT | P1: =G6 -> 11 'A' | V1: OPTIONAL SUBJECT 1 | AE1: OPTIONAL SUBJECT 2 | AN1: OPTIONAL SUBJECT 3 | AW1: ADDITIONAL OPTIONAL SUBJECT | BF1: =H6 -> 2024-25 | BQ1: MONTHLY ATTENDANCE | CP1: TOTAL ATTENDANCE UPTO
A2: S.NO. | B2: CATEGORY | C2: GENDER | D2: S.R. NO. | E2: RO. NO. | F2: DATE OF BIRTH | J2: HINDI COMPULSORY | P2: ENGLISH COMPULSORY | V2: HOME SCIENCE | W2: PHYSICS | AC2: DRAWING | AD2: MUSIC INSTR. FLUTE | AE2: GEOGRAPHY | AF2: CHEMISTRY | AL2: DRAWING | AM2: MUSIC INSTR. FLUTE | AN2: HOME SCIENCE | AO2: MATHEMATICS | AU2: TYPING | AV2: SHORT HAND | AW2: BIOLOGY | AX2: MATHEMATICS | AY2: AGRICULTURE | AZ2: GEO SCIENCE | BB2: MULTIMEDIA WEB TECH | BC2: BIOLOGY | BD2: DRAWING | BE2: MUSIC INSTR. FLUTE | BF2: Azadi ke Baad ka Swarnim Bharat | BK2: JEEVAN KAUShAL | EL2: Table showing the proportionate adjustment of marks for Re-Exam. and Supplementary.
G3: RESULT SHEET | J3: SHARMA | P3: D. KAVITA | V3: A | W3: B | X3: C | Y3: D | AA3: E | AB3: F | AC3: G | AD3: H | AE3: A | AF3: B | AG3: C | AH3: D | AJ3: E | AK3: F | AL3: G | AM3: H | AN3: A | AO3: B | AP3: C | AQ3: D | AS3: E | AT3: F | AU3: G | AV3: H | AW3: A | AX3: B | AY3: C | AZ3: D | BB3: E | BC3: F | BD3: G | BE3: H | BF3: MEENA | BK3: REKHA | BQ3: APRIL | BR3: APRIL | BS3: MAY | BT3: MAY | BU3: JULY | BV3: JULY | BW3: AUGUST | BX3: AUGUST | BY3: SEPTEMBER | BZ3: SEPTEMBER | CA3: OCTOBER | CB3: OCTOBER | CC3: NOVEMBER | CD3: NOVEMBER | CE3: DECEMBER | CF3: DECEMBER | CG3: JANUARY | CH3: JANUARY | CI3: FEBRUARY | CJ3: FEBRUARY | CK3: MARCH | CL3: MARCH | CM3: APRIL | CN3: APRIL | CP3: TOTAL UPTO MAY | CR3: TOTAL UPTO JULY | CT3: TOTAL UPTO AUGUST | CV3: TOTAL UPTO SEPTEMBER | CX3: TOTAL UPTO OCTOBER | CZ3: TOTAL UPTO NOVEMBER | DB3: TOTAL UPTO DECEMBER | DD3: TOTAL UPTO JANUARY | DF3: TOTAL UPTO FEBRUARY | DH3: TOTAL UPTO MARCH | DJ3: TOTAL FOR THE SESSION
G4: CLICK HERE FOR HELP | H4: DATE OF DECLARATION OF SUPPL. EXAM RESULT | I4: 45794 | J4: UNIT TEST | M4: VRIKSHAROPAN | N4: HALF YEARLY EXAM. | O4: ANNUAL EXAM. | P4: UNIT TEST | S4: VRUKSHAROPAN | T4: HALF YEARLY EXAM. | U4: ANNUAL EXAM. | V4: SUBJECT CODE | W4: UNIT TEST | Z4: VRUKSHAROPAN | AA4: HALF YEARLY EXAM. | AC4: ANNUAL EXAM. | AE4: SUBJECT CODE | AF4: UNIT TEST | AI4: VRUKSHAROPAN | AJ4: HALF YEARLY EXAM. | AL4: ANNUAL EXAM. | AN4: SUBJECT CODE | AO4: UNIT TEST | AR4: VRUKSHAROPAN | AS4: HALF YEARLY EXAM. | AU4: ANNUAL EXAM. | AW4: SUBJECT CODE | AX4: UNIT TEST | BA4: VRUKSHAROPAN | BB4: HALF YEARLY EXAM. | BD4: ANNUAL EXAM. | BF4: UNIT TEST | BI4: HALF YEARLY EXAM. | BJ4: ANNUAL EXAM. | BK4: CONT. ASSMNT. | BL4: CONT. ASSMNT. | BM4: ANNUAL EXAM. | EL4: Pr. Sub with 70+30 scheme | EO4: Pr. Sub with 30+70 scheme | ER4: Purely Theory Subjects
G5: NAME OF THE STUDENT | H5: FATIEHR'S NAME | I5: MOTHER'S NAME | J5: FIRST | K5: SECOND | L5: THIRD | P5: FIRST | Q5: SECOND | R5: THIRD | W5: FIRST | X5: SECOND | Y5: THIRD | AA5: THEORY | AB5: PRACTICAL | AC5: THEORY | AD5: PRACTICAL | AF5: FIRST | AG5: SECOND | AH5: THIRD | AJ5: THEORY | AK5: PRACTICAL | AL5: THEORY | AM5: PRACTICAL | AO5: FIRST | AP5: SECOND | AQ5: THIRD | AS5: THEORY | AT5: PRACTICAL | AU5: THEORY | AV5: PRACTICAL | AX5: FIRST | AY5: SECOND | AZ5: THIRD | BB5: THEORY | BC5: PRACTICAL | BD5: THEORY | BE5: PRACTICAL | BF5: FIRST | BG5: SECOND | BH5: THIRD | BQ5: TOTAL MTNGS. | BS5: TOTAL MTNGS. | BT5: ST. ATT. | BU5: TOTAL MTNGS. | BV5: ST. ATT. | BW5: TOTAL MTNGS. | BX5: ST. ATT. | BY5: TOTAL MTNGS. | BZ5: ST. ATT. | CA5: TOTAL MTNGS. | CB5: ST. ATT. | CC5: TOTAL MTNGS. | CD5: ST. ATT. | CE5: TOTAL MTNGS. | CF5: ST. ATT. | CG5: TOTAL MTNGS. | CH5: ST. ATT. | CI5: TOTAL MTNGS. | CJ5: ST. ATT. | CK5: TOTAL MTNGS. | CL5: ST. ATT. | CM5: TOTAL MTNGS. | CN5: ST. ATT. | CP5: TOTAL MTNGS. | CQ5: ST. ATT. | CR5: TOTAL MTNGS. | CS5: ST. ATT. | CT5: TOTAL MTNGS. | CU5: ST. ATT. | CV5: TOTAL MTNGS. | CW5: ST. ATT. | CX5: TOTAL MTNGS. | CY5: ST. ATT. | CZ5: TOTAL MTNGS. | DA5: ST. ATT. | DB5: TOTAL MTNGS. | DC5: ST. ATT. | DD5: TOTAL MTNGS. | DE5: ST. ATT. | DF5: TOTAL MTNGS. | DG5: ST. ATT. | DH5: TOTAL MTNGS. | DI5: ST. ATT. | DJ5: TOTAL MTNGS. | DK5: ST. ATT. | EL5: Re-Exam. Marks | EM5: Suppl Marks | EO5: Re-Exam. Marks | EP5: Suppl Marks | ER5: Re-Exam. Marks | ES5: Suppl Marks
A6: DATE OF RESULT DECLARATION | E6: 45794 | G6: 11 'A' | H6: 2024-25 | I6: MAX. MARKS FOR TH. SUBJECTS | J6: 10 | K6: 10 | L6: 8 | M6: 2 | N6: 70 | O6: 100 | P6: 10 | Q6: 10 | R6: 8 | S6: 2 | T6: 70 | U6: 100 | V6: =COUNTIF(V9:V108,"g")+COUNTIF(V9:V108,"h") -> 0 | W6: 10 | X6: 10 | Y6: 9 | Z6: 1 | AA6: 70 | AC6: 100 | AE6: =COUNTIF(AE9:AE108,"g")+COUNTIF(AE9:AE108,"h") -> 0 | AF6: 10 | AG6: 10 | AH6: 9 | AI6: 1 | AJ6: 70 | AL6: 100 | AN6: =COUNTIF(AN9:AN108,"g")+COUNTIF(AN9:AN108,"h") -> 0 | AO6: 10 | AP6: 10 | AQ6: 9 | AR6: 1 | AS6: 70 | AU6: 100 | AW6: =COUNTIF(AW9:AW108,"g")+COUNTIF(AW9:AW108,"h") -> 0 | AX6: 10 | AY6: 10 | AZ6: 10 | BA6: 0 | BB6: 70 | BD6: 100 | BF6: 10 | BG6: 10 | BH6: 10 | BI6: 70 | BJ6: 100 | BK6: 30 | BL6: 30 | BM6: 40 | BO6: MEETINGS | BS6: 44 | BU6: 44 | BW6: 42 | BY6: 40 | CA6: 36 | CC6: 34 | CE6: 24 | CG6: 28 | CI6: 24 | CK6: 24 | CM6: 22 | CP6: =IF(BS6="","",SUM(BQ6,BS6)) -> 44 | CQ6: =IF(BT6="","",SUM(BR6,BT6)) | CR6: =IF(BU6="","",SUM(CP6,BU6)) -> 88 | CS6: =IF(BV6="","",SUM(CQ6,BV6)) | CT6: =IF(BW6="","",SUM(CR6,BW6)) -> 130 | CU6: =IF(BX6="","",SUM(CS6,BX6)) | CV6: =IF(BY6="","",SUM(CT6,BY6)) -> 170 | CW6: =IF(BZ6="","",SUM(CU6,BZ6)) | CX6: =IF(CA6="","",SUM(CV6,CA6)) -> 206 | CY6: =IF(CB6="","",SUM(CW6,CB6)) | ... DK6: =IF(CN6="","",SUM(DI6,CN6)) | EF6: LIST OF OPTIONAL SUBJECTS AND MARKING | EH6: Th. | EI6: Pract. | EJ6: Int Ass. | EL6: 70 | EM6: 150 | EO6: 30 | EP6: 50 | ER6: 100 | ES6: 200
I7: MAX. MARKS FOR NORMAL PR. SUBJECTS | J7: 10 | K7: 10 | L7: 8 | M7: 2 | N7: 70 | O7: 100 | P7: 10 | Q7: 10 | R7: 8 | S7: 2 | T7: 70 | U7: 100 | W7: 10 | X7: 10 | Y7: 9 | Z7: 1 | AA7: 50 | AB7: 20 | AC7: 70 | AD7: 30 | AF7: 10 | AG7: 10 | AH7: 9 | AI7: 1 | AJ7: 50 | AK7: 20 | AL7: 70 | AM7: 30 | AO7: 10 | AP7: 10 | AQ7: 9 | AR7: 1 | AS7: 50 | AT7: 20 | AU7: 70 | AV7: 30 | AX7: 10 | AY7: 10 | AZ7: 10 | BA7: 0 | BB7: 50 | BC7: 20 | BD7: 70 | BE7: 30 | BF7: 10 | BG7: 10 | BH7: 10 | BI7: 70 | BJ7: 100 | BK7: 30 | BL7: 30 | BM7: 40 | EE7: 84 | EF7: AGRICULTURE | EG7: P | EH7: 70 | EI7: 30 | EJ7: 0 | EL7: 70 | EM7: =ROUNDUP(EL7/EL$6*EM$6,0) -> 150 | EO7: 29 | EP7: =ROUNDUP(EO7/EO$6*EP$6,0) -> 49 | ER7: 99 | ES7: =ROUNDUP(ER7/ER$6*ES$6,0) -> 198
I8: MAX. MARKS FOR SPECIAL PR. SUBJECTS | J8: 10 | K8: 10 | L8: 8 | M8: 2 | N8: 70 | O8: 100 | P8: 10 | Q8: 10 | R8: 8 | S8: 2 | T8: 70 | U8: 100 | W8: 10 | X8: 10 | Y8: 9 | Z8: 1 | AA8: 20 | AB8: 50 | AC8: 30 | AD8: 70 | AF8: 10 | AG8: 10 | AH8: 9 | AI8: 1 | AJ8: 20 | AK8: 50 | AL8: 30 | AM8: 70 | AO8: 10 | AP8: 10 | AQ8: 9 | AR8: 1 | AS8: 35 | AT8: 35 | AU8: 50 | AV8: 50 | AX8: 10 | AY8: 10 | AZ8: 10 | BA8: 0 | BB8: 20 | BC8: 50 | BD8: 30 | BE8: 70 | BF8: 10 | BG8: 10 | BH8: 10 | BI8: 70 | BJ8: 100 | BK8: 30 | BL8: 30 | BM8: 40 | EE8: 39 | EF8: AGRICULTURE BIOLOGY | EG8: P | EH8: 70 | EI8: 30 | EJ8: 0 | EL8: 69 | EM8: =ROUNDUP(EL8/EL$6*EM$6,0) -> 148 | EO8: 28 | EP8: =ROUNDUP(EO8/EO$6*EP$6,0) -> 47 | ER8: 98 | ES8: =ROUNDUP(ER8/ER$6*ES$6,0) -> 196
A9: 1 | B9: OBC | C9: G | D9: 11111 | E9: 11101 | F9: 35179 | G9: A 001 | H9: B 001 | I9: C 001 | J9: 10 | K9: 10 | L9: 8 | M9: 2 | N9: 70 | O9: 100 | P9: 10 | Q9: 10 | R9: 8 | S9: 2 | T9: 70 | U9: 100 | V9: b | W9: 10 | X9: 10 | Y9: 9 | Z9: 1 | AA9: 30 | AB9: 20 | AC9: 70 | AD9: 30 | AE9: b | AF9: 10 | AG9: 10 | AH9: 9 | AI9: 1 | AJ9: 50 | AK9: 20 | AL9: 70 | AM9: 30 | AN9: b | AO9: 10 | AP9: 10 | AQ9: 9 | AR9: 1 | AS9: 70 | AU9: 18 | AW9: a | AX9: 10 | AY9: 10 | AZ9: 10 | BB9: 50 | BC9: 20 | BD9: 70 | BE9: 30 | BF9: 10 | BG9: 10 | BH9: 10 | BI9: 70 | BJ9: 100 | BK9: 30 | BL9: 30 | BM9: 40 | BQ9: =IF($E9="","",IF(BQ$6="","",BQ$6)) | BS9: =IF($E9="","",IF(BS$6="","",BS$6)) -> 44 | BT9: 20 | BU9: =IF($E9="","",IF(BU$6="","",BU$6)) -> 44 | BV9: 20 | BW9: =IF($E9="","",IF(BW$6="","",BW$6)) -> 42 | BX9: 20 | BY9: =IF($E9="","",IF(BY$6="","",BY$6)) -> 40 | BZ9: 20 | CA9: =IF($E9="","",IF(CA$6="","",CA$6)) -> 36 | CB9: 20 | CC9: =IF($E9="","",IF(CC$6="","",CC$6)) -> 34 | CD9: 20 | CE9: =IF($E9="","",IF(CE$6="","",CE$6)) -> 24 | CF9: 20 | CG9: =IF($E9="","",IF(CG$6="","",CG$6)) -> 28 | CH9: 20 | CI9: =IF($E9="","",IF(CI$6="","",CI$6)) -> 24 | CJ9: 20 | CK9: =IF($E9="","",IF(CK$6="","",CK$6)) -> 24 | CL9: 20 | CM9: =IF($E9="","",IF(CM$6="","",CM$6)) -> 22 | CN9: 20 | CP9: =IF(BS9="","",SUM(BQ9,BS9)) -> 44 | CQ9: =IF(BT9="","",SUM(BR9,BT9)) -> 20 | CR9: =IF(BU9="","",SUM(CP9,BU9)) -> 88 | CS9: =IF(BV9="","",SUM(CQ9,BV9)) -> 40 | CT9: =IF(BW9="","",SUM(CR9,BW9)) -> 130 | CU9: =IF(BX9="","",SUM(CS9,BX9)) -> 60 | CV9: =IF(BY9="","",SUM(CT9,BY9)) -> 170 | CW9: =IF(BZ9="","",SUM(CU9,BZ9)) -> 80 | CX9: =IF(CA9="","",SUM(CV9,CA9)) -> 206 | CY9: =IF(CB9="","",SUM(CW9,CB9)) -> 100 | ... DI9: =IF(CL9="","",SUM(DG9,CL9)) -> 200 | DJ9: =IF(E9="","",SUM(BQ9,BS9,BU9,BW9,BY9,CA9,CC9,CE9,CG9,CI9,CK9,CM9)) -> 362 | DK9: =IF(E9="","",SUM(BR9,BT9,BV9,BX9,BZ9,CB9,CD9,CF9,CH9,CJ9,CL9,CN9)) -> 220 | EE9: 38 | EF9: AGRICULTURE CHEMISTRY | EG9: P | EH9: 70 | EI9: 30 | EJ9: 0 | EL9: 68 | EM9: =ROUNDUP(EL9/EL$6*EM$6,0) -> 146 | EO9: 27 | EP9: =ROUNDUP(EO9/EO$6*EP$6,0) -> 45 | ER9: 97 | ES9: =ROUNDUP(ER9/ER$6*ES$6,0) -> 194
A10: 2 | E10: 11102 | G10: A 002 | H10: B 002 | I10: C 002 | J10: 10 | K10: 10 | L10: 8 | M10: 2 | N10: 70 | O10: 100 | P10: 10 | Q10: 10 | R10: 8 | S10: 2 | T10: 70 | U10: 100 | V10: b | W10: 10 | X10: 10 | Y10: 9 | Z10: 1 | AA10: 30 | AB10: 20 | AC10: 70 | AD10: 30 | AE10: b | AF10: 10 | AG10: 10 | AH10: 9 | AI10: 1 | AJ10: 50 | AK10: 20 | AL10: 70 | AM10: 30 | AN10: b | AO10: 10 | AP10: 10 | AQ10: 9 | AR10: 1 | AS10: 70 | AU10: 18 | AW10: a | AX10: 10 | AY10: 10 | AZ10: 10 | BB10: 50 | BC10: 20 | BD10: 70 | BE10: 30 | BF10: 10 | BG10: 10 | BH10: 10 | BI10: 70 | BJ10: 100 | BK10: 30 | BL10: 30 | BM10: 40 | BO10: SC | BQ10: =IF($E10="","",IF(BQ$6="","",BQ$6)) | BS10: =IF($E10="","",IF(BS$6="","",BS$6)) -> 44 | BT10: 20 | BU10: =IF($E10="","",IF(BU$6="","",BU$6)) -> 44 | BV10: 20 | BW10: =IF($E10="","",IF(BW$6="","",BW$6)) -> 42 | BX10: 20 | BY10: =IF($E10="","",IF(BY$6="","",BY$6)) -> 40 | BZ10: 20 | CA10: =IF($E10="","",IF(CA$6="","",CA$6)) -> 36 | CB10: 20 | CC10: =IF($E10="","",IF(CC$6="","",CC$6)) -> 34 | CD10: 20 | CE10: =IF($E10="","",IF(CE$6="","",CE$6)) -> 24 | CF10: 20 | CG10: =IF($E10="","",IF(CG$6="","",CG$6)) -> 28 | CH10: 20 | CI10: =IF($E10="","",IF(CI$6="","",CI$6)) -> 24 | CJ10: 20 | CK10: =IF($E10="","",IF(CK$6="","",CK$6)) -> 24 | CL10: 20 | CM10: =IF($E10="","",IF(CM$6="","",CM$6)) -> 22 | CN10: 20 | CP10: =IF(BS10="","",SUM(BQ10,BS10)) -> 44 | CQ10: =IF(BT10="","",SUM(BR10,BT10)) -> 20 | CR10: =IF(BU10="","",SUM(CP10,BU10)) -> 88 | CS10: =IF(BV10="","",SUM(CQ10,BV10)) -> 40 | CT10: =IF(BW10="","",SUM(CR10,BW10)) -> 130 | CU10: =IF(BX10="","",SUM(CS10,BX10)) -> 60 | CV10: =IF(BY10="","",SUM(CT10,BY10)) -> 170 | CW10: =IF(BZ10="","",SUM(CU10,BZ10)) -> 80 | CX10: =IF(CA10="","",SUM(CV10,CA10)) -> 206 | CY10: =IF(CB10="","",SUM(CW10,CB10)) -> 100 | ... DI10: =IF(CL10="","",SUM(DG10,CL10)) -> 200 | DJ10: =IF(E10="","",SUM(BQ10,BS10,BU10,BW10,BY10,CA10,CC10,CE10,CG10,CI10,CK10,CM10)) -> 362 | DK10: =IF(E10="","",SUM(BR10,BT10,BV10,BX10,BZ10,CB10,CD10,CF10,CH10,CJ10,CL10,CN10)) -> 220 | EE10: 42 | EF10: BIOLOGY | EG10: P | EH10: 70 | EI10: 30 | EJ10: 0 | EL10: 67 | EM10: =ROUNDUP(EL10/EL$6*EM$6,0) -> 144 | EO10: 26 | EP10: =ROUNDUP(EO10/EO$6*EP$6,0) -> 44 | ER10: 96 | ES10: =ROUNDUP(ER10/ER$6*ES$6,0) -> 192
A11: 3 | E11: 11103 | G11: A 003 | H11: B 003 | I11: C 003 | J11: 10 | K11: 10 | L11: 8 | M11: 2 | N11: 70 | O11: 100 | P11: 10 | Q11: 10 | R11: 8 | S11: 2 | T11: 70 | U11: 100 | V11: b | W11: 10 | X11: 10 | Y11: 9 | Z11: 1 | AA11: 30 | AB11: 20 | AC11: 70 | AD11: 30 | AE11: b | AF11: 10 | AG11: 10 | AH11: 9 | AI11: 1 | AJ11: 50 | AK11: 20 | AL11: 70 | AM11: 30 | AN11: b | AO11: 10 | AP11: 10 | AQ11: 9 | AR11: 1 | AS11: 70 | AU11: 18 | AW11: a | AX11: 10 | AY11: 10 | AZ11: 10 | BB11: 50 | BC11: 20 | BD11: 70 | BE11: 30 | BF11: 10 | BG11: 10 | BH11: 10 | BI11: 70 | BJ11: 100 | BK11: 30 | BL11: 30 | BM11: 40 | BO11: ST | BQ11: =IF($E11="","",IF(BQ$6="","",BQ$6)) | BS11: =IF($E11="","",IF(BS$6="","",BS$6)) -> 44 | BU11: =IF($E11="","",IF(BU$6="","",BU$6)) -> 44 | BW11: =IF($E11="","",IF(BW$6="","",BW$6)) -> 42 | BY11: =IF($E11="","",IF(BY$6="","",BY$6)) -> 40 | CA11: =IF($E11="","",IF(CA$6="","",CA$6)) -> 36 | CC11: =IF($E11="","",IF(CC$6="","",CC$6)) -> 34 | CE11: =IF($E11="","",IF(CE$6="","",CE$6)) -> 24 | CG11: =IF($E11="","",IF(CG$6="","",CG$6)) -> 28 | CI11: =IF($E11="","",IF(CI$6="","",CI$6)) -> 24 | CK11: =IF($E11="","",IF(CK$6="","",CK$6)) -> 24 | CM11: =IF($E11="","",IF(CM$6="","",CM$6)) -> 22 | CP11: =IF(BS11="","",SUM(BQ11,BS11)) -> 44 | CQ11: =IF(BT11="","",SUM(BR11,BT11)) | CR11: =IF(BU11="","",SUM(CP11,BU11)) -> 88 | CS11: =IF(BV11="","",SUM(CQ11,BV11)) | CT11: =IF(BW11="","",SUM(CR11,BW11)) -> 130 | CU11: =IF(BX11="","",SUM(CS11,BX11)) | CV11: =IF(BY11="","",SUM(CT11,BY11)) -> 170 | CW11: =IF(BZ11="","",SUM(CU11,BZ11)) | CX11: =IF(CA11="","",SUM(CV11,CA11)) -> 206 | CY11: =IF(CB11="","",SUM(CW11,CB11)) | ... DI11: =IF(CL11="","",SUM(DG11,CL11)) | DJ11: =IF(E11="","",SUM(BQ11,BS11,BU11,BW11,BY11,CA11,CC11,CE11,CG11,CI11,CK11,CM11)) -> 362 | DK11: =IF(E11="","",SUM(BR11,BT11,BV11,BX11,BZ11,CB11,CD11,CF11,CH11,CJ11,CL11,CN11)) -> 0 | EE11: 41 | EF11: CHEMISTRY | EG11: P | EH11: 70 | EI11: 30 | EJ11: 0 | EL11: 66 | EM11: =ROUNDUP(EL11/EL$6*EM$6,0) -> 142 | EO11: 25 | EP11: =ROUNDUP(EO11/EO$6*EP$6,0) -> 42 | ER11: 95 | ES11: =ROUNDUP(ER11/ER$6*ES$6,0) -> 190
A12: 4 | E12: 11104 | G12: A 004 | H12: B 004 | I12: C 004 | J12: 10 | K12: 10 | L12: 8 | M12: 2 | N12: 70 | O12: 100 | P12: 10 | Q12: 10 | R12: 8 | S12: 2 | T12: 70 | U12: 100 | V12: b | W12: 10 | X12: 10 | Y12: 9 | Z12: 1 | AA12: 30 | AB12: 20 | AC12: 70 | AD12: 30 | AE12: b | AF12: 10 | AG12: 10 | AH12: 9 | AI12: 1 | AJ12: 50 | AK12: 20 | AL12: 70 | AM12: 30 | AN12: b | AO12: 10 | AP12: 10 | AQ12: 9 | AR12: 1 | AS12: 70 | AU12: 18 | AW12: a | AX12: 10 | AY12: 10 | AZ12: 10 | BB12: 50 | BC12: 20 | BD12: 70 | BE12: 30 | BF12: 10 | BG12: 10 | BH12: 10 | BI12: 70 | BJ12: 100 | BK12: 30 | BL12: 30 | BM12: 40 | BO12: OBC | BQ12: =IF($E12="","",IF(BQ$6="","",BQ$6)) | BS12: =IF($E12="","",IF(BS$6="","",BS$6)) -> 44 | BU12: =IF($E12="","",IF(BU$6="","",BU$6)) -> 44 | BW12: =IF($E12="","",IF(BW$6="","",BW$6)) -> 42 | BY12: =IF($E12="","",IF(BY$6="","",BY$6)) -> 40 | CA12: =IF($E12="","",IF(CA$6="","",CA$6)) -> 36 | CC12: =IF($E12="","",IF(CC$6="","",CC$6)) -> 34 | CE12: =IF($E12="","",IF(CE$6="","",CE$6)) -> 24 | CG12: =IF($E12="","",IF(CG$6="","",CG$6)) -> 28 | CI12: =IF($E12="","",IF(CI$6="","",CI$6)) -> 24 | CK12: =IF($E12="","",IF(CK$6="","",CK$6)) -> 24 | CM12: =IF($E12="","",IF(CM$6="","",CM$6)) -> 22 | CP12: =IF(BS12="","",SUM(BQ12,BS12)) -> 44 | CQ12: =IF(BT12="","",SUM(BR12,BT12)) | CR12: =IF(BU12="","",SUM(CP12,BU12)) -> 88 | CS12: =IF(BV12="","",SUM(CQ12,BV12)) | CT12: =IF(BW12="","",SUM(CR12,BW12)) -> 130 | CU12: =IF(BX12="","",SUM(CS12,BX12)) | CV12: =IF(BY12="","",SUM(CT12,BY12)) -> 170 | CW12: =IF(BZ12="","",SUM(CU12,BZ12)) | CX12: =IF(CA12="","",SUM(CV12,CA12)) -> 206 | CY12: =IF(CB12="","",SUM(CW12,CB12)) | ... DI12: =IF(CL12="","",SUM(DG12,CL12)) | DJ12: =IF(E12="","",SUM(BQ12,BS12,BU12,BW12,BY12,CA12,CC12,CE12,CG12,CI12,CK12,CM12)) -> 362 | DK12: =IF(E12="","",SUM(BR12,BT12,BV12,BX12,BZ12,CB12,CD12,CF12,CH12,CJ12,CL12,CN12)) -> 0 | EE12: 43 | EF12: GEO SCIENCE | EG12: P | EH12: 70 | EI12: 30 | EJ12: 0 | EL12: 65 | EM12: =ROUNDUP(EL12/EL$6*EM$6,0) -> 140 | EO12: 24 | EP12: =ROUNDUP(EO12/EO$6*EP$6,0) -> 40 | ER12: 94 | ES12: =ROUNDUP(ER12/ER$6*ES$6,0) -> 188
A13: 5 | E13: 11105 | G13: A 005 | H13: B 005 | I13: C 005 | J13: 10 | K13: 10 | L13: 8 | M13: 2 | N13: 70 | O13: 100 | P13: 10 | Q13: 10 | R13: 8 | S13: 2 | T13: 70 | U13: 100 | V13: b | W13: 10 | X13: 10 | Y13: 9 | Z13: 1 | AA13: 30 | AB13: 20 | AC13: 70 | AD13: 30 | AE13: b | AF13: 10 | AG13: 10 | AH13: 9 | AI13: 1 | AJ13: 50 | AK13: 20 | AL13: 70 | AM13: 30 | AN13: b | AO13: 10 | AP13: 10 | AQ13: 9 | AR13: 1 | AS13: 70 | AU13: 18 | AW13: a | AX13: 10 | AY13: 10 | AZ13: 10 | BB13: 50 | BC13: 20 | BD13: 70 | BE13: 30 | BF13: 10 | BG13: 10 | BH13: 10 | BI13: 70 | BJ13: 100 | BK13: 30 | BL13: 30 | BM13: 40 | BO13: SBC | BQ13: =IF($E13="","",IF(BQ$6="","",BQ$6)) | BS13: =IF($E13="","",IF(BS$6="","",BS$6)) -> 44 | BU13: =IF($E13="","",IF(BU$6="","",BU$6)) -> 44 | BW13: =IF($E13="","",IF(BW$6="","",BW$6)) -> 42 | BY13: =IF($E13="","",IF(BY$6="","",BY$6)) -> 40 | CA13: =IF($E13="","",IF(CA$6="","",CA$6)) -> 36 | CC13: =IF($E13="","",IF(CC$6="","",CC$6)) -> 34 | CE13: =IF($E13="","",IF(CE$6="","",CE$6)) -> 24 | CG13: =IF($E13="","",IF(CG$6="","",CG$6)) -> 28 | CI13: =IF($E13="","",IF(CI$6="","",CI$6)) -> 24 | CK13: =IF($E13="","",IF(CK$6="","",CK$6)) -> 24 | CM13: =IF($E13="","",IF(CM$6="","",CM$6)) -> 22 | CP13: =IF(BS13="","",SUM(BQ13,BS13)) -> 44 | CQ13: =IF(BT13="","",SUM(BR13,BT13)) | CR13: =IF(BU13="","",SUM(CP13,BU13)) -> 88 | CS13: =IF(BV13="","",SUM(CQ13,BV13)) | CT13: =IF(BW13="","",SUM(CR13,BW13)) -> 130 | CU13: =IF(BX13="","",SUM(CS13,BX13)) | CV13: =IF(BY13="","",SUM(CT13,BY13)) -> 170 | CW13: =IF(BZ13="","",SUM(CU13,BZ13)) | CX13: =IF(CA13="","",SUM(CV13,CA13)) -> 206 | CY13: =IF(CB13="","",SUM(CW13,CB13)) | ... DI13: =IF(CL13="","",SUM(DG13,CL13)) | DJ13: =IF(E13="","",SUM(BQ13,BS13,BU13,BW13,BY13,CA13,CC13,CE13,CG13,CI13,CK13,CM13)) -> 362 | DK13: =IF(E13="","",SUM(BR13,BT13,BV13,BX13,BZ13,CB13,CD13,CF13,CH13,CJ13,CL13,CN13)) -> 0 | EE13: 14 | EF13: GEOGRAPHY | EG13: P | EH13: 70 | EI13: 30 | EJ13: 0 | EL13: 64 | EM13: =ROUNDUP(EL13/EL$6*EM$6,0) -> 138 | EO13: 23 | EP13: =ROUNDUP(EO13/EO$6*EP$6,0) -> 39 | ER13: 93 | ES13: =ROUNDUP(ER13/ER$6*ES$6,0) -> 186
A14: 6 | E14: 11106 | G14: A 006 | H14: B 006 | I14: C 006 | J14: 10 | K14: 10 | L14: 8 | M14: 2 | N14: 70 | O14: 100 | P14: 10 | Q14: 10 | R14: 8 | S14: 2 | T14: 70 | U14: 100 | V14: b | W14: 10 | X14: 10 | Y14: 9 | Z14: 1 | AA14: 30 | AB14: 20 | AC14: 70 | AD14: 30 | AE14: b | AF14: 10 | AG14: 10 | AH14: 9 | AI14: 1 | AJ14: 50 | AK14: 20 | AL14: 70 | AM14: 30 | AN14: b | AO14: 10 | AP14: 10 | AQ14: 9 | AR14: 1 | AS14: 70 | AU14: 18 | AW14: a | AX14: 10 | AY14: 10 | AZ14: 10 | BB14: 50 | BC14: 20 | BD14: 70 | BE14: 30 | BF14: 10 | BG14: 10 | BH14: 10 | BI14: 70 | BJ14: 100 | BK14: 30 | BL14: 30 | BM14: 40 | BO14: GEN | BQ14: =IF($E14="","",IF(BQ$6="","",BQ$6)) | BS14: =IF($E14="","",IF(BS$6="","",BS$6)) -> 44 | BU14: =IF($E14="","",IF(BU$6="","",BU$6)) -> 44 | BW14: =IF($E14="","",IF(BW$6="","",BW$6)) -> 42 | BY14: =IF($E14="","",IF(BY$6="","",BY$6)) -> 40 | CA14: =IF($E14="","",IF(CA$6="","",CA$6)) -> 36 | CC14: =IF($E14="","",IF(CC$6="","",CC$6)) -> 34 | CE14: =IF($E14="","",IF(CE$6="","",CE$6)) -> 24 | CG14: =IF($E14="","",IF(CG$6="","",CG$6)) -> 28 | CI14: =IF($E14="","",IF(CI$6="","",CI$6)) -> 24 | CK14: =IF($E14="","",IF(CK$6="","",CK$6)) -> 24 | CM14: =IF($E14="","",IF(CM$6="","",CM$6)) -> 22 | CP14: =IF(BS14="","",SUM(BQ14,BS14)) -> 44 | CQ14: =IF(BT14="","",SUM(BR14,BT14)) | CR14: =IF(BU14="","",SUM(CP14,BU14)) -> 88 | CS14: =IF(BV14="","",SUM(CQ14,BV14)) | CT14: =IF(BW14="","",SUM(CR14,BW14)) -> 130 | CU14: =IF(BX14="","",SUM(CS14,BX14)) | CV14: =IF(BY14="","",SUM(CT14,BY14)) -> 170 | CW14: =IF(BZ14="","",SUM(CU14,BZ14)) | CX14: =IF(CA14="","",SUM(CV14,CA14)) -> 206 | CY14: =IF(CB14="","",SUM(CW14,CB14)) | ... DI14: =IF(CL14="","",SUM(DG14,CL14)) | DJ14: =IF(E14="","",SUM(BQ14,BS14,BU14,BW14,BY14,CA14,CC14,CE14,CG14,CI14,CK14,CM14)) -> 362 | DK14: =IF(E14="","",SUM(BR14,BT14,BV14,BX14,BZ14,CB14,CD14,CF14,CH14,CJ14,CL14,CN14)) -> 0 | EE14: 18 | EF14: HOME SCIENCE | EG14: P | EH14: 70 | EI14: 30 | EJ14: 0 | EL14: 63 | EM14: =ROUNDUP(EL14/EL$6*EM$6,0) -> 135 | EO14: 22 | EP14: =ROUNDUP(EO14/EO$6*EP$6,0) -> 37 | ER14: 92 | ES14: =ROUNDUP(ER14/ER$6*ES$6,0) -> 184
A15: 7 | E15: 11107 | G15: A 007 | H15: B 007 | I15: C 007 | J15: 10 | K15: 10 | L15: 8 | M15: 2 | N15: 70 | O15: 100 | P15: 10 | Q15: 10 | R15: 8 | S15: 2 | T15: 70 | U15: 100 | V15: b | W15: 10 | X15: 10 | Y15: 9 | Z15: 1 | AA15: 30 | AB15: 20 | AC15: 70 | AD15: 30 | AE15: b | AF15: 10 | AG15: 10 | AH15: 9 | AI15: 1 | AJ15: 50 | AK15: 20 | AL15: 70 | AM15: 30 | AN15: b | AO15: 10 | AP15: 10 | AQ15: 9 | AR15: 1 | AS15: 70 | AU15: 18 | AW15: a | AX15: 10 | AY15: 10 | AZ15: 10 | BB15: 50 | BC15: 20 | BD15: 70 | BE15: 30 | BF15: 10 | BG15: 10 | BH15: 10 | BI15: 70 | BJ15: 100 | BK15: 30 | BL15: 30 | BM15: 40 | BO15: MIN | BQ15: =IF($E15="","",IF(BQ$6="","",BQ$6)) | BS15: =IF($E15="","",IF(BS$6="","",BS$6)) -> 44 | BU15: =IF($E15="","",IF(BU$6="","",BU$6)) -> 44 | BW15: =IF($E15="","",IF(BW$6="","",BW$6)) -> 42 | BY15: =IF($E15="","",IF(BY$6="","",BY$6)) -> 40 | CA15: =IF($E15="","",IF(CA$6="","",CA$6)) -> 36 | CC15: =IF($E15="","",IF(CC$6="","",CC$6)) -> 34 | CE15: =IF($E15="","",IF(CE$6="","",CE$6)) -> 24 | CG15: =IF($E15="","",IF(CG$6="","",CG$6)) -> 28 | CI15: =IF($E15="","",IF(CI$6="","",CI$6)) -> 24 | CK15: =IF($E15="","",IF(CK$6="","",CK$6)) -> 24 | CM15: =IF($E15="","",IF(CM$6="","",CM$6)) -> 22 | CP15: =IF(BS15="","",SUM(BQ15,BS15)) -> 44 | CQ15: =IF(BT15="","",SUM(BR15,BT15)) | CR15: =IF(BU15="","",SUM(CP15,BU15)) -> 88 | CS15: =IF(BV15="","",SUM(CQ15,BV15)) | CT15: =IF(BW15="","",SUM(CR15,BW15)) -> 130 | CU15: =IF(BX15="","",SUM(CS15,BX15)) | CV15: =IF(BY15="","",SUM(CT15,BY15)) -> 170 | CW15: =IF(BZ15="","",SUM(CU15,BZ15)) | CX15: =IF(CA15="","",SUM(CV15,CA15)) -> 206 | CY15: =IF(CB15="","",SUM(CW15,CB15)) | ... DI15: =IF(CL15="","",SUM(DG15,CL15)) | DJ15: =IF(E15="","",SUM(BQ15,BS15,BU15,BW15,BY15,CA15,CC15,CE15,CG15,CI15,CK15,CM15)) -> 362 | DK15: =IF(E15="","",SUM(BR15,BT15,BV15,BX15,BZ15,CB15,CD15,CF15,CH15,CJ15,CL15,CN15)) -> 0 | EE15: 4 | EF15: INFORMATION PRACTICE | EG15: P | EH15: 70 | EI15: 30 | EJ15: 0 | EL15: 62 | EM15: =ROUNDUP(EL15/EL$6*EM$6,0) -> 133 | EO15: 21 | EP15: =ROUNDUP(EO15/EO$6*EP$6,0) -> 35 | ER15: 91 | ES15: =ROUNDUP(ER15/ER$6*ES$6,0) -> 182
A16: 8 | E16: 11108 | G16: A 008 | H16: B 008 | I16: C 008 | J16: 10 | K16: 10 | L16: 8 | M16: 2 | N16: 70 | O16: 100 | P16: 10 | Q16: 10 | R16: 8 | S16: 2 | T16: 70 | U16: 100 | V16: b | W16: 10 | X16: 10 | Y16: 9 | Z16: 1 | AA16: 30 | AB16: 20 | AC16: 70 | AD16: 30 | AE16: b | AF16: 10 | AG16: 10 | AH16: 9 | AI16: 1 | AJ16: 50 | AK16: 20 | AL16: 70 | AM16: 30 | AN16: b | AO16: 10 | AP16: 10 | AQ16: 9 | AR16: 1 | AS16: 70 | AU16: 18 | AW16: a | AX16: 10 | AY16: 10 | AZ16: 10 | BB16: 50 | BC16: 20 | BD16: 70 | BE16: 30 | BF16: 10 | BG16: 10 | BH16: 10 | BI16: 70 | BJ16: 100 | BK16: 30 | BL16: 30 | BM16: 40 | BQ16: =IF($E16="","",IF(BQ$6="","",BQ$6)) | BS16: =IF($E16="","",IF(BS$6="","",BS$6)) -> 44 | BU16: =IF($E16="","",IF(BU$6="","",BU$6)) -> 44 | BW16: =IF($E16="","",IF(BW$6="","",BW$6)) -> 42 | BY16: =IF($E16="","",IF(BY$6="","",BY$6)) -> 40 | CA16: =IF($E16="","",IF(CA$6="","",CA$6)) -> 36 | CC16: =IF($E16="","",IF(CC$6="","",CC$6)) -> 34 | CE16: =IF($E16="","",IF(CE$6="","",CE$6)) -> 24 | CG16: =IF($E16="","",IF(CG$6="","",CG$6)) -> 28 | CI16: =IF($E16="","",IF(CI$6="","",CI$6)) -> 24 | CK16: =IF($E16="","",IF(CK$6="","",CK$6)) -> 24 | CM16: =IF($E16="","",IF(CM$6="","",CM$6)) -> 22 | CP16: =IF(BS16="","",SUM(BQ16,BS16)) -> 44 | CQ16: =IF(BT16="","",SUM(BR16,BT16)) | CR16: =IF(BU16="","",SUM(CP16,BU16)) -> 88 | CS16: =IF(BV16="","",SUM(CQ16,BV16)) | CT16: =IF(BW16="","",SUM(CR16,BW16)) -> 130 | CU16: =IF(BX16="","",SUM(CS16,BX16)) | CV16: =IF(BY16="","",SUM(CT16,BY16)) -> 170 | CW16: =IF(BZ16="","",SUM(CU16,BZ16)) | CX16: =IF(CA16="","",SUM(CV16,CA16)) -> 206 | CY16: =IF(CB16="","",SUM(CW16,CB16)) | ... DI16: =IF(CL16="","",SUM(DG16,CL16)) | DJ16: =IF(E16="","",SUM(BQ16,BS16,BU16,BW16,BY16,CA16,CC16,CE16,CG16,CI16,CK16,CM16)) -> 362 | DK16: =IF(E16="","",SUM(BR16,BT16,BV16,BX16,BZ16,CB16,CD16,CF16,CH16,CJ16,CL16,CN16)) -> 0 | EE16: 3 | EF16: INFORMATION TECHNOLOGY AND PROCESSING 1 | EG16: P | EH16: 70 | EI16: 30 | EJ16: 0 | EL16: 61 | EM16: =ROUNDUP(EL16/EL$6*EM$6,0) -> 131 | EO16: 20 | EP16: =ROUNDUP(EO16/EO$6*EP$6,0) -> 34 | ER16: 90 | ES16: =ROUNDUP(ER16/ER$6*ES$6,0) -> 180
A17: 9 | E17: 11109 | G17: A 009 | H17: B 009 | I17: C 009 | J17: 10 | K17: 10 | L17: 8 | M17: 2 | N17: 70 | O17: 100 | P17: 10 | Q17: 10 | R17: 8 | S17: 2 | T17: 70 | U17: 100 | V17: b | W17: 10 | X17: 10 | Y17: 9 | Z17: 1 | AA17: 30 | AB17: 20 | AC17: 70 | AD17: 30 | AE17: b | AF17: 10 | AG17: 10 | AH17: 9 | AI17: 1 | AJ17: 50 | AK17: 20 | AL17: 70 | AM17: 30 | AN17: b | AO17: 10 | AP17: 10 | AQ17: 9 | AR17: 1 | AS17: 70 | AU17: 18 | AW17: a | AX17: 10 | AY17: 10 | AZ17: 10 | BB17: 50 | BC17: 20 | BD17: 70 | BE17: 30 | BF17: 10 | BG17: 10 | BH17: 10 | BI17: 70 | BJ17: 100 | BK17: 30 | BL17: 30 | BM17: 40 | BQ17: =IF($E17="","",IF(BQ$6="","",BQ$6)) | BS17: =IF($E17="","",IF(BS$6="","",BS$6)) -> 44 | BU17: =IF($E17="","",IF(BU$6="","",BU$6)) -> 44 | BW17: =IF($E17="","",IF(BW$6="","",BW$6)) -> 42 | BY17: =IF($E17="","",IF(BY$6="","",BY$6)) -> 40 | CA17: =IF($E17="","",IF(CA$6="","",CA$6)) -> 36 | CC17: =IF($E17="","",IF(CC$6="","",CC$6)) -> 34 | CE17: =IF($E17="","",IF(CE$6="","",CE$6)) -> 24 | CG17: =IF($E17="","",IF(CG$6="","",CG$6)) -> 28 | CI17: =IF($E17="","",IF(CI$6="","",CI$6)) -> 24 | CK17: =IF($E17="","",IF(CK$6="","",CK$6)) -> 24 | CM17: =IF($E17="","",IF(CM$6="","",CM$6)) -> 22 | CP17: =IF(BS17="","",SUM(BQ17,BS17)) -> 44 | CQ17: =IF(BT17="","",SUM(BR17,BT17)) | CR17: =IF(BU17="","",SUM(CP17,BU17)) -> 88 | CS17: =IF(BV17="","",SUM(CQ17,BV17)) | CT17: =IF(BW17="","",SUM(CR17,BW17)) -> 130 | CU17: =IF(BX17="","",SUM(CS17,BX17)) | CV17: =IF(BY17="","",SUM(CT17,BY17)) -> 170 | CW17: =IF(BZ17="","",SUM(CU17,BZ17)) | CX17: =IF(CA17="","",SUM(CV17,CA17)) -> 206 | CY17: =IF(CB17="","",SUM(CW17,CB17)) | ... DI17: =IF(CL17="","",SUM(DG17,CL17)) | DJ17: =IF(E17="","",SUM(BQ17,BS17,BU17,BW17,BY17,CA17,CC17,CE17,CG17,CI17,CK17,CM17)) -> 362 | DK17: =IF(E17="","",SUM(BR17,BT17,BV17,BX17,BZ17,CB17,CD17,CF17,CH17,CJ17,CL17,CN17)) -> 0 | EE17: 5 | EF17: MULTIMEDIA WEB TECH | EG17: P | EH17: 70 | EI17: 30 | EJ17: 0 | EL17: 60 | EM17: =ROUNDUP(EL17/EL$6*EM$6,0) -> 129 | EO17: 19 | EP17: =ROUNDUP(EO17/EO$6*EP$6,0) -> 32 | ER17: 89 | ES17: =ROUNDUP(ER17/ER$6*ES$6,0) -> 178
A18: 10 | E18: 11110 | G18: A 010 | H18: B 010 | I18: C 010 | J18: 10 | K18: 10 | L18: 8 | M18: 2 | N18: 70 | O18: 100 | P18: 10 | Q18: 10 | R18: 8 | S18: 2 | T18: 70 | U18: 100 | V18: b | W18: 10 | X18: 10 | Y18: 9 | Z18: 1 | AA18: 30 | AB18: 20 | AC18: 70 | AD18: 30 | AE18: b | AF18: 10 | AG18: 10 | AH18: 9 | AI18: 1 | AJ18: 50 | AK18: 20 | AL18: 70 | AM18: 30 | AN18: b | AO18: 10 | AP18: 10 | AQ18: 9 | AR18: 1 | AS18: 70 | AU18: 18 | AW18: a | AX18: 10 | AY18: 10 | AZ18: 10 | BB18: 50 | BC18: 20 | BD18: 70 | BE18: 30 | BF18: 10 | BG18: 10 | BH18: 10 | BI18: 70 | BJ18: 100 | BK18: 30 | BL18: 30 | BM18: 40 | BO18: B | BQ18: =IF($E18="","",IF(BQ$6="","",BQ$6)) | BS18: =IF($E18="","",IF(BS$6="","",BS$6)) -> 44 | BU18: =IF($E18="","",IF(BU$6="","",BU$6)) -> 44 | BW18: =IF($E18="","",IF(BW$6="","",BW$6)) -> 42 | BY18: =IF($E18="","",IF(BY$6="","",BY$6)) -> 40 | CA18: =IF($E18="","",IF(CA$6="","",CA$6)) -> 36 | CC18: =IF($E18="","",IF(CC$6="","",CC$6)) -> 34 | CE18: =IF($E18="","",IF(CE$6="","",CE$6)) -> 24 | CG18: =IF($E18="","",IF(CG$6="","",CG$6)) -> 28 | CI18: =IF($E18="","",IF(CI$6="","",CI$6)) -> 24 | CK18: =IF($E18="","",IF(CK$6="","",CK$6)) -> 24 | CM18: =IF($E18="","",IF(CM$6="","",CM$6)) -> 22 | CP18: =IF(BS18="","",SUM(BQ18,BS18)) -> 44 | CQ18: =IF(BT18="","",SUM(BR18,BT18)) | CR18: =IF(BU18="","",SUM(CP18,BU18)) -> 88 | CS18: =IF(BV18="","",SUM(CQ18,BV18)) | CT18: =IF(BW18="","",SUM(CR18,BW18)) -> 130 | CU18: =IF(BX18="","",SUM(CS18,BX18)) | CV18: =IF(BY18="","",SUM(CT18,BY18)) -> 170 | CW18: =IF(BZ18="","",SUM(CU18,BZ18)) | CX18: =IF(CA18="","",SUM(CV18,CA18)) -> 206 | CY18: =IF(CB18="","",SUM(CW18,CB18)) | ... DI18: =IF(CL18="","",SUM(DG18,CL18)) | DJ18: =IF(E18="","",SUM(BQ18,BS18,BU18,BW18,BY18,CA18,CC18,CE18,CG18,CI18,CK18,CM18)) -> 362 | DK18: =IF(E18="","",SUM(BR18,BT18,BV18,BX18,BZ18,CB18,CD18,CF18,CH18,CJ18,CL18,CN18)) -> 0 | EE18: 40 | EF18: PHYSICS | EG18: P | EH18: 70 | EI18: 30 | EJ18: 0 | EL18: 59 | EM18: =ROUNDUP(EL18/EL$6*EM$6,0) -> 127 | EO18: 18 | EP18: =ROUNDUP(EO18/EO$6*EP$6,0) -> 30 | ER18: 88 | ES18: =ROUNDUP(ER18/ER$6*ES$6,0) -> 176
A19: 11 | E19: 11111 | G19: A 011 | H19: B 011 | I19: C 011 | J19: 10 | K19: 10 | L19: 8 | M19: 2 | N19: 70 | O19: 100 | P19: 10 | Q19: 10 | R19: 8 | S19: 2 | T19: 70 | U19: 100 | V19: b | W19: 10 | X19: 10 | Y19: 9 | Z19: 1 | AA19: 30 | AB19: 20 | AC19: 70 | AD19: 30 | AE19: b | AF19: 10 | AG19: 10 | AH19: 9 | AI19: 1 | AJ19: 50 | AK19: 20 | AL19: 70 | AM19: 30 | AN19: b | AO19: 10 | AP19: 10 | AQ19: 9 | AR19: 1 | AS19: 70 | AU19: 18 | AW19: a | AX19: 10 | AY19: 10 | AZ19: 10 | BB19: 50 | BC19: 20 | BD19: 70 | BE19: 30 | BF19: 10 | BG19: 10 | BH19: 10 | BI19: 70 | BJ19: 100 | BK19: 30 | BL19: 30 | BM19: 40 | BO19: G | BQ19: =IF($E19="","",IF(BQ$6="","",BQ$6)) | BS19: =IF($E19="","",IF(BS$6="","",BS$6)) -> 44 | BU19: =IF($E19="","",IF(BU$6="","",BU$6)) -> 44 | BW19: =IF($E19="","",IF(BW$6="","",BW$6)) -> 42 | BY19: =IF($E19="","",IF(BY$6="","",BY$6)) -> 40 | CA19: =IF($E19="","",IF(CA$6="","",CA$6)) -> 36 | CC19: =IF($E19="","",IF(CC$6="","",CC$6)) -> 34 | CE19: =IF($E19="","",IF(CE$6="","",CE$6)) -> 24 | CG19: =IF($E19="","",IF(CG$6="","",CG$6)) -> 28 | CI19: =IF($E19="","",IF(CI$6="","",CI$6)) -> 24 | CK19: =IF($E19="","",IF(CK$6="","",CK$6)) -> 24 | CM19: =IF($E19="","",IF(CM$6="","",CM$6)) -> 22 | CP19: =IF(BS19="","",SUM(BQ19,BS19)) -> 44 | CQ19: =IF(BT19="","",SUM(BR19,BT19)) | CR19: =IF(BU19="","",SUM(CP19,BU19)) -> 88 | CS19: =IF(BV19="","",SUM(CQ19,BV19)) | CT19: =IF(BW19="","",SUM(CR19,BW19)) -> 130 | CU19: =IF(BX19="","",SUM(CS19,BX19)) | CV19: =IF(BY19="","",SUM(CT19,BY19)) -> 170 | CW19: =IF(BZ19="","",SUM(CU19,BZ19)) | CX19: =IF(CA19="","",SUM(CV19,CA19)) -> 206 | CY19: =IF(CB19="","",SUM(CW19,CB19)) | ... DI19: =IF(CL19="","",SUM(DG19,CL19)) | DJ19: =IF(E19="","",SUM(BQ19,BS19,BU19,BW19,BY19,CA19,CC19,CE19,CG19,CI19,CK19,CM19)) -> 362 | DK19: =IF(E19="","",SUM(BR19,BT19,BV19,BX19,BZ19,CB19,CD19,CF19,CH19,CJ19,CL19,CN19)) -> 0 | EE19: 19 | EF19: PSYCHOLOGY | EG19: P | EH19: 70 | EI19: 30 | EJ19: 0 | EL19: 58 | EM19: =ROUNDUP(EL19/EL$6*EM$6,0) -> 125 | EO19: 17 | EP19: =ROUNDUP(EO19/EO$6*EP$6,0) -> 29 | ER19: 87 | ES19: =ROUNDUP(ER19/ER$6*ES$6,0) -> 174
A20: 12 | E20: 11112 | G20: A 012 | H20: B 012 | I20: C 012 | J20: 10 | K20: 10 | L20: 8 | M20: 2 | N20: 70 | O20: 100 | P20: 10 | Q20: 10 | R20: 8 | S20: 2 | T20: 70 | U20: 100 | V20: b | W20: 10 | X20: 10 | Y20: 9 | Z20: 1 | AA20: 30 | AB20: 20 | AC20: 70 | AD20: 30 | AE20: b | AF20: 10 | AG20: 10 | AH20: 9 | AI20: 1 | AJ20: 50 | AK20: 20 | AL20: 70 | AM20: 30 | AN20: b | AO20: 10 | AP20: 10 | AQ20: 9 | AR20: 1 | AS20: 70 | AU20: 18 | AW20: a | AX20: 10 | AY20: 10 | AZ20: 10 | BB20: 50 | BC20: 20 | BD20: 70 | BE20: 30 | BF20: 10 | BG20: 10 | BH20: 10 | BI20: 70 | BJ20: 100 | BK20: 30 | BL20: 30 | BM20: 40 | BQ20: =IF($E20="","",IF(BQ$6="","",BQ$6)) | BS20: =IF($E20="","",IF(BS$6="","",BS$6)) -> 44 | BU20: =IF($E20="","",IF(BU$6="","",BU$6)) -> 44 | BW20: =IF($E20="","",IF(BW$6="","",BW$6)) -> 42 | BY20: =IF($E20="","",IF(BY$6="","",BY$6)) -> 40 | CA20: =IF($E20="","",IF(CA$6="","",CA$6)) -> 36 | CC20: =IF($E20="","",IF(CC$6="","",CC$6)) -> 34 | CE20: =IF($E20="","",IF(CE$6="","",CE$6)) -> 24 | CG20: =IF($E20="","",IF(CG$6="","",CG$6)) -> 28 | CI20: =IF($E20="","",IF(CI$6="","",CI$6)) -> 24 | CK20: =IF($E20="","",IF(CK$6="","",CK$6)) -> 24 | CM20: =IF($E20="","",IF(CM$6="","",CM$6)) -> 22 | CP20: =IF(BS20="","",SUM(BQ20,BS20)) -> 44 | CQ20: =IF(BT20="","",SUM(BR20,BT20)) | CR20: =IF(BU20="","",SUM(CP20,BU20)) -> 88 | CS20: =IF(BV20="","",SUM(CQ20,BV20)) | CT20: =IF(BW20="","",SUM(CR20,BW20)) -> 130 | CU20: =IF(BX20="","",SUM(CS20,BX20)) | CV20: =IF(BY20="","",SUM(CT20,BY20)) -> 170 | CW20: =IF(BZ20="","",SUM(CU20,BZ20)) | CX20: =IF(CA20="","",SUM(CV20,CA20)) -> 206 | CY20: =IF(CB20="","",SUM(CW20,CB20)) | ... DI20: =IF(CL20="","",SUM(DG20,CL20)) | DJ20: =IF(E20="","",SUM(BQ20,BS20,BU20,BW20,BY20,CA20,CC20,CE20,CG20,CI20,CK20,CM20)) -> 362 | DK20: =IF(E20="","",SUM(BR20,BT20,BV20,BX20,BZ20,CB20,CD20,CF20,CH20,CJ20,CL20,CN20)) -> 0 | EF20: COMPUTER SCIENCE | EG20: P | EH20: 70 | EI20: 30 | EJ20: 0 | EL20: 57 | EM20: =ROUNDUP(EL20/EL$6*EM$6,0) -> 123 | EO20: 16 | EP20: =ROUNDUP(EO20/EO$6*EP$6,0) -> 27 | ER20: 86 | ES20: =ROUNDUP(ER20/ER$6*ES$6,0) -> 172
A21: 13 | E21: 11113 | G21: A 013 | H21: B 013 | I21: C 013 | J21: 10 | K21: 10 | L21: 8 | M21: 2 | N21: 70 | O21: 100 | P21: 10 | Q21: 10 | R21: 8 | S21: 2 | T21: 70 | U21: 100 | V21: b | W21: 10 | X21: 10 | Y21: 9 | Z21: 1 | AA21: 30 | AB21: 20 | AC21: 70 | AD21: 30 | AE21: b | AF21: 10 | AG21: 10 | AH21: 9 | AI21: 1 | AJ21: 50 | AK21: 20 | AL21: 70 | AM21: 30 | AN21: b | AO21: 10 | AP21: 10 | AQ21: 9 | AR21: 1 | AS21: 70 | AU21: 18 | AW21: a | AX21: 10 | AY21: 10 | AZ21: 10 | BB21: 50 | BC21: 20 | BD21: 70 | BE21: 30 | BF21: 10 | BG21: 10 | BH21: 10 | BI21: 70 | BJ21: 100 | BK21: 30 | BL21: 30 | BM21: 40 | BO21: a | BQ21: =IF($E21="","",IF(BQ$6="","",BQ$6)) | BS21: =IF($E21="","",IF(BS$6="","",BS$6)) -> 44 | BU21: =IF($E21="","",IF(BU$6="","",BU$6)) -> 44 | BW21: =IF($E21="","",IF(BW$6="","",BW$6)) -> 42 | BY21: =IF($E21="","",IF(BY$6="","",BY$6)) -> 40 | CA21: =IF($E21="","",IF(CA$6="","",CA$6)) -> 36 | CC21: =IF($E21="","",IF(CC$6="","",CC$6)) -> 34 | CE21: =IF($E21="","",IF(CE$6="","",CE$6)) -> 24 | CG21: =IF($E21="","",IF(CG$6="","",CG$6)) -> 28 | CI21: =IF($E21="","",IF(CI$6="","",CI$6)) -> 24 | CK21: =IF($E21="","",IF(CK$6="","",CK$6)) -> 24 | CM21: =IF($E21="","",IF(CM$6="","",CM$6)) -> 22 | CP21: =IF(BS21="","",SUM(BQ21,BS21)) -> 44 | CQ21: =IF(BT21="","",SUM(BR21,BT21)) | CR21: =IF(BU21="","",SUM(CP21,BU21)) -> 88 | CS21: =IF(BV21="","",SUM(CQ21,BV21)) | CT21: =IF(BW21="","",SUM(CR21,BW21)) -> 130 | CU21: =IF(BX21="","",SUM(CS21,BX21)) | CV21: =IF(BY21="","",SUM(CT21,BY21)) -> 170 | CW21: =IF(BZ21="","",SUM(CU21,BZ21)) | CX21: =IF(CA21="","",SUM(CV21,CA21)) -> 206 | CY21: =IF(CB21="","",SUM(CW21,CB21)) | ... DI21: =IF(CL21="","",SUM(DG21,CL21)) | DJ21: =IF(E21="","",SUM(BQ21,BS21,BU21,BW21,BY21,CA21,CC21,CE21,CG21,CI21,CK21,CM21)) -> 362 | DK21: =IF(E21="","",SUM(BR21,BT21,BV21,BX21,BZ21,CB21,CD21,CF21,CH21,CJ21,CL21,CN21)) -> 0 | EE21: 30 | EF21: ACCOUNTANCY | EG21: T | EH21: 100 | EI21: 0 | EJ21: 0 | EL21: 56 | EM21: =ROUNDUP(EL21/EL$6*EM$6,0) -> 120 | EO21: 15 | EP21: =ROUNDUP(EO21/EO$6*EP$6,0) -> 25 | ER21: 85 | ES21: =ROUNDUP(ER21/ER$6*ES$6,0) -> 170
A22: 14 | E22: 11114 | G22: A 014 | H22: B 014 | I22: C 014 | J22: 10 | K22: 10 | L22: 8 | M22: 2 | N22: 70 | O22: 100 | P22: 10 | Q22: 10 | R22: 8 | S22: 2 | T22: 70 | U22: 100 | V22: b | W22: 10 | X22: 10 | Y22: 9 | Z22: 1 | AA22: 30 | AB22: 20 | AC22: 70 | AD22: 30 | AE22: b | AF22: 10 | AG22: 10 | AH22: 9 | AI22: 1 | AJ22: 50 | AK22: 20 | AL22: 70 | AM22: 30 | AN22: b | AO22: 10 | AP22: 10 | AQ22: 9 | AR22: 1 | AS22: 70 | AU22: 18 | AW22: a | AX22: 10 | AY22: 10 | AZ22: 10 | BB22: 50 | BC22: 20 | BD22: 70 | BE22: 30 | BF22: 10 | BG22: 10 | BH22: 10 | BI22: 70 | BJ22: 100 | BK22: 30 | BL22: 30 | BM22: 40 | BO22: b | BQ22: =IF($E22="","",IF(BQ$6="","",BQ$6)) | BS22: =IF($E22="","",IF(BS$6="","",BS$6)) -> 44 | BU22: =IF($E22="","",IF(BU$6="","",BU$6)) -> 44 | BW22: =IF($E22="","",IF(BW$6="","",BW$6)) -> 42 | BY22: =IF($E22="","",IF(BY$6="","",BY$6)) -> 40 | CA22: =IF($E22="","",IF(CA$6="","",CA$6)) -> 36 | CC22: =IF($E22="","",IF(CC$6="","",CC$6)) -> 34 | CE22: =IF($E22="","",IF(CE$6="","",CE$6)) -> 24 | CG22: =IF($E22="","",IF(CG$6="","",CG$6)) -> 28 | CI22: =IF($E22="","",IF(CI$6="","",CI$6)) -> 24 | CK22: =IF($E22="","",IF(CK$6="","",CK$6)) -> 24 | CM22: =IF($E22="","",IF(CM$6="","",CM$6)) -> 22 | CP22: =IF(BS22="","",SUM(BQ22,BS22)) -> 44 | CQ22: =IF(BT22="","",SUM(BR22,BT22)) | CR22: =IF(BU22="","",SUM(CP22,BU22)) -> 88 | CS22: =IF(BV22="","",SUM(CQ22,BV22)) | CT22: =IF(BW22="","",SUM(CR22,BW22)) -> 130 | CU22: =IF(BX22="","",SUM(CS22,BX22)) | CV22: =IF(BY22="","",SUM(CT22,BY22)) -> 170 | CW22: =IF(BZ22="","",SUM(CU22,BZ22)) | CX22: =IF(CA22="","",SUM(CV22,CA22)) -> 206 | CY22: =IF(CB22="","",SUM(CW22,CB22)) | ... DI22: =IF(CL22="","",SUM(DG22,CL22)) | DJ22: =IF(E22="","",SUM(BQ22,BS22,BU22,BW22,BY22,CA22,CC22,CE22,CG22,CI22,CK22,CM22)) -> 362 | DK22: =IF(E22="","",SUM(BR22,BT22,BV22,BX22,BZ22,CB22,CD22,CF22,CH22,CJ22,CL22,CN22)) -> 0 | EE22: 31 | EF22: BUSINESS STUDIES | EG22: T | EH22: 100 | EI22: 0 | EJ22: 0 | EL22: 55 | EM22: =ROUNDUP(EL22/EL$6*EM$6,0) -> 118 | EO22: 14 | EP22: =ROUNDUP(EO22/EO$6*EP$6,0) -> 24 | ER22: 84 | ES22: =ROUNDUP(ER22/ER$6*ES$6,0) -> 168
A23: 15 | E23: 11115 | G23: A 015 | H23: B 015 | I23: C 015 | J23: 10 | K23: 10 | L23: 8 | M23: 2 | N23: 70 | O23: 100 | P23: 10 | Q23: 10 | R23: 8 | S23: 2 | T23: 70 | U23: 100 | V23: b | W23: 10 | X23: 10 | Y23: 9 | Z23: 1 | AA23: 30 | AB23: 20 | AC23: 70 | AD23: 30 | AE23: b | AF23: 10 | AG23: 10 | AH23: 9 | AI23: 1 | AJ23: 50 | AK23: 20 | AL23: 70 | AM23: 30 | AN23: b | AO23: 10 | AP23: 10 | AQ23: 9 | AR23: 1 | AS23: 70 | AU23: 18 | AW23: a | AX23: 10 | AY23: 10 | AZ23: 10 | BB23: 50 | BC23: 20 | BD23: 70 | BE23: 30 | BF23: 10 | BG23: 10 | BH23: 10 | BI23: 70 | BJ23: 100 | BK23: 30 | BL23: 30 | BM23: 40 | BO23: c | BQ23: =IF($E23="","",IF(BQ$6="","",BQ$6)) | BS23: =IF($E23="","",IF(BS$6="","",BS$6)) -> 44 | BU23: =IF($E23="","",IF(BU$6="","",BU$6)) -> 44 | BW23: =IF($E23="","",IF(BW$6="","",BW$6)) -> 42 | BY23: =IF($E23="","",IF(BY$6="","",BY$6)) -> 40 | CA23: =IF($E23="","",IF(CA$6="","",CA$6)) -> 36 | CC23: =IF($E23="","",IF(CC$6="","",CC$6)) -> 34 | CE23: =IF($E23="","",IF(CE$6="","",CE$6)) -> 24 | CG23: =IF($E23="","",IF(CG$6="","",CG$6)) -> 28 | CI23: =IF($E23="","",IF(CI$6="","",CI$6)) -> 24 | CK23: =IF($E23="","",IF(CK$6="","",CK$6)) -> 24 | CM23: =IF($E23="","",IF(CM$6="","",CM$6)) -> 22 | CP23: =IF(BS23="","",SUM(BQ23,BS23)) -> 44 | CQ23: =IF(BT23="","",SUM(BR23,BT23)) | CR23: =IF(BU23="","",SUM(CP23,BU23)) -> 88 | CS23: =IF(BV23="","",SUM(CQ23,BV23)) | CT23: =IF(BW23="","",SUM(CR23,BW23)) -> 130 | CU23: =IF(BX23="","",SUM(CS23,BX23)) | CV23: =IF(BY23="","",SUM(CT23,BY23)) -> 170 | CW23: =IF(BZ23="","",SUM(CU23,BZ23)) | CX23: =IF(CA23="","",SUM(CV23,CA23)) -> 206 | CY23: =IF(CB23="","",SUM(CW23,CB23)) | ... DI23: =IF(CL23="","",SUM(DG23,CL23)) | DJ23: =IF(E23="","",SUM(BQ23,BS23,BU23,BW23,BY23,CA23,CC23,CE23,CG23,CI23,CK23,CM23)) -> 362 | DK23: =IF(E23="","",SUM(BR23,BT23,BV23,BX23,BZ23,CB23,CD23,CF23,CH23,CJ23,CL23,CN23)) -> 0 | EE23: 10 | EF23: ECONOMICS | EG23: T | EH23: 100 | EI23: 0 | EJ23: 0 | EL23: 54 | EM23: =ROUNDUP(EL23/EL$6*EM$6,0) -> 116 | EO23: 13 | EP23: =ROUNDUP(EO23/EO$6*EP$6,0) -> 22 | ER23: 83 | ES23: =ROUNDUP(ER23/ER$6*ES$6,0) -> 166
A24: 16 | E24: 11116 | G24: A 016 | H24: B 016 | I24: C 016 | J24: 10 | K24: 10 | L24: 8 | M24: 2 | N24: 70 | O24: 100 | P24: 10 | Q24: 10 | R24: 8 | S24: 2 | T24: 70 | U24: 100 | V24: b | W24: 10 | X24: 10 | Y24: 9 | Z24: 1 | AA24: 30 | AB24: 20 | AC24: 70 | AD24: 30 | AE24: b | AF24: 10 | AG24: 10 | AH24: 9 | AI24: 1 | AJ24: 50 | AK24: 20 | AL24: 70 | AM24: 30 | AN24: b | AO24: 10 | AP24: 10 | AQ24: 9 | AR24: 1 | AS24: 70 | AU24: 18 | AW24: a | AX24: 10 | AY24: 10 | AZ24: 10 | BB24: 50 | BC24: 20 | BD24: 70 | BE24: 30 | BF24: 10 | BG24: 10 | BH24: 10 | BI24: 70 | BJ24: 100 | BK24: 30 | BL24: 30 | BM24: 40 | BO24: d | BQ24: =IF($E24="","",IF(BQ$6="","",BQ$6)) | BS24: =IF($E24="","",IF(BS$6="","",BS$6)) -> 44 | BU24: =IF($E24="","",IF(BU$6="","",BU$6)) -> 44 | BW24: =IF($E24="","",IF(BW$6="","",BW$6)) -> 42 | BY24: =IF($E24="","",IF(BY$6="","",BY$6)) -> 40 | CA24: =IF($E24="","",IF(CA$6="","",CA$6)) -> 36 | CC24: =IF($E24="","",IF(CC$6="","",CC$6)) -> 34 | CE24: =IF($E24="","",IF(CE$6="","",CE$6)) -> 24 | CG24: =IF($E24="","",IF(CG$6="","",CG$6)) -> 28 | CI24: =IF($E24="","",IF(CI$6="","",CI$6)) -> 24 | CK24: =IF($E24="","",IF(CK$6="","",CK$6)) -> 24 | CM24: =IF($E24="","",IF(CM$6="","",CM$6)) -> 22 | CP24: =IF(BS24="","",SUM(BQ24,BS24)) -> 44 | CQ24: =IF(BT24="","",SUM(BR24,BT24)) | CR24: =IF(BU24="","",SUM(CP24,BU24)) -> 88 | CS24: =IF(BV24="","",SUM(CQ24,BV24)) | CT24: =IF(BW24="","",SUM(CR24,BW24)) -> 130 | CU24: =IF(BX24="","",SUM(CS24,BX24)) | CV24: =IF(BY24="","",SUM(CT24,BY24)) -> 170 | CW24: =IF(BZ24="","",SUM(CU24,BZ24)) | CX24: =IF(CA24="","",SUM(CV24,CA24)) -> 206 | CY24: =IF(CB24="","",SUM(CW24,CB24)) | ... DI24: =IF(CL24="","",SUM(DG24,CL24)) | DJ24: =IF(E24="","",SUM(BQ24,BS24,BU24,BW24,BY24,CA24,CC24,CE24,CG24,CI24,CK24,CM24)) -> 362 | DK24: =IF(E24="","",SUM(BR24,BT24,BV24,BX24,BZ24,CB24,CD24,CF24,CH24,CJ24,CL24,CN24)) -> 0 | EE24: 20 | EF24: ENGLISH LITERATURE | EG24: T | EH24: 100 | EI24: 0 | EJ24: 0 | EL24: 53 | EM24: =ROUNDUP(EL24/EL$6*EM$6,0) -> 114 | EO24: 12 | EP24: =ROUNDUP(EO24/EO$6*EP$6,0) -> 20 | ER24: 82 | ES24: =ROUNDUP(ER24/ER$6*ES$6,0) -> 164
A25: 17 | E25: 11117 | G25: A 017 | H25: B 017 | I25: C 017 | J25: 10 | K25: 10 | L25: 8 | M25: 2 | N25: 70 | O25: 100 | P25: 10 | Q25: 10 | R25: 8 | S25: 2 | T25: 70 | U25: 100 | V25: b | W25: 10 | X25: 10 | Y25: 9 | Z25: 1 | AA25: 30 | AB25: 20 | AC25: 70 | AD25: 30 | AE25: b | AF25: 10 | AG25: 10 | AH25: 9 | AI25: 1 | AJ25: 50 | AK25: 20 | AL25: 70 | AM25: 30 | AN25: b | AO25: 10 | AP25: 10 | AQ25: 9 | AR25: 1 | AS25: 70 | AU25: 18 | AW25: a | AX25: 10 | AY25: 10 | AZ25: 10 | BB25: 50 | BC25: 20 | BD25: 70 | BE25: 30 | BF25: 10 | BG25: 10 | BH25: 10 | BI25: 70 | BJ25: 100 | BK25: 30 | BL25: 30 | BM25: 40 | BO25: e | BQ25: =IF($E25="","",IF(BQ$6="","",BQ$6)) | BS25: =IF($E25="","",IF(BS$6="","",BS$6)) -> 44 | BU25: =IF($E25="","",IF(BU$6="","",BU$6)) -> 44 | BW25: =IF($E25="","",IF(BW$6="","",BW$6)) -> 42 | BY25: =IF($E25="","",IF(BY$6="","",BY$6)) -> 40 | CA25: =IF($E25="","",IF(CA$6="","",CA$6)) -> 36 | CC25: =IF($E25="","",IF(CC$6="","",CC$6)) -> 34 | CE25: =IF($E25="","",IF(CE$6="","",CE$6)) -> 24 | CG25: =IF($E25="","",IF(CG$6="","",CG$6)) -> 28 | CI25: =IF($E25="","",IF(CI$6="","",CI$6)) -> 24 | CK25: =IF($E25="","",IF(CK$6="","",CK$6)) -> 24 | CM25: =IF($E25="","",IF(CM$6="","",CM$6)) -> 22 | CP25: =IF(BS25="","",SUM(BQ25,BS25)) -> 44 | CQ25: =IF(BT25="","",SUM(BR25,BT25)) | CR25: =IF(BU25="","",SUM(CP25,BU25)) -> 88 | CS25: =IF(BV25="","",SUM(CQ25,BV25)) | CT25: =IF(BW25="","",SUM(CR25,BW25)) -> 130 | CU25: =IF(BX25="","",SUM(CS25,BX25)) | CV25: =IF(BY25="","",SUM(CT25,BY25)) -> 170 | CW25: =IF(BZ25="","",SUM(CU25,BZ25)) | CX25: =IF(CA25="","",SUM(CV25,CA25)) -> 206 | CY25: =IF(CB25="","",SUM(CW25,CB25)) | ... DI25: =IF(CL25="","",SUM(DG25,CL25)) | DJ25: =IF(E25="","",SUM(BQ25,BS25,BU25,BW25,BY25,CA25,CC25,CE25,CG25,CI25,CK25,CM25)) -> 362 | DK25: =IF(E25="","",SUM(BR25,BT25,BV25,BX25,BZ25,CB25,CD25,CF25,CH25,CJ25,CL25,CN25)) -> 0 | EE25: 61 | EF25: ENVIRONMENTAL STUDIES | EG25: T | EH25: 100 | EI25: 0 | EJ25: 0 | EL25: 52 | EM25: =ROUNDUP(EL25/EL$6*EM$6,0) -> 112 | EO25: 11 | EP25: =ROUNDUP(EO25/EO$6*EP$6,0) -> 19 | ER25: 81 | ES25: =ROUNDUP(ER25/ER$6*ES$6,0) -> 162
A26: 18 | E26: 11118 | G26: A 018 | H26: B 018 | I26: C 018 | J26: 10 | K26: 10 | L26: 8 | M26: 2 | N26: 70 | O26: 100 | P26: 10 | Q26: 10 | R26: 8 | S26: 2 | T26: 70 | U26: 100 | V26: b | W26: 10 | X26: 10 | Y26: 9 | Z26: 1 | AA26: 30 | AB26: 20 | AC26: 70 | AD26: 30 | AE26: b | AF26: 10 | AG26: 10 | AH26: 9 | AI26: 1 | AJ26: 50 | AK26: 20 | AL26: 70 | AM26: 30 | AN26: b | AO26: 10 | AP26: 10 | AQ26: 9 | AR26: 1 | AS26: 70 | AU26: 18 | AW26: a | AX26: 10 | AY26: 10 | AZ26: 10 | BB26: 50 | BC26: 20 | BD26: 70 | BE26: 30 | BF26: 10 | BG26: 10 | BH26: 10 | BI26: 70 | BJ26: 100 | BK26: 30 | BL26: 30 | BM26: 40 | BO26: f | BQ26: =IF($E26="","",IF(BQ$6="","",BQ$6)) | BS26: =IF($E26="","",IF(BS$6="","",BS$6)) -> 44 | BU26: =IF($E26="","",IF(BU$6="","",BU$6)) -> 44 | BW26: =IF($E26="","",IF(BW$6="","",BW$6)) -> 42 | BY26: =IF($E26="","",IF(BY$6="","",BY$6)) -> 40 | CA26: =IF($E26="","",IF(CA$6="","",CA$6)) -> 36 | CC26: =IF($E26="","",IF(CC$6="","",CC$6)) -> 34 | CE26: =IF($E26="","",IF(CE$6="","",CE$6)) -> 24 | CG26: =IF($E26="","",IF(CG$6="","",CG$6)) -> 28 | CI26: =IF($E26="","",IF(CI$6="","",CI$6)) -> 24 | CK26: =IF($E26="","",IF(CK$6="","",CK$6)) -> 24 | CM26: =IF($E26="","",IF(CM$6="","",CM$6)) -> 22 | CP26: =IF(BS26="","",SUM(BQ26,BS26)) -> 44 | CQ26: =IF(BT26="","",SUM(BR26,BT26)) | CR26: =IF(BU26="","",SUM(CP26,BU26)) -> 88 | CS26: =IF(BV26="","",SUM(CQ26,BV26)) | CT26: =IF(BW26="","",SUM(CR26,BW26)) -> 130 | CU26: =IF(BX26="","",SUM(CS26,BX26)) | CV26: =IF(BY26="","",SUM(CT26,BY26)) -> 170 | CW26: =IF(BZ26="","",SUM(CU26,BZ26)) | CX26: =IF(CA26="","",SUM(CV26,CA26)) -> 206 | CY26: =IF(CB26="","",SUM(CW26,CB26)) | ... DI26: =IF(CL26="","",SUM(DG26,CL26)) | DJ26: =IF(E26="","",SUM(BQ26,BS26,BU26,BW26,BY26,CA26,CC26,CE26,CG26,CI26,CK26,CM26)) -> 362 | DK26: =IF(E26="","",SUM(BR26,BT26,BV26,BX26,BZ26,CB26,CD26,CF26,CH26,CJ26,CL26,CN26)) -> 0 | EE26: 27 | EF26: FARSI LITERATURE | EG26: T | EH26: 100 | EI26: 0 | EJ26: 0 | EL26: 51 | EM26: =ROUNDUP(EL26/EL$6*EM$6,0) -> 110 | EO26: 10 | EP26: =ROUNDUP(EO26/EO$6*EP$6,0) -> 17 | ER26: 80 | ES26: =ROUNDUP(ER26/ER$6*ES$6,0) -> 160
A27: 19 | E27: 11119 | G27: A 019 | H27: B 019 | I27: C 019 | J27: 10 | K27: 10 | L27: 8 | M27: 2 | N27: 70 | O27: 100 | P27: 10 | Q27: 10 | R27: 8 | S27: 2 | T27: 70 | U27: 100 | V27: b | W27: 10 | X27: 10 | Y27: 9 | Z27: 1 | AA27: 30 | AB27: 20 | AC27: 70 | AD27: 30 | AE27: b | AF27: 10 | AG27: 10 | AH27: 9 | AI27: 1 | AJ27: 50 | AK27: 20 | AL27: 70 | AM27: 30 | AN27: b | AO27: 10 | AP27: 10 | AQ27: 9 | AR27: 1 | AS27: 70 | AU27: 18 | AW27: a | AX27: 10 | AY27: 10 | AZ27: 10 | BB27: 50 | BC27: 20 | BD27: 70 | BE27: 30 | BF27: 10 | BG27: 10 | BH27: 10 | BI27: 70 | BJ27: 100 | BK27: 30 | BL27: 30 | BM27: 40 | BO27: g | BQ27: =IF($E27="","",IF(BQ$6="","",BQ$6)) | BS27: =IF($E27="","",IF(BS$6="","",BS$6)) -> 44 | BU27: =IF($E27="","",IF(BU$6="","",BU$6)) -> 44 | BW27: =IF($E27="","",IF(BW$6="","",BW$6)) -> 42 | BY27: =IF($E27="","",IF(BY$6="","",BY$6)) -> 40 | CA27: =IF($E27="","",IF(CA$6="","",CA$6)) -> 36 | CC27: =IF($E27="","",IF(CC$6="","",CC$6)) -> 34 | CE27: =IF($E27="","",IF(CE$6="","",CE$6)) -> 24 | CG27: =IF($E27="","",IF(CG$6="","",CG$6)) -> 28 | CI27: =IF($E27="","",IF(CI$6="","",CI$6)) -> 24 | CK27: =IF($E27="","",IF(CK$6="","",CK$6)) -> 24 | CM27: =IF($E27="","",IF(CM$6="","",CM$6)) -> 22 | CP27: =IF(BS27="","",SUM(BQ27,BS27)) -> 44 | CQ27: =IF(BT27="","",SUM(BR27,BT27)) | CR27: =IF(BU27="","",SUM(CP27,BU27)) -> 88 | CS27: =IF(BV27="","",SUM(CQ27,BV27)) | CT27: =IF(BW27="","",SUM(CR27,BW27)) -> 130 | CU27: =IF(BX27="","",SUM(CS27,BX27)) | CV27: =IF(BY27="","",SUM(CT27,BY27)) -> 170 | CW27: =IF(BZ27="","",SUM(CU27,BZ27)) | CX27: =IF(CA27="","",SUM(CV27,CA27)) -> 206 | CY27: =IF(CB27="","",SUM(CW27,CB27)) | ... DI27: =IF(CL27="","",SUM(DG27,CL27)) | DJ27: =IF(E27="","",SUM(BQ27,BS27,BU27,BW27,BY27,CA27,CC27,CE27,CG27,CI27,CK27,CM27)) -> 362 | DK27: =IF(E27="","",SUM(BR27,BT27,BV27,BX27,BZ27,CB27,CD27,CF27,CH27,CJ27,CL27,CN27)) -> 0 | EE27: 24 | EF27: GUJRATI LITERATURE | EG27: T | EH27: 100 | EI27: 0 | EJ27: 0 | EL27: 50 | EM27: =ROUNDUP(EL27/EL$6*EM$6,0) -> 108 | EO27: 9 | EP27: =ROUNDUP(EO27/EO$6*EP$6,0) -> 15 | ER27: 79 | ES27: =ROUNDUP(ER27/ER$6*ES$6,0) -> 158
A28: 20 | E28: 11120 | G28: A 020 | H28: B 020 | I28: C 020 | J28: 10 | K28: 10 | L28: 8 | M28: 2 | N28: 70 | O28: 100 | P28: 10 | Q28: 10 | R28: 8 | S28: 2 | T28: 70 | U28: 100 | V28: b | W28: 10 | X28: 10 | Y28: 9 | Z28: 1 | AA28: 30 | AB28: 20 | AC28: 70 | AD28: 30 | AE28: b | AF28: 10 | AG28: 10 | AH28: 9 | AI28: 1 | AJ28: 50 | AK28: 20 | AL28: 70 | AM28: 30 | AN28: b | AO28: 10 | AP28: 10 | AQ28: 9 | AR28: 1 | AS28: 70 | AU28: 18 | AW28: a | AX28: 10 | AY28: 10 | AZ28: 10 | BB28: 50 | BC28: 20 | BD28: 70 | BE28: 30 | BF28: 10 | BG28: 10 | BH28: 10 | BI28: 70 | BJ28: 100 | BK28: 30 | BL28: 30 | BM28: 40 | BO28: h | BQ28: =IF($E28="","",IF(BQ$6="","",BQ$6)) | BS28: =IF($E28="","",IF(BS$6="","",BS$6)) -> 44 | BU28: =IF($E28="","",IF(BU$6="","",BU$6)) -> 44 | BW28: =IF($E28="","",IF(BW$6="","",BW$6)) -> 42 | BY28: =IF($E28="","",IF(BY$6="","",BY$6)) -> 40 | CA28: =IF($E28="","",IF(CA$6="","",CA$6)) -> 36 | CC28: =IF($E28="","",IF(CC$6="","",CC$6)) -> 34 | CE28: =IF($E28="","",IF(CE$6="","",CE$6)) -> 24 | CG28: =IF($E28="","",IF(CG$6="","",CG$6)) -> 28 | CI28: =IF($E28="","",IF(CI$6="","",CI$6)) -> 24 | CK28: =IF($E28="","",IF(CK$6="","",CK$6)) -> 24 | CM28: =IF($E28="","",IF(CM$6="","",CM$6)) -> 22 | CP28: =IF(BS28="","",SUM(BQ28,BS28)) -> 44 | CQ28: =IF(BT28="","",SUM(BR28,BT28)) | CR28: =IF(BU28="","",SUM(CP28,BU28)) -> 88 | CS28: =IF(BV28="","",SUM(CQ28,BV28)) | CT28: =IF(BW28="","",SUM(CR28,BW28)) -> 130 | CU28: =IF(BX28="","",SUM(CS28,BX28)) | CV28: =IF(BY28="","",SUM(CT28,BY28)) -> 170 | CW28: =IF(BZ28="","",SUM(CU28,BZ28)) | CX28: =IF(CA28="","",SUM(CV28,CA28)) -> 206 | CY28: =IF(CB28="","",SUM(CW28,CB28)) | ... DI28: =IF(CL28="","",SUM(DG28,CL28)) | DJ28: =IF(E28="","",SUM(BQ28,BS28,BU28,BW28,BY28,CA28,CC28,CE28,CG28,CI28,CK28,CM28)) -> 362 | DK28: =IF(E28="","",SUM(BR28,BT28,BV28,BX28,BZ28,CB28,CD28,CF28,CH28,CJ28,CL28,CN28)) -> 0 | EE28: 21 | EF28: HINDI LITERATURE | EG28: T | EH28: 100 | EI28: 0 | EJ28: 0 | EL28: 49 | EM28: =ROUNDUP(EL28/EL$6*EM$6,0) -> 105 | EO28: 8 | EP28: =ROUNDUP(EO28/EO$6*EP$6,0) -> 14 | ER28: 78 | ES28: =ROUNDUP(ER28/ER$6*ES$6,0) -> 156
A29: 21 | E29: 11121 | G29: A 021 | H29: B 021 | I29: C 021 | J29: 10 | K29: 10 | L29: 8 | M29: 2 | N29: 70 | O29: 100 | P29: 10 | Q29: 10 | R29: 8 | S29: 2 | T29: 70 | U29: 100 | V29: b | W29: 10 | X29: 10 | Y29: 9 | Z29: 1 | AA29: 30 | AB29: 20 | AC29: 70 | AD29: 30 | AE29: b | AF29: 10 | AG29: 10 | AH29: 9 | AI29: 1 | AJ29: 50 | AK29: 20 | AL29: 70 | AM29: 30 | AN29: b | AO29: 10 | AP29: 10 | AQ29: 9 | AR29: 1 | AS29: 70 | AU29: 18 | AW29: a | AX29: 10 | AY29: 10 | AZ29: 10 | BB29: 50 | BC29: 20 | BD29: 70 | BE29: 30 | BF29: 10 | BG29: 10 | BH29: 10 | BI29: 70 | BJ29: 100 | BK29: 30 | BL29: 30 | BM29: 40 | BQ29: =IF($E29="","",IF(BQ$6="","",BQ$6)) | BS29: =IF($E29="","",IF(BS$6="","",BS$6)) -> 44 | BU29: =IF($E29="","",IF(BU$6="","",BU$6)) -> 44 | BW29: =IF($E29="","",IF(BW$6="","",BW$6)) -> 42 | BY29: =IF($E29="","",IF(BY$6="","",BY$6)) -> 40 | CA29: =IF($E29="","",IF(CA$6="","",CA$6)) -> 36 | CC29: =IF($E29="","",IF(CC$6="","",CC$6)) -> 34 | CE29: =IF($E29="","",IF(CE$6="","",CE$6)) -> 24 | CG29: =IF($E29="","",IF(CG$6="","",CG$6)) -> 28 | CI29: =IF($E29="","",IF(CI$6="","",CI$6)) -> 24 | CK29: =IF($E29="","",IF(CK$6="","",CK$6)) -> 24 | CM29: =IF($E29="","",IF(CM$6="","",CM$6)) -> 22 | CP29: =IF(BS29="","",SUM(BQ29,BS29)) -> 44 | CQ29: =IF(BT29="","",SUM(BR29,BT29)) | CR29: =IF(BU29="","",SUM(CP29,BU29)) -> 88 | CS29: =IF(BV29="","",SUM(CQ29,BV29)) | CT29: =IF(BW29="","",SUM(CR29,BW29)) -> 130 | CU29: =IF(BX29="","",SUM(CS29,BX29)) | CV29: =IF(BY29="","",SUM(CT29,BY29)) -> 170 | CW29: =IF(BZ29="","",SUM(CU29,BZ29)) | CX29: =IF(CA29="","",SUM(CV29,CA29)) -> 206 | CY29: =IF(CB29="","",SUM(CW29,CB29)) | ... DI29: =IF(CL29="","",SUM(DG29,CL29)) | DJ29: =IF(E29="","",SUM(BQ29,BS29,BU29,BW29,BY29,CA29,CC29,CE29,CG29,CI29,CK29,CM29)) -> 362 | DK29: =IF(E29="","",SUM(BR29,BT29,BV29,BX29,BZ29,CB29,CD29,CF29,CH29,CJ29,CL29,CN29)) -> 0 | EE29: 13 | EF29: HISTORY | EG29: T | EH29: 100 | EI29: 0 | EJ29: 0 | EL29: 48 | EM29: =ROUNDUP(EL29/EL$6*EM$6,0) -> 103 | EO29: 7 | EP29: =ROUNDUP(EO29/EO$6*EP$6,0) -> 12 | ER29: 77 | ES29: =ROUNDUP(ER29/ER$6*ES$6,0) -> 154
A30: 22 | E30: 11122 | G30: A 022 | H30: B 022 | I30: C 022 | J30: 10 | K30: 10 | L30: 8 | M30: 2 | N30: 70 | O30: 100 | P30: 10 | Q30: 10 | R30: 8 | S30: 2 | T30: 70 | U30: 100 | V30: b | W30: 10 | X30: 10 | Y30: 9 | Z30: 1 | AA30: 30 | AB30: 20 | AC30: 70 | AD30: 30 | AE30: b | AF30: 10 | AG30: 10 | AH30: 9 | AI30: 1 | AJ30: 50 | AK30: 20 | AL30: 70 | AM30: 30 | AN30: b | AO30: 10 | AP30: 10 | AQ30: 9 | AR30: 1 | AS30: 70 | AU30: 18 | AW30: a | AX30: 10 | AY30: 10 | AZ30: 10 | BB30: 50 | BC30: 20 | BD30: 70 | BE30: 30 | BF30: 10 | BG30: 10 | BH30: 10 | BI30: 70 | BJ30: 100 | BK30: 30 | BL30: 30 | BM30: 40 | BQ30: =IF($E30="","",IF(BQ$6="","",BQ$6)) | BS30: =IF($E30="","",IF(BS$6="","",BS$6)) -> 44 | BU30: =IF($E30="","",IF(BU$6="","",BU$6)) -> 44 | BW30: =IF($E30="","",IF(BW$6="","",BW$6)) -> 42 | BY30: =IF($E30="","",IF(BY$6="","",BY$6)) -> 40 | CA30: =IF($E30="","",IF(CA$6="","",CA$6)) -> 36 | CC30: =IF($E30="","",IF(CC$6="","",CC$6)) -> 34 | CE30: =IF($E30="","",IF(CE$6="","",CE$6)) -> 24 | CG30: =IF($E30="","",IF(CG$6="","",CG$6)) -> 28 | CI30: =IF($E30="","",IF(CI$6="","",CI$6)) -> 24 | CK30: =IF($E30="","",IF(CK$6="","",CK$6)) -> 24 | CM30: =IF($E30="","",IF(CM$6="","",CM$6)) -> 22 | CP30: =IF(BS30="","",SUM(BQ30,BS30)) -> 44 | CQ30: =IF(BT30="","",SUM(BR30,BT30)) | CR30: =IF(BU30="","",SUM(CP30,BU30)) -> 88 | CS30: =IF(BV30="","",SUM(CQ30,BV30)) | CT30: =IF(BW30="","",SUM(CR30,BW30)) -> 130 | CU30: =IF(BX30="","",SUM(CS30,BX30)) | CV30: =IF(BY30="","",SUM(CT30,BY30)) -> 170 | CW30: =IF(BZ30="","",SUM(CU30,BZ30)) | CX30: =IF(CA30="","",SUM(CV30,CA30)) -> 206 | CY30: =IF(CB30="","",SUM(CW30,CB30)) | ... DI30: =IF(CL30="","",SUM(DG30,CL30)) | DJ30: =IF(E30="","",SUM(BQ30,BS30,BU30,BW30,BY30,CA30,CC30,CE30,CG30,CI30,CK30,CM30)) -> 362 | DK30: =IF(E30="","",SUM(BR30,BT30,BV30,BX30,BZ30,CB30,CD30,CF30,CH30,CJ30,CL30,CN30)) -> 0 | EE30: 15 | EF30: MATHEMATICS | EG30: T | EH30: 100 | EI30: 0 | EJ30: 0 | EL30: 47 | EM30: =ROUNDUP(EL30/EL$6*EM$6,0) -> 101 | EO30: 6 | EP30: =ROUNDUP(EO30/EO$6*EP$6,0) -> 10 | ER30: 76 | ES30: =ROUNDUP(ER30/ER$6*ES$6,0) -> 152
A31: 23 | E31: 11123 | G31: A 023 | H31: B 023 | I31: C 023 | J31: 10 | K31: 10 | L31: 8 | M31: 2 | N31: 70 | O31: 100 | P31: 10 | Q31: 10 | R31: 8 | S31: 2 | T31: 70 | U31: 100 | V31: b | W31: 10 | X31: 10 | Y31: 9 | Z31: 1 | AA31: 30 | AB31: 20 | AC31: 70 | AD31: 30 | AE31: b | AF31: 10 | AG31: 10 | AH31: 9 | AI31: 1 | AJ31: 50 | AK31: 20 | AL31: 70 | AM31: 30 | AN31: b | AO31: 10 | AP31: 10 | AQ31: 9 | AR31: 1 | AS31: 70 | AU31: 18 | AW31: a | AX31: 10 | AY31: 10 | AZ31: 10 | BB31: 50 | BC31: 20 | BD31: 70 | BE31: 30 | BF31: 10 | BG31: 10 | BH31: 10 | BI31: 70 | BJ31: 100 | BK31: 30 | BL31: 30 | BM31: 40 | BQ31: =IF($E31="","",IF(BQ$6="","",BQ$6)) | BS31: =IF($E31="","",IF(BS$6="","",BS$6)) -> 44 | BU31: =IF($E31="","",IF(BU$6="","",BU$6)) -> 44 | BW31: =IF($E31="","",IF(BW$6="","",BW$6)) -> 42 | BY31: =IF($E31="","",IF(BY$6="","",BY$6)) -> 40 | CA31: =IF($E31="","",IF(CA$6="","",CA$6)) -> 36 | CC31: =IF($E31="","",IF(CC$6="","",CC$6)) -> 34 | CE31: =IF($E31="","",IF(CE$6="","",CE$6)) -> 24 | CG31: =IF($E31="","",IF(CG$6="","",CG$6)) -> 28 | CI31: =IF($E31="","",IF(CI$6="","",CI$6)) -> 24 | CK31: =IF($E31="","",IF(CK$6="","",CK$6)) -> 24 | CM31: =IF($E31="","",IF(CM$6="","",CM$6)) -> 22 | CP31: =IF(BS31="","",SUM(BQ31,BS31)) -> 44 | CQ31: =IF(BT31="","",SUM(BR31,BT31)) | CR31: =IF(BU31="","",SUM(CP31,BU31)) -> 88 | CS31: =IF(BV31="","",SUM(CQ31,BV31)) | CT31: =IF(BW31="","",SUM(CR31,BW31)) -> 130 | CU31: =IF(BX31="","",SUM(CS31,BX31)) | CV31: =IF(BY31="","",SUM(CT31,BY31)) -> 170 | CW31: =IF(BZ31="","",SUM(CU31,BZ31)) | CX31: =IF(CA31="","",SUM(CV31,CA31)) -> 206 | CY31: =IF(CB31="","",SUM(CW31,CB31)) | ... DI31: =IF(CL31="","",SUM(DG31,CL31)) | DJ31: =IF(E31="","",SUM(BQ31,BS31,BU31,BW31,BY31,CA31,CC31,CE31,CG31,CI31,CK31,CM31)) -> 362 | DK31: =IF(E31="","",SUM(BR31,BT31,BV31,BX31,BZ31,CB31,CD31,CF31,CH31,CJ31,CL31,CN31)) -> 0 | EE31: 85 | EF31: PHILOSOPHY | EG31: T | EH31: 100 | EI31: 0 | EJ31: 0 | EL31: 46 | EM31: =ROUNDUP(EL31/EL$6*EM$6,0) -> 99 | EO31: 5 | EP31: =ROUNDUP(EO31/EO$6*EP$6,0) -> 9 | ER31: 75 | ES31: =ROUNDUP(ER31/ER$6*ES$6,0) -> 150
