Workbook
Name _EQG7: #REF!
Name a: #REF!
Name CR: 'statement of marks'!$B$114
Name xxx1: #REF!

Sheet from the developer's desk
A1: This application has been designed for the Secondary and Higher Secondary schools of Rajasthan. All rights are reserved with the director of Secondary Education, Bikaner, Rajasthan.
A3: designed by D. Kavita Lecturer in English Govt. Girls' Hr. Sec. School, Nimbahera, Distt. Chittaurgarh, Rajasthan kavita.fadnavis@gmail.com
A7: In cooperation with
A8: Pushpendra Kumar Sharma Principal Govt. Hr. Sec. School, Veerpura Distt. Udaipur, Rajasthan | B8: Anil Kumar Somani Lecturer in Physics Govt. Hr. Sec. School, Nimbahera, Distt. Chittaurgarh, Rajasthan | C8: Arvind Kumar Sharma Sr.Teacher (Maths) Govt. Girls Sec. School Ramsar, Srinagar (Ajmer) Distt. Ajmer, Rajasthan
A12: Plz. Read all instructions given in this pages carefully before you proceed. For more help you can download the training videos from www.ctor.in
A14: WHAT IS SPECIAL ABOUT THIS WORKBOOK?
A16: This work book has been developed for those schools that have more than 4 options for each column of optional subjects and also for those that wish to give their students two practical subjects with different marking scheme in one column for example Geography and Music in one place. However it can also be used in normal cases.
A20: It is also helpful for Vocational Education as third optional subject. You already know that 4th optional subject is not to be shown in the progress reports for class 11th students and so if a student offers any of the trades of vocational education as a fourth optional, his/her result can not be prepared in this workbook.
A23: Put the subjects with 70 marks practicals such as music and drawing in last columns viz., Z,AA, AH,AI and give 'g' or 'h' (as per the selected column) as subject code.
A25: Put the subjects with 50 marks practicals such as typing and shorthand in last columns viz., AP,AQ and give 'g' or 'h' (as per the selected column) as subject code.
A27: This workbook is for trial and the users are expected to give feedback at kavita.fadnavis@gmail.com for its improvement. No claims of perfection.
A31: This workbook can prepare results of 100 students of a class. According the the the departmental norms we can split the class into two sections as soon as the strength crosses 60 students, yet this workbooks supports result upto a strength of 100 students. Please limit your class strength not to exceed If there occur any errors in your result due to accidental deletion or feeding in wrong sheets, you can rectify all such errors by using a fresh workbook and just copying the 'details' of your old workbook into the new one. Password to enter details entries is 'shivira'. All sheets are protected. The password to unprotect sheets is 'dkf'. For any queries regarding the use of this application, drop a mail to kavita.fadnavis@gmail.com You may also contact the master trainers of your own district. D. Kavita
A38: Plz. Read the class promotion rules before you begin to work on this workbook. Use this workbook only if you find it as per rules. The cell pertaining to the result of a student of class 8th is deliberately left blank in case he/she sobtains grade 'e' in any of the subjects. Fill it using your own understanding of the rules.
A41: fjtYV odZcqd ds iz;ksx esa vkusokyh lkekU; leL;k,¡ o lek/kku
A42: CLICK HERE TO GO BACK TO DETAILS TO CONTINUE DATA ENTRY
A43: HOW TO MAKE ENTRIES?
... A118: vf/kd lg;ksx pkgus gsrq ohfM;ks ns[ksaA

Sheet details
A1: Govt. Hr. Sec. School, | J1: PROGRESS REPORT | P1: =G6 -> 11 'A' | V1: OPTIONAL SUBJECT 1 | AE1: OPTIONAL SUBJECT 2 | AN1: OPTIONAL SUBJECT 3 | AW1: ADDITIONAL OPTIONAL SUBJECT | BF1: =H6 -> 2024-25 | BQ1: MONTHLY ATTENDANCE | CP1: TOTAL ATTENDANCE UPTO
A2: S.NO. | B2: CATEGORY | C2: GENDER | D2: S.R. NO. | E2: RO. NO. | F2: DATE OF BIRTH | J2: HINDI COMPULSORY | P2: ENGLISH COMPULSORY | V2: HOME SCIENCE | W2: PHYSICS | AC2: DRAWING | AD2: MUSIC INSTR. FLUTE | AE2: GEOGRAPHY | AF2: CHEMISTRY | AL2: DRAWING | AM2: MUSIC INSTR. FLUTE | AN2: HOME SCIENCE | AO2: MATHEMATICS | AU2: TYPING | AV2: SHORT HAND | AW2: BIOLOGY | AX2: MATHEMATICS | AY2: AGRICULTURE | AZ2: GEO SCIENCE | BB2: MULTIMEDIA WEB TECH | BC2: BIOLOGY | BD2: DRAWING | BE2: MUSIC INSTR. FLUTE | BF2: Azadi ke Baad ka Swarnim Bharat | BK2: JEEVAN KAUShAL | EL2: Table showing the proportionate adjustment of marks for Re-Exam. and Supplementary.
G3: RESULT SHEET | J3: SHARMA | P3: D. KAVITA | V3: A | W3: B | X3: C | Y3: D | AA3: E | AB3: F | AC3: G | AD3: H | AE3: A | AF3: B | AG3: C | AH3: D | AJ3: E | AK3: F | AL3: G | AM3: H | AN3: A | AO3: B | AP3: C | AQ3: D | AS3: E | AT3: F | AU3: G | AV3: H | AW3: A | AX3: B | AY3: C | AZ3: D | BB3: E | BC3: F | BD3: G | BE3: H | BF3: MEENA | BK3: REKHA | BQ3: APRIL | BR3: APRIL | BS3: MAY | BT3: MAY | BU3: JULY | BV3: JULY | BW3: AUGUST | BX3: AUGUST | BY3: SEPTEMBER | BZ3: SEPTEMBER | CA3: OCTOBER | CB3: OCTOBER | CC3: NOVEMBER | CD3: NOVEMBER | CE3: DECEMBER | CF3: DECEMBER | CG3: JANUARY | CH3: JANUARY | CI3: FEBRUARY | CJ3: FEBRUARY | CK3: MARCH | CL3: MARCH | CM3: APRIL | CN3: APRIL | CP3: TOTAL UPTO MAY | CR3: TOTAL UPTO JULY | CT3: TOTAL UPTO AUGUST | CV3: TOTAL UPTO SEPTEMBER | CX3: TOTAL UPTO OCTOBER | CZ3: TOTAL UPTO NOVEMBER | DB3: TOTAL UPTO DECEMBER | DD3: TOTAL UPTO JANUARY | DF3: TOTAL UPTO FEBRUARY | DH3: TOTAL UPTO MARCH | DJ3: TOTAL FOR THE SESSION
G4: CLICK HERE FOR HELP | H4: DATE OF DECLARATION OF SUPPL. EXAM RESULT | I4: 45794 | J4: UNIT TEST | M4: VRIKSHAROPAN | N4: HALF YEARLY EXAM. | O4: ANNUAL EXAM. | P4: UNIT TEST | S4: VRUKSHAROPAN | T4: HALF YEARLY EXAM. | U4: ANNUAL EXAM. | V4: SUBJECT CODE | W4: UNIT TEST | Z4: VRUKSHAROPAN | AA4: HALF YEARLY EXAM. | AC4: ANNUAL EXAM. | AE4: SUBJECT CODE | AF4: UNIT TEST | AI4: VRUKSHAROPAN | AJ4: HALF YEARLY EXAM. | AL4: ANNUAL EXAM. | AN4: SUBJECT CODE | AO4: UNIT TEST | AR4: VRUKSHAROPAN | AS4: HALF YEARLY EXAM. | AU4: ANNUAL EXAM. | AW4: SUBJECT CODE | AX4: UNIT TEST | BA4: VRUKSHAROPAN | BB4: HALF YEARLY EXAM. | BD4: ANNUAL EXAM. | BF4: UNIT TEST | BI4: HALF YEARLY EXAM. | BJ4: ANNUAL EXAM. | BK4: CONT. ASSMNT. | BL4: CONT. ASSMNT. | BM4: ANNUAL EXAM. | EL4: Pr. Sub with 70+30 scheme | EO4: Pr. Sub with 30+70 scheme | ER4: Purely Theory Subjects
G5: NAME OF THE STUDENT | H5: FATIEHR'S NAME | I5: MOTHER'S NAME | J5: FIRST | K5: SECOND | L5: THIRD | P5: FIRST | Q5: SECOND | R5: THIRD | W5: FIRST | X5: SECOND | Y5: THIRD | AA5: THEORY | AB5: PRACTICAL | AC5: THEORY | AD5: PRACTICAL | AF5: FIRST | AG5: SECOND | AH5: THIRD | AJ5: THEORY | AK5: PRACTICAL | AL5: THEORY | AM5: PRACTICAL | AO5: FIRST | AP5: SECOND | AQ5: THIRD | AS5: THEORY | AT5: PRACTICAL | AU5: THEORY | AV5: PRACTICAL | AX5: FIRST | AY5: SECOND | AZ5: THIRD | BB5: THEORY | BC5: PRACTICAL | BD5: THEORY | BE5: PRACTICAL | BF5: FIRST | BG5: SECOND | BH5: THIRD | BQ5: TOTAL MTNGS. | BS5: TOTAL MTNGS. | BT5: ST. ATT. | BU5: TOTAL MTNGS. | BV5: ST. ATT. | BW5: TOTAL MTNGS. | BX5: ST. ATT. | BY5: TOTAL MTNGS. | BZ5: ST. ATT. | CA5: TOTAL MTNGS. | CB5: ST. ATT. | CC5: TOTAL MTNGS. | CD5: ST. ATT. | CE5: TOTAL MTNGS. | CF5: ST. ATT. | CG5: TOTAL MTNGS. | CH5: ST. ATT. | CI5: TOTAL MTNGS. | CJ5: ST. ATT. | CK5: TOTAL MTNGS. | CL5: ST. ATT. | CM5: TOTAL MTNGS. | CN5: ST. ATT. | CP5: TOTAL MTNGS. | CQ5: ST. ATT. | CR5: TOTAL MTNGS. | CS5: ST. ATT. | CT5: TOTAL MTNGS. | CU5: ST. ATT. | CV5: TOTAL MTNGS. | CW5: ST. ATT. | CX5: TOTAL MTNGS. | CY5: ST. ATT. | CZ5: TOTAL MTNGS. | DA5: ST. ATT. | DB5: TOTAL MTNGS. | DC5: ST. ATT. | DD5: TOTAL MTNGS. | DE5: ST. ATT. | DF5: TOTAL MTNGS. | DG5: ST. ATT. | DH5: TOTAL MTNGS. | DI5: ST. ATT. | DJ5: TOTAL MTNGS. | DK5: ST. ATT. | EL5: Re-Exam. Marks | EM5: Suppl Marks | EO5: Re-Exam. Marks | EP5: Suppl Marks | ER5: Re-Exam. Marks | ES5: Suppl Marks
A6: DATE OF RESULT DECLARATION | E6: 45794 | G6: 11 'A' | H6: 2024-25 | I6: MAX. MARKS FOR TH. SUBJECTS | J6: 10 | K6: 10 | L6: 8 | M6: 2 | N6: 70 | O6: 100 | P6: 10 | Q6: 10 | R6: 8 | S6: 2 | T6: 70 | U6: 100 | V6: =COUNTIF(V9:V108,"g")+COUNTIF(V9:V108,"h") -> 0 | W6: 10 | X6: 10 | Y6: 9 | Z6: 1 | AA6: 70 | AC6: 100 | AE6: =COUNTIF(AE9:AE108,"g")+COUNTIF(AE9:AE108,"h") -> 0 | AF6: 10 | AG6: 10 | AH6: 9 | AI6: 1 | AJ6: 70 | AL6: 100 | AN6: =COUNTIF(AN9:AN108,"g")+COUNTIF(AN9:AN108,"h") -> 0 | AO6: 10 | AP6: 10 | AQ6: 9 | AR6: 1 | AS6: 70 | AU6: 100 | AW6: =COUNTIF(AW9:AW108,"g")+COUNTIF(AW9:AW108,"h") -> 0 | AX6: 10 | AY6: 10 | AZ6: 10 | BA6: 0 | BB6: 70 | BD6: 100 | BF6: 10 | BG6: 10 | BH6: 10 | BI6: 70 | BJ6: 100 | BK6: 30 | BL6: 30 | BM6: 40 | BO6: MEETINGS | BS6: 44 | BU6: 44 | BW6: 42 | BY6: 40 | CA6: 36 | CC6: 34 | CE6: 24 | CG6: 28 | CI6: 24 | CK6: 24 | CM6: 22 | CP6: =IF(BS6="","",SUM(BQ6,BS6)) -> 44 | CQ6: =IF(BT6="","",SUM(BR6,BT6)) | CR6: =IF(BU6="","",SUM(CP6,BU6)) -> 88 | CS6: =IF(BV6="","",SUM(CQ6,BV6)) | CT6: =IF(BW6="","",SUM(CR6,BW6)) -> 130 | CU6: =IF(BX6="","",SUM(CS6,BX6)) | CV6: =IF(BY6="","",SUM(CT6,BY6)) -> 170 | CW6: =IF(BZ6="","",SUM(CU6,BZ6)) | CX6: =IF(CA6="","",SUM(CV6,CA6)) -> 206 | CY6: =IF(CB6="","",SUM(CW6,CB6)) | ... DK6: =IF(CN6="","",SUM(DI6,CN6)) | EF6: LIST OF OPTIONAL SUBJECTS AND MARKING | EH6: Th. | EI6: Pract. | EJ6: Int Ass. | EL6: 70 | EM6: 150 | EO6: 30 | EP6: 50 | ER6: 100 | ES6: 200
I7: MAX. MARKS FOR NORMAL PR. SUBJECTS | J7: 10 | K7: 10 | L7: 8 | M7: 2 | N7: 70 | O7: 100 | P7: 10 | Q7: 10 | R7: 8 | S7: 2 | T7: 70 | U7: 100 | W7: 10 | X7: 10 | Y7: 9 | Z7: 1 | AA7: 50 | AB7: 20 | AC7: 70 | AD7: 30 | AF7: 10 | AG7: 10 | AH7: 9 | AI7: 1 | AJ7: 50 | AK7: 20 | AL7: 70 | AM7: 30 | AO7: 10 | AP7: 10 | AQ7: 9 | AR7: 1 | AS7: 50 | AT7: 20 | AU7: 70 | AV7: 30 | AX7: 10 | AY7: 10 | AZ7: 10 | BA7: 0 | BB7: 50 | BC7: 20 | BD7: 70 | BE7: 30 | BF7: 10 | BG7: 10 | BH7: 10 | BI7: 70 | BJ7: 100 | BK7: 30 | BL7: 30 | BM7: 40 | EE7: 84 | EF7: AGRICULTURE | EG7: P | EH7: 70 | EI7: 30 | EJ7: 0 | EL7: 70 | EM7: =ROUNDUP(EL7/EL$6*EM$6,0) -> 150 | EO7: 29 | EP7: =ROUNDUP(EO7/EO$6*EP$6,0) -> 49 | ER7: 99 | ES7: =ROUNDUP(ER7/ER$6*ES$6,0) -> 198
I8: MAX. MARKS FOR SPECIAL PR. SUBJECTS | J8: 10 | K8: 10 | L8: 8 | M8: 2 | N8: 70 | O8: 100 | P8: 10 | Q8: 10 | R8: 8 | S8: 2 | T8: 70 | U8: 100 | W8: 10 | X8: 10 | Y8: 9 | Z8: 1 | AA8: 20 | AB8: 50 | AC8: 30 | AD8: 70 | AF8: 10 | AG8: 10 | AH8: 9 | AI8: 1 | AJ8: 20 | AK8: 50 | AL8: 30 | AM8: 70 | AO8: 10 | AP8: 10 | AQ8: 9 | AR8: 1 | AS8: 35 | AT8: 35 | AU8: 50 | AV8: 50 | AX8: 10 | AY8: 10 | AZ8: 10 | BA8: 0 | BB8: 20 | BC8: 50 | BD8: 30 | BE8: 70 | BF8: 10 | BG8: 10 | BH8: 10 | BI8: 70 | BJ8: 100 | BK8: 30 | BL8: 30 | BM8: 40 | EE8: 39 | EF8: AGRICULTURE BIOLOGY | EG8: P | EH8: 70 | EI8: 30 | EJ8: 0 | EL8: 69 | EM8: =ROUNDUP(EL8/EL$6*EM$6,0) -> 148 | EO8: 28 | EP8: =ROUNDUP(EO8/EO$6*EP$6,0) -> 47 | ER8: 98 | ES8: =ROUNDUP(ER8/ER$6*ES$6,0) -> 196
A9: 1 | B9: OBC | C9: G | D9: 11111 | E9: 11101 | F9: 35179 | G9: A 001 | H9: B 001 | I9: C 001 | J9: 10 | K9: 10 | L9: 8 | M9: 2 | N9: 70 | O9: 100 | P9: 10 | Q9: 10 | R9: 8 | S9: 2 | T9: 70 | U9: 100 | V9: b | W9: 10 | X9: 10 | Y9: 9 | Z9: 1 | AA9: 30 | AB9: 20 | AC9: 70 | AD9: 30 | AE9: b | AF9: 10 | AG9: 10 | AH9: 9 | AI9: 1 | AJ9: 50 | AK9: 20 | AL9: 70 | AM9: 30 | AN9: b | AO9: 10 | AP9: 10 | AQ9: 9 | AR9: 1 | AS9: 70 | AU9: 18 | AW9: a | AX9: 10 | AY9: 10 | AZ9: 10 | BB9: 50 | BC9: 20 | BD9: 70 | BE9: 30 | BF9: 10 | BG9: 10 | BH9: 10 | BI9: 70 | BJ9: 100 | BK9: 30 | BL9: 30 | BM9: 40 | BQ9: =IF($E9="","",IF(BQ$6="","",BQ$6)) | BS9: =IF($E9="","",IF(BS$6="","",BS$6)) -> 44 | BT9: 20 | BU9: =IF($E9="","",IF(BU$6="","",BU$6)) -> 44 | BV9: 20 | BW9: =IF($E9="","",IF(BW$6="","",BW$6)) -> 42 | BX9: 20 | BY9: =IF($E9="","",IF(BY$6="","",BY$6)) -> 40 | BZ9: 20 | CA9: =IF($E9="","",IF(CA$6="","",CA$6)) -> 36 | CB9: 20 | CC9: =IF($E9="","",IF(CC$6="","",CC$6)) -> 34 | CD9: 20 | CE9: =IF($E9="","",IF(CE$6="","",CE$6)) -> 24 | CF9: 20 | CG9: =IF($E9="","",IF(CG$6="","",CG$6)) -> 28 | CH9: 20 | CI9: =IF($E9="","",IF(CI$6="","",CI$6)) -> 24 | CJ9: 20 | CK9: =IF($E9="","",IF(CK$6="","",CK$6)) -> 24 | CL9: 20 | CM9: =IF($E9="","",IF(CM$6="","",CM$6)) -> 22 | CN9: 20 | CP9: =IF(BS9="","",SUM(BQ9,BS9)) -> 44 | CQ9: =IF(BT9="","",SUM(BR9,BT9)) -> 20 | CR9: =IF(BU9="","",SUM(CP9,BU9)) -> 88 | CS9: =IF(BV9="","",SUM(CQ9,BV9)) -> 40 | CT9: =IF(BW9="","",SUM(CR9,BW9)) -> 130 | CU9: =IF(BX9="","",SUM(CS9,BX9)) -> 60 | CV9: =IF(BY9="","",SUM(CT9,BY9)) -> 170 | CW9: =IF(BZ9="","",SUM(CU9,BZ9)) -> 80 | CX9: =IF(CA9="","",SUM(CV9,CA9)) -> 206 | CY9: =IF(CB9="","",SUM(CW9,CB9)) -> 100 | ... DI9: =IF(CL9="","",SUM(DG9,CL9)) -> 200 | DJ9: =IF(E9="","",SUM(BQ9,BS9,BU9,BW9,BY9,CA9,CC9,CE9,CG9,CI9,CK9,CM9)) -> 362 | DK9: =IF(E9="","",SUM(BR9,BT9,BV9,BX9,BZ9,CB9,CD9,CF9,CH9,CJ9,CL9,CN9)) -> 220 | EE9: 38 | EF9: AGRICULTURE CHEMISTRY | EG9: P | EH9: 70 | EI9: 30 | EJ9: 0 | EL9: 68 | EM9: =ROUNDUP(EL9/EL$6*EM$6,0) -> 146 | EO9: 27 | EP9: =ROUNDUP(EO9/EO$6*EP$6,0) -> 45 | ER9: 97 | ES9: =ROUNDUP(ER9/ER$6*ES$6,0) -> 194
A10: 2 | E10: 11102 | G10: A 002 | H10: B 002 | I10: C 002 | J10: 10 | K10: 10 | L10: 8 | M10: 2 | N10: 70 | O10: 100 | P10: 10 | Q10: 10 | R10: 8 | S10: 2 | T10: 70 | U10: 100 | V10: b | W10: 10 | X10: 10 | Y10: 9 | Z10: 1 | AA10: 30 | AB10: 20 | AC10: 70 | AD10: 30 | AE10: b | AF10: 10 | AG10: 10 | AH10: 9 | AI10: 1 | AJ10: 50 | AK10: 20 | AL10: 70 | AM10: 30 | AN10: b | AO10: 10 | AP10: 10 | AQ10: 9 | AR10: 1 | AS10: 70 | AU10: 18 | AW10: a | AX10: 10 | AY10: 10 | AZ10: 10 | BB10: 50 | BC10: 20 | BD10: 70 | BE10: 30 | BF10: 10 | BG10: 10 | BH10: 10 | BI10: 70 | BJ10: 100 | BK10: 30 | BL10: 30 | BM10: 40 | BO10: SC | BQ10: =IF($E10="","",IF(BQ$6="","",BQ$6)) | BS10: =IF($E10="","",IF(BS$6="","",BS$6)) -> 44 | BT10: 20 | BU10: =IF($E10="","",IF(BU$6="","",BU$6)) -> 44 | BV10: 20 | BW10: =IF($E10="","",IF(BW$6="","",BW$6)) -> 42 | BX10: 20 | BY10: =IF($E10="","",IF(BY$6="","",BY$6)) -> 40 | BZ10: 20 | CA10: =IF($E10="","",IF(CA$6="","",CA$6)) -> 36 | CB10: 20 | CC10: =IF($E10="","",IF(CC$6="","",CC$6)) -> 34 | CD10: 20 | CE10: =IF($E10="","",IF(CE$6="","",CE$6)) -> 24 | CF10: 20 | CG10: =IF($E10="","",IF(CG$6="","",CG$6)) -> 28 | CH10: 20 | CI10: =IF($E10="","",IF(CI$6="","",CI$6)) -> 24 | CJ10: 20 | CK10: =IF($E10="","",IF(CK$6="","",CK$6)) -> 24 | CL10: 20 | CM10: =IF($E10="","",IF(CM$6="","",CM$6)) -> 22 | CN10: 20 | CP10: =IF(BS10="","",SUM(BQ10,BS10)) -> 44 | CQ10: =IF(BT10="","",SUM(BR10,BT10)) -> 20 | CR10: =IF(BU10="","",SUM(CP10,BU10)) -> 88 | CS10: =IF(BV10="","",SUM(CQ10,BV10)) -> 40 | CT10: =IF(BW10="","",SUM(CR10,BW10)) -> 130 | CU10: =IF(BX10="","",SUM(CS10,BX10)) -> 60 | CV10: =IF(BY10="","",SUM(CT10,BY10)) -> 170 | CW10: =IF(BZ10="","",SUM(CU10,BZ10)) -> 80 | CX10: =IF(CA10="","",SUM(CV10,CA10)) -> 206 | CY10: =IF(CB10="","",SUM(CW10,CB10)) -> 100 | ... DI10: =IF(CL10="","",SUM(DG10,CL10)) -> 200 | DJ10: =IF(E10="","",SUM(BQ10,BS10,BU10,BW10,BY10,CA10,CC10,CE10,CG10,CI10,CK10,CM10)) -> 362 | DK10: =IF(E10="","",SUM(BR10,BT10,BV10,BX10,BZ10,CB10,CD10,CF10,CH10,CJ10,CL10,CN10)) -> 220 | EE10: 42 | EF10: BIOLOGY | EG10: P | EH10: 70 | EI10: 30 | EJ10: 0 | EL10: 67 | EM10: =ROUNDUP(EL10/EL$6*EM$6,0) -> 144 | EO10: 26 | EP10: =ROUNDUP(EO10/EO$6*EP$6,0) -> 44 | ER10: 96 | ES10: =ROUNDUP(ER10/ER$6*ES$6,0) -> 192
A11: 3 | E11: 11103 | G11: A 003 | H11: B 003 | I11: C 003 | J11: 10 | K11: 10 | L11: 8 | M11: 2 | N11: 70 | O11: 100 | P11: 10 | Q11: 10 | R11: 8 | S11: 2 | T11: 70 | U11: 100 | V11: b | W11: 10 | X11: 10 | Y11: 9 | Z11: 1 | AA11: 30 | AB11: 20 | AC11: 70 | AD11: 30 | AE11: b | AF11: 10 | AG11: 10 | AH11: 9 | AI11: 1 | AJ11: 50 | AK11: 20 | AL11: 70 | AM11: 30 | AN11: b | AO11: 10 | AP11: 10 | AQ11: 9 | AR11: 1 | AS11: 70 | AU11: 18 | AW11: a | AX11: 10 | AY11: 10 | AZ11: 10 | BB11: 50 | BC11: 20 | BD11: 70 | BE11: 30 | BF11: 10 | BG11: 10 | BH11: 10 | BI11: 70 | BJ11: 100 | BK11: 30 | BL11: 30 | BM11: 40 | BO11: ST | BQ11: =IF($E11="","",IF(BQ$6="","",BQ$6)) | BS11: =IF($E11="","",IF(BS$6="","",BS$6)) -> 44 | BU11: =IF($E11="","",IF(BU$6="","",BU$6)) -> 44 | BW11: =IF($E11="","",IF(BW$6="","",BW$6)) -> 42 | BY11: =IF($E11="","",IF(BY$6="","",BY$6)) -> 40 | CA11: =IF($E11="","",IF(CA$6="","",CA$6)) -> 36 | CC11: =IF($E11="","",IF(CC$6="","",CC$6)) -> 34 | CE11: =IF($E11="","",IF(CE$6="","",CE$6)) -> 24 | CG11: =IF($E11="","",IF(CG$6="","",CG$6)) -> 28 | CI11: =IF($E11="","",IF(CI$6="","",CI$6)) -> 24 | CK11: =IF($E11="","",IF(CK$6="","",CK$6)) -> 24 | CM11: =IF($E11="","",IF(CM$6="","",CM$6)) -> 22 | CP11: =IF(BS11="","",SUM(BQ11,BS11)) -> 44 | CQ11: =IF(BT11="","",SUM(BR11,BT11)) | CR11: =IF(BU11="","",SUM(CP11,BU11)) -> 88 | CS11: =IF(BV11="","",SUM(CQ11,BV11)) | CT11: =IF(BW11="","",SUM(CR11,BW11)) -> 130 | CU11: =IF(BX11="","",SUM(CS11,BX11)) | CV11: =IF(BY11="","",SUM(CT11,BY11)) -> 170 | CW11: =IF(BZ11="","",SUM(CU11,BZ11)) | CX11: =IF(CA11="","",SUM(CV11,CA11)) -> 206 | CY11: =IF(CB11="","",SUM(CW11,CB11)) | ... DI11: =IF(CL11="","",SUM(DG11,CL11)) | DJ11: =IF(E11="","",SUM(BQ11,BS11,BU11,BW11,BY11,CA11,CC11,CE11,CG11,CI11,CK11,CM11)) -> 362 | DK11: =IF(E11="","",SUM(BR11,BT11,BV11,BX11,BZ11,CB11,CD11,CF11,CH11,CJ11,CL11,CN11)) -> 0 | EE11: 41 | EF11: CHEMISTRY | EG11: P | EH11: 70 | EI11: 30 | EJ11: 0 | EL11: 66 | EM11: =ROUNDUP(EL11/EL$6*EM$6,0) -> 142 | EO11: 25 | EP11: =ROUNDUP(EO11/EO$6*EP$6,0) -> 42 | ER11: 95 | ES11: =ROUNDUP(ER11/ER$6*ES$6,0) -> 190
A12: 4 | E12: 11104 | G12: A 004 | H12: B 004 | I12: C 004 | J12: 10 | K12: 10 | L12: 8 | M12: 2 | N12: 70 | O12: 100 | P12: 10 | Q12: 10 | R12: 8 | S12: 2 | T12: 70 | U12: 100 | V12: b | W12: 10 | X12: 10 | Y12: 9 | Z12: 1 | AA12: 30 | AB12: 20 | AC12: 70 | AD12: 30 | AE12: b | AF12: 10 | AG12: 10 | AH12: 9 | AI12: 1 | AJ12: 50 | AK12: 20 | AL12: 70 | AM12: 30 | AN12: b | AO12: 10 | AP12: 10 | AQ12: 9 | AR12: 1 | AS12: 70 | AU12: 18 | AW12: a | AX12: 10 | AY12: 10 | AZ12: 10 | BB12: 50 | BC12: 20 | BD12: 70 | BE12: 30 | BF12: 10 | BG12: 10 | BH12: 10 | BI12: 70 | BJ12: 100 | BK12: 30 | BL12: 30 | BM12: 40 | BO12: OBC | BQ12: =IF($E12="","",IF(BQ$6="","",BQ$6)) | BS12: =IF($E12="","",IF(BS$6="","",BS$6)) -> 44 | BU12: =IF($E12="","",IF(BU$6="","",BU$6)) -> 44 | BW12: =IF($E12="","",IF(BW$6="","",BW$6)) -> 42 | BY12: =IF($E12="","",IF(BY$6="","",BY$6)) -> 40 | CA12: =IF($E12="","",IF(CA$6="","",CA$6)) -> 36 | CC12: =IF($E12="","",IF(CC$6="","",CC$6)) -> 34 | CE12: =IF($E12="","",IF(CE$6="","",CE$6)) -> 24 | CG12: =IF($E12="","",IF(CG$6="","",CG$6)) -> 28 | CI12: =IF($E12="","",IF(CI$6="","",CI$6)) -> 24 | CK12: =IF($E12="","",IF(CK$6="","",CK$6)) -> 24 | CM12: =IF($E12="","",IF(CM$6="","",CM$6)) -> 22 | CP12: =IF(BS12="","",SUM(BQ12,BS12)) -> 44 | CQ12: =IF(BT12="","",SUM(BR12,BT12)) | CR12: =IF(BU12="","",SUM(CP12,BU12)) -> 88 | CS12: =IF(BV12="","",SUM(CQ12,BV12)) | CT12: =IF(BW12="","",SUM(CR12,BW12)) -> 130 | CU12: =IF(BX12="","",SUM(CS12,BX12)) | CV12: =IF(BY12="","",SUM(CT12,BY12)) -> 170 | CW12: =IF(BZ12="","",SUM(CU12,BZ12)) | CX12: =IF(CA12="","",SUM(CV12,CA12)) -> 206 | CY12: =IF(CB12="","",SUM(CW12,CB12)) | ... DI12: =IF(CL12="","",SUM(DG12,CL12)) | DJ12: =IF(E12="","",SUM(BQ12,BS12,BU12,BW12,BY12,CA12,CC12,CE12,CG12,CI12,CK12,CM12)) -> 362 | DK12: =IF(E12="","",SUM(BR12,BT12,BV12,BX12,BZ12,CB12,CD12,CF12,CH12,CJ12,CL12,CN12)) -> 0 | EE12: 43 | EF12: GEO SCIENCE | EG12: P | EH12: 70 | EI12: 30 | EJ12: 0 | EL12: 65 | EM12: =ROUNDUP(EL12/EL$6*EM$6,0) -> 140 | EO12: 24 | EP12: =ROUNDUP(EO12/EO$6*EP$6,0) -> 40 | ER12: 94 | ES12: =ROUNDUP(ER12/ER$6*ES$6,0) -> 188
A13: 5 | E13: 11105 | G13: A 005 | H13: B 005 | I13: C 005 | J13: 10 | K13: 10 | L13: 8 | M13: 2 | N13: 70 | O13: 100 | P13: 10 | Q13: 10 | R13: 8 | S13: 2 | T13: 70 | U13: 100 | V13: b | W13: 10 | X13: 10 | Y13: 9 | Z13: 1 | AA13: 30 | AB13: 20 | AC13: 70 | AD13: 30 | AE13: b | AF13: 10 | AG13: 10 | AH13: 9 | AI13: 1 | AJ13: 50 | AK13: 20 | AL13: 70 | AM13: 30 | AN13: b | AO13: 10 | AP13: 10 | AQ13: 9 | AR13: 1 | AS13: 70 | AU13: 18 | AW13: a | AX13: 10 | AY13: 10 | AZ13: 10 | BB13: 50 | BC13: 20 | BD13: 70 | BE13: 30 | BF13: 10 | BG13: 10 | BH13: 10 | BI13: 70 | BJ13: 100 | BK13: 30 | BL13: 30 | BM13: 40 | BO13: SBC | BQ13: =IF($E13="","",IF(BQ$6="","",BQ$6)) | BS13: =IF($E13="","",IF(BS$6="","",BS$6)) -> 44 | BU13: =IF($E13="","",IF(BU$6="","",BU$6)) -> 44 | BW13: =IF($E13="","",IF(BW$6="","",BW$6)) -> 42 | BY13: =IF($E13="","",IF(BY$6="","",BY$6)) -> 40 | CA13: =IF($E13="","",IF(CA$6="","",CA$6)) -> 36 | CC13: =IF($E13="","",IF(CC$6="","",CC$6)) -> 34 | CE13: =IF($E13="","",IF(CE$6="","",CE$6)) -> 24 | CG13: =IF($E13="","",IF(CG$6="","",CG$6)) -> 28 | CI13: =IF($E13="","",IF(CI$6="","",CI$6)) -> 24 | CK13: =IF($E13="","",IF(CK$6="","",CK$6)) -> 24 | CM13: =IF($E13="","",IF(CM$6="","",CM$6)) -> 22 | CP13: =IF(BS13="","",SUM(BQ13,BS13)) -> 44 | CQ13: =IF(BT13="","",SUM(BR13,BT13)) | CR13: =IF(BU13="","",SUM(CP13,BU13)) -> 88 | CS13: =IF(BV13="","",SUM(CQ13,BV13)) | CT13: =IF(BW13="","",SUM(CR13,BW13)) -> 130 | CU13: =IF(BX13="","",SUM(CS13,BX13)) | CV13: =IF(BY13="","",SUM(CT13,BY13)) -> 170 | CW13: =IF(BZ13="","",SUM(CU13,BZ13)) | CX13: =IF(CA13="","",SUM(CV13,CA13)) -> 206 | CY13: =IF(CB13="","",SUM(CW13,CB13)) | ... DI13: =IF(CL13="","",SUM(DG13,CL13)) | DJ13: =IF(E13="","",SUM(BQ13,BS13,BU13,BW13,BY13,CA13,CC13,CE13,CG13,CI13,CK13,CM13)) -> 362 | DK13: =IF(E13="","",SUM(BR13,BT13,BV13,BX13,BZ13,CB13,CD13,CF13,CH13,CJ13,CL13,CN13)) -> 0 | EE13: 14 | EF13: GEOGRAPHY | EG13: P | EH13: 70 | EI13: 30 | EJ13: 0 | EL13: 64 | EM13: =ROUNDUP(EL13/EL$6*EM$6,0) -> 138 | EO13: 23 | EP13: =ROUNDUP(EO13/EO$6*EP$6,0) -> 39 | ER13: 93 | ES13: =ROUNDUP(ER13/ER$6*ES$6,0) -> 186
A14: 6 | E14: 11106 | G14: A 006 | H14: B 006 | I14: C 006 | J14: 10 | K14: 10 | L14: 8 | M14: 2 | N14: 70 | O14: 100 | P14: 10 | Q14: 10 | R14: 8 | S14: 2 | T14: 70 | U14: 100 | V14: b | W14: 10 | X14: 10 | Y14: 9 | Z14: 1 | AA14: 30 | AB14: 20 | AC14: 70 | AD14: 30 | AE14: b | AF14: 10 | AG14: 10 | AH14: 9 | AI14: 1 | AJ14: 50 | AK14: 20 | AL14: 70 | AM14: 30 | AN14: b | AO14: 10 | AP14: 10 | AQ14: 9 | AR14: 1 | AS14: 70 | AU14: 18 | AW14: a | AX14: 10 | AY14: 10 | AZ14: 10 | BB14: 50 | BC14: 20 | BD14: 70 | BE14: 30 | BF14: 10 | BG14: 10 | BH14: 10 | BI14: 70 | BJ14: 100 | BK14: 30 | BL14: 30 | BM14: 40 | BO14: GEN | BQ14: =IF($E14="","",IF(BQ$6="","",BQ$6)) | BS14: =IF($E14="","",IF(BS$6="","",BS$6)) -> 44 | BU14: =IF($E14="","",IF(BU$6="","",BU$6)) -> 44 | BW14: =IF($E14="","",IF(BW$6="","",BW$6)) -> 42 | BY14: =IF($E14="","",IF(BY$6="","",BY$6)) -> 40 | CA14: =IF($E14="","",IF(CA$6="","",CA$6)) -> 36 | CC14: =IF($E14="","",IF(CC$6="","",CC$6)) -> 34 | CE14: =IF($E14="","",IF(CE$6="","",CE$6)) -> 24 | CG14: =IF($E14="","",IF(CG$6="","",CG$6)) -> 28 | CI14: =IF($E14="","",IF(CI$6="","",CI$6)) -> 24 | CK14: =IF($E14="","",IF(CK$6="","",CK$6)) -> 24 | CM14: =IF($E14="","",IF(CM$6="","",CM$6)) -> 22 | CP14: =IF(BS14="","",SUM(BQ14,BS14)) -> 44 | CQ14: =IF(BT14="","",SUM(BR14,BT14)) | CR14: =IF(BU14="","",SUM(CP14,BU14)) -> 88 | CS14: =IF(BV14="","",SUM(CQ14,BV14)) | CT14: =IF(BW14="","",SUM(CR14,BW14)) -> 130 | CU14: =IF(BX14="","",SUM(CS14,BX14)) | CV14: =IF(BY14="","",SUM(CT14,BY14)) -> 170 | CW14: =IF(BZ14="","",SUM(CU14,BZ14)) | CX14: =IF(CA14="","",SUM(CV14,CA14)) -> 206 | CY14: =IF(CB14="","",SUM(CW14,CB14)) | ... DI14: =IF(CL14="","",SUM(DG14,CL14)) | DJ14: =IF(E14="","",SUM(BQ14,BS14,BU14,BW14,BY14,CA14,CC14,CE14,CG14,CI14,CK14,CM14)) -> 362 | DK14: =IF(E14="","",SUM(BR14,BT14,BV14,BX14,BZ14,CB14,CD14,CF14,CH14,CJ14,CL14,CN14)) -> 0 | EE14: 18 | EF14: HOME SCIENCE | EG14: P | EH14: 70 | EI14: 30 | EJ14: 0 | EL14: 63 | EM14: =ROUNDUP(EL14/EL$6*EM$6,0) -> 135 | EO14: 22 | EP14: =ROUNDUP(EO14/EO$6*EP$6,0) -> 37 | ER14: 92 | ES14: =ROUNDUP(ER14/ER$6*ES$6,0) -> 184
A15: 7 | E15: 11107 | G15: A 007 | H15: B 007 | I15: C 007 | J15: 10 | K15: 10 | L15: 8 | M15: 2 | N15: 70 | O15: 100 | P15: 10 | Q15: 10 | R15: 8 | S15: 2 | T15: 70 | U15: 100 | V15: b | W15: 10 | X15: 10 | Y15: 9 | Z15: 1 | AA15: 30 | AB15: 20 | AC15: 70 | AD15: 30 | AE15: b | AF15: 10 | AG15: 10 | AH15: 9 | AI15: 1 | AJ15: 50 | AK15: 20 | AL15: 70 | AM15: 30 | AN15: b | AO15: 10 | AP15: 10 | AQ15: 9 | AR15: 1 | AS15: 70 | AU15: 18 | AW15: a | AX15: 10 | AY15: 10 | AZ15: 10 | BB15: 50 | BC15: 20 | BD15: 70 | BE15: 30 | BF15: 10 | BG15: 10 | BH15: 10 | BI15: 70 | BJ15: 100 | BK15: 30 | BL15: 30 | BM15: 40 | BO15: MIN | BQ15: =IF($E15="","",IF(BQ$6="","",BQ$6)) | BS15: =IF($E15="","",IF(BS$6="","",BS$6)) -> 44 | BU15: =IF($E15="","",IF(BU$6="","",BU$6)) -> 44 | BW15: =IF($E15="","",IF(BW$6="","",BW$6)) -> 42 | BY15: =IF($E15="","",IF(BY$6="","",BY$6)) -> 40 | CA15: =IF($E15="","",IF(CA$6="","",CA$6)) -> 36 | CC15: =IF($E15="","",IF(CC$6="","",CC$6)) -> 34 | CE15: =IF($E15="","",IF(CE$6="","",CE$6)) -> 24 | CG15: =IF($E15="","",IF(CG$6="","",CG$6)) -> 28 | CI15: =IF($E15="","",IF(CI$6="","",CI$6)) -> 24 | CK15: =IF($E15="","",IF(CK$6="","",CK$6)) -> 24 | CM15: =IF($E15="","",IF(CM$6="","",CM$6)) -> 22 | CP15: =IF(BS15="","",SUM(BQ15,BS15)) -> 44 | CQ15: =IF(BT15="","",SUM(BR15,BT15)) | CR15: =IF(BU15="","",SUM(CP15,BU15)) -> 88 | CS15: =IF(BV15="","",SUM(CQ15,BV15)) | CT15: =IF(BW15="","",SUM(CR15,BW15)) -> 130 | CU15: =IF(BX15="","",SUM(CS15,BX15)) | CV15: =IF(BY15="","",SUM(CT15,BY15)) -> 170 | CW15: =IF(BZ15="","",SUM(CU15,BZ15)) | CX15: =IF(CA15="","",SUM(CV15,CA15)) -> 206 | CY15: =IF(CB15="","",SUM(CW15,CB15)) | ... DI15: =IF(CL15="","",SUM(DG15,CL15)) | DJ15: =IF(E15="","",SUM(BQ15,BS15,BU15,BW15,BY15,CA15,CC15,CE15,CG15,CI15,CK15,CM15)) -> 362 | DK15: =IF(E15="","",SUM(BR15,BT15,BV15,BX15,BZ15,CB15,CD15,CF15,CH15,CJ15,CL15,CN15)) -> 0 | EE15: 4 | EF15: INFORMATION PRACTICE | EG15: P | EH15: 70 | EI15: 30 | EJ15: 0 | EL15: 62 | EM15: =ROUNDUP(EL15/EL$6*EM$6,0) -> 133 | EO15: 21 | EP15: =ROUNDUP(EO15/EO$6*EP$6,0) -> 35 | ER15: 91 | ES15: =ROUNDUP(ER15/ER$6*ES$6,0) -> 182
A16: 8 | E16: 11108 | G16: A 008 | H16: B 008 | I16: C 008 | J16: 10 | K16: 10 | L16: 8 | M16: 2 | N16: 70 | O16: 100 | P16: 10 | Q16: 10 | R16: 8 | S16: 2 | T16: 70 | U16: 100 | V16: b | W16: 10 | X16: 10 | Y16: 9 | Z16: 1 | AA16: 30 | AB16: 20 | AC16: 70 | AD16: 30 | AE16: b | AF16: 10 | AG16: 10 | AH16: 9 | AI16: 1 | AJ16: 50 | AK16: 20 | AL16: 70 | AM16: 30 | AN16: b | AO16: 10 | AP16: 10 | AQ16: 9 | AR16: 1 | AS16: 70 | AU16: 18 | AW16: a | AX16: 10 | AY16: 10 | AZ16: 10 | BB16: 50 | BC16: 20 | BD16: 70 | BE16: 30 | BF16: 10 | BG16: 10 | BH16: 10 | BI16: 70 | BJ16: 100 | BK16: 30 | BL16: 30 | BM16: 40 | BQ16: =IF($E16="","",IF(BQ$6="","",BQ$6)) | BS16: =IF($E16="","",IF(BS$6="","",BS$6)) -> 44 | BU16: =IF($E16="","",IF(BU$6="","",BU$6)) -> 44 | BW16: =IF($E16="","",IF(BW$6="","",BW$6)) -> 42 | BY16: =IF($E16="","",IF(BY$6="","",BY$6)) -> 40 | CA16: =IF($E16="","",IF(CA$6="","",CA$6)) -> 36 | CC16: =IF($E16="","",IF(CC$6="","",CC$6)) -> 34 | CE16: =IF($E16="","",IF(CE$6="","",CE$6)) -> 24 | CG16: =IF($E16="","",IF(CG$6="","",CG$6)) -> 28 | CI16: =IF($E16="","",IF(CI$6="","",CI$6)) -> 24 | CK16: =IF($E16="","",IF(CK$6="","",CK$6)) -> 24 | CM16: =IF($E16="","",IF(CM$6="","",CM$6)) -> 22 | CP16: =IF(BS16="","",SUM(BQ16,BS16)) -> 44 | CQ16: =IF(BT16="","",SUM(BR16,BT16)) | CR16: =IF(BU16="","",SUM(CP16,BU16)) -> 88 | CS16: =IF(BV16="","",SUM(CQ16,BV16)) | CT16: =IF(BW16="","",SUM(CR16,BW16)) -> 130 | CU16: =IF(BX16="","",SUM(CS16,BX16)) | CV16: =IF(BY16="","",SUM(CT16,BY16)) -> 170 | CW16: =IF(BZ16="","",SUM(CU16,BZ16)) | CX16: =IF(CA16="","",SUM(CV16,CA16)) -> 206 | CY16: =IF(CB16="","",SUM(CW16,CB16)) | ... DI16: =IF(CL16="","",SUM(DG16,CL16)) | DJ16: =IF(E16="","",SUM(BQ16,BS16,BU16,BW16,BY16,CA16,CC16,CE16,CG16,CI16,CK16,CM16)) -> 362 | DK16: =IF(E16="","",SUM(BR16,BT16,BV16,BX16,BZ16,CB16,CD16,CF16,CH16,CJ16,CL16,CN16)) -> 0 | EE16: 3 | EF16: INFORMATION TECHNOLOGY AND PROCESSING 1 | EG16: P | EH16: 70 | EI16: 30 | EJ16: 0 | EL16: 61 | EM16: =ROUNDUP(EL16/EL$6*EM$6,0) -> 131 | EO16: 20 | EP16: =ROUNDUP(EO16/EO$6*EP$6,0) -> 34 | ER16: 90 | ES16: =ROUNDUP(ER16/ER$6*ES$6,0) -> 180
A17: 9 | E17: 11109 | G17: A 009 | H17: B 009 | I17: C 009 | J17: 10 | K17: 10 | L17: 8 | M17: 2 | N17: 70 | O17: 100 | P17: 10 | Q17: 10 | R17: 8 | S17: 2 | T17: 70 | U17: 100 | V17: b | W17: 10 | X17: 10 | Y17: 9 | Z17: 1 | AA17: 30 | AB17: 20 | AC17: 70 | AD17: 30 | AE17: b | AF17: 10 | AG17: 10 | AH17: 9 | AI17: 1 | AJ17: 50 | AK17: 20 | AL17: 70 | AM17: 30 | AN17: b | AO17: 10 | AP17: 10 | AQ17: 9 | AR17: 1 | AS17: 70 | AU17: 18 | AW17: a | AX17: 10 | AY17: 10 | AZ17: 10 | BB17: 50 | BC17: 20 | BD17: 70 | BE17: 30 | BF17: 10 | BG17: 10 | BH17: 10 | BI17: 70 | BJ17: 100 | BK17: 30 | BL17: 30 | BM17: 40 | BQ17: =IF($E17="","",IF(BQ$6="","",BQ$6)) | BS17: =IF($E17="","",IF(BS$6="","",BS$6)) -> 44 | BU17: =IF($E17="","",IF(BU$6="","",BU$6)) -> 44 | BW17: =IF($E17="","",IF(BW$6="","",BW$6)) -> 42 | BY17: =IF($E17="","",IF(BY$6="","",BY$6)) -> 40 | CA17: =IF($E17="","",IF(CA$6="","",CA$6)) -> 36 | CC17: =IF($E17="","",IF(CC$6="","",CC$6)) -> 34 | CE17: =IF($E17="","",IF(CE$6="","",CE$6)) -> 24 | CG17: =IF($E17="","",IF(CG$6="","",CG$6)) -> 28 | CI17: =IF($E17="","",IF(CI$6="","",CI$6)) -> 24 | CK17: =IF($E17="","",IF(CK$6="","",CK$6)) -> 24 | CM17: =IF($E17="","",IF(CM$6="","",CM$6)) -> 22 | CP17: =IF(BS17="","",SUM(BQ17,BS17)) -> 44 | CQ17: =IF(BT17="","",SUM(BR17,BT17)) | CR17: =IF(BU17="","",SUM(CP17,BU17)) -> 88 | CS17: =IF(BV17="","",SUM(CQ17,BV17)) | CT17: =IF(BW17="","",SUM(CR17,BW17)) -> 130 | CU17: =IF(BX17="","",SUM(CS17,BX17)) | CV17: =IF(BY17="","",SUM(CT17,BY17)) -> 170 | CW17: =IF(BZ17="","",SUM(CU17,BZ17)) | CX17: =IF(CA17="","",SUM(CV17,CA17)) -> 206 | CY17: =IF(CB17="","",SUM(CW17,CB17)) | ... DI17: =IF(CL17="","",SUM(DG17,CL17)) | DJ17: =IF(E17="","",SUM(BQ17,BS17,BU17,BW17,BY17,CA17,CC17,CE17,CG17,CI17,CK17,CM17)) -> 362 | DK17: =IF(E17="","",SUM(BR17,BT17,BV17,BX17,BZ17,CB17,CD17,CF17,CH17,CJ17,CL17,CN17)) -> 0 | EE17: 5 | EF17: MULTIMEDIA WEB TECH | EG17: P | EH17: 70 | EI17: 30 | EJ17: 0 | EL17: 60 | EM17: =ROUNDUP(EL17/EL$6*EM$6,0) -> 129 | EO17: 19 | EP17: =ROUNDUP(EO17/EO$6*EP$6,0) -> 32 | ER17: 89 | ES17: =ROUNDUP(ER17/ER$6*ES$6,0) -> 178
A18: 10 | E18: 11110 | G18: A 010 | H18: B 010 | I18: C 010 | J18: 10 | K18: 10 | L18: 8 | M18: 2 | N18: 70 | O18: 100 | P18: 10 | Q18: 10 | R18: 8 | S18: 2 | T18: 70 | U18: 100 | V18: b | W18: 10 | X18: 10 | Y18: 9 | Z18: 1 | AA18: 30 | AB18: 20 | AC18: 70 | AD18: 30 | AE18: b | AF18: 10 | AG18: 10 | AH18: 9 | AI18: 1 | AJ18: 50 | AK18: 20 | AL18: 70 | AM18: 30 | AN18: b | AO18: 10 | AP18: 10 | AQ18: 9 | AR18: 1 | AS18: 70 | AU18: 18 | AW18: a | AX18: 10 | AY18: 10 | AZ18: 10 | BB18: 50 | BC18: 20 | BD18: 70 | BE18: 30 | BF18: 10 | BG18: 10 | BH18: 10 | BI18: 70 | BJ18: 100 | BK18: 30 | BL18: 30 | BM18: 40 | BO18: B | BQ18: =IF($E18="","",IF(BQ$6="","",BQ$6)) | BS18: =IF($E18="","",IF(BS$6="","",BS$6)) -> 44 | BU18: =IF($E18="","",IF(BU$6="","",BU$6)) -> 44 | BW18: =IF($E18="","",IF(BW$6="","",BW$6)) -> 42 | BY18: =IF($E18="","",IF(BY$6="","",BY$6)) -> 40 | CA18: =IF($E18="","",IF(CA$6="","",CA$6)) -> 36 | CC18: =IF($E18="","",IF(CC$6="","",CC$6)) -> 34 | CE18: =IF($E18="","",IF(CE$6="","",CE$6)) -> 24 | CG18: =IF($E18="","",IF(CG$6="","",CG$6)) -> 28 | CI18: =IF($E18="","",IF(CI$6="","",CI$6)) -> 24 | CK18: =IF($E18="","",IF(CK$6="","",CK$6)) -> 24 | CM18: =IF($E18="","",IF(CM$6="","",CM$6)) -> 22 | CP18: =IF(BS18="","",SUM(BQ18,BS18)) -> 44 | CQ18: =IF(BT18="","",SUM(BR18,BT18)) | CR18: =IF(BU18="","",SUM(CP18,BU18)) -> 88 | CS18: =IF(BV18="","",SUM(CQ18,BV18)) | CT18: =IF(BW18="","",SUM(CR18,BW18)) -> 130 | CU18: =IF(BX18="","",SUM(CS18,BX18)) | CV18: =IF(BY18="","",SUM(CT18,BY18)) -> 170 | CW18: =IF(BZ18="","",SUM(CU18,BZ18)) | CX18: =IF(CA18="","",SUM(CV18,CA18)) -> 206 | CY18: =IF(CB18="","",SUM(CW18,CB18)) | ... DI18: =IF(CL18="","",SUM(DG18,CL18)) | DJ18: =IF(E18="","",SUM(BQ18,BS18,BU18,BW18,BY18,CA18,CC18,CE18,CG18,CI18,CK18,CM18)) -> 362 | DK18: =IF(E18="","",SUM(BR18,BT18,BV18,BX18,BZ18,CB18,CD18,CF18,CH18,CJ18,CL18,CN18)) -> 0 | EE18: 40 | EF18: PHYSICS | EG18: P | EH18: 70 | EI18: 30 | EJ18: 0 | EL18: 59 | EM18: =ROUNDUP(EL18/EL$6*EM$6,0) -> 127 | EO18: 18 | EP18: =ROUNDUP(EO18/EO$6*EP$6,0) -> 30 | ER18: 88 | ES18: =ROUNDUP(ER18/ER$6*ES$6,0) -> 176
A19: 11 | E19: 11111 | G19: A 011 | H19: B 011 | I19: C 011 | J19: 10 | K19: 10 | L19: 8 | M19: 2 | N19: 70 | O19: 100 | P19: 10 | Q19: 10 | R19: 8 | S19: 2 | T19: 70 | U19: 100 | V19: b | W19: 10 | X19: 10 | Y19: 9 | Z19: 1 | AA19: 30 | AB19: 20 | AC19: 70 | AD19: 30 | AE19: b | AF19: 10 | AG19: 10 | AH19: 9 | AI19: 1 | AJ19: 50 | AK19: 20 | AL19: 70 | AM19: 30 | AN19: b | AO19: 10 | AP19: 10 | AQ19: 9 | AR19: 1 | AS19: 70 | AU19: 18 | AW19: a | AX19: 10 | AY19: 10 | AZ19: 10 | BB19: 50 | BC19: 20 | BD19: 70 | BE19: 30 | BF19: 10 | BG19: 10 | BH19: 10 | BI19: 70 | BJ19: 100 | BK19: 30 | BL19: 30 | BM19: 40 | BO19: G | BQ19: =IF($E19="","",IF(BQ$6="","",BQ$6)) | BS19: =IF($E19="","",IF(BS$6="","",BS$6)) -> 44 | BU19: =IF($E19="","",IF(BU$6="","",BU$6)) -> 44 | BW19: =IF($E19="","",IF(BW$6="","",BW$6)) -> 42 | BY19: =IF($E19="","",IF(BY$6="","",BY$6)) -> 40 | CA19: =IF($E19="","",IF(CA$6="","",CA$6)) -> 36 | CC19: =IF($E19="","",IF(CC$6="","",CC$6)) -> 34 | CE19: =IF($E19="","",IF(CE$6="","",CE$6)) -> 24 | CG19: =IF($E19="","",IF(CG$6="","",CG$6)) -> 28 | CI19: =IF($E19="","",IF(CI$6="","",CI$6)) -> 24 | CK19: =IF($E19="","",IF(CK$6="","",CK$6)) -> 24 | CM19: =IF($E19="","",IF(CM$6="","",CM$6)) -> 22 | CP19: =IF(BS19="","",SUM(BQ19,BS19)) -> 44 | CQ19: =IF(BT19="","",SUM(BR19,BT19)) | CR19: =IF(BU19="","",SUM(CP19,BU19)) -> 88 | CS19: =IF(BV19="","",SUM(CQ19,BV19)) | CT19: =IF(BW19="","",SUM(CR19,BW19)) -> 130 | CU19: =IF(BX19="","",SUM(CS19,BX19)) | CV19: =IF(BY19="","",SUM(CT19,BY19)) -> 170 | CW19: =IF(BZ19="","",SUM(CU19,BZ19)) | CX19: =IF(CA19="","",SUM(CV19,CA19)) -> 206 | CY19: =IF(CB19="","",SUM(CW19,CB19)) | ... DI19: =IF(CL19="","",SUM(DG19,CL19)) | DJ19: =IF(E19="","",SUM(BQ19,BS19,BU19,BW19,BY19,CA19,CC19,CE19,CG19,CI19,CK19,CM19)) -> 362 | DK19: =IF(E19="","",SUM(BR19,BT19,BV19,BX19,BZ19,CB19,CD19,CF19,CH19,CJ19,CL19,CN19)) -> 0 | EE19: 19 | EF19: PSYCHOLOGY | EG19: P | EH19: 70 | EI19: 30 | EJ19: 0 | EL19: 58 | EM19: =ROUNDUP(EL19/EL$6*EM$6,0) -> 125 | EO19: 17 | EP19: =ROUNDUP(EO19/EO$6*EP$6,0) -> 29 | ER19: 87 | ES19: =ROUNDUP(ER19/ER$6*ES$6,0) -> 174
A20: 12 | E20: 11112 | G20: A 012 | H20: B 012 | I20: C 012 | J20: 10 | K20: 10 | L20: 8 | M20: 2 | N20: 70 | O20: 100 | P20: 10 | Q20: 10 | R20: 8 | S20: 2 | T20: 70 | U20: 100 | V20: b | W20: 10 | X20: 10 | Y20: 9 | Z20: 1 | AA20: 30 | AB20: 20 | AC20: 70 | AD20: 30 | AE20: b | AF20: 10 | AG20: 10 | AH20: 9 | AI20: 1 | AJ20: 50 | AK20: 20 | AL20: 70 | AM20: 30 | AN20: b | AO20: 10 | AP20: 10 | AQ20: 9 | AR20: 1 | AS20: 70 | AU20: 18 | AW20: a | AX20: 10 | AY20: 10 | AZ20: 10 | BB20: 50 | BC20: 20 | BD20: 70 | BE20: 30 | BF20: 10 | BG20: 10 | BH20: 10 | BI20: 70 | BJ20: 100 | BK20: 30 | BL20: 30 | BM20: 40 | BQ20: =IF($E20="","",IF(BQ$6="","",BQ$6)) | BS20: =IF($E20="","",IF(BS$6="","",BS$6)) -> 44 | BU20: =IF($E20="","",IF(BU$6="","",BU$6)) -> 44 | BW20: =IF($E20="","",IF(BW$6="","",BW$6)) -> 42 | BY20: =IF($E20="","",IF(BY$6="","",BY$6)) -> 40 | CA20: =IF($E20="","",IF(CA$6="","",CA$6)) -> 36 | CC20: =IF($E20="","",IF(CC$6="","",CC$6)) -> 34 | CE20: =IF($E20="","",IF(CE$6="","",CE$6)) -> 24 | CG20: =IF($E20="","",IF(CG$6="","",CG$6)) -> 28 | CI20: =IF($E20="","",IF(CI$6="","",CI$6)) -> 24 | CK20: =IF($E20="","",IF(CK$6="","",CK$6)) -> 24 | CM20: =IF($E20="","",IF(CM$6="","",CM$6)) -> 22 | CP20: =IF(BS20="","",SUM(BQ20,BS20)) -> 44 | CQ20: =IF(BT20="","",SUM(BR20,BT20)) | CR20: =IF(BU20="","",SUM(CP20,BU20)) -> 88 | CS20: =IF(BV20="","",SUM(CQ20,BV20)) | CT20: =IF(BW20="","",SUM(CR20,BW20)) -> 130 | CU20: =IF(BX20="","",SUM(CS20,BX20)) | CV20: =IF(BY20="","",SUM(CT20,BY20)) -> 170 | CW20: =IF(BZ20="","",SUM(CU20,BZ20)) | CX20: =IF(CA20="","",SUM(CV20,CA20)) -> 206 | CY20: =IF(CB20="","",SUM(CW20,CB20)) | ... DI20: =IF(CL20="","",SUM(DG20,CL20)) | DJ20: =IF(E20="","",SUM(BQ20,BS20,BU20,BW20,BY20,CA20,CC20,CE20,CG20,CI20,CK20,CM20)) -> 362 | DK20: =IF(E20="","",SUM(BR20,BT20,BV20,BX20,BZ20,CB20,CD20,CF20,CH20,CJ20,CL20,CN20)) -> 0 | EF20: COMPUTER SCIENCE | EG20: P | EH20: 70 | EI20: 30 | EJ20: 0 | EL20: 57 | EM20: =ROUNDUP(EL20/EL$6*EM$6,0) -> 123 | EO20: 16 | EP20: =ROUNDUP(EO20/EO$6*EP$6,0) -> 27 | ER20: 86 | ES20: =ROUNDUP(ER20/ER$6*ES$6,0) -> 172
A21: 13 | E21: 11113 | G21: A 013 | H21: B 013 | I21: C 013 | J21: 10 | K21: 10 | L21: 8 | M21: 2 | N21: 70 | O21: 100 | P21: 10 | Q21: 10 | R21: 8 | S21: 2 | T21: 70 | U21: 100 | V21: b | W21: 10 | X21: 10 | Y21: 9 | Z21: 1 | AA21: 30 | AB21: 20 | AC21: 70 | AD21: 30 | AE21: b | AF21: 10 | AG21: 10 | AH21: 9 | AI21: 1 | AJ21: 50 | AK21: 20 | AL21: 70 | AM21: 30 | AN21: b | AO21: 10 | AP21: 10 | AQ21: 9 | AR21: 1 | AS21: 70 | AU21: 18 | AW21: a | AX21: 10 | AY21: 10 | AZ21: 10 | BB21: 50 | BC21: 20 | BD21: 70 | BE21: 30 | BF21: 10 | BG21: 10 | BH21: 10 | BI21: 70 | BJ21: 100 | BK21: 30 | BL21: 30 | BM21: 40 | BO21: a | BQ21: =IF($E21="","",IF(BQ$6="","",BQ$6)) | BS21: =IF($E21="","",IF(BS$6="","",BS$6)) -> 44 | BU21: =IF($E21="","",IF(BU$6="","",BU$6)) -> 44 | BW21: =IF($E21="","",IF(BW$6="","",BW$6)) -> 42 | BY21: =IF($E21="","",IF(BY$6="","",BY$6)) -> 40 | CA21: =IF($E21="","",IF(CA$6="","",CA$6)) -> 36 | CC21: =IF($E21="","",IF(CC$6="","",CC$6)) -> 34 | CE21: =IF($E21="","",IF(CE$6="","",CE$6)) -> 24 | CG21: =IF($E21="","",IF(CG$6="","",CG$6)) -> 28 | CI21: =IF($E21="","",IF(CI$6="","",CI$6)) -> 24 | CK21: =IF($E21="","",IF(CK$6="","",CK$6)) -> 24 | CM21: =IF($E21="","",IF(CM$6="","",CM$6)) -> 22 | CP21: =IF(BS21="","",SUM(BQ21,BS21)) -> 44 | CQ21: =IF(BT21="","",SUM(BR21,BT21)) | CR21: =IF(BU21="","",SUM(CP21,BU21)) -> 88 | CS21: =IF(BV21="","",SUM(CQ21,BV21)) | CT21: =IF(BW21="","",SUM(CR21,BW21)) -> 130 | CU21: =IF(BX21="","",SUM(CS21,BX21)) | CV21: =IF(BY21="","",SUM(CT21,BY21)) -> 170 | CW21: =IF(BZ21="","",SUM(CU21,BZ21)) | CX21: =IF(CA21="","",SUM(CV21,CA21)) -> 206 | CY21: =IF(CB21="","",SUM(CW21,CB21)) | ... DI21: =IF(CL21="","",SUM(DG21,CL21)) | DJ21: =IF(E21="","",SUM(BQ21,BS21,BU21,BW21,BY21,CA21,CC21,CE21,CG21,CI21,CK21,CM21)) -> 362 | DK21: =IF(E21="","",SUM(BR21,BT21,BV21,BX21,BZ21,CB21,CD21,CF21,CH21,CJ21,CL21,CN21)) -> 0 | EE21: 30 | EF21: ACCOUNTANCY | EG21: T | EH21: 100 | EI21: 0 | EJ21: 0 | EL21: 56 | EM21: =ROUNDUP(EL21/EL$6*EM$6,0) -> 120 | EO21: 15 | EP21: =ROUNDUP(EO21/EO$6*EP$6,0) -> 25 | ER21: 85 | ES21: =ROUNDUP(ER21/ER$6*ES$6,0) -> 170
A22: 14 | E22: 11114 | G22: A 014 | H22: B 014 | I22: C 014 | J22: 10 | K22: 10 | L22: 8 | M22: 2 | N22: 70 | O22: 100 | P22: 10 | Q22: 10 | R22: 8 | S22: 2 | T22: 70 | U22: 100 | V22: b | W22: 10 | X22: 10 | Y22: 9 | Z22: 1 | AA22: 30 | AB22: 20 | AC22: 70 | AD22: 30 | AE22: b | AF22: 10 | AG22: 10 | AH22: 9 | AI22: 1 | AJ22: 50 | AK22: 20 | AL22: 70 | AM22: 30 | AN22: b | AO22: 10 | AP22: 10 | AQ22: 9 | AR22: 1 | AS22: 70 | AU22: 18 | AW22: a | AX22: 10 | AY22: 10 | AZ22: 10 | BB22: 50 | BC22: 20 | BD22: 70 | BE22: 30 | BF22: 10 | BG22: 10 | BH22: 10 | BI22: 70 | BJ22: 100 | BK22: 30 | BL22: 30 | BM22: 40 | BO22: b | BQ22: =IF($E22="","",IF(BQ$6="","",BQ$6)) | BS22: =IF($E22="","",IF(BS$6="","",BS$6)) -> 44 | BU22: =IF($E22="","",IF(BU$6="","",BU$6)) -> 44 | BW22: =IF($E22="","",IF(BW$6="","",BW$6)) -> 42 | BY22: =IF($E22="","",IF(BY$6="","",BY$6)) -> 40 | CA22: =IF($E22="","",IF(CA$6="","",CA$6)) -> 36 | CC22: =IF($E22="","",IF(CC$6="","",CC$6)) -> 34 | CE22: =IF($E22="","",IF(CE$6="","",CE$6)) -> 24 | CG22: =IF($E22="","",IF(CG$6="","",CG$6)) -> 28 | CI22: =IF($E22="","",IF(CI$6="","",CI$6)) -> 24 | CK22: =IF($E22="","",IF(CK$6="","",CK$6)) -> 24 | CM22: =IF($E22="","",IF(CM$6="","",CM$6)) -> 22 | CP22: =IF(BS22="","",SUM(BQ22,BS22)) -> 44 | CQ22: =IF(BT22="","",SUM(BR22,BT22)) | CR22: =IF(BU22="","",SUM(CP22,BU22)) -> 88 | CS22: =IF(BV22="","",SUM(CQ22,BV22)) | CT22: =IF(BW22="","",SUM(CR22,BW22)) -> 130 | CU22: =IF(BX22="","",SUM(CS22,BX22)) | CV22: =IF(BY22="","",SUM(CT22,BY22)) -> 170 | CW22: =IF(BZ22="","",SUM(CU22,BZ22)) | CX22: =IF(CA22="","",SUM(CV22,CA22)) -> 206 | CY22: =IF(CB22="","",SUM(CW22,CB22)) | ... DI22: =IF(CL22="","",SUM(DG22,CL22)) | DJ22: =IF(E22="","",SUM(BQ22,BS22,BU22,BW22,BY22,CA22,CC22,CE22,CG22,CI22,CK22,CM22)) -> 362 | DK22: =IF(E22="","",SUM(BR22,BT22,BV22,BX22,BZ22,CB22,CD22,CF22,CH22,CJ22,CL22,CN22)) -> 0 | EE22: 31 | EF22: BUSINESS STUDIES | EG22: T | EH22: 100 | EI22: 0 | EJ22: 0 | EL22: 55 | EM22: =ROUNDUP(EL22/EL$6*EM$6,0) -> 118 | EO22: 14 | EP22: =ROUNDUP(EO22/EO$6*EP$6,0) -> 24 | ER22: 84 | ES22: =ROUNDUP(ER22/ER$6*ES$6,0) -> 168
A23: 15 | E23: 11115 | G23: A 015 | H23: B 015 | I23: C 015 | J23: 10 | K23: 10 | L23: 8 | M23: 2 | N23: 70 | O23: 100 | P23: 10 | Q23: 10 | R23: 8 | S23: 2 | T23: 70 | U23: 100 | V23: b | W23: 10 | X23: 10 | Y23: 9 | Z23: 1 | AA23: 30 | AB23: 20 | AC23: 70 | AD23: 30 | AE23: b | AF23: 10 | AG23: 10 | AH23: 9 | AI23: 1 | AJ23: 50 | AK23: 20 | AL23: 70 | AM23: 30 | AN23: b | AO23: 10 | AP23: 10 | AQ23: 9 | AR23: 1 | AS23: 70 | AU23: 18 | AW23: a | AX23: 10 | AY23: 10 | AZ23: 10 | BB23: 50 | BC23: 20 | BD23: 70 | BE23: 30 | BF23: 10 | BG23: 10 | BH23: 10 | BI23: 70 | BJ23: 100 | BK23: 30 | BL23: 30 | BM23: 40 | BO23: c | BQ23: =IF($E23="","",IF(BQ$6="","",BQ$6)) | BS23: =IF($E23="","",IF(BS$6="","",BS$6)) -> 44 | BU23: =IF($E23="","",IF(BU$6="","",BU$6)) -> 44 | BW23: =IF($E23="","",IF(BW$6="","",BW$6)) -> 42 | BY23: =IF($E23="","",IF(BY$6="","",BY$6)) -> 40 | CA23: =IF($E23="","",IF(CA$6="","",CA$6)) -> 36 | CC23: =IF($E23="","",IF(CC$6="","",CC$6)) -> 34 | CE23: =IF($E23="","",IF(CE$6="","",CE$6)) -> 24 | CG23: =IF($E23="","",IF(CG$6="","",CG$6)) -> 28 | CI23: =IF($E23="","",IF(CI$6="","",CI$6)) -> 24 | CK23: =IF($E23="","",IF(CK$6="","",CK$6)) -> 24 | CM23: =IF($E23="","",IF(CM$6="","",CM$6)) -> 22 | CP23: =IF(BS23="","",SUM(BQ23,BS23)) -> 44 | CQ23: =IF(BT23="","",SUM(BR23,BT23)) | CR23: =IF(BU23="","",SUM(CP23,BU23)) -> 88 | CS23: =IF(BV23="","",SUM(CQ23,BV23)) | CT23: =IF(BW23="","",SUM(CR23,BW23)) -> 130 | CU23: =IF(BX23="","",SUM(CS23,BX23)) | CV23: =IF(BY23="","",SUM(CT23,BY23)) -> 170 | CW23: =IF(BZ23="","",SUM(CU23,BZ23)) | CX23: =IF(CA23="","",SUM(CV23,CA23)) -> 206 | CY23: =IF(CB23="","",SUM(CW23,CB23)) | ... DI23: =IF(CL23="","",SUM(DG23,CL23)) | DJ23: =IF(E23="","",SUM(BQ23,BS23,BU23,BW23,BY23,CA23,CC23,CE23,CG23,CI23,CK23,CM23)) -> 362 | DK23: =IF(E23="","",SUM(BR23,BT23,BV23,BX23,BZ23,CB23,CD23,CF23,CH23,CJ23,CL23,CN23)) -> 0 | EE23: 10 | EF23: ECONOMICS | EG23: T | EH23: 100 | EI23: 0 | EJ23: 0 | EL23: 54 | EM23: =ROUNDUP(EL23/EL$6*EM$6,0) -> 116 | EO23: 13 | EP23: =ROUNDUP(EO23/EO$6*EP$6,0) -> 22 | ER23: 83 | ES23: =ROUNDUP(ER23/ER$6*ES$6,0) -> 166
A24: 16 | E24: 11116 | G24: A 016 | H24: B 016 | I24: C 016 | J24: 10 | K24: 10 | L24: 8 | M24: 2 | N24: 70 | O24: 100 | P24: 10 | Q24: 10 | R24: 8 | S24: 2 | T24: 70 | U24: 100 | V24: b | W24: 10 | X24: 10 | Y24: 9 | Z24: 1 | AA24: 30 | AB24: 20 | AC24: 70 | AD24: 30 | AE24: b | AF24: 10 | AG24: 10 | AH24: 9 | AI24: 1 | AJ24: 50 | AK24: 20 | AL24: 70 | AM24: 30 | AN24: b | AO24: 10 | AP24: 10 | AQ24: 9 | AR24: 1 | AS24: 70 | AU24: 18 | AW24: a | AX24: 10 | AY24: 10 | AZ24: 10 | BB24: 50 | BC24: 20 | BD24: 70 | BE24: 30 | BF24: 10 | BG24: 10 | BH24: 10 | BI24: 70 | BJ24: 100 | BK24: 30 | BL24: 30 | BM24: 40 | BO24: d | BQ24: =IF($E24="","",IF(BQ$6="","",BQ$6)) | BS24: =IF($E24="","",IF(BS$6="","",BS$6)) -> 44 | BU24: =IF($E24="","",IF(BU$6="","",BU$6)) -> 44 | BW24: =IF($E24="","",IF(BW$6="","",BW$6)) -> 42 | BY24: =IF($E24="","",IF(BY$6="","",BY$6)) -> 40 | CA24: =IF($E24="","",IF(CA$6="","",CA$6)) -> 36 | CC24: =IF($E24="","",IF(CC$6="","",CC$6)) -> 34 | CE24: =IF($E24="","",IF(CE$6="","",CE$6)) -> 24 | CG24: =IF($E24="","",IF(CG$6="","",CG$6)) -> 28 | CI24: =IF($E24="","",IF(CI$6="","",CI$6)) -> 24 | CK24: =IF($E24="","",IF(CK$6="","",CK$6)) -> 24 | CM24: =IF($E24="","",IF(CM$6="","",CM$6)) -> 22 | CP24: =IF(BS24="","",SUM(BQ24,BS24)) -> 44 | CQ24: =IF(BT24="","",SUM(BR24,BT24)) | CR24: =IF(BU24="","",SUM(CP24,BU24)) -> 88 | CS24: =IF(BV24="","",SUM(CQ24,BV24)) | CT24: =IF(BW24="","",SUM(CR24,BW24)) -> 130 | CU24: =IF(BX24="","",SUM(CS24,BX24)) | CV24: =IF(BY24="","",SUM(CT24,BY24)) -> 170 | CW24: =IF(BZ24="","",SUM(CU24,BZ24)) | CX24: =IF(CA24="","",SUM(CV24,CA24)) -> 206 | CY24: =IF(CB24="","",SUM(CW24,CB24)) | ... DI24: =IF(CL24="","",SUM(DG24,CL24)) | DJ24: =IF(E24="","",SUM(BQ24,BS24,BU24,BW24,BY24,CA24,CC24,CE24,CG24,CI24,CK24,CM24)) -> 362 | DK24: =IF(E24="","",SUM(BR24,BT24,BV24,BX24,BZ24,CB24,CD24,CF24,CH24,CJ24,CL24,CN24)) -> 0 | EE24: 20 | EF24: ENGLISH LITERATURE | EG24: T | EH24: 100 | EI24: 0 | EJ24: 0 | EL24: 53 | EM24: =ROUNDUP(EL24/EL$6*EM$6,0) -> 114 | EO24: 12 | EP24: =ROUNDUP(EO24/EO$6*EP$6,0) -> 20 | ER24: 82 | ES24: =ROUNDUP(ER24/ER$6*ES$6,0) -> 164
A25: 17 | E25: 11117 | G25: A 017 | H25: B 017 | I25: C 017 | J25: 10 | K25: 10 | L25: 8 | M25: 2 | N25: 70 | O25: 100 | P25: 10 | Q25: 10 | R25: 8 | S25: 2 | T25: 70 | U25: 100 | V25: b | W25: 10 | X25: 10 | Y25: 9 | Z25: 1 | AA25: 30 | AB25: 20 | AC25: 70 | AD25: 30 | AE25: b | AF25: 10 | AG25: 10 | AH25: 9 | AI25: 1 | AJ25: 50 | AK25: 20 | AL25: 70 | AM25: 30 | AN25: b | AO25: 10 | AP25: 10 | AQ25: 9 | AR25: 1 | AS25: 70 | AU25: 18 | AW25: a | AX25: 10 | AY25: 10 | AZ25: 10 | BB25: 50 | BC25: 20 | BD25: 70 | BE25: 30 | BF25: 10 | BG25: 10 | BH25: 10 | BI25: 70 | BJ25: 100 | BK25: 30 | BL25: 30 | BM25: 40 | BO25: e | BQ25: =IF($E25="","",IF(BQ$6="","",BQ$6)) | BS25: =IF($E25="","",IF(BS$6="","",BS$6)) -> 44 | BU25: =IF($E25="","",IF(BU$6="","",BU$6)) -> 44 | BW25: =IF($E25="","",IF(BW$6="","",BW$6)) -> 42 | BY25: =IF($E25="","",IF(BY$6="","",BY$6)) -> 40 | CA25: =IF($E25="","",IF(CA$6="","",CA$6)) -> 36 | CC25: =IF($E25="","",IF(CC$6="","",CC$6)) -> 34 | CE25: =IF($E25="","",IF(CE$6="","",CE$6)) -> 24 | CG25: =IF($E25="","",IF(CG$6="","",CG$6)) -> 28 | CI25: =IF($E25="","",IF(CI$6="","",CI$6)) -> 24 | CK25: =IF($E25="","",IF(CK$6="","",CK$6)) -> 24 | CM25: =IF($E25="","",IF(CM$6="","",CM$6)) -> 22 | CP25: =IF(BS25="","",SUM(BQ25,BS25)) -> 44 | CQ25: =IF(BT25="","",SUM(BR25,BT25)) | CR25: =IF(BU25="","",SUM(CP25,BU25)) -> 88 | CS25: =IF(BV25="","",SUM(CQ25,BV25)) | CT25: =IF(BW25="","",SUM(CR25,BW25)) -> 130 | CU25: =IF(BX25="","",SUM(CS25,BX25)) | CV25: =IF(BY25="","",SUM(CT25,BY25)) -> 170 | CW25: =IF(BZ25="","",SUM(CU25,BZ25)) | CX25: =IF(CA25="","",SUM(CV25,CA25)) -> 206 | CY25: =IF(CB25="","",SUM(CW25,CB25)) | ... DI25: =IF(CL25="","",SUM(DG25,CL25)) | DJ25: =IF(E25="","",SUM(BQ25,BS25,BU25,BW25,BY25,CA25,CC25,CE25,CG25,CI25,CK25,CM25)) -> 362 | DK25: =IF(E25="","",SUM(BR25,BT25,BV25,BX25,BZ25,CB25,CD25,CF25,CH25,CJ25,CL25,CN25)) -> 0 | EE25: 61 | EF25: ENVIRONMENTAL STUDIES | EG25: T | EH25: 100 | EI25: 0 | EJ25: 0 | EL25: 52 | EM25: =ROUNDUP(EL25/EL$6*EM$6,0) -> 112 | EO25: 11 | EP25: =ROUNDUP(EO25/EO$6*EP$6,0) -> 19 | ER25: 81 | ES25: =ROUNDUP(ER25/ER$6*ES$6,0) -> 162
A26: 18 | E26: 11118 | G26: A 018 | H26: B 018 | I26: C 018 | J26: 10 | K26: 10 | L26: 8 | M26: 2 | N26: 70 | O26: 100 | P26: 10 | Q26: 10 | R26: 8 | S26: 2 | T26: 70 | U26: 100 | V26: b | W26: 10 | X26: 10 | Y26: 9 | Z26: 1 | AA26: 30 | AB26: 20 | AC26: 70 | AD26: 30 | AE26: b | AF26: 10 | AG26: 10 | AH26: 9 | AI26: 1 | AJ26: 50 | AK26: 20 | AL26: 70 | AM26: 30 | AN26: b | AO26: 10 | AP26: 10 | AQ26: 9 | AR26: 1 | AS26: 70 | AU26: 18 | AW26: a | AX26: 10 | AY26: 10 | AZ26: 10 | BB26: 50 | BC26: 20 | BD26: 70 | BE26: 30 | BF26: 10 | BG26: 10 | BH26: 10 | BI26: 70 | BJ26: 100 | BK26: 30 | BL26: 30 | BM26: 40 | BO26: f | BQ26: =IF($E26="","",IF(BQ$6="","",BQ$6)) | BS26: =IF($E26="","",IF(BS$6="","",BS$6)) -> 44 | BU26: =IF($E26="","",IF(BU$6="","",BU$6)) -> 44 | BW26: =IF($E26="","",IF(BW$6="","",BW$6)) -> 42 | BY26: =IF($E26="","",IF(BY$6="","",BY$6)) -> 40 | CA26: =IF($E26="","",IF(CA$6="","",CA$6)) -> 36 | CC26: =IF($E26="","",IF(CC$6="","",CC$6)) -> 34 | CE26: =IF($E26="","",IF(CE$6="","",CE$6)) -> 24 | CG26: =IF($E26="","",IF(CG$6="","",CG$6)) -> 28 | CI26: =IF($E26="","",IF(CI$6="","",CI$6)) -> 24 | CK26: =IF($E26="","",IF(CK$6="","",CK$6)) -> 24 | CM26: =IF($E26="","",IF(CM$6="","",CM$6)) -> 22 | CP26: =IF(BS26="","",SUM(BQ26,BS26)) -> 44 | CQ26: =IF(BT26="","",SUM(BR26,BT26)) | CR26: =IF(BU26="","",SUM(CP26,BU26)) -> 88 | CS26: =IF(BV26="","",SUM(CQ26,BV26)) | CT26: =IF(BW26="","",SUM(CR26,BW26)) -> 130 | CU26: =IF(BX26="","",SUM(CS26,BX26)) | CV26: =IF(BY26="","",SUM(CT26,BY26)) -> 170 | CW26: =IF(BZ26="","",SUM(CU26,BZ26)) | CX26: =IF(CA26="","",SUM(CV26,CA26)) -> 206 | CY26: =IF(CB26="","",SUM(CW26,CB26)) | ... DI26: =IF(CL26="","",SUM(DG26,CL26)) | DJ26: =IF(E26="","",SUM(BQ26,BS26,BU26,BW26,BY26,CA26,CC26,CE26,CG26,CI26,CK26,CM26)) -> 362 | DK26: =IF(E26="","",SUM(BR26,BT26,BV26,BX26,BZ26,CB26,CD26,CF26,CH26,CJ26,CL26,CN26)) -> 0 | EE26: 27 | EF26: FARSI LITERATURE | EG26: T | EH26: 100 | EI26: 0 | EJ26: 0 | EL26: 51 | EM26: =ROUNDUP(EL26/EL$6*EM$6,0) -> 110 | EO26: 10 | EP26: =ROUNDUP(EO26/EO$6*EP$6,0) -> 17 | ER26: 80 | ES26: =ROUNDUP(ER26/ER$6*ES$6,0) -> 160
A27: 19 | E27: 11119 | G27: A 019 | H27: B 019 | I27: C 019 | J27: 10 | K27: 10 | L27: 8 | M27: 2 | N27: 70 | O27: 100 | P27: 10 | Q27: 10 | R27: 8 | S27: 2 | T27: 70 | U27: 100 | V27: b | W27: 10 | X27: 10 | Y27: 9 | Z27: 1 | AA27: 30 | AB27: 20 | AC27: 70 | AD27: 30 | AE27: b | AF27: 10 | AG27: 10 | AH27: 9 | AI27: 1 | AJ27: 50 | AK27: 20 | AL27: 70 | AM27: 30 | AN27: b | AO27: 10 | AP27: 10 | AQ27: 9 | AR27: 1 | AS27: 70 | AU27: 18 | AW27: a | AX27: 10 | AY27: 10 | AZ27: 10 | BB27: 50 | BC27: 20 | BD27: 70 | BE27: 30 | BF27: 10 | BG27: 10 | BH27: 10 | BI27: 70 | BJ27: 100 | BK27: 30 | BL27: 30 | BM27: 40 | BO27: g | BQ27: =IF($E27="","",IF(BQ$6="","",BQ$6)) | BS27: =IF($E27="","",IF(BS$6="","",BS$6)) -> 44 | BU27: =IF($E27="","",IF(BU$6="","",BU$6)) -> 44 | BW27: =IF($E27="","",IF(BW$6="","",BW$6)) -> 42 | BY27: =IF($E27="","",IF(BY$6="","",BY$6)) -> 40 | CA27: =IF($E27="","",IF(CA$6="","",CA$6)) -> 36 | CC27: =IF($E27="","",IF(CC$6="","",CC$6)) -> 34 | CE27: =IF($E27="","",IF(CE$6="","",CE$6)) -> 24 | CG27: =IF($E27="","",IF(CG$6="","",CG$6)) -> 28 | CI27: =IF($E27="","",IF(CI$6="","",CI$6)) -> 24 | CK27: =IF($E27="","",IF(CK$6="","",CK$6)) -> 24 | CM27: =IF($E27="","",IF(CM$6="","",CM$6)) -> 22 | CP27: =IF(BS27="","",SUM(BQ27,BS27)) -> 44 | CQ27: =IF(BT27="","",SUM(BR27,BT27)) | CR27: =IF(BU27="","",SUM(CP27,BU27)) -> 88 | CS27: =IF(BV27="","",SUM(CQ27,BV27)) | CT27: =IF(BW27="","",SUM(CR27,BW27)) -> 130 | CU27: =IF(BX27="","",SUM(CS27,BX27)) | CV27: =IF(BY27="","",SUM(CT27,BY27)) -> 170 | CW27: =IF(BZ27="","",SUM(CU27,BZ27)) | CX27: =IF(CA27="","",SUM(CV27,CA27)) -> 206 | CY27: =IF(CB27="","",SUM(CW27,CB27)) | ... DI27: =IF(CL27="","",SUM(DG27,CL27)) | DJ27: =IF(E27="","",SUM(BQ27,BS27,BU27,BW27,BY27,CA27,CC27,CE27,CG27,CI27,CK27,CM27)) -> 362 | DK27: =IF(E27="","",SUM(BR27,BT27,BV27,BX27,BZ27,CB27,CD27,CF27,CH27,CJ27,CL27,CN27)) -> 0 | EE27: 24 | EF27: GUJRATI LITERATURE | EG27: T | EH27: 100 | EI27: 0 | EJ27: 0 | EL27: 50 | EM27: =ROUNDUP(EL27/EL$6*EM$6,0) -> 108 | EO27: 9 | EP27: =ROUNDUP(EO27/EO$6*EP$6,0) -> 15 | ER27: 79 | ES27: =ROUNDUP(ER27/ER$6*ES$6,0) -> 158
A28: 20 | E28: 11120 | G28: A 020 | H28: B 020 | I28: C 020 | J28: 10 | K28: 10 | L28: 8 | M28: 2 | N28: 70 | O28: 100 | P28: 10 | Q28: 10 | R28: 8 | S28: 2 | T28: 70 | U28: 100 | V28: b | W28: 10 | X28: 10 | Y28: 9 | Z28: 1 | AA28: 30 | AB28: 20 | AC28: 70 | AD28: 30 | AE28: b | AF28: 10 | AG28: 10 | AH28: 9 | AI28: 1 | AJ28: 50 | AK28: 20 | AL28: 70 | AM28: 30 | AN28: b | AO28: 10 | AP28: 10 | AQ28: 9 | AR28: 1 | AS28: 70 | AU28: 18 | AW28: a | AX28: 10 | AY28: 10 | AZ28: 10 | BB28: 50 | BC28: 20 | BD28: 70 | BE28: 30 | BF28: 10 | BG28: 10 | BH28: 10 | BI28: 70 | BJ28: 100 | BK28: 30 | BL28: 30 | BM28: 40 | BO28: h | BQ28: =IF($E28="","",IF(BQ$6="","",BQ$6)) | BS28: =IF($E28="","",IF(BS$6="","",BS$6)) -> 44 | BU28: =IF($E28="","",IF(BU$6="","",BU$6)) -> 44 | BW28: =IF($E28="","",IF(BW$6="","",BW$6)) -> 42 | BY28: =IF($E28="","",IF(BY$6="","",BY$6)) -> 40 | CA28: =IF($E28="","",IF(CA$6="","",CA$6)) -> 36 | CC28: =IF($E28="","",IF(CC$6="","",CC$6)) -> 34 | CE28: =IF($E28="","",IF(CE$6="","",CE$6)) -> 24 | CG28: =IF($E28="","",IF(CG$6="","",CG$6)) -> 28 | CI28: =IF($E28="","",IF(CI$6="","",CI$6)) -> 24 | CK28: =IF($E28="","",IF(CK$6="","",CK$6)) -> 24 | CM28: =IF($E28="","",IF(CM$6="","",CM$6)) -> 22 | CP28: =IF(BS28="","",SUM(BQ28,BS28)) -> 44 | CQ28: =IF(BT28="","",SUM(BR28,BT28)) | CR28: =IF(BU28="","",SUM(CP28,BU28)) -> 88 | CS28: =IF(BV28="","",SUM(CQ28,BV28)) | CT28: =IF(BW28="","",SUM(CR28,BW28)) -> 130 | CU28: =IF(BX28="","",SUM(CS28,BX28)) | CV28: =IF(BY28="","",SUM(CT28,BY28)) -> 170 | CW28: =IF(BZ28="","",SUM(CU28,BZ28)) | CX28: =IF(CA28="","",SUM(CV28,CA28)) -> 206 | CY28: =IF(CB28="","",SUM(CW28,CB28)) | ... DI28: =IF(CL28="","",SUM(DG28,CL28)) | DJ28: =IF(E28="","",SUM(BQ28,BS28,BU28,BW28,BY28,CA28,CC28,CE28,CG28,CI28,CK28,CM28)) -> 362 | DK28: =IF(E28="","",SUM(BR28,BT28,BV28,BX28,BZ28,CB28,CD28,CF28,CH28,CJ28,CL28,CN28)) -> 0 | EE28: 21 | EF28: HINDI LITERATURE | EG28: T | EH28: 100 | EI28: 0 | EJ28: 0 | EL28: 49 | EM28: =ROUNDUP(EL28/EL$6*EM$6,0) -> 105 | EO28: 8 | EP28: =ROUNDUP(EO28/EO$6*EP$6,0) -> 14 | ER28: 78 | ES28: =ROUNDUP(ER28/ER$6*ES$6,0) -> 156
A29: 21 | E29: 11121 | G29: A 021 | H29: B 021 | I29: C 021 | J29: 10 | K29: 10 | L29: 8 | M29: 2 | N29: 70 | O29: 100 | P29: 10 | Q29: 10 | R29: 8 | S29: 2 | T29: 70 | U29: 100 | V29: b | W29: 10 | X29: 10 | Y29: 9 | Z29: 1 | AA29: 30 | AB29: 20 | AC29: 70 | AD29: 30 | AE29: b | AF29: 10 | AG29: 10 | AH29: 9 | AI29: 1 | AJ29: 50 | AK29: 20 | AL29: 70 | AM29: 30 | AN29: b | AO29: 10 | AP29: 10 | AQ29: 9 | AR29: 1 | AS29: 70 | AU29: 18 | AW29: a | AX29: 10 | AY29: 10 | AZ29: 10 | BB29: 50 | BC29: 20 | BD29: 70 | BE29: 30 | BF29: 10 | BG29: 10 | BH29: 10 | BI29: 70 | BJ29: 100 | BK29: 30 | BL29: 30 | BM29: 40 | BQ29: =IF($E29="","",IF(BQ$6="","",BQ$6)) | BS29: =IF($E29="","",IF(BS$6="","",BS$6)) -> 44 | BU29: =IF($E29="","",IF(BU$6="","",BU$6)) -> 44 | BW29: =IF($E29="","",IF(BW$6="","",BW$6)) -> 42 | BY29: =IF($E29="","",IF(BY$6="","",BY$6)) -> 40 | CA29: =IF($E29="","",IF(CA$6="","",CA$6)) -> 36 | CC29: =IF($E29="","",IF(CC$6="","",CC$6)) -> 34 | CE29: =IF($E29="","",IF(CE$6="","",CE$6)) -> 24 | CG29: =IF($E29="","",IF(CG$6="","",CG$6)) -> 28 | CI29: =IF($E29="","",IF(CI$6="","",CI$6)) -> 24 | CK29: =IF($E29="","",IF(CK$6="","",CK$6)) -> 24 | CM29: =IF($E29="","",IF(CM$6="","",CM$6)) -> 22 | CP29: =IF(BS29="","",SUM(BQ29,BS29)) -> 44 | CQ29: =IF(BT29="","",SUM(BR29,BT29)) | CR29: =IF(BU29="","",SUM(CP29,BU29)) -> 88 | CS29: =IF(BV29="","",SUM(CQ29,BV29)) | CT29: =IF(BW29="","",SUM(CR29,BW29)) -> 130 | CU29: =IF(BX29="","",SUM(CS29,BX29)) | CV29: =IF(BY29="","",SUM(CT29,BY29)) -> 170 | CW29: =IF(BZ29="","",SUM(CU29,BZ29)) | CX29: =IF(CA29="","",SUM(CV29,CA29)) -> 206 | CY29: =IF(CB29="","",SUM(CW29,CB29)) | ... DI29: =IF(CL29="","",SUM(DG29,CL29)) | DJ29: =IF(E29="","",SUM(BQ29,BS29,BU29,BW29,BY29,CA29,CC29,CE29,CG29,CI29,CK29,CM29)) -> 362 | DK29: =IF(E29="","",SUM(BR29,BT29,BV29,BX29,BZ29,CB29,CD29,CF29,CH29,CJ29,CL29,CN29)) -> 0 | EE29: 13 | EF29: HISTORY | EG29: T | EH29: 100 | EI29: 0 | EJ29: 0 | EL29: 48 | EM29: =ROUNDUP(EL29/EL$6*EM$6,0) -> 103 | EO29: 7 | EP29: =ROUNDUP(EO29/EO$6*EP$6,0) -> 12 | ER29: 77 | ES29: =ROUNDUP(ER29/ER$6*ES$6,0) -> 154
A30: 22 | E30: 11122 | G30: A 022 | H30: B 022 | I30: C 022 | J30: 10 | K30: 10 | L30: 8 | M30: 2 | N30: 70 | O30: 100 | P30: 10 | Q30: 10 | R30: 8 | S30: 2 | T30: 70 | U30: 100 | V30: b | W30: 10 | X30: 10 | Y30: 9 | Z30: 1 | AA30: 30 | AB30: 20 | AC30: 70 | AD30: 30 | AE30: b | AF30: 10 | AG30: 10 | AH30: 9 | AI30: 1 | AJ30: 50 | AK30: 20 | AL30: 70 | AM30: 30 | AN30: b | AO30: 10 | AP30: 10 | AQ30: 9 | AR30: 1 | AS30: 70 | AU30: 18 | AW30: a | AX30: 10 | AY30: 10 | AZ30: 10 | BB30: 50 | BC30: 20 | BD30: 70 | BE30: 30 | BF30: 10 | BG30: 10 | BH30: 10 | BI30: 70 | BJ30: 100 | BK30: 30 | BL30: 30 | BM30: 40 | BQ30: =IF($E30="","",IF(BQ$6="","",BQ$6)) | BS30: =IF($E30="","",IF(BS$6="","",BS$6)) -> 44 | BU30: =IF($E30="","",IF(BU$6="","",BU$6)) -> 44 | BW30: =IF($E30="","",IF(BW$6="","",BW$6)) -> 42 | BY30: =IF($E30="","",IF(BY$6="","",BY$6)) -> 40 | CA30: =IF($E30="","",IF(CA$6="","",CA$6)) -> 36 | CC30: =IF($E30="","",IF(CC$6="","",CC$6)) -> 34 | CE30: =IF($E30="","",IF(CE$6="","",CE$6)) -> 24 | CG30: =IF($E30="","",IF(CG$6="","",CG$6)) -> 28 | CI30: =IF($E30="","",IF(CI$6="","",CI$6)) -> 24 | CK30: =IF($E30="","",IF(CK$6="","",CK$6)) -> 24 | CM30: =IF($E30="","",IF(CM$6="","",CM$6)) -> 22 | CP30: =IF(BS30="","",SUM(BQ30,BS30)) -> 44 | CQ30: =IF(BT30="","",SUM(BR30,BT30)) | CR30: =IF(BU30="","",SUM(CP30,BU30)) -> 88 | CS30: =IF(BV30="","",SUM(CQ30,BV30)) | CT30: =IF(BW30="","",SUM(CR30,BW30)) -> 130 | CU30: =IF(BX30="","",SUM(CS30,BX30)) | CV30: =IF(BY30="","",SUM(CT30,BY30)) -> 170 | CW30: =IF(BZ30="","",SUM(CU30,BZ30)) | CX30: =IF(CA30="","",SUM(CV30,CA30)) -> 206 | CY30: =IF(CB30="","",SUM(CW30,CB30)) | ... DI30: =IF(CL30="","",SUM(DG30,CL30)) | DJ30: =IF(E30="","",SUM(BQ30,BS30,BU30,BW30,BY30,CA30,CC30,CE30,CG30,CI30,CK30,CM30)) -> 362 | DK30: =IF(E30="","",SUM(BR30,BT30,BV30,BX30,BZ30,CB30,CD30,CF30,CH30,CJ30,CL30,CN30)) -> 0 | EE30: 15 | EF30: MATHEMATICS | EG30: T | EH30: 100 | EI30: 0 | EJ30: 0 | EL30: 47 | EM30: =ROUNDUP(EL30/EL$6*EM$6,0) -> 101 | EO30: 6 | EP30: =ROUNDUP(EO30/EO$6*EP$6,0) -> 10 | ER30: 76 | ES30: =ROUNDUP(ER30/ER$6*ES$6,0) -> 152
A31: 23 | E31: 11123 | G31: A 023 | H31: B 023 | I31: C 023 | J31: 10 | K31: 10 | L31: 8 | M31: 2 | N31: 70 | O31: 100 | P31: 10 | Q31: 10 | R31: 8 | S31: 2 | T31: 70 | U31: 100 | V31: b | W31: 10 | X31: 10 | Y31: 9 | Z31: 1 | AA31: 30 | AB31: 20 | AC31: 70 | AD31: 30 | AE31: b | AF31: 10 | AG31: 10 | AH31: 9 | AI31: 1 | AJ31: 50 | AK31: 20 | AL31: 70 | AM31: 30 | AN31: b | AO31: 10 | AP31: 10 | AQ31: 9 | AR31: 1 | AS31: 70 | AU31: 18 | AW31: a | AX31: 10 | AY31: 10 | AZ31: 10 | BB31: 50 | BC31: 20 | BD31: 70 | BE31: 30 | BF31: 10 | BG31: 10 | BH31: 10 | BI31: 70 | BJ31: 100 | BK31: 30 | BL31: 30 | BM31: 40 | BQ31: =IF($E31="","",IF(BQ$6="","",BQ$6)) | BS31: =IF($E31="","",IF(BS$6="","",BS$6)) -> 44 | BU31: =IF($E31="","",IF(BU$6="","",BU$6)) -> 44 | BW31: =IF($E31="","",IF(BW$6="","",BW$6)) -> 42 | BY31: =IF($E31="","",IF(BY$6="","",BY$6)) -> 40 | CA31: =IF($E31="","",IF(CA$6="","",CA$6)) -> 36 | CC31: =IF($E31="","",IF(CC$6="","",CC$6)) -> 34 | CE31: =IF($E31="","",IF(CE$6="","",CE$6)) -> 24 | CG31: =IF($E31="","",IF(CG$6="","",CG$6)) -> 28 | CI31: =IF($E31="","",IF(CI$6="","",CI$6)) -> 24 | CK31: =IF($E31="","",IF(CK$6="","",CK$6)) -> 24 | CM31: =IF($E31="","",IF(CM$6="","",CM$6)) -> 22 | CP31: =IF(BS31="","",SUM(BQ31,BS31)) -> 44 | CQ31: =IF(BT31="","",SUM(BR31,BT31)) | CR31: =IF(BU31="","",SUM(CP31,BU31)) -> 88 | CS31: =IF(BV31="","",SUM(CQ31,BV31)) | CT31: =IF(BW31="","",SUM(CR31,BW31)) -> 130 | CU31: =IF(BX31="","",SUM(CS31,BX31)) | CV31: =IF(BY31="","",SUM(CT31,BY31)) -> 170 | CW31: =IF(BZ31="","",SUM(CU31,BZ31)) | CX31: =IF(CA31="","",SUM(CV31,CA31)) -> 206 | CY31: =IF(CB31="","",SUM(CW31,CB31)) | ... DI31: =IF(CL31="","",SUM(DG31,CL31)) | DJ31: =IF(E31="","",SUM(BQ31,BS31,BU31,BW31,BY31,CA31,CC31,CE31,CG31,CI31,CK31,CM31)) -> 362 | DK31: =IF(E31="","",SUM(BR31,BT31,BV31,BX31,BZ31,CB31,CD31,CF31,CH31,CJ31,CL31,CN31)) -> 0 | EE31: 85 | EF31: PHILOSOPHY | EG31: T | EH31: 100 | EI31: 0 | EJ31: 0 | EL31: 46 | EM31: =ROUNDUP(EL31/EL$6*EM$6,0) -> 99 | EO31: 5 | EP31: =ROUNDUP(EO31/EO$6*EP$6,0) -> 9 | ER31: 75 | ES31: =ROUNDUP(ER31/ER$6*ES$6,0) -> 150
A32: 24 | E32: 11124 | G32: A 024 | H32: B 024 | I32: C 024 | J32: 10 | K32: 10 | L32: 8 | M32: 2 | N32: 70 | O32: 100 | P32: 10 | Q32: 10 | R32: 8 | S32: 2 | T32: 70 | U32: 100 | V32: b | W32: 10 | X32: 10 | Y32: 9 | Z32: 1 | AA32: 30 | AB32: 20 | AC32: 70 | AD32: 30 | AE32: b | AF32: 10 | AG32: 10 | AH32: 9 | AI32: 1 | AJ32: 50 | AK32: 20 | AL32: 70 | AM32: 30 | AN32: b | AO32: 10 | AP32: 10 | AQ32: 9 | AR32: 1 | AS32: 70 | AU32: 18 | AW32: a | AX32: 10 | AY32: 10 | AZ32: 10 | BB32: 50 | BC32: 20 | BD32: 70 | BE32: 30 | BF32: 10 | BG32: 10 | BH32: 10 | BI32: 70 | BJ32: 100 | BK32: 30 | BL32: 30 | BM32: 40 | BQ32: =IF($E32="","",IF(BQ$6="","",BQ$6)) | BS32: =IF($E32="","",IF(BS$6="","",BS$6)) -> 44 | BU32: =IF($E32="","",IF(BU$6="","",BU$6)) -> 44 | BW32: =IF($E32="","",IF(BW$6="","",BW$6)) -> 42 | BY32: =IF($E32="","",IF(BY$6="","",BY$6)) -> 40 | CA32: =IF($E32="","",IF(CA$6="","",CA$6)) -> 36 | CC32: =IF($E32="","",IF(CC$6="","",CC$6)) -> 34 | CE32: =IF($E32="","",IF(CE$6="","",CE$6)) -> 24 | CG32: =IF($E32="","",IF(CG$6="","",CG$6)) -> 28 | CI32: =IF($E32="","",IF(CI$6="","",CI$6)) -> 24 | CK32: =IF($E32="","",IF(CK$6="","",CK$6)) -> 24 | CM32: =IF($E32="","",IF(CM$6="","",CM$6)) -> 22 | CP32: =IF(BS32="","",SUM(BQ32,BS32)) -> 44 | CQ32: =IF(BT32="","",SUM(BR32,BT32)) | CR32: =IF(BU32="","",SUM(CP32,BU32)) -> 88 | CS32: =IF(BV32="","",SUM(CQ32,BV32)) | CT32: =IF(BW32="","",SUM(CR32,BW32)) -> 130 | CU32: =IF(BX32="","",SUM(CS32,BX32)) | CV32: =IF(BY32="","",SUM(CT32,BY32)) -> 170 | CW32: =IF(BZ32="","",SUM(CU32,BZ32)) | CX32: =IF(CA32="","",SUM(CV32,CA32)) -> 206 | CY32: =IF(CB32="","",SUM(CW32,CB32)) | ... DI32: =IF(CL32="","",SUM(DG32,CL32)) | DJ32: =IF(E32="","",SUM(BQ32,BS32,BU32,BW32,BY32,CA32,CC32,CE32,CG32,CI32,CK32,CM32)) -> 362 | DK32: =IF(E32="","",SUM(BR32,BT32,BV32,BX32,BZ32,CB32,CD32,CF32,CH32,CJ32,CL32,CN32)) -> 0 | EE32: 60 | EF32: PHYSICAL EDUCATION | EG32: T | EH32: 100 | EI32: 0 | EJ32: 0 | EL32: 45 | EM32: =ROUNDUP(EL32/EL$6*EM$6,0) -> 97 | EO32: 4 | EP32: =ROUNDUP(EO32/EO$6*EP$6,0) -> 7 | ER32: 74 | ES32: =ROUNDUP(ER32/ER$6*ES$6,0) -> 148
A33: 25 | E33: 11125 | G33: A 025 | H33: B 025 | I33: C 025 | J33: 10 | K33: 10 | L33: 8 | M33: 2 | N33: 70 | O33: 100 | P33: 10 | Q33: 10 | R33: 8 | S33: 2 | T33: 70 | U33: 100 | V33: b | W33: 10 | X33: 10 | Y33: 9 | Z33: 1 | AA33: 30 | AB33: 20 | AC33: 70 | AD33: 30 | AE33: b | AF33: 10 | AG33: 10 | AH33: 9 | AI33: 1 | AJ33: 50 | AK33: 20 | AL33: 70 | AM33: 30 | AN33: b | AO33: 10 | AP33: 10 | AQ33: 9 | AR33: 1 | AS33: 70 | AU33: 18 | AW33: a | AX33: 10 | AY33: 10 | AZ33: 10 | BB33: 50 | BC33: 20 | BD33: 70 | BE33: 30 | BF33: 10 | BG33: 10 | BH33: 10 | BI33: 70 | BJ33: 100 | BK33: 30 | BL33: 30 | BM33: 40 | BQ33: =IF($E33="","",IF(BQ$6="","",BQ$6)) | BS33: =IF($E33="","",IF(BS$6="","",BS$6)) -> 44 | BU33: =IF($E33="","",IF(BU$6="","",BU$6)) -> 44 | BW33: =IF($E33="","",IF(BW$6="","",BW$6)) -> 42 | BY33: =IF($E33="","",IF(BY$6="","",BY$6)) -> 40 | CA33: =IF($E33="","",IF(CA$6="","",CA$6)) -> 36 | CC33: =IF($E33="","",IF(CC$6="","",CC$6)) -> 34 | CE33: =IF($E33="","",IF(CE$6="","",CE$6)) -> 24 | CG33: =IF($E33="","",IF(CG$6="","",CG$6)) -> 28 | CI33: =IF($E33="","",IF(CI$6="","",CI$6)) -> 24 | CK33: =IF($E33="","",IF(CK$6="","",CK$6)) -> 24 | CM33: =IF($E33="","",IF(CM$6="","",CM$6)) -> 22 | CP33: =IF(BS33="","",SUM(BQ33,BS33)) -> 44 | CQ33: =IF(BT33="","",SUM(BR33,BT33)) | CR33: =IF(BU33="","",SUM(CP33,BU33)) -> 88 | CS33: =IF(BV33="","",SUM(CQ33,BV33)) | CT33: =IF(BW33="","",SUM(CR33,BW33)) -> 130 | CU33: =IF(BX33="","",SUM(CS33,BX33)) | CV33: =IF(BY33="","",SUM(CT33,BY33)) -> 170 | CW33: =IF(BZ33="","",SUM(CU33,BZ33)) | CX33: =IF(CA33="","",SUM(CV33,CA33)) -> 206 | CY33: =IF(CB33="","",SUM(CW33,CB33)) | ... DI33: =IF(CL33="","",SUM(DG33,CL33)) | DJ33: =IF(E33="","",SUM(BQ33,BS33,BU33,BW33,BY33,CA33,CC33,CE33,CG33,CI33,CK33,CM33)) -> 362 | DK33: =IF(E33="","",SUM(BR33,BT33,BV33,BX33,BZ33,CB33,CD33,CF33,CH33,CJ33,CL33,CN33)) -> 0 | EE33: 11 | EF33: POLITICAL SCIENCE | EG33: T | EH33: 100 | EI33: 0 | EJ33: 0 | EL33: 44 | EM33: =ROUNDUP(EL33/EL$6*EM$6,0) -> 95 | EO33: 3 | EP33: =ROUNDUP(EO33/EO$6*EP$6,0) -> 5 | ER33: 73 | ES33: =ROUNDUP(ER33/ER$6*ES$6,0) -> 146
A34: 26 | E34: 11126 | G34: A 026 | H34: B 026 | I34: C 026 | J34: 10 | K34: 10 | L34: 8 | M34: 2 | N34: 70 | O34: 100 | P34: 10 | Q34: 10 | R34: 8 | S34: 2 | T34: 70 | U34: 100 | V34: b | W34: 10 | X34: 10 | Y34: 9 | Z34: 1 | AA34: 30 | AB34: 20 | AC34: 70 | AD34: 30 | AE34: b | AF34: 10 | AG34: 10 | AH34: 9 | AI34: 1 | AJ34: 50 | AK34: 20 | AL34: 70 | AM34: 30 | AN34: b | AO34: 10 | AP34: 10 | AQ34: 9 | AR34: 1 | AS34: 70 | AU34: 18 | AW34: a | AX34: 10 | AY34: 10 | AZ34: 10 | BB34: 50 | BC34: 20 | BD34: 70 | BE34: 30 | BF34: 10 | BG34: 10 | BH34: 10 | BI34: 70 | BJ34: 100 | BK34: 30 | BL34: 30 | BM34: 40 | BQ34: =IF($E34="","",IF(BQ$6="","",BQ$6)) | BS34: =IF($E34="","",IF(BS$6="","",BS$6)) -> 44 | BU34: =IF($E34="","",IF(BU$6="","",BU$6)) -> 44 | BW34: =IF($E34="","",IF(BW$6="","",BW$6)) -> 42 | BY34: =IF($E34="","",IF(BY$6="","",BY$6)) -> 40 | CA34: =IF($E34="","",IF(CA$6="","",CA$6)) -> 36 | CC34: =IF($E34="","",IF(CC$6="","",CC$6)) -> 34 | CE34: =IF($E34="","",IF(CE$6="","",CE$6)) -> 24 | CG34: =IF($E34="","",IF(CG$6="","",CG$6)) -> 28 | CI34: =IF($E34="","",IF(CI$6="","",CI$6)) -> 24 | CK34: =IF($E34="","",IF(CK$6="","",CK$6)) -> 24 | CM34: =IF($E34="","",IF(CM$6="","",CM$6)) -> 22 | CP34: =IF(BS34="","",SUM(BQ34,BS34)) -> 44 | CQ34: =IF(BT34="","",SUM(BR34,BT34)) | CR34: =IF(BU34="","",SUM(CP34,BU34)) -> 88 | CS34: =IF(BV34="","",SUM(CQ34,BV34)) | CT34: =IF(BW34="","",SUM(CR34,BW34)) -> 130 | CU34: =IF(BX34="","",SUM(CS34,BX34)) | CV34: =IF(BY34="","",SUM(CT34,BY34)) -> 170 | CW34: =IF(BZ34="","",SUM(CU34,BZ34)) | CX34: =IF(CA34="","",SUM(CV34,CA34)) -> 206 | CY34: =IF(CB34="","",SUM(CW34,CB34)) | ... DI34: =IF(CL34="","",SUM(DG34,CL34)) | DJ34: =IF(E34="","",SUM(BQ34,BS34,BU34,BW34,BY34,CA34,CC34,CE34,CG34,CI34,CK34,CM34)) -> 362 | DK34: =IF(E34="","",SUM(BR34,BT34,BV34,BX34,BZ34,CB34,CD34,CF34,CH34,CJ34,CL34,CN34)) -> 0 | EE34: 28 | EF34: PRAKRIT LITERATURE | EG34: T | EH34: 100 | EI34: 0 | EJ34: 0 | EL34: 43 | EM34: =ROUNDUP(EL34/EL$6*EM$6,0) -> 93 | EO34: 2 | EP34: =ROUNDUP(EO34/EO$6*EP$6,0) -> 4 | ER34: 72 | ES34: =ROUNDUP(ER34/ER$6*ES$6,0) -> 144
A35: 27 | E35: 11127 | G35: A 027 | H35: B 027 | I35: C 027 | J35: 10 | K35: 10 | L35: 8 | M35: 2 | N35: 70 | O35: 100 | P35: 10 | Q35: 10 | R35: 8 | S35: 2 | T35: 70 | U35: 100 | V35: b | W35: 10 | X35: 10 | Y35: 9 | Z35: 1 | AA35: 30 | AB35: 20 | AC35: 70 | AD35: 30 | AE35: b | AF35: 10 | AG35: 10 | AH35: 9 | AI35: 1 | AJ35: 50 | AK35: 20 | AL35: 70 | AM35: 30 | AN35: b | AO35: 10 | AP35: 10 | AQ35: 9 | AR35: 1 | AS35: 70 | AU35: 18 | AW35: a | AX35: 10 | AY35: 10 | AZ35: 10 | BB35: 50 | BC35: 20 | BD35: 70 | BE35: 30 | BF35: 10 | BG35: 10 | BH35: 10 | BI35: 70 | BJ35: 100 | BK35: 30 | BL35: 30 | BM35: 40 | BQ35: =IF($E35="","",IF(BQ$6="","",BQ$6)) | BS35: =IF($E35="","",IF(BS$6="","",BS$6)) -> 44 | BU35: =IF($E35="","",IF(BU$6="","",BU$6)) -> 44 | BW35: =IF($E35="","",IF(BW$6="","",BW$6)) -> 42 | BY35: =IF($E35="","",IF(BY$6="","",BY$6)) -> 40 | CA35: =IF($E35="","",IF(CA$6="","",CA$6)) -> 36 | CC35: =IF($E35="","",IF(CC$6="","",CC$6)) -> 34 | CE35: =IF($E35="","",IF(CE$6="","",CE$6)) -> 24 | CG35: =IF($E35="","",IF(CG$6="","",CG$6)) -> 28 | CI35: =IF($E35="","",IF(CI$6="","",CI$6)) -> 24 | CK35: =IF($E35="","",IF(CK$6="","",CK$6)) -> 24 | CM35: =IF($E35="","",IF(CM$6="","",CM$6)) -> 22 | CP35: =IF(BS35="","",SUM(BQ35,BS35)) -> 44 | CQ35: =IF(BT35="","",SUM(BR35,BT35)) | CR35: =IF(BU35="","",SUM(CP35,BU35)) -> 88 | CS35: =IF(BV35="","",SUM(CQ35,BV35)) | CT35: =IF(BW35="","",SUM(CR35,BW35)) -> 130 | CU35: =IF(BX35="","",SUM(CS35,BX35)) | CV35: =IF(BY35="","",SUM(CT35,BY35)) -> 170 | CW35: =IF(BZ35="","",SUM(CU35,BZ35)) | CX35: =IF(CA35="","",SUM(CV35,CA35)) -> 206 | CY35: =IF(CB35="","",SUM(CW35,CB35)) | ... DI35: =IF(CL35="","",SUM(DG35,CL35)) | DJ35: =IF(E35="","",SUM(BQ35,BS35,BU35,BW35,BY35,CA35,CC35,CE35,CG35,CI35,CK35,CM35)) -> 362 | DK35: =IF(E35="","",SUM(BR35,BT35,BV35,BX35,BZ35,CB35,CD35,CF35,CH35,CJ35,CL35,CN35)) -> 0 | EE35: 6 | EF35: PUBLIC ADMINISTRATION | EG35: T | EH35: 100 | EI35: 0 | EJ35: 0 | EL35: 42 | EM35: =ROUNDUP(EL35/EL$6*EM$6,0) -> 90 | EO35: 1 | EP35: =ROUNDUP(EO35/EO$6*EP$6,0) -> 2 | ER35: 71 | ES35: =ROUNDUP(ER35/ER$6*ES$6,0) -> 142
A36: 28 | E36: 11128 | G36: A 028 | H36: B 028 | I36: C 028 | J36: 10 | K36: 10 | L36: 8 | M36: 2 | N36: 70 | O36: 100 | P36: 10 | Q36: 10 | R36: 8 | S36: 2 | T36: 70 | U36: 100 | V36: b | W36: 10 | X36: 10 | Y36: 9 | Z36: 1 | AA36: 30 | AB36: 20 | AC36: 70 | AD36: 30 | AE36: b | AF36: 10 | AG36: 10 | AH36: 9 | AI36: 1 | AJ36: 50 | AK36: 20 | AL36: 70 | AM36: 30 | AN36: b | AO36: 10 | AP36: 10 | AQ36: 9 | AR36: 1 | AS36: 70 | AU36: 18 | AW36: a | AX36: 10 | AY36: 10 | AZ36: 10 | BB36: 50 | BC36: 20 | BD36: 70 | BE36: 30 | BF36: 10 | BG36: 10 | BH36: 10 | BI36: 70 | BJ36: 100 | BK36: 30 | BL36: 30 | BM36: 40 | BQ36: =IF($E36="","",IF(BQ$6="","",BQ$6)) | BS36: =IF($E36="","",IF(BS$6="","",BS$6)) -> 44 | BU36: =IF($E36="","",IF(BU$6="","",BU$6)) -> 44 | BW36: =IF($E36="","",IF(BW$6="","",BW$6)) -> 42 | BY36: =IF($E36="","",IF(BY$6="","",BY$6)) -> 40 | CA36: =IF($E36="","",IF(CA$6="","",CA$6)) -> 36 | CC36: =IF($E36="","",IF(CC$6="","",CC$6)) -> 34 | CE36: =IF($E36="","",IF(CE$6="","",CE$6)) -> 24 | CG36: =IF($E36="","",IF(CG$6="","",CG$6)) -> 28 | CI36: =IF($E36="","",IF(CI$6="","",CI$6)) -> 24 | CK36: =IF($E36="","",IF(CK$6="","",CK$6)) -> 24 | CM36: =IF($E36="","",IF(CM$6="","",CM$6)) -> 22 | CP36: =IF(BS36="","",SUM(BQ36,BS36)) -> 44 | CQ36: =IF(BT36="","",SUM(BR36,BT36)) | CR36: =IF(BU36="","",SUM(CP36,BU36)) -> 88 | CS36: =IF(BV36="","",SUM(CQ36,BV36)) | CT36: =IF(BW36="","",SUM(CR36,BW36)) -> 130 | CU36: =IF(BX36="","",SUM(CS36,BX36)) | CV36: =IF(BY36="","",SUM(CT36,BY36)) -> 170 | CW36: =IF(BZ36="","",SUM(CU36,BZ36)) | CX36: =IF(CA36="","",SUM(CV36,CA36)) -> 206 | CY36: =IF(CB36="","",SUM(CW36,CB36)) | ... DI36: =IF(CL36="","",SUM(DG36,CL36)) | DJ36: =IF(E36="","",SUM(BQ36,BS36,BU36,BW36,BY36,CA36,CC36,CE36,CG36,CI36,CK36,CM36)) -> 362 | DK36: =IF(E36="","",SUM(BR36,BT36,BV36,BX36,BZ36,CB36,CD36,CF36,CH36,CJ36,CL36,CN36)) -> 0 | EE36: 25 | EF36: PUNJABI LITERATURE | EG36: T | EH36: 100 | EI36: 0 | EJ36: 0 | EL36: 41 | EM36: =ROUNDUP(EL36/EL$6*EM$6,0) -> 88 | EO36: 0 | EP36: =ROUNDUP(EO36/EO$6*EP$6,0) -> 0 | ER36: 70 | ES36: =ROUNDUP(ER36/ER$6*ES$6,0) -> 140
A37: 29 | E37: 11129 | G37: A 029 | H37: B 029 | I37: C 029 | J37: 10 | K37: 10 | L37: 8 | M37: 2 | N37: 70 | O37: 100 | P37: 10 | Q37: 10 | R37: 8 | S37: 2 | T37: 70 | U37: 100 | V37: b | W37: 10 | X37: 10 | Y37: 9 | Z37: 1 | AA37: 30 | AB37: 20 | AC37: 70 | AD37: 30 | AE37: b | AF37: 10 | AG37: 10 | AH37: 9 | AI37: 1 | AJ37: 50 | AK37: 20 | AL37: 70 | AM37: 30 | AN37: b | AO37: 10 | AP37: 10 | AQ37: 9 | AR37: 1 | AS37: 70 | AU37: 18 | AW37: a | AX37: 10 | AY37: 10 | AZ37: 10 | BB37: 50 | BC37: 20 | BD37: 70 | BE37: 30 | BF37: 10 | BG37: 10 | BH37: 10 | BI37: 70 | BJ37: 100 | BK37: 30 | BL37: 30 | BM37: 40 | BQ37: =IF($E37="","",IF(BQ$6="","",BQ$6)) | BS37: =IF($E37="","",IF(BS$6="","",BS$6)) -> 44 | BU37: =IF($E37="","",IF(BU$6="","",BU$6)) -> 44 | BW37: =IF($E37="","",IF(BW$6="","",BW$6)) -> 42 | BY37: =IF($E37="","",IF(BY$6="","",BY$6)) -> 40 | CA37: =IF($E37="","",IF(CA$6="","",CA$6)) -> 36 | CC37: =IF($E37="","",IF(CC$6="","",CC$6)) -> 34 | CE37: =IF($E37="","",IF(CE$6="","",CE$6)) -> 24 | CG37: =IF($E37="","",IF(CG$6="","",CG$6)) -> 28 | CI37: =IF($E37="","",IF(CI$6="","",CI$6)) -> 24 | CK37: =IF($E37="","",IF(CK$6="","",CK$6)) -> 24 | CM37: =IF($E37="","",IF(CM$6="","",CM$6)) -> 22 | CP37: =IF(BS37="","",SUM(BQ37,BS37)) -> 44 | CQ37: =IF(BT37="","",SUM(BR37,BT37)) | CR37: =IF(BU37="","",SUM(CP37,BU37)) -> 88 | CS37: =IF(BV37="","",SUM(CQ37,BV37)) | CT37: =IF(BW37="","",SUM(CR37,BW37)) -> 130 | CU37: =IF(BX37="","",SUM(CS37,BX37)) | CV37: =IF(BY37="","",SUM(CT37,BY37)) -> 170 | CW37: =IF(BZ37="","",SUM(CU37,BZ37)) | CX37: =IF(CA37="","",SUM(CV37,CA37)) -> 206 | CY37: =IF(CB37="","",SUM(CW37,CB37)) | ... DI37: =IF(CL37="","",SUM(DG37,CL37)) | DJ37: =IF(E37="","",SUM(BQ37,BS37,BU37,BW37,BY37,CA37,CC37,CE37,CG37,CI37,CK37,CM37)) -> 362 | DK37: =IF(E37="","",SUM(BR37,BT37,BV37,BX37,BZ37,CB37,CD37,CF37,CH37,CJ37,CL37,CN37)) -> 0 | EE37: 26 | EF37: RAJASTHANI LITERATURE | EG37: T | EH37: 100 | EI37: 0 | EJ37: 0 | EL37: 40 | EM37: =ROUNDUP(EL37/EL$6*EM$6,0) -> 86 | ER37: 69 | ES37: =ROUNDUP(ER37/ER$6*ES$6,0) -> 138
A38: 30 | E38: 11130 | G38: A 030 | H38: B 030 | I38: C 030 | J38: 10 | K38: 10 | L38: 8 | M38: 2 | N38: 70 | O38: 100 | P38: 10 | Q38: 10 | R38: 8 | S38: 2 | T38: 70 | U38: 100 | V38: b | W38: 10 | X38: 10 | Y38: 9 | Z38: 1 | AA38: 30 | AB38: 20 | AC38: 70 | AD38: 30 | AE38: b | AF38: 10 | AG38: 10 | AH38: 9 | AI38: 1 | AJ38: 50 | AK38: 20 | AL38: 70 | AM38: 30 | AN38: b | AO38: 10 | AP38: 10 | AQ38: 9 | AR38: 1 | AS38: 70 | AU38: 18 | AW38: a | AX38: 10 | AY38: 10 | AZ38: 10 | BB38: 50 | BC38: 20 | BD38: 70 | BE38: 30 | BF38: 10 | BG38: 10 | BH38: 10 | BI38: 70 | BJ38: 100 | BK38: 30 | BL38: 30 | BM38: 40 | BQ38: =IF($E38="","",IF(BQ$6="","",BQ$6)) | BS38: =IF($E38="","",IF(BS$6="","",BS$6)) -> 44 | BU38: =IF($E38="","",IF(BU$6="","",BU$6)) -> 44 | BW38: =IF($E38="","",IF(BW$6="","",BW$6)) -> 42 | BY38: =IF($E38="","",IF(BY$6="","",BY$6)) -> 40 | CA38: =IF($E38="","",IF(CA$6="","",CA$6)) -> 36 | CC38: =IF($E38="","",IF(CC$6="","",CC$6)) -> 34 | CE38: =IF($E38="","",IF(CE$6="","",CE$6)) -> 24 | CG38: =IF($E38="","",IF(CG$6="","",CG$6)) -> 28 | CI38: =IF($E38="","",IF(CI$6="","",CI$6)) -> 24 | CK38: =IF($E38="","",IF(CK$6="","",CK$6)) -> 24 | CM38: =IF($E38="","",IF(CM$6="","",CM$6)) -> 22 | CP38: =IF(BS38="","",SUM(BQ38,BS38)) -> 44 | CQ38: =IF(BT38="","",SUM(BR38,BT38)) | CR38: =IF(BU38="","",SUM(CP38,BU38)) -> 88 | CS38: =IF(BV38="","",SUM(CQ38,BV38)) | CT38: =IF(BW38="","",SUM(CR38,BW38)) -> 130 | CU38: =IF(BX38="","",SUM(CS38,BX38)) | CV38: =IF(BY38="","",SUM(CT38,BY38)) -> 170 | CW38: =IF(BZ38="","",SUM(CU38,BZ38)) | CX38: =IF(CA38="","",SUM(CV38,CA38)) -> 206 | CY38: =IF(CB38="","",SUM(CW38,CB38)) | ... DI38: =IF(CL38="","",SUM(DG38,CL38)) | DJ38: =IF(E38="","",SUM(BQ38,BS38,BU38,BW38,BY38,CA38,CC38,CE38,CG38,CI38,CK38,CM38)) -> 362 | DK38: =IF(E38="","",SUM(BR38,BT38,BV38,BX38,BZ38,CB38,CD38,CF38,CH38,CJ38,CL38,CN38)) -> 0 | EE38: 12 | EF38: SANSKRIT LITERATURE | EG38: T | EH38: 100 | EI38: 0 | EJ38: 0 | EL38: 39 | EM38: =ROUNDUP(EL38/EL$6*EM$6,0) -> 84 | ER38: 68 | ES38: =ROUNDUP(ER38/ER$6*ES$6,0) -> 136
E39: 11131 | G39: A 031 | H39: B 031 | I39: C 031 | J39: 10 | K39: 10 | L39: 8 | M39: 2 | N39: 70 | O39: 100 | P39: 10 | Q39: 10 | R39: 8 | S39: 2 | T39: 70 | U39: 100 | V39: b | W39: 10 | X39: 10 | Y39: 9 | Z39: 1 | AA39: 30 | AB39: 20 | AC39: 70 | AD39: 30 | AE39: b | AF39: 10 | AG39: 10 | AH39: 9 | AI39: 1 | AJ39: 50 | AK39: 20 | AL39: 70 | AM39: 30 | AN39: b | AO39: 10 | AP39: 10 | AQ39: 9 | AR39: 1 | AS39: 70 | AU39: 18 | AW39: a | AX39: 10 | AY39: 10 | AZ39: 10 | BB39: 50 | BC39: 20 | BD39: 70 | BE39: 30 | BF39: 10 | BG39: 10 | BH39: 10 | BI39: 70 | BJ39: 100 | BK39: 30 | BL39: 30 | BM39: 40 | BQ39: =IF($E39="","",IF(BQ$6="","",BQ$6)) | BS39: =IF($E39="","",IF(BS$6="","",BS$6)) -> 44 | BU39: =IF($E39="","",IF(BU$6="","",BU$6)) -> 44 | BW39: =IF($E39="","",IF(BW$6="","",BW$6)) -> 42 | BY39: =IF($E39="","",IF(BY$6="","",BY$6)) -> 40 | CA39: =IF($E39="","",IF(CA$6="","",CA$6)) -> 36 | CC39: =IF($E39="","",IF(CC$6="","",CC$6)) -> 34 | CE39: =IF($E39="","",IF(CE$6="","",CE$6)) -> 24 | CG39: =IF($E39="","",IF(CG$6="","",CG$6)) -> 28 | CI39: =IF($E39="","",IF(CI$6="","",CI$6)) -> 24 | CK39: =IF($E39="","",IF(CK$6="","",CK$6)) -> 24 | CM39: =IF($E39="","",IF(CM$6="","",CM$6)) -> 22 | CP39: =IF(BS39="","",SUM(BQ39,BS39)) -> 44 | CQ39: =IF(BT39="","",SUM(BR39,BT39)) | CR39: =IF(BU39="","",SUM(CP39,BU39)) -> 88 | CS39: =IF(BV39="","",SUM(CQ39,BV39)) | CT39: =IF(BW39="","",SUM(CR39,BW39)) -> 130 | CU39: =IF(BX39="","",SUM(CS39,BX39)) | CV39: =IF(BY39="","",SUM(CT39,BY39)) -> 170 | CW39: =IF(BZ39="","",SUM(CU39,BZ39)) | CX39: =IF(CA39="","",SUM(CV39,CA39)) -> 206 | CY39: =IF(CB39="","",SUM(CW39,CB39)) | ... DI39: =IF(CL39="","",SUM(DG39,CL39)) | DJ39: =IF(E39="","",SUM(BQ39,BS39,BU39,BW39,BY39,CA39,CC39,CE39,CG39,CI39,CK39,CM39)) -> 362 | DK39: =IF(E39="","",SUM(BR39,BT39,BV39,BX39,BZ39,CB39,CD39,CF39,CH39,CJ39,CL39,CN39)) -> 0 | EE39: 23 | EF39: SINDHI LITERATURE | EG39: T | EH39: 100 | EI39: 0 | EJ39: 0 | EL39: 38 | EM39: =ROUNDUP(EL39/EL$6*EM$6,0) -> 82 | ER39: 67 | ES39: =ROUNDUP(ER39/ER$6*ES$6,0) -> 134
E40: 11132 | G40: A 032 | H40: B 032 | I40: C 032 | J40: 10 | K40: 10 | L40: 8 | M40: 2 | N40: 70 | O40: 100 | P40: 10 | Q40: 10 | R40: 8 | S40: 2 | T40: 70 | U40: 100 | V40: b | W40: 10 | X40: 10 | Y40: 9 | Z40: 1 | AA40: 30 | AB40: 20 | AC40: 70 | AD40: 30 | AE40: b | AF40: 10 | AG40: 10 | AH40: 9 | AI40: 1 | AJ40: 50 | AK40: 20 | AL40: 70 | AM40: 30 | AN40: b | AO40: 10 | AP40: 10 | AQ40: 9 | AR40: 1 | AS40: 70 | AU40: 18 | AW40: a | AX40: 10 | AY40: 10 | AZ40: 10 | BB40: 50 | BC40: 20 | BD40: 70 | BE40: 30 | BF40: 10 | BG40: 10 | BH40: 10 | BI40: 70 | BJ40: 100 | BK40: 30 | BL40: 30 | BM40: 40 | BQ40: =IF($E40="","",IF(BQ$6="","",BQ$6)) | BS40: =IF($E40="","",IF(BS$6="","",BS$6)) -> 44 | BU40: =IF($E40="","",IF(BU$6="","",BU$6)) -> 44 | BW40: =IF($E40="","",IF(BW$6="","",BW$6)) -> 42 | BY40: =IF($E40="","",IF(BY$6="","",BY$6)) -> 40 | CA40: =IF($E40="","",IF(CA$6="","",CA$6)) -> 36 | CC40: =IF($E40="","",IF(CC$6="","",CC$6)) -> 34 | CE40: =IF($E40="","",IF(CE$6="","",CE$6)) -> 24 | CG40: =IF($E40="","",IF(CG$6="","",CG$6)) -> 28 | CI40: =IF($E40="","",IF(CI$6="","",CI$6)) -> 24 | CK40: =IF($E40="","",IF(CK$6="","",CK$6)) -> 24 | CM40: =IF($E40="","",IF(CM$6="","",CM$6)) -> 22 | CP40: =IF(BS40="","",SUM(BQ40,BS40)) -> 44 | CQ40: =IF(BT40="","",SUM(BR40,BT40)) | CR40: =IF(BU40="","",SUM(CP40,BU40)) -> 88 | CS40: =IF(BV40="","",SUM(CQ40,BV40)) | CT40: =IF(BW40="","",SUM(CR40,BW40)) -> 130 | CU40: =IF(BX40="","",SUM(CS40,BX40)) | CV40: =IF(BY40="","",SUM(CT40,BY40)) -> 170 | CW40: =IF(BZ40="","",SUM(CU40,BZ40)) | CX40: =IF(CA40="","",SUM(CV40,CA40)) -> 206 | CY40: =IF(CB40="","",SUM(CW40,CB40)) | ... DI40: =IF(CL40="","",SUM(DG40,CL40)) | DJ40: =IF(E40="","",SUM(BQ40,BS40,BU40,BW40,BY40,CA40,CC40,CE40,CG40,CI40,CK40,CM40)) -> 362 | DK40: =IF(E40="","",SUM(BR40,BT40,BV40,BX40,BZ40,CB40,CD40,CF40,CH40,CJ40,CL40,CN40)) -> 0 | EE40: 29 | EF40: SOCIOLOGY | EG40: T | EH40: 100 | EI40: 0 | EJ40: 0 | EL40: 37 | EM40: =ROUNDUP(EL40/EL$6*EM$6,0) -> 80 | ER40: 66 | ES40: =ROUNDUP(ER40/ER$6*ES$6,0) -> 132
E41: 11133 | G41: A 033 | H41: B 033 | I41: C 033 | J41: 10 | K41: 10 | L41: 8 | M41: 2 | N41: 70 | O41: 100 | P41: 10 | Q41: 10 | R41: 8 | S41: 2 | T41: 70 | U41: 100 | V41: b | W41: 10 | X41: 10 | Y41: 9 | Z41: 1 | AA41: 30 | AB41: 20 | AC41: 70 | AD41: 30 | AE41: b | AF41: 10 | AG41: 10 | AH41: 9 | AI41: 1 | AJ41: 50 | AK41: 20 | AL41: 70 | AM41: 30 | AN41: b | AO41: 10 | AP41: 10 | AQ41: 9 | AR41: 1 | AS41: 70 | AU41: 18 | AW41: a | AX41: 10 | AY41: 10 | AZ41: 10 | BB41: 50 | BC41: 20 | BD41: 70 | BE41: 30 | BF41: 10 | BG41: 10 | BH41: 10 | BI41: 70 | BJ41: 100 | BK41: 30 | BL41: 30 | BM41: 40 | BQ41: =IF($E41="","",IF(BQ$6="","",BQ$6)) | BS41: =IF($E41="","",IF(BS$6="","",BS$6)) -> 44 | BU41: =IF($E41="","",IF(BU$6="","",BU$6)) -> 44 | BW41: =IF($E41="","",IF(BW$6="","",BW$6)) -> 42 | BY41: =IF($E41="","",IF(BY$6="","",BY$6)) -> 40 | CA41: =IF($E41="","",IF(CA$6="","",CA$6)) -> 36 | CC41: =IF($E41="","",IF(CC$6="","",CC$6)) -> 34 | CE41: =IF($E41="","",IF(CE$6="","",CE$6)) -> 24 | CG41: =IF($E41="","",IF(CG$6="","",CG$6)) -> 28 | CI41: =IF($E41="","",IF(CI$6="","",CI$6)) -> 24 | CK41: =IF($E41="","",IF(CK$6="","",CK$6)) -> 24 | CM41: =IF($E41="","",IF(CM$6="","",CM$6)) -> 22 | CP41: =IF(BS41="","",SUM(BQ41,BS41)) -> 44 | CQ41: =IF(BT41="","",SUM(BR41,BT41)) | CR41: =IF(BU41="","",SUM(CP41,BU41)) -> 88 | CS41: =IF(BV41="","",SUM(CQ41,BV41)) | CT41: =IF(BW41="","",SUM(CR41,BW41)) -> 130 | CU41: =IF(BX41="","",SUM(CS41,BX41)) | CV41: =IF(BY41="","",SUM(CT41,BY41)) -> 170 | CW41: =IF(BZ41="","",SUM(CU41,BZ41)) | CX41: =IF(CA41="","",SUM(CV41,CA41)) -> 206 | CY41: =IF(CB41="","",SUM(CW41,CB41)) | ... DI41: =IF(CL41="","",SUM(DG41,CL41)) | DJ41: =IF(E41="","",SUM(BQ41,BS41,BU41,BW41,BY41,CA41,CC41,CE41,CG41,CI41,CK41,CM41)) -> 362 | DK41: =IF(E41="","",SUM(BR41,BT41,BV41,BX41,BZ41,CB41,CD41,CF41,CH41,CJ41,CL41,CN41)) -> 0 | EE41: 22 | EF41: URDU LITERATURE | EG41: T | EH41: 100 | EI41: 0 | EJ41: 0 | EL41: 36 | EM41: =ROUNDUP(EL41/EL$6*EM$6,0) -> 78 | ER41: 65 | ES41: =ROUNDUP(ER41/ER$6*ES$6,0) -> 130
E42: 11134 | G42: A 034 | H42: B 034 | I42: C 034 | J42: 10 | K42: 10 | L42: 8 | M42: 2 | N42: 70 | O42: 100 | P42: 10 | Q42: 10 | R42: 8 | S42: 2 | T42: 70 | U42: 100 | V42: b | W42: 10 | X42: 10 | Y42: 9 | Z42: 1 | AA42: 30 | AB42: 20 | AC42: 70 | AD42: 30 | AE42: b | AF42: 10 | AG42: 10 | AH42: 9 | AI42: 1 | AJ42: 50 | AK42: 20 | AL42: 70 | AM42: 30 | AN42: b | AO42: 10 | AP42: 10 | AQ42: 9 | AR42: 1 | AS42: 70 | AU42: 18 | AW42: a | AX42: 10 | AY42: 10 | AZ42: 10 | BB42: 50 | BC42: 20 | BD42: 70 | BE42: 30 | BF42: 10 | BG42: 10 | BH42: 10 | BI42: 70 | BJ42: 100 | BK42: 30 | BL42: 30 | BM42: 40 | BQ42: =IF($E42="","",IF(BQ$6="","",BQ$6)) | BS42: =IF($E42="","",IF(BS$6="","",BS$6)) -> 44 | BU42: =IF($E42="","",IF(BU$6="","",BU$6)) -> 44 | BW42: =IF($E42="","",IF(BW$6="","",BW$6)) -> 42 | BY42: =IF($E42="","",IF(BY$6="","",BY$6)) -> 40 | CA42: =IF($E42="","",IF(CA$6="","",CA$6)) -> 36 | CC42: =IF($E42="","",IF(CC$6="","",CC$6)) -> 34 | CE42: =IF($E42="","",IF(CE$6="","",CE$6)) -> 24 | CG42: =IF($E42="","",IF(CG$6="","",CG$6)) -> 28 | CI42: =IF($E42="","",IF(CI$6="","",CI$6)) -> 24 | CK42: =IF($E42="","",IF(CK$6="","",CK$6)) -> 24 | CM42: =IF($E42="","",IF(CM$6="","",CM$6)) -> 22 | CP42: =IF(BS42="","",SUM(BQ42,BS42)) -> 44 | CQ42: =IF(BT42="","",SUM(BR42,BT42)) | CR42: =IF(BU42="","",SUM(CP42,BU42)) -> 88 | CS42: =IF(BV42="","",SUM(CQ42,BV42)) | CT42: =IF(BW42="","",SUM(CR42,BW42)) -> 130 | CU42: =IF(BX42="","",SUM(CS42,BX42)) | CV42: =IF(BY42="","",SUM(CT42,BY42)) -> 170 | CW42: =IF(BZ42="","",SUM(CU42,BZ42)) | CX42: =IF(CA42="","",SUM(CV42,CA42)) -> 206 | CY42: =IF(CB42="","",SUM(CW42,CB42)) | ... DI42: =IF(CL42="","",SUM(DG42,CL42)) | DJ42: =IF(E42="","",SUM(BQ42,BS42,BU42,BW42,BY42,CA42,CC42,CE42,CG42,CI42,CK42,CM42)) -> 362 | DK42: =IF(E42="","",SUM(BR42,BT42,BV42,BX42,BZ42,CB42,CD42,CF42,CH42,CJ42,CL42,CN42)) -> 0 | EL42: 35 | EM42: =ROUNDUP(EL42/EL$6*EM$6,0) -> 75 | ER42: 64 | ES42: =ROUNDUP(ER42/ER$6*ES$6,0) -> 128
E43: 11135 | G43: A 035 | H43: B 035 | I43: C 035 | J43: 10 | K43: 10 | L43: 8 | M43: 2 | N43: 70 | O43: 100 | P43: 10 | Q43: 10 | R43: 8 | S43: 2 | T43: 70 | U43: 100 | V43: b | W43: 10 | X43: 10 | Y43: 9 | Z43: 1 | AA43: 30 | AB43: 20 | AC43: 70 | AD43: 30 | AE43: b | AF43: 10 | AG43: 10 | AH43: 9 | AI43: 1 | AJ43: 50 | AK43: 20 | AL43: 70 | AM43: 30 | AN43: b | AO43: 10 | AP43: 10 | AQ43: 9 | AR43: 1 | AS43: 70 | AU43: 18 | AW43: a | AX43: 10 | AY43: 10 | AZ43: 10 | BB43: 50 | BC43: 20 | BD43: 70 | BE43: 30 | BF43: 10 | BG43: 10 | BH43: 10 | BI43: 70 | BJ43: 100 | BK43: 30 | BL43: 30 | BM43: 40 | BQ43: =IF($E43="","",IF(BQ$6="","",BQ$6)) | BS43: =IF($E43="","",IF(BS$6="","",BS$6)) -> 44 | BU43: =IF($E43="","",IF(BU$6="","",BU$6)) -> 44 | BW43: =IF($E43="","",IF(BW$6="","",BW$6)) -> 42 | BY43: =IF($E43="","",IF(BY$6="","",BY$6)) -> 40 | CA43: =IF($E43="","",IF(CA$6="","",CA$6)) -> 36 | CC43: =IF($E43="","",IF(CC$6="","",CC$6)) -> 34 | CE43: =IF($E43="","",IF(CE$6="","",CE$6)) -> 24 | CG43: =IF($E43="","",IF(CG$6="","",CG$6)) -> 28 | CI43: =IF($E43="","",IF(CI$6="","",CI$6)) -> 24 | CK43: =IF($E43="","",IF(CK$6="","",CK$6)) -> 24 | CM43: =IF($E43="","",IF(CM$6="","",CM$6)) -> 22 | CP43: =IF(BS43="","",SUM(BQ43,BS43)) -> 44 | CQ43: =IF(BT43="","",SUM(BR43,BT43)) | CR43: =IF(BU43="","",SUM(CP43,BU43)) -> 88 | CS43: =IF(BV43="","",SUM(CQ43,BV43)) | CT43: =IF(BW43="","",SUM(CR43,BW43)) -> 130 | CU43: =IF(BX43="","",SUM(CS43,BX43)) | CV43: =IF(BY43="","",SUM(CT43,BY43)) -> 170 | CW43: =IF(BZ43="","",SUM(CU43,BZ43)) | CX43: =IF(CA43="","",SUM(CV43,CA43)) -> 206 | CY43: =IF(CB43="","",SUM(CW43,CB43)) | ... DI43: =IF(CL43="","",SUM(DG43,CL43)) | DJ43: =IF(E43="","",SUM(BQ43,BS43,BU43,BW43,BY43,CA43,CC43,CE43,CG43,CI43,CK43,CM43)) -> 362 | DK43: =IF(E43="","",SUM(BR43,BT43,BV43,BX43,BZ43,CB43,CD43,CF43,CH43,CJ43,CL43,CN43)) -> 0 | EL43: 34 | EM43: =ROUNDUP(EL43/EL$6*EM$6,0) -> 73 | ER43: 63 | ES43: =ROUNDUP(ER43/ER$6*ES$6,0) -> 126
E44: 11136 | G44: A 036 | H44: B 036 | I44: C 036 | J44: 10 | K44: 10 | L44: 8 | M44: 2 | N44: 70 | O44: 100 | P44: 10 | Q44: 10 | R44: 8 | S44: 2 | T44: 70 | U44: 100 | V44: b | W44: 10 | X44: 10 | Y44: 9 | Z44: 1 | AA44: 30 | AB44: 20 | AC44: 70 | AD44: 30 | AE44: b | AF44: 10 | AG44: 10 | AH44: 9 | AI44: 1 | AJ44: 50 | AK44: 20 | AL44: 70 | AM44: 30 | AN44: b | AO44: 10 | AP44: 10 | AQ44: 9 | AR44: 1 | AS44: 70 | AU44: 18 | AW44: a | AX44: 10 | AY44: 10 | AZ44: 10 | BB44: 50 | BC44: 20 | BD44: 70 | BE44: 30 | BF44: 10 | BG44: 10 | BH44: 10 | BI44: 70 | BJ44: 100 | BK44: 30 | BL44: 30 | BM44: 40 | BQ44: =IF($E44="","",IF(BQ$6="","",BQ$6)) | BS44: =IF($E44="","",IF(BS$6="","",BS$6)) -> 44 | BU44: =IF($E44="","",IF(BU$6="","",BU$6)) -> 44 | BW44: =IF($E44="","",IF(BW$6="","",BW$6)) -> 42 | BY44: =IF($E44="","",IF(BY$6="","",BY$6)) -> 40 | CA44: =IF($E44="","",IF(CA$6="","",CA$6)) -> 36 | CC44: =IF($E44="","",IF(CC$6="","",CC$6)) -> 34 | CE44: =IF($E44="","",IF(CE$6="","",CE$6)) -> 24 | CG44: =IF($E44="","",IF(CG$6="","",CG$6)) -> 28 | CI44: =IF($E44="","",IF(CI$6="","",CI$6)) -> 24 | CK44: =IF($E44="","",IF(CK$6="","",CK$6)) -> 24 | CM44: =IF($E44="","",IF(CM$6="","",CM$6)) -> 22 | CP44: =IF(BS44="","",SUM(BQ44,BS44)) -> 44 | CQ44: =IF(BT44="","",SUM(BR44,BT44)) | CR44: =IF(BU44="","",SUM(CP44,BU44)) -> 88 | CS44: =IF(BV44="","",SUM(CQ44,BV44)) | CT44: =IF(BW44="","",SUM(CR44,BW44)) -> 130 | CU44: =IF(BX44="","",SUM(CS44,BX44)) | CV44: =IF(BY44="","",SUM(CT44,BY44)) -> 170 | CW44: =IF(BZ44="","",SUM(CU44,BZ44)) | CX44: =IF(CA44="","",SUM(CV44,CA44)) -> 206 | CY44: =IF(CB44="","",SUM(CW44,CB44)) | ... DI44: =IF(CL44="","",SUM(DG44,CL44)) | DJ44: =IF(E44="","",SUM(BQ44,BS44,BU44,BW44,BY44,CA44,CC44,CE44,CG44,CI44,CK44,CM44)) -> 362 | DK44: =IF(E44="","",SUM(BR44,BT44,BV44,BX44,BZ44,CB44,CD44,CF44,CH44,CJ44,CL44,CN44)) -> 0 | EE44: 16 | EF44: MUSIC VOCAL | EG44: SP | EH44: 30 | EI44: 70 | EJ44: 0 | EL44: 33 | EM44: =ROUNDUP(EL44/EL$6*EM$6,0) -> 71 | ER44: 62 | ES44: =ROUNDUP(ER44/ER$6*ES$6,0) -> 124
E45: 11137 | G45: A 037 | H45: B 037 | I45: C 037 | J45: 10 | K45: 10 | L45: 8 | M45: 2 | N45: 70 | O45: 100 | P45: 10 | Q45: 10 | R45: 8 | S45: 2 | T45: 70 | U45: 100 | V45: b | W45: 10 | X45: 10 | Y45: 9 | Z45: 1 | AA45: 30 | AB45: 20 | AC45: 70 | AD45: 30 | AE45: b | AF45: 10 | AG45: 10 | AH45: 9 | AI45: 1 | AJ45: 50 | AK45: 20 | AL45: 70 | AM45: 30 | AN45: b | AO45: 10 | AP45: 10 | AQ45: 9 | AR45: 1 | AS45: 70 | AU45: 18 | AW45: a | AX45: 10 | AY45: 10 | AZ45: 10 | BB45: 50 | BC45: 20 | BD45: 70 | BE45: 30 | BF45: 10 | BG45: 10 | BH45: 10 | BI45: 70 | BJ45: 100 | BK45: 30 | BL45: 30 | BM45: 40 | BQ45: =IF($E45="","",IF(BQ$6="","",BQ$6)) | BS45: =IF($E45="","",IF(BS$6="","",BS$6)) -> 44 | BU45: =IF($E45="","",IF(BU$6="","",BU$6)) -> 44 | BW45: =IF($E45="","",IF(BW$6="","",BW$6)) -> 42 | BY45: =IF($E45="","",IF(BY$6="","",BY$6)) -> 40 | CA45: =IF($E45="","",IF(CA$6="","",CA$6)) -> 36 | CC45: =IF($E45="","",IF(CC$6="","",CC$6)) -> 34 | CE45: =IF($E45="","",IF(CE$6="","",CE$6)) -> 24 | CG45: =IF($E45="","",IF(CG$6="","",CG$6)) -> 28 | CI45: =IF($E45="","",IF(CI$6="","",CI$6)) -> 24 | CK45: =IF($E45="","",IF(CK$6="","",CK$6)) -> 24 | CM45: =IF($E45="","",IF(CM$6="","",CM$6)) -> 22 | CP45: =IF(BS45="","",SUM(BQ45,BS45)) -> 44 | CQ45: =IF(BT45="","",SUM(BR45,BT45)) | CR45: =IF(BU45="","",SUM(CP45,BU45)) -> 88 | CS45: =IF(BV45="","",SUM(CQ45,BV45)) | CT45: =IF(BW45="","",SUM(CR45,BW45)) -> 130 | CU45: =IF(BX45="","",SUM(CS45,BX45)) | CV45: =IF(BY45="","",SUM(CT45,BY45)) -> 170 | CW45: =IF(BZ45="","",SUM(CU45,BZ45)) | CX45: =IF(CA45="","",SUM(CV45,CA45)) -> 206 | CY45: =IF(CB45="","",SUM(CW45,CB45)) | ... DI45: =IF(CL45="","",SUM(DG45,CL45)) | DJ45: =IF(E45="","",SUM(BQ45,BS45,BU45,BW45,BY45,CA45,CC45,CE45,CG45,CI45,CK45,CM45)) -> 362 | DK45: =IF(E45="","",SUM(BR45,BT45,BV45,BX45,BZ45,CB45,CD45,CF45,CH45,CJ45,CL45,CN45)) -> 0 | EE45: 17 | EF45: DRAWING | EG45: SP | EH45: 30 | EI45: 70 | EJ45: 0 | EL45: 32 | EM45: =ROUNDUP(EL45/EL$6*EM$6,0) -> 69 | ER45: 61 | ES45: =ROUNDUP(ER45/ER$6*ES$6,0) -> 122
E46: 11138 | G46: A 038 | H46: B 038 | I46: C 038 | J46: 10 | K46: 10 | L46: 8 | M46: 2 | N46: 70 | O46: 100 | P46: 10 | Q46: 10 | R46: 8 | S46: 2 | T46: 70 | U46: 100 | V46: b | W46: 10 | X46: 10 | Y46: 9 | Z46: 1 | AA46: 30 | AB46: 20 | AC46: 70 | AD46: 30 | AE46: b | AF46: 10 | AG46: 10 | AH46: 9 | AI46: 1 | AJ46: 50 | AK46: 20 | AL46: 70 | AM46: 30 | AN46: b | AO46: 10 | AP46: 10 | AQ46: 9 | AR46: 1 | AS46: 70 | AU46: 18 | AW46: a | AX46: 10 | AY46: 10 | AZ46: 10 | BB46: 50 | BC46: 20 | BD46: 70 | BE46: 30 | BF46: 10 | BG46: 10 | BH46: 10 | BI46: 70 | BJ46: 100 | BK46: 30 | BL46: 30 | BM46: 40 | BQ46: =IF($E46="","",IF(BQ$6="","",BQ$6)) | BS46: =IF($E46="","",IF(BS$6="","",BS$6)) -> 44 | BU46: =IF($E46="","",IF(BU$6="","",BU$6)) -> 44 | BW46: =IF($E46="","",IF(BW$6="","",BW$6)) -> 42 | BY46: =IF($E46="","",IF(BY$6="","",BY$6)) -> 40 | CA46: =IF($E46="","",IF(CA$6="","",CA$6)) -> 36 | CC46: =IF($E46="","",IF(CC$6="","",CC$6)) -> 34 | CE46: =IF($E46="","",IF(CE$6="","",CE$6)) -> 24 | CG46: =IF($E46="","",IF(CG$6="","",CG$6)) -> 28 | CI46: =IF($E46="","",IF(CI$6="","",CI$6)) -> 24 | CK46: =IF($E46="","",IF(CK$6="","",CK$6)) -> 24 | CM46: =IF($E46="","",IF(CM$6="","",CM$6)) -> 22 | CP46: =IF(BS46="","",SUM(BQ46,BS46)) -> 44 | CQ46: =IF(BT46="","",SUM(BR46,BT46)) | CR46: =IF(BU46="","",SUM(CP46,BU46)) -> 88 | CS46: =IF(BV46="","",SUM(CQ46,BV46)) | CT46: =IF(BW46="","",SUM(CR46,BW46)) -> 130 | CU46: =IF(BX46="","",SUM(CS46,BX46)) | CV46: =IF(BY46="","",SUM(CT46,BY46)) -> 170 | CW46: =IF(BZ46="","",SUM(CU46,BZ46)) | CX46: =IF(CA46="","",SUM(CV46,CA46)) -> 206 | CY46: =IF(CB46="","",SUM(CW46,CB46)) | ... DI46: =IF(CL46="","",SUM(DG46,CL46)) | DJ46: =IF(E46="","",SUM(BQ46,BS46,BU46,BW46,BY46,CA46,CC46,CE46,CG46,CI46,CK46,CM46)) -> 362 | DK46: =IF(E46="","",SUM(BR46,BT46,BV46,BX46,BZ46,CB46,CD46,CF46,CH46,CJ46,CL46,CN46)) -> 0 | EE46: 59 | EF46: DANCE KATTHAK | EG46: SP | EH46: 30 | EI46: 70 | EJ46: 0 | EL46: 31 | EM46: =ROUNDUP(EL46/EL$6*EM$6,0) -> 67 | ER46: 60 | ES46: =ROUNDUP(ER46/ER$6*ES$6,0) -> 120
E47: 11139 | G47: A 039 | H47: B 039 | I47: C 039 | J47: 10 | K47: 10 | L47: 8 | M47: 2 | N47: 70 | O47: 100 | P47: 10 | Q47: 10 | R47: 8 | S47: 2 | T47: 70 | U47: 100 | V47: b | W47: 10 | X47: 10 | Y47: 9 | Z47: 1 | AA47: 30 | AB47: 20 | AC47: 70 | AD47: 30 | AE47: b | AF47: 10 | AG47: 10 | AH47: 9 | AI47: 1 | AJ47: 50 | AK47: 20 | AL47: 70 | AM47: 30 | AN47: b | AO47: 10 | AP47: 10 | AQ47: 9 | AR47: 1 | AS47: 70 | AU47: 18 | AW47: a | AX47: 10 | AY47: 10 | AZ47: 10 | BB47: 50 | BC47: 20 | BD47: 70 | BE47: 30 | BF47: 10 | BG47: 10 | BH47: 10 | BI47: 70 | BJ47: 100 | BK47: 30 | BL47: 30 | BM47: 40 | BQ47: =IF($E47="","",IF(BQ$6="","",BQ$6)) | BS47: =IF($E47="","",IF(BS$6="","",BS$6)) -> 44 | BU47: =IF($E47="","",IF(BU$6="","",BU$6)) -> 44 | BW47: =IF($E47="","",IF(BW$6="","",BW$6)) -> 42 | BY47: =IF($E47="","",IF(BY$6="","",BY$6)) -> 40 | CA47: =IF($E47="","",IF(CA$6="","",CA$6)) -> 36 | CC47: =IF($E47="","",IF(CC$6="","",CC$6)) -> 34 | CE47: =IF($E47="","",IF(CE$6="","",CE$6)) -> 24 | CG47: =IF($E47="","",IF(CG$6="","",CG$6)) -> 28 | CI47: =IF($E47="","",IF(CI$6="","",CI$6)) -> 24 | CK47: =IF($E47="","",IF(CK$6="","",CK$6)) -> 24 | CM47: =IF($E47="","",IF(CM$6="","",CM$6)) -> 22 | CP47: =IF(BS47="","",SUM(BQ47,BS47)) -> 44 | CQ47: =IF(BT47="","",SUM(BR47,BT47)) | CR47: =IF(BU47="","",SUM(CP47,BU47)) -> 88 | CS47: =IF(BV47="","",SUM(CQ47,BV47)) | CT47: =IF(BW47="","",SUM(CR47,BW47)) -> 130 | CU47: =IF(BX47="","",SUM(CS47,BX47)) | CV47: =IF(BY47="","",SUM(CT47,BY47)) -> 170 | CW47: =IF(BZ47="","",SUM(CU47,BZ47)) | CX47: =IF(CA47="","",SUM(CV47,CA47)) -> 206 | CY47: =IF(CB47="","",SUM(CW47,CB47)) | ... DI47: =IF(CL47="","",SUM(DG47,CL47)) | DJ47: =IF(E47="","",SUM(BQ47,BS47,BU47,BW47,BY47,CA47,CC47,CE47,CG47,CI47,CK47,CM47)) -> 362 | DK47: =IF(E47="","",SUM(BR47,BT47,BV47,BX47,BZ47,CB47,CD47,CF47,CH47,CJ47,CL47,CN47)) -> 0 | EE47: 68 | EF47: MUSIC INSTR. DILRUBA | EG47: SP | EH47: 30 | EI47: 70 | EJ47: 0 | EL47: 30 | EM47: =ROUNDUP(EL47/EL$6*EM$6,0) -> 65 | ER47: 59 | ES47: =ROUNDUP(ER47/ER$6*ES$6,0) -> 118
E48: 11140 | G48: A 040 | H48: B 040 | I48: C 040 | J48: 10 | K48: 10 | L48: 8 | M48: 2 | N48: 70 | O48: 100 | P48: 10 | Q48: 10 | R48: 8 | S48: 2 | T48: 70 | U48: 100 | V48: b | W48: 10 | X48: 10 | Y48: 9 | Z48: 1 | AA48: 30 | AB48: 20 | AC48: 70 | AD48: 30 | AE48: b | AF48: 10 | AG48: 10 | AH48: 9 | AI48: 1 | AJ48: 50 | AK48: 20 | AL48: 70 | AM48: 30 | AN48: b | AO48: 10 | AP48: 10 | AQ48: 9 | AR48: 1 | AS48: 70 | AU48: 18 | AW48: a | AX48: 10 | AY48: 10 | AZ48: 10 | BB48: 50 | BC48: 20 | BD48: 70 | BE48: 30 | BF48: 10 | BG48: 10 | BH48: 10 | BI48: 70 | BJ48: 100 | BK48: 30 | BL48: 30 | BM48: 40 | BQ48: =IF($E48="","",IF(BQ$6="","",BQ$6)) | BS48: =IF($E48="","",IF(BS$6="","",BS$6)) -> 44 | BU48: =IF($E48="","",IF(BU$6="","",BU$6)) -> 44 | BW48: =IF($E48="","",IF(BW$6="","",BW$6)) -> 42 | BY48: =IF($E48="","",IF(BY$6="","",BY$6)) -> 40 | CA48: =IF($E48="","",IF(CA$6="","",CA$6)) -> 36 | CC48: =IF($E48="","",IF(CC$6="","",CC$6)) -> 34 | CE48: =IF($E48="","",IF(CE$6="","",CE$6)) -> 24 | CG48: =IF($E48="","",IF(CG$6="","",CG$6)) -> 28 | CI48: =IF($E48="","",IF(CI$6="","",CI$6)) -> 24 | CK48: =IF($E48="","",IF(CK$6="","",CK$6)) -> 24 | CM48: =IF($E48="","",IF(CM$6="","",CM$6)) -> 22 | CP48: =IF(BS48="","",SUM(BQ48,BS48)) -> 44 | CQ48: =IF(BT48="","",SUM(BR48,BT48)) | CR48: =IF(BU48="","",SUM(CP48,BU48)) -> 88 | CS48: =IF(BV48="","",SUM(CQ48,BV48)) | CT48: =IF(BW48="","",SUM(CR48,BW48)) -> 130 | CU48: =IF(BX48="","",SUM(CS48,BX48)) | CV48: =IF(BY48="","",SUM(CT48,BY48)) -> 170 | CW48: =IF(BZ48="","",SUM(CU48,BZ48)) | CX48: =IF(CA48="","",SUM(CV48,CA48)) -> 206 | CY48: =IF(CB48="","",SUM(CW48,CB48)) | ... DI48: =IF(CL48="","",SUM(DG48,CL48)) | DJ48: =IF(E48="","",SUM(BQ48,BS48,BU48,BW48,BY48,CA48,CC48,CE48,CG48,CI48,CK48,CM48)) -> 362 | DK48: =IF(E48="","",SUM(BR48,BT48,BV48,BX48,BZ48,CB48,CD48,CF48,CH48,CJ48,CL48,CN48)) -> 0 | EE48: 67 | EF48: MUSIC INSTR. FLUTE | EG48: SP | EH48: 30 | EI48: 70 | EJ48: 0 | EL48: 29 | EM48: =ROUNDUP(EL48/EL$6*EM$6,0) -> 63 | ER48: 58 | ES48: =ROUNDUP(ER48/ER$6*ES$6,0) -> 116
E49: 11141 | G49: A 041 | H49: B 041 | I49: C 041 | J49: 10 | K49: 10 | L49: 8 | M49: 2 | N49: 70 | O49: 100 | P49: 10 | Q49: 10 | R49: 8 | S49: 2 | T49: 70 | U49: 100 | V49: b | W49: 10 | X49: 10 | Y49: 9 | Z49: 1 | AA49: 30 | AB49: 20 | AC49: 70 | AD49: 30 | AE49: b | AF49: 10 | AG49: 10 | AH49: 9 | AI49: 1 | AJ49: 50 | AK49: 20 | AL49: 70 | AM49: 30 | AN49: b | AO49: 10 | AP49: 10 | AQ49: 9 | AR49: 1 | AS49: 70 | AU49: 18 | AW49: a | AX49: 10 | AY49: 10 | AZ49: 10 | BB49: 50 | BC49: 20 | BD49: 70 | BE49: 30 | BF49: 10 | BG49: 10 | BH49: 10 | BI49: 70 | BJ49: 100 | BK49: 30 | BL49: 30 | BM49: 40 | BQ49: =IF($E49="","",IF(BQ$6="","",BQ$6)) | BS49: =IF($E49="","",IF(BS$6="","",BS$6)) -> 44 | BU49: =IF($E49="","",IF(BU$6="","",BU$6)) -> 44 | BW49: =IF($E49="","",IF(BW$6="","",BW$6)) -> 42 | BY49: =IF($E49="","",IF(BY$6="","",BY$6)) -> 40 | CA49: =IF($E49="","",IF(CA$6="","",CA$6)) -> 36 | CC49: =IF($E49="","",IF(CC$6="","",CC$6)) -> 34 | CE49: =IF($E49="","",IF(CE$6="","",CE$6)) -> 24 | CG49: =IF($E49="","",IF(CG$6="","",CG$6)) -> 28 | CI49: =IF($E49="","",IF(CI$6="","",CI$6)) -> 24 | CK49: =IF($E49="","",IF(CK$6="","",CK$6)) -> 24 | CM49: =IF($E49="","",IF(CM$6="","",CM$6)) -> 22 | CP49: =IF(BS49="","",SUM(BQ49,BS49)) -> 44 | CQ49: =IF(BT49="","",SUM(BR49,BT49)) | CR49: =IF(BU49="","",SUM(CP49,BU49)) -> 88 | CS49: =IF(BV49="","",SUM(CQ49,BV49)) | CT49: =IF(BW49="","",SUM(CR49,BW49)) -> 130 | CU49: =IF(BX49="","",SUM(CS49,BX49)) | CV49: =IF(BY49="","",SUM(CT49,BY49)) -> 170 | CW49: =IF(BZ49="","",SUM(CU49,BZ49)) | CX49: =IF(CA49="","",SUM(CV49,CA49)) -> 206 | CY49: =IF(CB49="","",SUM(CW49,CB49)) | ... DI49: =IF(CL49="","",SUM(DG49,CL49)) | DJ49: =IF(E49="","",SUM(BQ49,BS49,BU49,BW49,BY49,CA49,CC49,CE49,CG49,CI49,CK49,CM49)) -> 362 | DK49: =IF(E49="","",SUM(BR49,BT49,BV49,BX49,BZ49,CB49,CD49,CF49,CH49,CJ49,CL49,CN49)) -> 0 | EE49: 69 | EF49: MUSIC INSTR. FLUTE | EG49: SP | EH49: 30 | EI49: 70 | EJ49: 0 | EL49: 28 | EM49: =ROUNDUP(EL49/EL$6*EM$6,0) -> 60 | ER49: 57 | ES49: =ROUNDUP(ER49/ER$6*ES$6,0) -> 114
E50: 11142 | G50: A 042 | H50: B 042 | I50: C 042 | J50: 10 | K50: 10 | L50: 8 | M50: 2 | N50: 70 | O50: 100 | P50: 10 | Q50: 10 | R50: 8 | S50: 2 | T50: 70 | U50: 100 | V50: b | W50: 10 | X50: 10 | Y50: 9 | Z50: 1 | AA50: 30 | AB50: 20 | AC50: 70 | AD50: 30 | AE50: b | AF50: 10 | AG50: 10 | AH50: 9 | AI50: 1 | AJ50: 50 | AK50: 20 | AL50: 70 | AM50: 30 | AN50: b | AO50: 10 | AP50: 10 | AQ50: 9 | AR50: 1 | AS50: 70 | AU50: 18 | AW50: a | AX50: 10 | AY50: 10 | AZ50: 10 | BB50: 50 | BC50: 20 | BD50: 70 | BE50: 30 | BF50: 10 | BG50: 10 | BH50: 10 | BI50: 70 | BJ50: 100 | BK50: 30 | BL50: 30 | BM50: 40 | BQ50: =IF($E50="","",IF(BQ$6="","",BQ$6)) | BS50: =IF($E50="","",IF(BS$6="","",BS$6)) -> 44 | BU50: =IF($E50="","",IF(BU$6="","",BU$6)) -> 44 | BW50: =IF($E50="","",IF(BW$6="","",BW$6)) -> 42 | BY50: =IF($E50="","",IF(BY$6="","",BY$6)) -> 40 | CA50: =IF($E50="","",IF(CA$6="","",CA$6)) -> 36 | CC50: =IF($E50="","",IF(CC$6="","",CC$6)) -> 34 | CE50: =IF($E50="","",IF(CE$6="","",CE$6)) -> 24 | CG50: =IF($E50="","",IF(CG$6="","",CG$6)) -> 28 | CI50: =IF($E50="","",IF(CI$6="","",CI$6)) -> 24 | CK50: =IF($E50="","",IF(CK$6="","",CK$6)) -> 24 | CM50: =IF($E50="","",IF(CM$6="","",CM$6)) -> 22 | CP50: =IF(BS50="","",SUM(BQ50,BS50)) -> 44 | CQ50: =IF(BT50="","",SUM(BR50,BT50)) | CR50: =IF(BU50="","",SUM(CP50,BU50)) -> 88 | CS50: =IF(BV50="","",SUM(CQ50,BV50)) | CT50: =IF(BW50="","",SUM(CR50,BW50)) -> 130 | CU50: =IF(BX50="","",SUM(CS50,BX50)) | CV50: =IF(BY50="","",SUM(CT50,BY50)) -> 170 | CW50: =IF(BZ50="","",SUM(CU50,BZ50)) | CX50: =IF(CA50="","",SUM(CV50,CA50)) -> 206 | CY50: =IF(CB50="","",SUM(CW50,CB50)) | ... DI50: =IF(CL50="","",SUM(DG50,CL50)) | DJ50: =IF(E50="","",SUM(BQ50,BS50,BU50,BW50,BY50,CA50,CC50,CE50,CG50,CI50,CK50,CM50)) -> 362 | DK50: =IF(E50="","",SUM(BR50,BT50,BV50,BX50,BZ50,CB50,CD50,CF50,CH50,CJ50,CL50,CN50)) -> 0 | EE50: 70 | EF50: MUSIC INSTR. GUITAR | EG50: SP | EH50: 30 | EI50: 70 | EJ50: 0 | EL50: 27 | EM50: =ROUNDUP(EL50/EL$6*EM$6,0) -> 58 | ER50: 56 | ES50: =ROUNDUP(ER50/ER$6*ES$6,0) -> 112
E51: 11143 | G51: A 043 | H51: B 043 | I51: C 043 | J51: 10 | K51: 10 | L51: 8 | M51: 2 | N51: 70 | O51: 100 | P51: 10 | Q51: 10 | R51: 8 | S51: 2 | T51: 70 | U51: 100 | V51: b | W51: 10 | X51: 10 | Y51: 9 | Z51: 1 | AA51: 30 | AB51: 20 | AC51: 70 | AD51: 30 | AE51: b | AF51: 10 | AG51: 10 | AH51: 9 | AI51: 1 | AJ51: 50 | AK51: 20 | AL51: 70 | AM51: 30 | AN51: b | AO51: 10 | AP51: 10 | AQ51: 9 | AR51: 1 | AS51: 70 | AU51: 18 | AW51: a | AX51: 10 | AY51: 10 | AZ51: 10 | BB51: 50 | BC51: 20 | BD51: 70 | BE51: 30 | BF51: 10 | BG51: 10 | BH51: 10 | BI51: 70 | BJ51: 100 | BK51: 30 | BL51: 30 | BM51: 40 | BQ51: =IF($E51="","",IF(BQ$6="","",BQ$6)) | BS51: =IF($E51="","",IF(BS$6="","",BS$6)) -> 44 | BU51: =IF($E51="","",IF(BU$6="","",BU$6)) -> 44 | BW51: =IF($E51="","",IF(BW$6="","",BW$6)) -> 42 | BY51: =IF($E51="","",IF(BY$6="","",BY$6)) -> 40 | CA51: =IF($E51="","",IF(CA$6="","",CA$6)) -> 36 | CC51: =IF($E51="","",IF(CC$6="","",CC$6)) -> 34 | CE51: =IF($E51="","",IF(CE$6="","",CE$6)) -> 24 | CG51: =IF($E51="","",IF(CG$6="","",CG$6)) -> 28 | CI51: =IF($E51="","",IF(CI$6="","",CI$6)) -> 24 | CK51: =IF($E51="","",IF(CK$6="","",CK$6)) -> 24 | CM51: =IF($E51="","",IF(CM$6="","",CM$6)) -> 22 | CP51: =IF(BS51="","",SUM(BQ51,BS51)) -> 44 | CQ51: =IF(BT51="","",SUM(BR51,BT51)) | CR51: =IF(BU51="","",SUM(CP51,BU51)) -> 88 | CS51: =IF(BV51="","",SUM(CQ51,BV51)) | CT51: =IF(BW51="","",SUM(CR51,BW51)) -> 130 | CU51: =IF(BX51="","",SUM(CS51,BX51)) | CV51: =IF(BY51="","",SUM(CT51,BY51)) -> 170 | CW51: =IF(BZ51="","",SUM(CU51,BZ51)) | CX51: =IF(CA51="","",SUM(CV51,CA51)) -> 206 | CY51: =IF(CB51="","",SUM(CW51,CB51)) | ... DI51: =IF(CL51="","",SUM(DG51,CL51)) | DJ51: =IF(E51="","",SUM(BQ51,BS51,BU51,BW51,BY51,CA51,CC51,CE51,CG51,CI51,CK51,CM51)) -> 362 | DK51: =IF(E51="","",SUM(BR51,BT51,BV51,BX51,BZ51,CB51,CD51,CF51,CH51,CJ51,CL51,CN51)) -> 0 | EE51: 64 | EF51: MUSIC INSTR. PKHAAVAJ | EG51: SP | EH51: 30 | EI51: 70 | EJ51: 0 | EL51: 26 | EM51: =ROUNDUP(EL51/EL$6*EM$6,0) -> 56 | ER51: 55 | ES51: =ROUNDUP(ER51/ER$6*ES$6,0) -> 110
E52: 11144 | G52: A 044 | H52: B 044 | I52: C 044 | J52: 10 | K52: 10 | L52: 8 | M52: 2 | N52: 70 | O52: 100 | P52: 10 | Q52: 10 | R52: 8 | S52: 2 | T52: 70 | U52: 100 | V52: b | W52: 10 | X52: 10 | Y52: 9 | Z52: 1 | AA52: 30 | AB52: 20 | AC52: 70 | AD52: 30 | AE52: b | AF52: 10 | AG52: 10 | AH52: 9 | AI52: 1 | AJ52: 50 | AK52: 20 | AL52: 70 | AM52: 30 | AN52: b | AO52: 10 | AP52: 10 | AQ52: 9 | AR52: 1 | AS52: 70 | AU52: 18 | AW52: a | AX52: 10 | AY52: 10 | AZ52: 10 | BB52: 50 | BC52: 20 | BD52: 70 | BE52: 30 | BF52: 10 | BG52: 10 | BH52: 10 | BI52: 70 | BJ52: 100 | BK52: 30 | BL52: 30 | BM52: 40 | BQ52: =IF($E52="","",IF(BQ$6="","",BQ$6)) | BS52: =IF($E52="","",IF(BS$6="","",BS$6)) -> 44 | BU52: =IF($E52="","",IF(BU$6="","",BU$6)) -> 44 | BW52: =IF($E52="","",IF(BW$6="","",BW$6)) -> 42 | BY52: =IF($E52="","",IF(BY$6="","",BY$6)) -> 40 | CA52: =IF($E52="","",IF(CA$6="","",CA$6)) -> 36 | CC52: =IF($E52="","",IF(CC$6="","",CC$6)) -> 34 | CE52: =IF($E52="","",IF(CE$6="","",CE$6)) -> 24 | CG52: =IF($E52="","",IF(CG$6="","",CG$6)) -> 28 | CI52: =IF($E52="","",IF(CI$6="","",CI$6)) -> 24 | CK52: =IF($E52="","",IF(CK$6="","",CK$6)) -> 24 | CM52: =IF($E52="","",IF(CM$6="","",CM$6)) -> 22 | CP52: =IF(BS52="","",SUM(BQ52,BS52)) -> 44 | CQ52: =IF(BT52="","",SUM(BR52,BT52)) | CR52: =IF(BU52="","",SUM(CP52,BU52)) -> 88 | CS52: =IF(BV52="","",SUM(CQ52,BV52)) | CT52: =IF(BW52="","",SUM(CR52,BW52)) -> 130 | CU52: =IF(BX52="","",SUM(CS52,BX52)) | CV52: =IF(BY52="","",SUM(CT52,BY52)) -> 170 | CW52: =IF(BZ52="","",SUM(CU52,BZ52)) | CX52: =IF(CA52="","",SUM(CV52,CA52)) -> 206 | CY52: =IF(CB52="","",SUM(CW52,CB52)) | ... DI52: =IF(CL52="","",SUM(DG52,CL52)) | DJ52: =IF(E52="","",SUM(BQ52,BS52,BU52,BW52,BY52,CA52,CC52,CE52,CG52,CI52,CK52,CM52)) -> 362 | DK52: =IF(E52="","",SUM(BR52,BT52,BV52,BX52,BZ52,CB52,CD52,CF52,CH52,CJ52,CL52,CN52)) -> 0 | EE52: 66 | EF52: MUSIC INSTR. SAROD | EG52: SP | EH52: 30 | EI52: 70 | EJ52: 0 | EL52: 25 | EM52: =ROUNDUP(EL52/EL$6*EM$6,0) -> 54 | ER52: 54 | ES52: =ROUNDUP(ER52/ER$6*ES$6,0) -> 108
E53: 11145 | G53: A 045 | H53: B 045 | I53: C 045 | J53: 10 | K53: 10 | L53: 8 | M53: 2 | N53: 70 | O53: 100 | P53: 10 | Q53: 10 | R53: 8 | S53: 2 | T53: 70 | U53: 100 | V53: b | W53: 10 | X53: 10 | Y53: 9 | Z53: 1 | AA53: 30 | AB53: 20 | AC53: 70 | AD53: 30 | AE53: b | AF53: 10 | AG53: 10 | AH53: 9 | AI53: 1 | AJ53: 50 | AK53: 20 | AL53: 70 | AM53: 30 | AN53: b | AO53: 10 | AP53: 10 | AQ53: 9 | AR53: 1 | AS53: 70 | AU53: 18 | AW53: a | AX53: 10 | AY53: 10 | AZ53: 10 | BB53: 50 | BC53: 20 | BD53: 70 | BE53: 30 | BF53: 10 | BG53: 10 | BH53: 10 | BI53: 70 | BJ53: 100 | BK53: 30 | BL53: 30 | BM53: 40 | BQ53: =IF($E53="","",IF(BQ$6="","",BQ$6)) | BS53: =IF($E53="","",IF(BS$6="","",BS$6)) -> 44 | BU53: =IF($E53="","",IF(BU$6="","",BU$6)) -> 44 | BW53: =IF($E53="","",IF(BW$6="","",BW$6)) -> 42 | BY53: =IF($E53="","",IF(BY$6="","",BY$6)) -> 40 | CA53: =IF($E53="","",IF(CA$6="","",CA$6)) -> 36 | CC53: =IF($E53="","",IF(CC$6="","",CC$6)) -> 34 | CE53: =IF($E53="","",IF(CE$6="","",CE$6)) -> 24 | CG53: =IF($E53="","",IF(CG$6="","",CG$6)) -> 28 | CI53: =IF($E53="","",IF(CI$6="","",CI$6)) -> 24 | CK53: =IF($E53="","",IF(CK$6="","",CK$6)) -> 24 | CM53: =IF($E53="","",IF(CM$6="","",CM$6)) -> 22 | CP53: =IF(BS53="","",SUM(BQ53,BS53)) -> 44 | CQ53: =IF(BT53="","",SUM(BR53,BT53)) | CR53: =IF(BU53="","",SUM(CP53,BU53)) -> 88 | CS53: =IF(BV53="","",SUM(CQ53,BV53)) | CT53: =IF(BW53="","",SUM(CR53,BW53)) -> 130 | CU53: =IF(BX53="","",SUM(CS53,BX53)) | CV53: =IF(BY53="","",SUM(CT53,BY53)) -> 170 | CW53: =IF(BZ53="","",SUM(CU53,BZ53)) | CX53: =IF(CA53="","",SUM(CV53,CA53)) -> 206 | CY53: =IF(CB53="","",SUM(CW53,CB53)) | ... DI53: =IF(CL53="","",SUM(DG53,CL53)) | DJ53: =IF(E53="","",SUM(BQ53,BS53,BU53,BW53,BY53,CA53,CC53,CE53,CG53,CI53,CK53,CM53)) -> 362 | DK53: =IF(E53="","",SUM(BR53,BT53,BV53,BX53,BZ53,CB53,CD53,CF53,CH53,CJ53,CL53,CN53)) -> 0 | EE53: 65 | EF53: MUSIC INSTR. SITARA | EG53: SP | EH53: 30 | EI53: 70 | EJ53: 0 | EL53: 24 | EM53: =ROUNDUP(EL53/EL$6*EM$6,0) -> 52 | ER53: 53 | ES53: =ROUNDUP(ER53/ER$6*ES$6,0) -> 106
E54: 11146 | G54: A 046 | H54: B 046 | I54: C 046 | J54: 10 | K54: 10 | L54: 8 | M54: 2 | N54: 70 | O54: 100 | P54: 10 | Q54: 10 | R54: 8 | S54: 2 | T54: 70 | U54: 100 | V54: b | W54: 10 | X54: 10 | Y54: 9 | Z54: 1 | AA54: 30 | AB54: 20 | AC54: 70 | AD54: 30 | AE54: b | AF54: 10 | AG54: 10 | AH54: 9 | AI54: 1 | AJ54: 50 | AK54: 20 | AL54: 70 | AM54: 30 | AN54: b | AO54: 10 | AP54: 10 | AQ54: 9 | AR54: 1 | AS54: 70 | AU54: 18 | AW54: a | AX54: 10 | AY54: 10 | AZ54: 10 | BB54: 50 | BC54: 20 | BD54: 70 | BE54: 30 | BF54: 10 | BG54: 10 | BH54: 10 | BI54: 70 | BJ54: 100 | BK54: 30 | BL54: 30 | BM54: 40 | BQ54: =IF($E54="","",IF(BQ$6="","",BQ$6)) | BS54: =IF($E54="","",IF(BS$6="","",BS$6)) -> 44 | BU54: =IF($E54="","",IF(BU$6="","",BU$6)) -> 44 | BW54: =IF($E54="","",IF(BW$6="","",BW$6)) -> 42 | BY54: =IF($E54="","",IF(BY$6="","",BY$6)) -> 40 | CA54: =IF($E54="","",IF(CA$6="","",CA$6)) -> 36 | CC54: =IF($E54="","",IF(CC$6="","",CC$6)) -> 34 | CE54: =IF($E54="","",IF(CE$6="","",CE$6)) -> 24 | CG54: =IF($E54="","",IF(CG$6="","",CG$6)) -> 28 | CI54: =IF($E54="","",IF(CI$6="","",CI$6)) -> 24 | CK54: =IF($E54="","",IF(CK$6="","",CK$6)) -> 24 | CM54: =IF($E54="","",IF(CM$6="","",CM$6)) -> 22 | CP54: =IF(BS54="","",SUM(BQ54,BS54)) -> 44 | CQ54: =IF(BT54="","",SUM(BR54,BT54)) | CR54: =IF(BU54="","",SUM(CP54,BU54)) -> 88 | CS54: =IF(BV54="","",SUM(CQ54,BV54)) | CT54: =IF(BW54="","",SUM(CR54,BW54)) -> 130 | CU54: =IF(BX54="","",SUM(CS54,BX54)) | CV54: =IF(BY54="","",SUM(CT54,BY54)) -> 170 | CW54: =IF(BZ54="","",SUM(CU54,BZ54)) | CX54: =IF(CA54="","",SUM(CV54,CA54)) -> 206 | CY54: =IF(CB54="","",SUM(CW54,CB54)) | ... DI54: =IF(CL54="","",SUM(DG54,CL54)) | DJ54: =IF(E54="","",SUM(BQ54,BS54,BU54,BW54,BY54,CA54,CC54,CE54,CG54,CI54,CK54,CM54)) -> 362 | DK54: =IF(E54="","",SUM(BR54,BT54,BV54,BX54,BZ54,CB54,CD54,CF54,CH54,CJ54,CL54,CN54)) -> 0 | EE54: 63 | EF54: MUSIC INSTR. TABLA | EG54: SP | EH54: 30 | EI54: 70 | EJ54: 0 | EL54: 23 | EM54: =ROUNDUP(EL54/EL$6*EM$6,0) -> 50 | ER54: 52 | ES54: =ROUNDUP(ER54/ER$6*ES$6,0) -> 104
E55: 11147 | G55: A 047 | H55: B 047 | I55: C 047 | J55: 10 | K55: 10 | L55: 8 | M55: 2 | N55: 70 | O55: 100 | P55: 10 | Q55: 10 | R55: 8 | S55: 2 | T55: 70 | U55: 100 | V55: b | W55: 10 | X55: 10 | Y55: 9 | Z55: 1 | AA55: 30 | AB55: 20 | AC55: 70 | AD55: 30 | AE55: b | AF55: 10 | AG55: 10 | AH55: 9 | AI55: 1 | AJ55: 50 | AK55: 20 | AL55: 70 | AM55: 30 | AN55: b | AO55: 10 | AP55: 10 | AQ55: 9 | AR55: 1 | AS55: 70 | AU55: 18 | AW55: a | AX55: 10 | AY55: 10 | AZ55: 10 | BB55: 50 | BC55: 20 | BD55: 70 | BE55: 30 | BF55: 10 | BG55: 10 | BH55: 10 | BI55: 70 | BJ55: 100 | BK55: 30 | BL55: 30 | BM55: 40 | BQ55: =IF($E55="","",IF(BQ$6="","",BQ$6)) | BS55: =IF($E55="","",IF(BS$6="","",BS$6)) -> 44 | BU55: =IF($E55="","",IF(BU$6="","",BU$6)) -> 44 | BW55: =IF($E55="","",IF(BW$6="","",BW$6)) -> 42 | BY55: =IF($E55="","",IF(BY$6="","",BY$6)) -> 40 | CA55: =IF($E55="","",IF(CA$6="","",CA$6)) -> 36 | CC55: =IF($E55="","",IF(CC$6="","",CC$6)) -> 34 | CE55: =IF($E55="","",IF(CE$6="","",CE$6)) -> 24 | CG55: =IF($E55="","",IF(CG$6="","",CG$6)) -> 28 | CI55: =IF($E55="","",IF(CI$6="","",CI$6)) -> 24 | CK55: =IF($E55="","",IF(CK$6="","",CK$6)) -> 24 | CM55: =IF($E55="","",IF(CM$6="","",CM$6)) -> 22 | CP55: =IF(BS55="","",SUM(BQ55,BS55)) -> 44 | CQ55: =IF(BT55="","",SUM(BR55,BT55)) | CR55: =IF(BU55="","",SUM(CP55,BU55)) -> 88 | CS55: =IF(BV55="","",SUM(CQ55,BV55)) | CT55: =IF(BW55="","",SUM(CR55,BW55)) -> 130 | CU55: =IF(BX55="","",SUM(CS55,BX55)) | CV55: =IF(BY55="","",SUM(CT55,BY55)) -> 170 | CW55: =IF(BZ55="","",SUM(CU55,BZ55)) | CX55: =IF(CA55="","",SUM(CV55,CA55)) -> 206 | CY55: =IF(CB55="","",SUM(CW55,CB55)) | ... DI55: =IF(CL55="","",SUM(DG55,CL55)) | DJ55: =IF(E55="","",SUM(BQ55,BS55,BU55,BW55,BY55,CA55,CC55,CE55,CG55,CI55,CK55,CM55)) -> 362 | DK55: =IF(E55="","",SUM(BR55,BT55,BV55,BX55,BZ55,CB55,CD55,CF55,CH55,CJ55,CL55,CN55)) -> 0 | EE55: 32 | EF55: SHORT HAND | EG55: SPL | EH55: 50 | EI55: 50 | EJ55: 0 | EL55: 22 | EM55: =ROUNDUP(EL55/EL$6*EM$6,0) -> 48 | ER55: 51 | ES55: =ROUNDUP(ER55/ER$6*ES$6,0) -> 102
... E58: 11150 | G58: A 050 | H58: B 050 | I58: C 050 | J58: 10 | K58: 10 | L58: 8 | M58: 2 | N58: 70 | O58: 100 | P58: 10 | Q58: 10 | R58: 8 | S58: 2 | T58: 70 | U58: 100 | V58: b | W58: 10 | X58: 10 | Y58: 9 | Z58: 1 | AA58: 30 | AB58: 20 | AC58: 70 | AD58: 30 | AE58: b | AF58: 10 | AG58: 10 | AH58: 9 | AI58: 1 | AJ58: 50 | AK58: 20 | AL58: 70 | AM58: 30 | AN58: b | AO58: 10 | AP58: 10 | AQ58: 9 | AR58: 1 | AS58: 70 | AU58: 18 | AW58: a | AX58: 10 | AY58: 10 | AZ58: 10 | BB58: 50 | BC58: 20 | BD58: 70 | BE58: 30 | BF58: 10 | BG58: 10 | BH58: 10 | BI58: 70 | BJ58: 100 | BK58: 30 | BL58: 30 | BM58: 40 | BQ58: =IF($E58="","",IF(BQ$6="","",BQ$6)) | BS58: =IF($E58="","",IF(BS$6="","",BS$6)) -> 44 | BU58: =IF($E58="","",IF(BU$6="","",BU$6)) -> 44 | BW58: =IF($E58="","",IF(BW$6="","",BW$6)) -> 42 | BY58: =IF($E58="","",IF(BY$6="","",BY$6)) -> 40 | CA58: =IF($E58="","",IF(CA$6="","",CA$6)) -> 36 | CC58: =IF($E58="","",IF(CC$6="","",CC$6)) -> 34 | CE58: =IF($E58="","",IF(CE$6="","",CE$6)) -> 24 | CG58: =IF($E58="","",IF(CG$6="","",CG$6)) -> 28 | CI58: =IF($E58="","",IF(CI$6="","",CI$6)) -> 24 | CK58: =IF($E58="","",IF(CK$6="","",CK$6)) -> 24 | CM58: =IF($E58="","",IF(CM$6="","",CM$6)) -> 22 | CP58: =IF(BS58="","",SUM(BQ58,BS58)) -> 44 | CQ58: =IF(BT58="","",SUM(BR58,BT58)) | CR58: =IF(BU58="","",SUM(CP58,BU58)) -> 88 | CS58: =IF(BV58="","",SUM(CQ58,BV58)) | CT58: =IF(BW58="","",SUM(CR58,BW58)) -> 130 | CU58: =IF(BX58="","",SUM(CS58,BX58)) | CV58: =IF(BY58="","",SUM(CT58,BY58)) -> 170 | CW58: =IF(BZ58="","",SUM(CU58,BZ58)) | CX58: =IF(CA58="","",SUM(CV58,CA58)) -> 206 | CY58: =IF(CB58="","",SUM(CW58,CB58)) | ... DI58: =IF(CL58="","",SUM(DG58,CL58)) | DJ58: =IF(E58="","",SUM(BQ58,BS58,BU58,BW58,BY58,CA58,CC58,CE58,CG58,CI58,CK58,CM58)) -> 362 | DK58: =IF(E58="","",SUM(BR58,BT58,BV58,BX58,BZ58,CB58,CD58,CF58,CH58,CJ58,CL58,CN58)) -> 0 | EE58: 35 | EF58: TYPING (ENGLISH) | EG58: SPL | EH58: 50 | EI58: 50 | EJ58: 0 | EL58: 19 | EM58: =ROUNDUP(EL58/EL$6*EM$6,0) -> 41 | ER58: 48 | ES58: =ROUNDUP(ER58/ER$6*ES$6,0) -> 96
E59: 11151 | G59: A 051 | H59: B 051 | I59: C 051 | J59: 10 | K59: 10 | L59: 8 | M59: 2 | N59: 70 | O59: 100 | P59: 10 | Q59: 10 | R59: 8 | S59: 2 | T59: 70 | U59: 100 | V59: b | W59: 10 | X59: 10 | Y59: 9 | Z59: 1 | AA59: 30 | AB59: 20 | AC59: 70 | AD59: 30 | AE59: b | AF59: 10 | AG59: 10 | AH59: 9 | AI59: 1 | AJ59: 50 | AK59: 20 | AL59: 70 | AM59: 30 | AN59: b | AO59: 10 | AP59: 10 | AQ59: 9 | AR59: 1 | AS59: 70 | AU59: 18 | AW59: a | AX59: 10 | AY59: 10 | AZ59: 10 | BB59: 50 | BC59: 20 | BD59: 70 | BE59: 30 | BF59: 10 | BG59: 10 | BH59: 10 | BI59: 70 | BJ59: 100 | BK59: 30 | BL59: 30 | BM59: 40 | BQ59: =IF($E59="","",IF(BQ$6="","",BQ$6)) | BS59: =IF($E59="","",IF(BS$6="","",BS$6)) -> 44 | BU59: =IF($E59="","",IF(BU$6="","",BU$6)) -> 44 | BW59: =IF($E59="","",IF(BW$6="","",BW$6)) -> 42 | BY59: =IF($E59="","",IF(BY$6="","",BY$6)) -> 40 | CA59: =IF($E59="","",IF(CA$6="","",CA$6)) -> 36 | CC59: =IF($E59="","",IF(CC$6="","",CC$6)) -> 34 | CE59: =IF($E59="","",IF(CE$6="","",CE$6)) -> 24 | CG59: =IF($E59="","",IF(CG$6="","",CG$6)) -> 28 | CI59: =IF($E59="","",IF(CI$6="","",CI$6)) -> 24 | CK59: =IF($E59="","",IF(CK$6="","",CK$6)) -> 24 | CM59: =IF($E59="","",IF(CM$6="","",CM$6)) -> 22 | CP59: =IF(BS59="","",SUM(BQ59,BS59)) -> 44 | CQ59: =IF(BT59="","",SUM(BR59,BT59)) | CR59: =IF(BU59="","",SUM(CP59,BU59)) -> 88 | CS59: =IF(BV59="","",SUM(CQ59,BV59)) | CT59: =IF(BW59="","",SUM(CR59,BW59)) -> 130 | CU59: =IF(BX59="","",SUM(CS59,BX59)) | CV59: =IF(BY59="","",SUM(CT59,BY59)) -> 170 | CW59: =IF(BZ59="","",SUM(CU59,BZ59)) | CX59: =IF(CA59="","",SUM(CV59,CA59)) -> 206 | CY59: =IF(CB59="","",SUM(CW59,CB59)) | ... DI59: =IF(CL59="","",SUM(DG59,CL59)) | DJ59: =IF(E59="","",SUM(BQ59,BS59,BU59,BW59,BY59,CA59,CC59,CE59,CG59,CI59,CK59,CM59)) -> 362 | DK59: =IF(E59="","",SUM(BR59,BT59,BV59,BX59,BZ59,CB59,CD59,CF59,CH59,CJ59,CL59,CN59)) -> 0 | EF59: SHORT HAND (HINDI) | EG59: SPL | EH59: 50 | EI59: 50 | EJ59: 0 | EL59: 18 | EM59: =ROUNDUP(EL59/EL$6*EM$6,0) -> 39 | ER59: 47 | ES59: =ROUNDUP(ER59/ER$6*ES$6,0) -> 94
E60: 11152 | G60: A 052 | H60: B 052 | I60: C 052 | J60: 10 | K60: 10 | L60: 8 | M60: 2 | N60: 70 | O60: 100 | P60: 10 | Q60: 10 | R60: 8 | S60: 2 | T60: 70 | U60: 100 | V60: b | W60: 10 | X60: 10 | Y60: 9 | Z60: 1 | AA60: 30 | AB60: 20 | AC60: 70 | AD60: 30 | AE60: b | AF60: 10 | AG60: 10 | AH60: 9 | AI60: 1 | AJ60: 50 | AK60: 20 | AL60: 70 | AM60: 30 | AN60: b | AO60: 10 | AP60: 10 | AQ60: 9 | AR60: 1 | AS60: 70 | AU60: 18 | AW60: a | AX60: 10 | AY60: 10 | AZ60: 10 | BB60: 50 | BC60: 20 | BD60: 70 | BE60: 30 | BF60: 10 | BG60: 10 | BH60: 10 | BI60: 70 | BJ60: 100 | BK60: 30 | BL60: 30 | BM60: 40 | BQ60: =IF($E60="","",IF(BQ$6="","",BQ$6)) | BS60: =IF($E60="","",IF(BS$6="","",BS$6)) -> 44 | BU60: =IF($E60="","",IF(BU$6="","",BU$6)) -> 44 | BW60: =IF($E60="","",IF(BW$6="","",BW$6)) -> 42 | BY60: =IF($E60="","",IF(BY$6="","",BY$6)) -> 40 | CA60: =IF($E60="","",IF(CA$6="","",CA$6)) -> 36 | CC60: =IF($E60="","",IF(CC$6="","",CC$6)) -> 34 | CE60: =IF($E60="","",IF(CE$6="","",CE$6)) -> 24 | CG60: =IF($E60="","",IF(CG$6="","",CG$6)) -> 28 | CI60: =IF($E60="","",IF(CI$6="","",CI$6)) -> 24 | CK60: =IF($E60="","",IF(CK$6="","",CK$6)) -> 24 | CM60: =IF($E60="","",IF(CM$6="","",CM$6)) -> 22 | CP60: =IF(BS60="","",SUM(BQ60,BS60)) -> 44 | CQ60: =IF(BT60="","",SUM(BR60,BT60)) | CR60: =IF(BU60="","",SUM(CP60,BU60)) -> 88 | CS60: =IF(BV60="","",SUM(CQ60,BV60)) | CT60: =IF(BW60="","",SUM(CR60,BW60)) -> 130 | CU60: =IF(BX60="","",SUM(CS60,BX60)) | CV60: =IF(BY60="","",SUM(CT60,BY60)) -> 170 | CW60: =IF(BZ60="","",SUM(CU60,BZ60)) | CX60: =IF(CA60="","",SUM(CV60,CA60)) -> 206 | CY60: =IF(CB60="","",SUM(CW60,CB60)) | ... DI60: =IF(CL60="","",SUM(DG60,CL60)) | DJ60: =IF(E60="","",SUM(BQ60,BS60,BU60,BW60,BY60,CA60,CC60,CE60,CG60,CI60,CK60,CM60)) -> 362 | DK60: =IF(E60="","",SUM(BR60,BT60,BV60,BX60,BZ60,CB60,CD60,CF60,CH60,CJ60,CL60,CN60)) -> 0 | EF60: TYPING (HINDI) | EL60: 17 | EM60: =ROUNDUP(EL60/EL$6*EM$6,0) -> 37 | ER60: 46 | ES60: =ROUNDUP(ER60/ER$6*ES$6,0) -> 92
E61: 11153 | G61: A 053 | H61: B 053 | I61: C 053 | J61: 10 | K61: 10 | L61: 8 | M61: 2 | N61: 70 | O61: 100 | P61: 10 | Q61: 10 | R61: 8 | S61: 2 | T61: 70 | U61: 100 | V61: b | W61: 10 | X61: 10 | Y61: 9 | Z61: 1 | AA61: 30 | AB61: 20 | AC61: 70 | AD61: 30 | AE61: b | AF61: 10 | AG61: 10 | AH61: 9 | AI61: 1 | AJ61: 50 | AK61: 20 | AL61: 70 | AM61: 30 | AN61: b | AO61: 10 | AP61: 10 | AQ61: 9 | AR61: 1 | AS61: 70 | AU61: 18 | AW61: a | AX61: 10 | AY61: 10 | AZ61: 10 | BB61: 50 | BC61: 20 | BD61: 70 | BE61: 30 | BF61: 10 | BG61: 10 | BH61: 10 | BI61: 70 | BJ61: 100 | BK61: 30 | BL61: 30 | BM61: 40 | BQ61: =IF($E61="","",IF(BQ$6="","",BQ$6)) | BS61: =IF($E61="","",IF(BS$6="","",BS$6)) -> 44 | BU61: =IF($E61="","",IF(BU$6="","",BU$6)) -> 44 | BW61: =IF($E61="","",IF(BW$6="","",BW$6)) -> 42 | BY61: =IF($E61="","",IF(BY$6="","",BY$6)) -> 40 | CA61: =IF($E61="","",IF(CA$6="","",CA$6)) -> 36 | CC61: =IF($E61="","",IF(CC$6="","",CC$6)) -> 34 | CE61: =IF($E61="","",IF(CE$6="","",CE$6)) -> 24 | CG61: =IF($E61="","",IF(CG$6="","",CG$6)) -> 28 | CI61: =IF($E61="","",IF(CI$6="","",CI$6)) -> 24 | CK61: =IF($E61="","",IF(CK$6="","",CK$6)) -> 24 | CM61: =IF($E61="","",IF(CM$6="","",CM$6)) -> 22 | CP61: =IF(BS61="","",SUM(BQ61,BS61)) -> 44 | CQ61: =IF(BT61="","",SUM(BR61,BT61)) | CR61: =IF(BU61="","",SUM(CP61,BU61)) -> 88 | CS61: =IF(BV61="","",SUM(CQ61,BV61)) | CT61: =IF(BW61="","",SUM(CR61,BW61)) -> 130 | CU61: =IF(BX61="","",SUM(CS61,BX61)) | CV61: =IF(BY61="","",SUM(CT61,BY61)) -> 170 | CW61: =IF(BZ61="","",SUM(CU61,BZ61)) | CX61: =IF(CA61="","",SUM(CV61,CA61)) -> 206 | CY61: =IF(CB61="","",SUM(CW61,CB61)) | ... DI61: =IF(CL61="","",SUM(DG61,CL61)) | DJ61: =IF(E61="","",SUM(BQ61,BS61,BU61,BW61,BY61,CA61,CC61,CE61,CG61,CI61,CK61,CM61)) -> 362 | DK61: =IF(E61="","",SUM(BR61,BT61,BV61,BX61,BZ61,CB61,CD61,CF61,CH61,CJ61,CL61,CN61)) -> 0 | EE61: 101 | EF61: AUTOMOBILE | EG61: VC | EH61: 30 | EI61: 50 | EJ61: 20 | EL61: 16 | EM61: =ROUNDUP(EL61/EL$6*EM$6,0) -> 35 | ER61: 45 | ES61: =ROUNDUP(ER61/ER$6*ES$6,0) -> 90
E62: 11154 | G62: A 054 | H62: B 054 | I62: C 054 | J62: 10 | K62: 10 | L62: 8 | M62: 2 | N62: 70 | O62: 100 | P62: 10 | Q62: 10 | R62: 8 | S62: 2 | T62: 70 | U62: 100 | V62: b | W62: 10 | X62: 10 | Y62: 9 | Z62: 1 | AA62: 30 | AB62: 20 | AC62: 70 | AD62: 30 | AE62: b | AF62: 10 | AG62: 10 | AH62: 9 | AI62: 1 | AJ62: 50 | AK62: 20 | AL62: 70 | AM62: 30 | AN62: b | AO62: 10 | AP62: 10 | AQ62: 9 | AR62: 1 | AS62: 70 | AU62: 18 | AW62: a | AX62: 10 | AY62: 10 | AZ62: 10 | BB62: 50 | BC62: 20 | BD62: 70 | BE62: 30 | BF62: 10 | BG62: 10 | BH62: 10 | BI62: 70 | BJ62: 100 | BK62: 30 | BL62: 30 | BM62: 40 | BQ62: =IF($E62="","",IF(BQ$6="","",BQ$6)) | BS62: =IF($E62="","",IF(BS$6="","",BS$6)) -> 44 | BU62: =IF($E62="","",IF(BU$6="","",BU$6)) -> 44 | BW62: =IF($E62="","",IF(BW$6="","",BW$6)) -> 42 | BY62: =IF($E62="","",IF(BY$6="","",BY$6)) -> 40 | CA62: =IF($E62="","",IF(CA$6="","",CA$6)) -> 36 | CC62: =IF($E62="","",IF(CC$6="","",CC$6)) -> 34 | CE62: =IF($E62="","",IF(CE$6="","",CE$6)) -> 24 | CG62: =IF($E62="","",IF(CG$6="","",CG$6)) -> 28 | CI62: =IF($E62="","",IF(CI$6="","",CI$6)) -> 24 | CK62: =IF($E62="","",IF(CK$6="","",CK$6)) -> 24 | CM62: =IF($E62="","",IF(CM$6="","",CM$6)) -> 22 | CP62: =IF(BS62="","",SUM(BQ62,BS62)) -> 44 | CQ62: =IF(BT62="","",SUM(BR62,BT62)) | CR62: =IF(BU62="","",SUM(CP62,BU62)) -> 88 | CS62: =IF(BV62="","",SUM(CQ62,BV62)) | CT62: =IF(BW62="","",SUM(CR62,BW62)) -> 130 | CU62: =IF(BX62="","",SUM(CS62,BX62)) | CV62: =IF(BY62="","",SUM(CT62,BY62)) -> 170 | CW62: =IF(BZ62="","",SUM(CU62,BZ62)) | CX62: =IF(CA62="","",SUM(CV62,CA62)) -> 206 | CY62: =IF(CB62="","",SUM(CW62,CB62)) | ... DI62: =IF(CL62="","",SUM(DG62,CL62)) | DJ62: =IF(E62="","",SUM(BQ62,BS62,BU62,BW62,BY62,CA62,CC62,CE62,CG62,CI62,CK62,CM62)) -> 362 | DK62: =IF(E62="","",SUM(BR62,BT62,BV62,BX62,BZ62,CB62,CD62,CF62,CH62,CJ62,CL62,CN62)) -> 0 | EE62: 102 | EF62: BEAUTY AND HEALTH | EG62: VC | EH62: 30 | EI62: 50 | EJ62: 20 | EL62: 15 | EM62: =ROUNDUP(EL62/EL$6*EM$6,0) -> 33 | ER62: 44 | ES62: =ROUNDUP(ER62/ER$6*ES$6,0) -> 88
E63: 11155 | G63: A 055 | H63: B 055 | I63: C 055 | J63: 10 | K63: 10 | L63: 8 | M63: 2 | N63: 70 | O63: 100 | P63: 10 | Q63: 10 | R63: 8 | S63: 2 | T63: 70 | U63: 100 | V63: b | W63: 10 | X63: 10 | Y63: 9 | Z63: 1 | AA63: 30 | AB63: 20 | AC63: 70 | AD63: 30 | AE63: b | AF63: 10 | AG63: 10 | AH63: 9 | AI63: 1 | AJ63: 50 | AK63: 20 | AL63: 70 | AM63: 30 | AN63: b | AO63: 10 | AP63: 10 | AQ63: 9 | AR63: 1 | AS63: 70 | AU63: 18 | AW63: a | AX63: 10 | AY63: 10 | AZ63: 10 | BB63: 50 | BC63: 20 | BD63: 70 | BE63: 30 | BF63: 10 | BG63: 10 | BH63: 10 | BI63: 70 | BJ63: 100 | BK63: 30 | BL63: 30 | BM63: 40 | BQ63: =IF($E63="","",IF(BQ$6="","",BQ$6)) | BS63: =IF($E63="","",IF(BS$6="","",BS$6)) -> 44 | BU63: =IF($E63="","",IF(BU$6="","",BU$6)) -> 44 | BW63: =IF($E63="","",IF(BW$6="","",BW$6)) -> 42 | BY63: =IF($E63="","",IF(BY$6="","",BY$6)) -> 40 | CA63: =IF($E63="","",IF(CA$6="","",CA$6)) -> 36 | CC63: =IF($E63="","",IF(CC$6="","",CC$6)) -> 34 | CE63: =IF($E63="","",IF(CE$6="","",CE$6)) -> 24 | CG63: =IF($E63="","",IF(CG$6="","",CG$6)) -> 28 | CI63: =IF($E63="","",IF(CI$6="","",CI$6)) -> 24 | CK63: =IF($E63="","",IF(CK$6="","",CK$6)) -> 24 | CM63: =IF($E63="","",IF(CM$6="","",CM$6)) -> 22 | CP63: =IF(BS63="","",SUM(BQ63,BS63)) -> 44 | CQ63: =IF(BT63="","",SUM(BR63,BT63)) | CR63: =IF(BU63="","",SUM(CP63,BU63)) -> 88 | CS63: =IF(BV63="","",SUM(CQ63,BV63)) | CT63: =IF(BW63="","",SUM(CR63,BW63)) -> 130 | CU63: =IF(BX63="","",SUM(CS63,BX63)) | CV63: =IF(BY63="","",SUM(CT63,BY63)) -> 170 | CW63: =IF(BZ63="","",SUM(CU63,BZ63)) | CX63: =IF(CA63="","",SUM(CV63,CA63)) -> 206 | CY63: =IF(CB63="","",SUM(CW63,CB63)) | ... DI63: =IF(CL63="","",SUM(DG63,CL63)) | DJ63: =IF(E63="","",SUM(BQ63,BS63,BU63,BW63,BY63,CA63,CC63,CE63,CG63,CI63,CK63,CM63)) -> 362 | DK63: =IF(E63="","",SUM(BR63,BT63,BV63,BX63,BZ63,CB63,CD63,CF63,CH63,CJ63,CL63,CN63)) -> 0 | EE63: 108 | EF63: DRESS DESIGNING AND HOME DECORATION | EG63: VC | EH63: 30 | EI63: 50 | EJ63: 20 | EL63: 14 | EM63: =ROUNDUP(EL63/EL$6*EM$6,0) -> 30 | ER63: 43 | ES63: =ROUNDUP(ER63/ER$6*ES$6,0) -> 86
E64: 11156 | G64: A 056 | H64: B 056 | I64: C 056 | J64: 10 | K64: 10 | L64: 8 | M64: 2 | N64: 70 | O64: 100 | P64: 10 | Q64: 10 | R64: 8 | S64: 2 | T64: 70 | U64: 100 | V64: b | W64: 10 | X64: 10 | Y64: 9 | Z64: 1 | AA64: 30 | AB64: 20 | AC64: 70 | AD64: 30 | AE64: b | AF64: 10 | AG64: 10 | AH64: 9 | AI64: 1 | AJ64: 50 | AK64: 20 | AL64: 70 | AM64: 30 | AN64: b | AO64: 10 | AP64: 10 | AQ64: 9 | AR64: 1 | AS64: 70 | AU64: 18 | AW64: a | AX64: 10 | AY64: 10 | AZ64: 10 | BB64: 50 | BC64: 20 | BD64: 70 | BE64: 30 | BF64: 10 | BG64: 10 | BH64: 10 | BI64: 70 | BJ64: 100 | BK64: 30 | BL64: 30 | BM64: 40 | BQ64: =IF($E64="","",IF(BQ$6="","",BQ$6)) | BS64: =IF($E64="","",IF(BS$6="","",BS$6)) -> 44 | BU64: =IF($E64="","",IF(BU$6="","",BU$6)) -> 44 | BW64: =IF($E64="","",IF(BW$6="","",BW$6)) -> 42 | BY64: =IF($E64="","",IF(BY$6="","",BY$6)) -> 40 | CA64: =IF($E64="","",IF(CA$6="","",CA$6)) -> 36 | CC64: =IF($E64="","",IF(CC$6="","",CC$6)) -> 34 | CE64: =IF($E64="","",IF(CE$6="","",CE$6)) -> 24 | CG64: =IF($E64="","",IF(CG$6="","",CG$6)) -> 28 | CI64: =IF($E64="","",IF(CI$6="","",CI$6)) -> 24 | CK64: =IF($E64="","",IF(CK$6="","",CK$6)) -> 24 | CM64: =IF($E64="","",IF(CM$6="","",CM$6)) -> 22 | CP64: =IF(BS64="","",SUM(BQ64,BS64)) -> 44 | CQ64: =IF(BT64="","",SUM(BR64,BT64)) | CR64: =IF(BU64="","",SUM(CP64,BU64)) -> 88 | CS64: =IF(BV64="","",SUM(CQ64,BV64)) | CT64: =IF(BW64="","",SUM(CR64,BW64)) -> 130 | CU64: =IF(BX64="","",SUM(CS64,BX64)) | CV64: =IF(BY64="","",SUM(CT64,BY64)) -> 170 | CW64: =IF(BZ64="","",SUM(CU64,BZ64)) | CX64: =IF(CA64="","",SUM(CV64,CA64)) -> 206 | CY64: =IF(CB64="","",SUM(CW64,CB64)) | ... DI64: =IF(CL64="","",SUM(DG64,CL64)) | DJ64: =IF(E64="","",SUM(BQ64,BS64,BU64,BW64,BY64,CA64,CC64,CE64,CG64,CI64,CK64,CM64)) -> 362 | DK64: =IF(E64="","",SUM(BR64,BT64,BV64,BX64,BZ64,CB64,CD64,CF64,CH64,CJ64,CL64,CN64)) -> 0 | EE64: 109 | EF64: ELECTRICALS AND ELECTRONICS | EG64: VC | EH64: 30 | EI64: 50 | EJ64: 20 | EL64: 13 | EM64: =ROUNDUP(EL64/EL$6*EM$6,0) -> 28 | ER64: 42 | ES64: =ROUNDUP(ER64/ER$6*ES$6,0) -> 84
E65: 11157 | G65: A 057 | H65: B 057 | I65: C 057 | J65: 10 | K65: 10 | L65: 8 | M65: 2 | N65: 70 | O65: 100 | P65: 10 | Q65: 10 | R65: 8 | S65: 2 | T65: 70 | U65: 100 | V65: b | W65: 10 | X65: 10 | Y65: 9 | Z65: 1 | AA65: 30 | AB65: 20 | AC65: 70 | AD65: 30 | AE65: b | AF65: 10 | AG65: 10 | AH65: 9 | AI65: 1 | AJ65: 50 | AK65: 20 | AL65: 70 | AM65: 30 | AN65: b | AO65: 10 | AP65: 10 | AQ65: 9 | AR65: 1 | AS65: 70 | AU65: 18 | AW65: a | AX65: 10 | AY65: 10 | AZ65: 10 | BB65: 50 | BC65: 20 | BD65: 70 | BE65: 30 | BF65: 10 | BG65: 10 | BH65: 10 | BI65: 70 | BJ65: 100 | BK65: 30 | BL65: 30 | BM65: 40 | BQ65: =IF($E65="","",IF(BQ$6="","",BQ$6)) | BS65: =IF($E65="","",IF(BS$6="","",BS$6)) -> 44 | BU65: =IF($E65="","",IF(BU$6="","",BU$6)) -> 44 | BW65: =IF($E65="","",IF(BW$6="","",BW$6)) -> 42 | BY65: =IF($E65="","",IF(BY$6="","",BY$6)) -> 40 | CA65: =IF($E65="","",IF(CA$6="","",CA$6)) -> 36 | CC65: =IF($E65="","",IF(CC$6="","",CC$6)) -> 34 | CE65: =IF($E65="","",IF(CE$6="","",CE$6)) -> 24 | CG65: =IF($E65="","",IF(CG$6="","",CG$6)) -> 28 | CI65: =IF($E65="","",IF(CI$6="","",CI$6)) -> 24 | CK65: =IF($E65="","",IF(CK$6="","",CK$6)) -> 24 | CM65: =IF($E65="","",IF(CM$6="","",CM$6)) -> 22 | CP65: =IF(BS65="","",SUM(BQ65,BS65)) -> 44 | CQ65: =IF(BT65="","",SUM(BR65,BT65)) | CR65: =IF(BU65="","",SUM(CP65,BU65)) -> 88 | CS65: =IF(BV65="","",SUM(CQ65,BV65)) | CT65: =IF(BW65="","",SUM(CR65,BW65)) -> 130 | CU65: =IF(BX65="","",SUM(CS65,BX65)) | CV65: =IF(BY65="","",SUM(CT65,BY65)) -> 170 | CW65: =IF(BZ65="","",SUM(CU65,BZ65)) | CX65: =IF(CA65="","",SUM(CV65,CA65)) -> 206 | CY65: =IF(CB65="","",SUM(CW65,CB65)) | ... DI65: =IF(CL65="","",SUM(DG65,CL65)) | DJ65: =IF(E65="","",SUM(BQ65,BS65,BU65,BW65,BY65,CA65,CC65,CE65,CG65,CI65,CK65,CM65)) -> 362 | DK65: =IF(E65="","",SUM(BR65,BT65,BV65,BX65,BZ65,CB65,CD65,CF65,CH65,CJ65,CL65,CN65)) -> 0 | EE65: 103 | EF65: HEALTH CARE | EG65: VC | EH65: 30 | EI65: 50 | EJ65: 20 | EL65: 12 | EM65: =ROUNDUP(EL65/EL$6*EM$6,0) -> 26 | ER65: 41 | ES65: =ROUNDUP(ER65/ER$6*ES$6,0) -> 82
E66: 11158 | G66: A 058 | H66: B 058 | I66: C 058 | J66: 10 | K66: 10 | L66: 8 | M66: 2 | N66: 70 | O66: 100 | P66: 10 | Q66: 10 | R66: 8 | S66: 2 | T66: 70 | U66: 100 | V66: b | W66: 10 | X66: 10 | Y66: 9 | Z66: 1 | AA66: 30 | AB66: 20 | AC66: 70 | AD66: 30 | AE66: b | AF66: 10 | AG66: 10 | AH66: 9 | AI66: 1 | AJ66: 50 | AK66: 20 | AL66: 70 | AM66: 30 | AN66: b | AO66: 10 | AP66: 10 | AQ66: 9 | AR66: 1 | AS66: 70 | AU66: 18 | AW66: a | AX66: 10 | AY66: 10 | AZ66: 10 | BB66: 50 | BC66: 20 | BD66: 70 | BE66: 30 | BF66: 10 | BG66: 10 | BH66: 10 | BI66: 70 | BJ66: 100 | BK66: 30 | BL66: 30 | BM66: 40 | BQ66: =IF($E66="","",IF(BQ$6="","",BQ$6)) | BS66: =IF($E66="","",IF(BS$6="","",BS$6)) -> 44 | BU66: =IF($E66="","",IF(BU$6="","",BU$6)) -> 44 | BW66: =IF($E66="","",IF(BW$6="","",BW$6)) -> 42 | BY66: =IF($E66="","",IF(BY$6="","",BY$6)) -> 40 | CA66: =IF($E66="","",IF(CA$6="","",CA$6)) -> 36 | CC66: =IF($E66="","",IF(CC$6="","",CC$6)) -> 34 | CE66: =IF($E66="","",IF(CE$6="","",CE$6)) -> 24 | CG66: =IF($E66="","",IF(CG$6="","",CG$6)) -> 28 | CI66: =IF($E66="","",IF(CI$6="","",CI$6)) -> 24 | CK66: =IF($E66="","",IF(CK$6="","",CK$6)) -> 24 | CM66: =IF($E66="","",IF(CM$6="","",CM$6)) -> 22 | CP66: =IF(BS66="","",SUM(BQ66,BS66)) -> 44 | CQ66: =IF(BT66="","",SUM(BR66,BT66)) | CR66: =IF(BU66="","",SUM(CP66,BU66)) -> 88 | CS66: =IF(BV66="","",SUM(CQ66,BV66)) | CT66: =IF(BW66="","",SUM(CR66,BW66)) -> 130 | CU66: =IF(BX66="","",SUM(CS66,BX66)) | CV66: =IF(BY66="","",SUM(CT66,BY66)) -> 170 | CW66: =IF(BZ66="","",SUM(CU66,BZ66)) | CX66: =IF(CA66="","",SUM(CV66,CA66)) -> 206 | CY66: =IF(CB66="","",SUM(CW66,CB66)) | ... DI66: =IF(CL66="","",SUM(DG66,CL66)) | DJ66: =IF(E66="","",SUM(BQ66,BS66,BU66,BW66,BY66,CA66,CC66,CE66,CG66,CI66,CK66,CM66)) -> 362 | DK66: =IF(E66="","",SUM(BR66,BT66,BV66,BX66,BZ66,CB66,CD66,CF66,CH66,CJ66,CL66,CN66)) -> 0 | EE66: 104 | EF66: INFORMATION TECHNOLOGY ITES | EG66: VC | EH66: 30 | EI66: 50 | EJ66: 20 | EL66: 11 | EM66: =ROUNDUP(EL66/EL$6*EM$6,0) -> 24 | ER66: 40 | ES66: =ROUNDUP(ER66/ER$6*ES$6,0) -> 80
E67: 11159 | G67: A 059 | H67: B 059 | I67: C 059 | J67: 10 | K67: 10 | L67: 8 | M67: 2 | N67: 70 | O67: 100 | P67: 10 | Q67: 10 | R67: 8 | S67: 2 | T67: 70 | U67: 100 | V67: b | W67: 10 | X67: 10 | Y67: 9 | Z67: 1 | AA67: 30 | AB67: 20 | AC67: 70 | AD67: 30 | AE67: b | AF67: 10 | AG67: 10 | AH67: 9 | AI67: 1 | AJ67: 50 | AK67: 20 | AL67: 70 | AM67: 30 | AN67: b | AO67: 10 | AP67: 10 | AQ67: 9 | AR67: 1 | AS67: 70 | AU67: 18 | AW67: a | AX67: 10 | AY67: 10 | AZ67: 10 | BB67: 50 | BC67: 20 | BD67: 70 | BE67: 30 | BF67: 10 | BG67: 10 | BH67: 10 | BI67: 70 | BJ67: 100 | BK67: 30 | BL67: 30 | BM67: 40 | BQ67: =IF($E67="","",IF(BQ$6="","",BQ$6)) | BS67: =IF($E67="","",IF(BS$6="","",BS$6)) -> 44 | BU67: =IF($E67="","",IF(BU$6="","",BU$6)) -> 44 | BW67: =IF($E67="","",IF(BW$6="","",BW$6)) -> 42 | BY67: =IF($E67="","",IF(BY$6="","",BY$6)) -> 40 | CA67: =IF($E67="","",IF(CA$6="","",CA$6)) -> 36 | CC67: =IF($E67="","",IF(CC$6="","",CC$6)) -> 34 | CE67: =IF($E67="","",IF(CE$6="","",CE$6)) -> 24 | CG67: =IF($E67="","",IF(CG$6="","",CG$6)) -> 28 | CI67: =IF($E67="","",IF(CI$6="","",CI$6)) -> 24 | CK67: =IF($E67="","",IF(CK$6="","",CK$6)) -> 24 | CM67: =IF($E67="","",IF(CM$6="","",CM$6)) -> 22 | CP67: =IF(BS67="","",SUM(BQ67,BS67)) -> 44 | CQ67: =IF(BT67="","",SUM(BR67,BT67)) | CR67: =IF(BU67="","",SUM(CP67,BU67)) -> 88 | CS67: =IF(BV67="","",SUM(CQ67,BV67)) | CT67: =IF(BW67="","",SUM(CR67,BW67)) -> 130 | CU67: =IF(BX67="","",SUM(CS67,BX67)) | CV67: =IF(BY67="","",SUM(CT67,BY67)) -> 170 | CW67: =IF(BZ67="","",SUM(CU67,BZ67)) | CX67: =IF(CA67="","",SUM(CV67,CA67)) -> 206 | CY67: =IF(CB67="","",SUM(CW67,CB67)) | ... DI67: =IF(CL67="","",SUM(DG67,CL67)) | DJ67: =IF(E67="","",SUM(BQ67,BS67,BU67,BW67,BY67,CA67,CC67,CE67,CG67,CI67,CK67,CM67)) -> 362 | DK67: =IF(E67="","",SUM(BR67,BT67,BV67,BX67,BZ67,CB67,CD67,CF67,CH67,CJ67,CL67,CN67)) -> 0 | EE67: 110 | EF67: MICRO IRRIGATION SYSTEM | EG67: VC | EH67: 30 | EI67: 50 | EJ67: 20 | EL67: 10 | EM67: =ROUNDUP(EL67/EL$6*EM$6,0) -> 22 | ER67: 39 | ES67: =ROUNDUP(ER67/ER$6*ES$6,0) -> 78
E68: 11160 | G68: A 060 | H68: B 060 | I68: C 060 | J68: 10 | K68: 10 | L68: 8 | M68: 2 | N68: 70 | O68: 100 | P68: 10 | Q68: 10 | R68: 8 | S68: 2 | T68: 70 | U68: 100 | V68: b | W68: 10 | X68: 10 | Y68: 9 | Z68: 1 | AA68: 30 | AB68: 20 | AC68: 70 | AD68: 30 | AE68: b | AF68: 10 | AG68: 10 | AH68: 9 | AI68: 1 | AJ68: 50 | AK68: 20 | AL68: 70 | AM68: 30 | AN68: b | AO68: 10 | AP68: 10 | AQ68: 9 | AR68: 1 | AS68: 70 | AU68: 18 | AW68: a | AX68: 10 | AY68: 10 | AZ68: 10 | BB68: 50 | BC68: 20 | BD68: 70 | BE68: 30 | BF68: 10 | BG68: 10 | BH68: 10 | BI68: 70 | BJ68: 100 | BK68: 30 | BL68: 30 | BM68: 40 | BQ68: =IF($E68="","",IF(BQ$6="","",BQ$6)) | BS68: =IF($E68="","",IF(BS$6="","",BS$6)) -> 44 | BU68: =IF($E68="","",IF(BU$6="","",BU$6)) -> 44 | BW68: =IF($E68="","",IF(BW$6="","",BW$6)) -> 42 | BY68: =IF($E68="","",IF(BY$6="","",BY$6)) -> 40 | CA68: =IF($E68="","",IF(CA$6="","",CA$6)) -> 36 | CC68: =IF($E68="","",IF(CC$6="","",CC$6)) -> 34 | CE68: =IF($E68="","",IF(CE$6="","",CE$6)) -> 24 | CG68: =IF($E68="","",IF(CG$6="","",CG$6)) -> 28 | CI68: =IF($E68="","",IF(CI$6="","",CI$6)) -> 24 | CK68: =IF($E68="","",IF(CK$6="","",CK$6)) -> 24 | CM68: =IF($E68="","",IF(CM$6="","",CM$6)) -> 22 | CP68: =IF(BS68="","",SUM(BQ68,BS68)) -> 44 | CQ68: =IF(BT68="","",SUM(BR68,BT68)) | CR68: =IF(BU68="","",SUM(CP68,BU68)) -> 88 | CS68: =IF(BV68="","",SUM(CQ68,BV68)) | CT68: =IF(BW68="","",SUM(CR68,BW68)) -> 130 | CU68: =IF(BX68="","",SUM(CS68,BX68)) | CV68: =IF(BY68="","",SUM(CT68,BY68)) -> 170 | CW68: =IF(BZ68="","",SUM(CU68,BZ68)) | CX68: =IF(CA68="","",SUM(CV68,CA68)) -> 206 | CY68: =IF(CB68="","",SUM(CW68,CB68)) | ... DI68: =IF(CL68="","",SUM(DG68,CL68)) | DJ68: =IF(E68="","",SUM(BQ68,BS68,BU68,BW68,BY68,CA68,CC68,CE68,CG68,CI68,CK68,CM68)) -> 362 | DK68: =IF(E68="","",SUM(BR68,BT68,BV68,BX68,BZ68,CB68,CD68,CF68,CH68,CJ68,CL68,CN68)) -> 0 | EE68: 107 | EF68: PERSONAL SECURITY | EG68: VC | EH68: 30 | EI68: 50 | EJ68: 20 | EL68: 9 | EM68: =ROUNDUP(EL68/EL$6*EM$6,0) -> 20 | ER68: 38 | ES68: =ROUNDUP(ER68/ER$6*ES$6,0) -> 76
E69: 11161 | G69: A 061 | H69: B 061 | I69: C 061 | J69: 10 | K69: 10 | L69: 8 | M69: 2 | N69: 70 | O69: 100 | P69: 10 | Q69: 10 | R69: 8 | S69: 2 | T69: 70 | U69: 100 | V69: b | W69: 10 | X69: 10 | Y69: 9 | Z69: 1 | AA69: 30 | AB69: 20 | AC69: 70 | AD69: 30 | AE69: b | AF69: 10 | AG69: 10 | AH69: 9 | AI69: 1 | AJ69: 50 | AK69: 20 | AL69: 70 | AM69: 30 | AN69: b | AO69: 10 | AP69: 10 | AQ69: 9 | AR69: 1 | AS69: 70 | AU69: 18 | AW69: a | AX69: 10 | AY69: 10 | AZ69: 10 | BB69: 50 | BC69: 20 | BD69: 70 | BE69: 30 | BF69: 10 | BG69: 10 | BH69: 10 | BI69: 70 | BJ69: 100 | BK69: 30 | BL69: 30 | BM69: 40 | BQ69: =IF($E69="","",IF(BQ$6="","",BQ$6)) | BS69: =IF($E69="","",IF(BS$6="","",BS$6)) -> 44 | BU69: =IF($E69="","",IF(BU$6="","",BU$6)) -> 44 | BW69: =IF($E69="","",IF(BW$6="","",BW$6)) -> 42 | BY69: =IF($E69="","",IF(BY$6="","",BY$6)) -> 40 | CA69: =IF($E69="","",IF(CA$6="","",CA$6)) -> 36 | CC69: =IF($E69="","",IF(CC$6="","",CC$6)) -> 34 | CE69: =IF($E69="","",IF(CE$6="","",CE$6)) -> 24 | CG69: =IF($E69="","",IF(CG$6="","",CG$6)) -> 28 | CI69: =IF($E69="","",IF(CI$6="","",CI$6)) -> 24 | CK69: =IF($E69="","",IF(CK$6="","",CK$6)) -> 24 | CM69: =IF($E69="","",IF(CM$6="","",CM$6)) -> 22 | CP69: =IF(BS69="","",SUM(BQ69,BS69)) -> 44 | CQ69: =IF(BT69="","",SUM(BR69,BT69)) | CR69: =IF(BU69="","",SUM(CP69,BU69)) -> 88 | CS69: =IF(BV69="","",SUM(CQ69,BV69)) | CT69: =IF(BW69="","",SUM(CR69,BW69)) -> 130 | CU69: =IF(BX69="","",SUM(CS69,BX69)) | CV69: =IF(BY69="","",SUM(CT69,BY69)) -> 170 | CW69: =IF(BZ69="","",SUM(CU69,BZ69)) | CX69: =IF(CA69="","",SUM(CV69,CA69)) -> 206 | CY69: =IF(CB69="","",SUM(CW69,CB69)) | ... DI69: =IF(CL69="","",SUM(DG69,CL69)) | DJ69: =IF(E69="","",SUM(BQ69,BS69,BU69,BW69,BY69,CA69,CC69,CE69,CG69,CI69,CK69,CM69)) -> 362 | DK69: =IF(E69="","",SUM(BR69,BT69,BV69,BX69,BZ69,CB69,CD69,CF69,CH69,CJ69,CL69,CN69)) -> 0 | EE69: 105 | EF69: RETAIL SALE | EG69: VC | EH69: 30 | EI69: 50 | EJ69: 20 | EL69: 8 | EM69: =ROUNDUP(EL69/EL$6*EM$6,0) -> 18 | ER69: 37 | ES69: =ROUNDUP(ER69/ER$6*ES$6,0) -> 74
E70: 11162 | G70: A 062 | H70: B 062 | I70: C 062 | J70: 10 | K70: 10 | L70: 8 | M70: 2 | N70: 70 | O70: 100 | P70: 10 | Q70: 10 | R70: 8 | S70: 2 | T70: 70 | U70: 100 | V70: b | W70: 10 | X70: 10 | Y70: 9 | Z70: 1 | AA70: 30 | AB70: 20 | AC70: 70 | AD70: 30 | AE70: b | AF70: 10 | AG70: 10 | AH70: 9 | AI70: 1 | AJ70: 50 | AK70: 20 | AL70: 70 | AM70: 30 | AN70: b | AO70: 10 | AP70: 10 | AQ70: 9 | AR70: 1 | AS70: 70 | AU70: 18 | AW70: a | AX70: 10 | AY70: 10 | AZ70: 10 | BB70: 50 | BC70: 20 | BD70: 70 | BE70: 30 | BF70: 10 | BG70: 10 | BH70: 10 | BI70: 70 | BJ70: 100 | BK70: 30 | BL70: 30 | BM70: 40 | BQ70: =IF($E70="","",IF(BQ$6="","",BQ$6)) | BS70: =IF($E70="","",IF(BS$6="","",BS$6)) -> 44 | BU70: =IF($E70="","",IF(BU$6="","",BU$6)) -> 44 | BW70: =IF($E70="","",IF(BW$6="","",BW$6)) -> 42 | BY70: =IF($E70="","",IF(BY$6="","",BY$6)) -> 40 | CA70: =IF($E70="","",IF(CA$6="","",CA$6)) -> 36 | CC70: =IF($E70="","",IF(CC$6="","",CC$6)) -> 34 | CE70: =IF($E70="","",IF(CE$6="","",CE$6)) -> 24 | CG70: =IF($E70="","",IF(CG$6="","",CG$6)) -> 28 | CI70: =IF($E70="","",IF(CI$6="","",CI$6)) -> 24 | CK70: =IF($E70="","",IF(CK$6="","",CK$6)) -> 24 | CM70: =IF($E70="","",IF(CM$6="","",CM$6)) -> 22 | CP70: =IF(BS70="","",SUM(BQ70,BS70)) -> 44 | CQ70: =IF(BT70="","",SUM(BR70,BT70)) | CR70: =IF(BU70="","",SUM(CP70,BU70)) -> 88 | CS70: =IF(BV70="","",SUM(CQ70,BV70)) | CT70: =IF(BW70="","",SUM(CR70,BW70)) -> 130 | CU70: =IF(BX70="","",SUM(CS70,BX70)) | CV70: =IF(BY70="","",SUM(CT70,BY70)) -> 170 | CW70: =IF(BZ70="","",SUM(CU70,BZ70)) | CX70: =IF(CA70="","",SUM(CV70,CA70)) -> 206 | CY70: =IF(CB70="","",SUM(CW70,CB70)) | ... DI70: =IF(CL70="","",SUM(DG70,CL70)) | DJ70: =IF(E70="","",SUM(BQ70,BS70,BU70,BW70,BY70,CA70,CC70,CE70,CG70,CI70,CK70,CM70)) -> 362 | DK70: =IF(E70="","",SUM(BR70,BT70,BV70,BX70,BZ70,CB70,CD70,CF70,CH70,CJ70,CL70,CN70)) -> 0 | EE70: 106 | EF70: TOURISM AND TRAVEL | EG70: VC | EH70: 30 | EI70: 50 | EJ70: 20 | EL70: 7 | EM70: =ROUNDUP(EL70/EL$6*EM$6,0) -> 15 | ER70: 36 | ES70: =ROUNDUP(ER70/ER$6*ES$6,0) -> 72
E71: 11163 | G71: A 063 | H71: B 063 | I71: C 063 | J71: 10 | K71: 10 | L71: 8 | M71: 2 | N71: 70 | O71: 100 | P71: 10 | Q71: 10 | R71: 8 | S71: 2 | T71: 70 | U71: 100 | V71: b | W71: 10 | X71: 10 | Y71: 9 | Z71: 1 | AA71: 30 | AB71: 20 | AC71: 70 | AD71: 30 | AE71: b | AF71: 10 | AG71: 10 | AH71: 9 | AI71: 1 | AJ71: 50 | AK71: 20 | AL71: 70 | AM71: 30 | AN71: b | AO71: 10 | AP71: 10 | AQ71: 9 | AR71: 1 | AS71: 70 | AU71: 18 | AW71: a | AX71: 10 | AY71: 10 | AZ71: 10 | BB71: 50 | BC71: 20 | BD71: 70 | BE71: 30 | BF71: 10 | BG71: 10 | BH71: 10 | BI71: 70 | BJ71: 100 | BK71: 30 | BL71: 30 | BM71: 40 | BQ71: =IF($E71="","",IF(BQ$6="","",BQ$6)) | BS71: =IF($E71="","",IF(BS$6="","",BS$6)) -> 44 | BU71: =IF($E71="","",IF(BU$6="","",BU$6)) -> 44 | BW71: =IF($E71="","",IF(BW$6="","",BW$6)) -> 42 | BY71: =IF($E71="","",IF(BY$6="","",BY$6)) -> 40 | CA71: =IF($E71="","",IF(CA$6="","",CA$6)) -> 36 | CC71: =IF($E71="","",IF(CC$6="","",CC$6)) -> 34 | CE71: =IF($E71="","",IF(CE$6="","",CE$6)) -> 24 | CG71: =IF($E71="","",IF(CG$6="","",CG$6)) -> 28 | CI71: =IF($E71="","",IF(CI$6="","",CI$6)) -> 24 | CK71: =IF($E71="","",IF(CK$6="","",CK$6)) -> 24 | CM71: =IF($E71="","",IF(CM$6="","",CM$6)) -> 22 | CP71: =IF(BS71="","",SUM(BQ71,BS71)) -> 44 | CQ71: =IF(BT71="","",SUM(BR71,BT71)) | CR71: =IF(BU71="","",SUM(CP71,BU71)) -> 88 | CS71: =IF(BV71="","",SUM(CQ71,BV71)) | CT71: =IF(BW71="","",SUM(CR71,BW71)) -> 130 | CU71: =IF(BX71="","",SUM(CS71,BX71)) | CV71: =IF(BY71="","",SUM(CT71,BY71)) -> 170 | CW71: =IF(BZ71="","",SUM(CU71,BZ71)) | CX71: =IF(CA71="","",SUM(CV71,CA71)) -> 206 | CY71: =IF(CB71="","",SUM(CW71,CB71)) | ... DI71: =IF(CL71="","",SUM(DG71,CL71)) | DJ71: =IF(E71="","",SUM(BQ71,BS71,BU71,BW71,BY71,CA71,CC71,CE71,CG71,CI71,CK71,CM71)) -> 362 | DK71: =IF(E71="","",SUM(BR71,BT71,BV71,BX71,BZ71,CB71,CD71,CF71,CH71,CJ71,CL71,CN71)) -> 0 | EL71: 6 | EM71: =ROUNDUP(EL71/EL$6*EM$6,0) -> 13 | ER71: 35 | ES71: =ROUNDUP(ER71/ER$6*ES$6,0) -> 70
E72: 11164 | G72: A 064 | H72: B 064 | I72: C 064 | J72: 10 | K72: 10 | L72: 8 | M72: 2 | N72: 70 | O72: 100 | P72: 10 | Q72: 10 | R72: 8 | S72: 2 | T72: 70 | U72: 100 | V72: b | W72: 10 | X72: 10 | Y72: 9 | Z72: 1 | AA72: 30 | AB72: 20 | AC72: 70 | AD72: 30 | AE72: b | AF72: 10 | AG72: 10 | AH72: 9 | AI72: 1 | AJ72: 50 | AK72: 20 | AL72: 70 | AM72: 30 | AN72: b | AO72: 10 | AP72: 10 | AQ72: 9 | AR72: 1 | AS72: 70 | AU72: 18 | AW72: a | AX72: 10 | AY72: 10 | AZ72: 10 | BB72: 50 | BC72: 20 | BD72: 70 | BE72: 30 | BF72: 10 | BG72: 10 | BH72: 10 | BI72: 70 | BJ72: 100 | BK72: 30 | BL72: 30 | BM72: 40 | BQ72: =IF($E72="","",IF(BQ$6="","",BQ$6)) | BS72: =IF($E72="","",IF(BS$6="","",BS$6)) -> 44 | BU72: =IF($E72="","",IF(BU$6="","",BU$6)) -> 44 | BW72: =IF($E72="","",IF(BW$6="","",BW$6)) -> 42 | BY72: =IF($E72="","",IF(BY$6="","",BY$6)) -> 40 | CA72: =IF($E72="","",IF(CA$6="","",CA$6)) -> 36 | CC72: =IF($E72="","",IF(CC$6="","",CC$6)) -> 34 | CE72: =IF($E72="","",IF(CE$6="","",CE$6)) -> 24 | CG72: =IF($E72="","",IF(CG$6="","",CG$6)) -> 28 | CI72: =IF($E72="","",IF(CI$6="","",CI$6)) -> 24 | CK72: =IF($E72="","",IF(CK$6="","",CK$6)) -> 24 | CM72: =IF($E72="","",IF(CM$6="","",CM$6)) -> 22 | CP72: =IF(BS72="","",SUM(BQ72,BS72)) -> 44 | CQ72: =IF(BT72="","",SUM(BR72,BT72)) | CR72: =IF(BU72="","",SUM(CP72,BU72)) -> 88 | CS72: =IF(BV72="","",SUM(CQ72,BV72)) | CT72: =IF(BW72="","",SUM(CR72,BW72)) -> 130 | CU72: =IF(BX72="","",SUM(CS72,BX72)) | CV72: =IF(BY72="","",SUM(CT72,BY72)) -> 170 | CW72: =IF(BZ72="","",SUM(CU72,BZ72)) | CX72: =IF(CA72="","",SUM(CV72,CA72)) -> 206 | CY72: =IF(CB72="","",SUM(CW72,CB72)) | ... DI72: =IF(CL72="","",SUM(DG72,CL72)) | DJ72: =IF(E72="","",SUM(BQ72,BS72,BU72,BW72,BY72,CA72,CC72,CE72,CG72,CI72,CK72,CM72)) -> 362 | DK72: =IF(E72="","",SUM(BR72,BT72,BV72,BX72,BZ72,CB72,CD72,CF72,CH72,CJ72,CL72,CN72)) -> 0 | EL72: 5 | EM72: =ROUNDUP(EL72/EL$6*EM$6,0) -> 11 | ER72: 34 | ES72: =ROUNDUP(ER72/ER$6*ES$6,0) -> 68
E73: 11165 | G73: A 065 | H73: B 065 | I73: C 065 | J73: 10 | K73: 10 | L73: 8 | M73: 2 | N73: 70 | O73: 100 | P73: 10 | Q73: 10 | R73: 8 | S73: 2 | T73: 70 | U73: 100 | V73: b | W73: 10 | X73: 10 | Y73: 9 | Z73: 1 | AA73: 30 | AB73: 20 | AC73: 70 | AD73: 30 | AE73: b | AF73: 10 | AG73: 10 | AH73: 9 | AI73: 1 | AJ73: 50 | AK73: 20 | AL73: 70 | AM73: 30 | AN73: b | AO73: 10 | AP73: 10 | AQ73: 9 | AR73: 1 | AS73: 70 | AU73: 18 | AW73: a | AX73: 10 | AY73: 10 | AZ73: 10 | BB73: 50 | BC73: 20 | BD73: 70 | BE73: 30 | BF73: 10 | BG73: 10 | BH73: 10 | BI73: 70 | BJ73: 100 | BK73: 30 | BL73: 30 | BM73: 40 | BQ73: =IF($E73="","",IF(BQ$6="","",BQ$6)) | BS73: =IF($E73="","",IF(BS$6="","",BS$6)) -> 44 | BU73: =IF($E73="","",IF(BU$6="","",BU$6)) -> 44 | BW73: =IF($E73="","",IF(BW$6="","",BW$6)) -> 42 | BY73: =IF($E73="","",IF(BY$6="","",BY$6)) -> 40 | CA73: =IF($E73="","",IF(CA$6="","",CA$6)) -> 36 | CC73: =IF($E73="","",IF(CC$6="","",CC$6)) -> 34 | CE73: =IF($E73="","",IF(CE$6="","",CE$6)) -> 24 | CG73: =IF($E73="","",IF(CG$6="","",CG$6)) -> 28 | CI73: =IF($E73="","",IF(CI$6="","",CI$6)) -> 24 | CK73: =IF($E73="","",IF(CK$6="","",CK$6)) -> 24 | CM73: =IF($E73="","",IF(CM$6="","",CM$6)) -> 22 | CP73: =IF(BS73="","",SUM(BQ73,BS73)) -> 44 | CQ73: =IF(BT73="","",SUM(BR73,BT73)) | CR73: =IF(BU73="","",SUM(CP73,BU73)) -> 88 | CS73: =IF(BV73="","",SUM(CQ73,BV73)) | CT73: =IF(BW73="","",SUM(CR73,BW73)) -> 130 | CU73: =IF(BX73="","",SUM(CS73,BX73)) | CV73: =IF(BY73="","",SUM(CT73,BY73)) -> 170 | CW73: =IF(BZ73="","",SUM(CU73,BZ73)) | CX73: =IF(CA73="","",SUM(CV73,CA73)) -> 206 | CY73: =IF(CB73="","",SUM(CW73,CB73)) | ... DI73: =IF(CL73="","",SUM(DG73,CL73)) | DJ73: =IF(E73="","",SUM(BQ73,BS73,BU73,BW73,BY73,CA73,CC73,CE73,CG73,CI73,CK73,CM73)) -> 362 | DK73: =IF(E73="","",SUM(BR73,BT73,BV73,BX73,BZ73,CB73,CD73,CF73,CH73,CJ73,CL73,CN73)) -> 0 | EL73: 4 | EM73: =ROUNDUP(EL73/EL$6*EM$6,0) -> 9 | ER73: 33 | ES73: =ROUNDUP(ER73/ER$6*ES$6,0) -> 66
E74: 11166 | G74: A 066 | H74: B 066 | I74: C 066 | J74: 10 | K74: 10 | L74: 8 | M74: 2 | N74: 70 | O74: 100 | P74: 10 | Q74: 10 | R74: 8 | S74: 2 | T74: 70 | U74: 100 | V74: b | W74: 10 | X74: 10 | Y74: 9 | Z74: 1 | AA74: 30 | AB74: 20 | AC74: 70 | AD74: 30 | AE74: b | AF74: 10 | AG74: 10 | AH74: 9 | AI74: 1 | AJ74: 50 | AK74: 20 | AL74: 70 | AM74: 30 | AN74: b | AO74: 10 | AP74: 10 | AQ74: 9 | AR74: 1 | AS74: 70 | AU74: 18 | AW74: a | AX74: 10 | AY74: 10 | AZ74: 10 | BB74: 50 | BC74: 20 | BD74: 70 | BE74: 30 | BF74: 10 | BG74: 10 | BH74: 10 | BI74: 70 | BJ74: 100 | BK74: 30 | BL74: 30 | BM74: 40 | BQ74: =IF($E74="","",IF(BQ$6="","",BQ$6)) | BS74: =IF($E74="","",IF(BS$6="","",BS$6)) -> 44 | BU74: =IF($E74="","",IF(BU$6="","",BU$6)) -> 44 | BW74: =IF($E74="","",IF(BW$6="","",BW$6)) -> 42 | BY74: =IF($E74="","",IF(BY$6="","",BY$6)) -> 40 | CA74: =IF($E74="","",IF(CA$6="","",CA$6)) -> 36 | CC74: =IF($E74="","",IF(CC$6="","",CC$6)) -> 34 | CE74: =IF($E74="","",IF(CE$6="","",CE$6)) -> 24 | CG74: =IF($E74="","",IF(CG$6="","",CG$6)) -> 28 | CI74: =IF($E74="","",IF(CI$6="","",CI$6)) -> 24 | CK74: =IF($E74="","",IF(CK$6="","",CK$6)) -> 24 | CM74: =IF($E74="","",IF(CM$6="","",CM$6)) -> 22 | CP74: =IF(BS74="","",SUM(BQ74,BS74)) -> 44 | CQ74: =IF(BT74="","",SUM(BR74,BT74)) | CR74: =IF(BU74="","",SUM(CP74,BU74)) -> 88 | CS74: =IF(BV74="","",SUM(CQ74,BV74)) | CT74: =IF(BW74="","",SUM(CR74,BW74)) -> 130 | CU74: =IF(BX74="","",SUM(CS74,BX74)) | CV74: =IF(BY74="","",SUM(CT74,BY74)) -> 170 | CW74: =IF(BZ74="","",SUM(CU74,BZ74)) | CX74: =IF(CA74="","",SUM(CV74,CA74)) -> 206 | CY74: =IF(CB74="","",SUM(CW74,CB74)) | ... DI74: =IF(CL74="","",SUM(DG74,CL74)) | DJ74: =IF(E74="","",SUM(BQ74,BS74,BU74,BW74,BY74,CA74,CC74,CE74,CG74,CI74,CK74,CM74)) -> 362 | DK74: =IF(E74="","",SUM(BR74,BT74,BV74,BX74,BZ74,CB74,CD74,CF74,CH74,CJ74,CL74,CN74)) -> 0 | EL74: 3 | EM74: =ROUNDUP(EL74/EL$6*EM$6,0) -> 7 | ER74: 32 | ES74: =ROUNDUP(ER74/ER$6*ES$6,0) -> 64
E75: 11167 | G75: A 067 | H75: B 067 | I75: C 067 | J75: 10 | K75: 10 | L75: 8 | M75: 2 | N75: 70 | O75: 100 | P75: 10 | Q75: 10 | R75: 8 | S75: 2 | T75: 70 | U75: 100 | V75: b | W75: 10 | X75: 10 | Y75: 9 | Z75: 1 | AA75: 30 | AB75: 20 | AC75: 70 | AD75: 30 | AE75: b | AF75: 10 | AG75: 10 | AH75: 9 | AI75: 1 | AJ75: 50 | AK75: 20 | AL75: 70 | AM75: 30 | AN75: b | AO75: 10 | AP75: 10 | AQ75: 9 | AR75: 1 | AS75: 70 | AU75: 18 | AW75: a | AX75: 10 | AY75: 10 | AZ75: 10 | BB75: 50 | BC75: 20 | BD75: 70 | BE75: 30 | BF75: 10 | BG75: 10 | BH75: 10 | BI75: 70 | BJ75: 100 | BK75: 30 | BL75: 30 | BM75: 40 | BQ75: =IF($E75="","",IF(BQ$6="","",BQ$6)) | BS75: =IF($E75="","",IF(BS$6="","",BS$6)) -> 44 | BU75: =IF($E75="","",IF(BU$6="","",BU$6)) -> 44 | BW75: =IF($E75="","",IF(BW$6="","",BW$6)) -> 42 | BY75: =IF($E75="","",IF(BY$6="","",BY$6)) -> 40 | CA75: =IF($E75="","",IF(CA$6="","",CA$6)) -> 36 | CC75: =IF($E75="","",IF(CC$6="","",CC$6)) -> 34 | CE75: =IF($E75="","",IF(CE$6="","",CE$6)) -> 24 | CG75: =IF($E75="","",IF(CG$6="","",CG$6)) -> 28 | CI75: =IF($E75="","",IF(CI$6="","",CI$6)) -> 24 | CK75: =IF($E75="","",IF(CK$6="","",CK$6)) -> 24 | CM75: =IF($E75="","",IF(CM$6="","",CM$6)) -> 22 | CP75: =IF(BS75="","",SUM(BQ75,BS75)) -> 44 | CQ75: =IF(BT75="","",SUM(BR75,BT75)) | CR75: =IF(BU75="","",SUM(CP75,BU75)) -> 88 | CS75: =IF(BV75="","",SUM(CQ75,BV75)) | CT75: =IF(BW75="","",SUM(CR75,BW75)) -> 130 | CU75: =IF(BX75="","",SUM(CS75,BX75)) | CV75: =IF(BY75="","",SUM(CT75,BY75)) -> 170 | CW75: =IF(BZ75="","",SUM(CU75,BZ75)) | CX75: =IF(CA75="","",SUM(CV75,CA75)) -> 206 | CY75: =IF(CB75="","",SUM(CW75,CB75)) | ... DI75: =IF(CL75="","",SUM(DG75,CL75)) | DJ75: =IF(E75="","",SUM(BQ75,BS75,BU75,BW75,BY75,CA75,CC75,CE75,CG75,CI75,CK75,CM75)) -> 362 | DK75: =IF(E75="","",SUM(BR75,BT75,BV75,BX75,BZ75,CB75,CD75,CF75,CH75,CJ75,CL75,CN75)) -> 0 | EL75: 2 | EM75: =ROUNDUP(EL75/EL$6*EM$6,0) -> 5 | ER75: 31 | ES75: =ROUNDUP(ER75/ER$6*ES$6,0) -> 62
E76: 11168 | G76: A 068 | H76: B 068 | I76: C 068 | J76: 10 | K76: 10 | L76: 8 | M76: 2 | N76: 70 | O76: 100 | P76: 10 | Q76: 10 | R76: 8 | S76: 2 | T76: 70 | U76: 100 | V76: b | W76: 10 | X76: 10 | Y76: 9 | Z76: 1 | AA76: 30 | AB76: 20 | AC76: 70 | AD76: 30 | AE76: b | AF76: 10 | AG76: 10 | AH76: 9 | AI76: 1 | AJ76: 50 | AK76: 20 | AL76: 70 | AM76: 30 | AN76: b | AO76: 10 | AP76: 10 | AQ76: 9 | AR76: 1 | AS76: 70 | AU76: 18 | AW76: a | AX76: 10 | AY76: 10 | AZ76: 10 | BB76: 50 | BC76: 20 | BD76: 70 | BE76: 30 | BF76: 10 | BG76: 10 | BH76: 10 | BI76: 70 | BJ76: 100 | BK76: 30 | BL76: 30 | BM76: 40 | BQ76: =IF($E76="","",IF(BQ$6="","",BQ$6)) | BS76: =IF($E76="","",IF(BS$6="","",BS$6)) -> 44 | BU76: =IF($E76="","",IF(BU$6="","",BU$6)) -> 44 | BW76: =IF($E76="","",IF(BW$6="","",BW$6)) -> 42 | BY76: =IF($E76="","",IF(BY$6="","",BY$6)) -> 40 | CA76: =IF($E76="","",IF(CA$6="","",CA$6)) -> 36 | CC76: =IF($E76="","",IF(CC$6="","",CC$6)) -> 34 | CE76: =IF($E76="","",IF(CE$6="","",CE$6)) -> 24 | CG76: =IF($E76="","",IF(CG$6="","",CG$6)) -> 28 | CI76: =IF($E76="","",IF(CI$6="","",CI$6)) -> 24 | CK76: =IF($E76="","",IF(CK$6="","",CK$6)) -> 24 | CM76: =IF($E76="","",IF(CM$6="","",CM$6)) -> 22 | CP76: =IF(BS76="","",SUM(BQ76,BS76)) -> 44 | CQ76: =IF(BT76="","",SUM(BR76,BT76)) | CR76: =IF(BU76="","",SUM(CP76,BU76)) -> 88 | CS76: =IF(BV76="","",SUM(CQ76,BV76)) | CT76: =IF(BW76="","",SUM(CR76,BW76)) -> 130 | CU76: =IF(BX76="","",SUM(CS76,BX76)) | CV76: =IF(BY76="","",SUM(CT76,BY76)) -> 170 | CW76: =IF(BZ76="","",SUM(CU76,BZ76)) | CX76: =IF(CA76="","",SUM(CV76,CA76)) -> 206 | CY76: =IF(CB76="","",SUM(CW76,CB76)) | ... DI76: =IF(CL76="","",SUM(DG76,CL76)) | DJ76: =IF(E76="","",SUM(BQ76,BS76,BU76,BW76,BY76,CA76,CC76,CE76,CG76,CI76,CK76,CM76)) -> 362 | DK76: =IF(E76="","",SUM(BR76,BT76,BV76,BX76,BZ76,CB76,CD76,CF76,CH76,CJ76,CL76,CN76)) -> 0 | EL76: 1 | EM76: =ROUNDUP(EL76/EL$6*EM$6,0) -> 3 | ER76: 30 | ES76: =ROUNDUP(ER76/ER$6*ES$6,0) -> 60
E77: 11169 | G77: A 069 | H77: B 069 | I77: C 069 | J77: 10 | K77: 10 | L77: 8 | M77: 2 | N77: 70 | O77: 100 | P77: 10 | Q77: 10 | R77: 8 | S77: 2 | T77: 70 | U77: 100 | V77: b | W77: 10 | X77: 10 | Y77: 9 | Z77: 1 | AA77: 30 | AB77: 20 | AC77: 70 | AD77: 30 | AE77: b | AF77: 10 | AG77: 10 | AH77: 9 | AI77: 1 | AJ77: 50 | AK77: 20 | AL77: 70 | AM77: 30 | AN77: b | AO77: 10 | AP77: 10 | AQ77: 9 | AR77: 1 | AS77: 70 | AU77: 18 | AW77: a | AX77: 10 | AY77: 10 | AZ77: 10 | BB77: 50 | BC77: 20 | BD77: 70 | BE77: 30 | BF77: 10 | BG77: 10 | BH77: 10 | BI77: 70 | BJ77: 100 | BK77: 30 | BL77: 30 | BM77: 40 | BQ77: =IF($E77="","",IF(BQ$6="","",BQ$6)) | BS77: =IF($E77="","",IF(BS$6="","",BS$6)) -> 44 | BU77: =IF($E77="","",IF(BU$6="","",BU$6)) -> 44 | BW77: =IF($E77="","",IF(BW$6="","",BW$6)) -> 42 | BY77: =IF($E77="","",IF(BY$6="","",BY$6)) -> 40 | CA77: =IF($E77="","",IF(CA$6="","",CA$6)) -> 36 | CC77: =IF($E77="","",IF(CC$6="","",CC$6)) -> 34 | CE77: =IF($E77="","",IF(CE$6="","",CE$6)) -> 24 | CG77: =IF($E77="","",IF(CG$6="","",CG$6)) -> 28 | CI77: =IF($E77="","",IF(CI$6="","",CI$6)) -> 24 | CK77: =IF($E77="","",IF(CK$6="","",CK$6)) -> 24 | CM77: =IF($E77="","",IF(CM$6="","",CM$6)) -> 22 | CP77: =IF(BS77="","",SUM(BQ77,BS77)) -> 44 | CQ77: =IF(BT77="","",SUM(BR77,BT77)) | CR77: =IF(BU77="","",SUM(CP77,BU77)) -> 88 | CS77: =IF(BV77="","",SUM(CQ77,BV77)) | CT77: =IF(BW77="","",SUM(CR77,BW77)) -> 130 | CU77: =IF(BX77="","",SUM(CS77,BX77)) | CV77: =IF(BY77="","",SUM(CT77,BY77)) -> 170 | CW77: =IF(BZ77="","",SUM(CU77,BZ77)) | CX77: =IF(CA77="","",SUM(CV77,CA77)) -> 206 | CY77: =IF(CB77="","",SUM(CW77,CB77)) | ... DI77: =IF(CL77="","",SUM(DG77,CL77)) | DJ77: =IF(E77="","",SUM(BQ77,BS77,BU77,BW77,BY77,CA77,CC77,CE77,CG77,CI77,CK77,CM77)) -> 362 | DK77: =IF(E77="","",SUM(BR77,BT77,BV77,BX77,BZ77,CB77,CD77,CF77,CH77,CJ77,CL77,CN77)) -> 0 | EL77: 0 | EM77: =ROUNDUP(EL77/EL$6*EM$6,0) -> 0 | ER77: 29 | ES77: =ROUNDUP(ER77/ER$6*ES$6,0) -> 58
E78: 11170 | G78: A 070 | H78: B 070 | I78: C 070 | J78: 10 | K78: 10 | L78: 8 | M78: 2 | N78: 70 | O78: 100 | P78: 10 | Q78: 10 | R78: 8 | S78: 2 | T78: 70 | U78: 100 | V78: b | W78: 10 | X78: 10 | Y78: 9 | Z78: 1 | AA78: 30 | AB78: 20 | AC78: 70 | AD78: 30 | AE78: b | AF78: 10 | AG78: 10 | AH78: 9 | AI78: 1 | AJ78: 50 | AK78: 20 | AL78: 70 | AM78: 30 | AN78: b | AO78: 10 | AP78: 10 | AQ78: 9 | AR78: 1 | AS78: 70 | AU78: 18 | AW78: a | AX78: 10 | AY78: 10 | AZ78: 10 | BB78: 50 | BC78: 20 | BD78: 70 | BE78: 30 | BF78: 10 | BG78: 10 | BH78: 10 | BI78: 70 | BJ78: 100 | BK78: 30 | BL78: 30 | BM78: 40 | BQ78: =IF($E78="","",IF(BQ$6="","",BQ$6)) | BS78: =IF($E78="","",IF(BS$6="","",BS$6)) -> 44 | BU78: =IF($E78="","",IF(BU$6="","",BU$6)) -> 44 | BW78: =IF($E78="","",IF(BW$6="","",BW$6)) -> 42 | BY78: =IF($E78="","",IF(BY$6="","",BY$6)) -> 40 | CA78: =IF($E78="","",IF(CA$6="","",CA$6)) -> 36 | CC78: =IF($E78="","",IF(CC$6="","",CC$6)) -> 34 | CE78: =IF($E78="","",IF(CE$6="","",CE$6)) -> 24 | CG78: =IF($E78="","",IF(CG$6="","",CG$6)) -> 28 | CI78: =IF($E78="","",IF(CI$6="","",CI$6)) -> 24 | CK78: =IF($E78="","",IF(CK$6="","",CK$6)) -> 24 | CM78: =IF($E78="","",IF(CM$6="","",CM$6)) -> 22 | CP78: =IF(BS78="","",SUM(BQ78,BS78)) -> 44 | CQ78: =IF(BT78="","",SUM(BR78,BT78)) | CR78: =IF(BU78="","",SUM(CP78,BU78)) -> 88 | CS78: =IF(BV78="","",SUM(CQ78,BV78)) | CT78: =IF(BW78="","",SUM(CR78,BW78)) -> 130 | CU78: =IF(BX78="","",SUM(CS78,BX78)) | CV78: =IF(BY78="","",SUM(CT78,BY78)) -> 170 | CW78: =IF(BZ78="","",SUM(CU78,BZ78)) | CX78: =IF(CA78="","",SUM(CV78,CA78)) -> 206 | CY78: =IF(CB78="","",SUM(CW78,CB78)) | ... DI78: =IF(CL78="","",SUM(DG78,CL78)) | DJ78: =IF(E78="","",SUM(BQ78,BS78,BU78,BW78,BY78,CA78,CC78,CE78,CG78,CI78,CK78,CM78)) -> 362 | DK78: =IF(E78="","",SUM(BR78,BT78,BV78,BX78,BZ78,CB78,CD78,CF78,CH78,CJ78,CL78,CN78)) -> 0 | ER78: 28 | ES78: =ROUNDUP(ER78/ER$6*ES$6,0) -> 56
E79: 11171 | G79: A 071 | H79: B 071 | I79: C 071 | J79: 10 | K79: 10 | L79: 8 | M79: 2 | N79: 70 | O79: 100 | P79: 10 | Q79: 10 | R79: 8 | S79: 2 | T79: 70 | U79: 100 | V79: b | W79: 10 | X79: 10 | Y79: 9 | Z79: 1 | AA79: 30 | AB79: 20 | AC79: 70 | AD79: 30 | AE79: b | AF79: 10 | AG79: 10 | AH79: 9 | AI79: 1 | AJ79: 50 | AK79: 20 | AL79: 70 | AM79: 30 | AN79: b | AO79: 10 | AP79: 10 | AQ79: 9 | AR79: 1 | AS79: 70 | AU79: 18 | AW79: a | AX79: 10 | AY79: 10 | AZ79: 10 | BB79: 50 | BC79: 20 | BD79: 70 | BE79: 30 | BF79: 10 | BG79: 10 | BH79: 10 | BI79: 70 | BJ79: 100 | BK79: 30 | BL79: 30 | BM79: 40 | BQ79: =IF($E79="","",IF(BQ$6="","",BQ$6)) | BS79: =IF($E79="","",IF(BS$6="","",BS$6)) -> 44 | BU79: =IF($E79="","",IF(BU$6="","",BU$6)) -> 44 | BW79: =IF($E79="","",IF(BW$6="","",BW$6)) -> 42 | BY79: =IF($E79="","",IF(BY$6="","",BY$6)) -> 40 | CA79: =IF($E79="","",IF(CA$6="","",CA$6)) -> 36 | CC79: =IF($E79="","",IF(CC$6="","",CC$6)) -> 34 | CE79: =IF($E79="","",IF(CE$6="","",CE$6)) -> 24 | CG79: =IF($E79="","",IF(CG$6="","",CG$6)) -> 28 | CI79: =IF($E79="","",IF(CI$6="","",CI$6)) -> 24 | CK79: =IF($E79="","",IF(CK$6="","",CK$6)) -> 24 | CM79: =IF($E79="","",IF(CM$6="","",CM$6)) -> 22 | CP79: =IF(BS79="","",SUM(BQ79,BS79)) -> 44 | CQ79: =IF(BT79="","",SUM(BR79,BT79)) | CR79: =IF(BU79="","",SUM(CP79,BU79)) -> 88 | CS79: =IF(BV79="","",SUM(CQ79,BV79)) | CT79: =IF(BW79="","",SUM(CR79,BW79)) -> 130 | CU79: =IF(BX79="","",SUM(CS79,BX79)) | CV79: =IF(BY79="","",SUM(CT79,BY79)) -> 170 | CW79: =IF(BZ79="","",SUM(CU79,BZ79)) | CX79: =IF(CA79="","",SUM(CV79,CA79)) -> 206 | CY79: =IF(CB79="","",SUM(CW79,CB79)) | ... DI79: =IF(CL79="","",SUM(DG79,CL79)) | DJ79: =IF(E79="","",SUM(BQ79,BS79,BU79,BW79,BY79,CA79,CC79,CE79,CG79,CI79,CK79,CM79)) -> 362 | DK79: =IF(E79="","",SUM(BR79,BT79,BV79,BX79,BZ79,CB79,CD79,CF79,CH79,CJ79,CL79,CN79)) -> 0 | ER79: 27 | ES79: =ROUNDUP(ER79/ER$6*ES$6,0) -> 54
E80: 11172 | G80: A 072 | H80: B 072 | I80: C 072 | J80: 10 | K80: 10 | L80: 8 | M80: 2 | N80: 70 | O80: 100 | P80: 10 | Q80: 10 | R80: 8 | S80: 2 | T80: 70 | U80: 100 | V80: b | W80: 10 | X80: 10 | Y80: 9 | Z80: 1 | AA80: 30 | AB80: 20 | AC80: 70 | AD80: 30 | AE80: b | AF80: 10 | AG80: 10 | AH80: 9 | AI80: 1 | AJ80: 50 | AK80: 20 | AL80: 70 | AM80: 30 | AN80: b | AO80: 10 | AP80: 10 | AQ80: 9 | AR80: 1 | AS80: 70 | AU80: 18 | AW80: a | AX80: 10 | AY80: 10 | AZ80: 10 | BB80: 50 | BC80: 20 | BD80: 70 | BE80: 30 | BF80: 10 | BG80: 10 | BH80: 10 | BI80: 70 | BJ80: 100 | BK80: 30 | BL80: 30 | BM80: 40 | BQ80: =IF($E80="","",IF(BQ$6="","",BQ$6)) | BS80: =IF($E80="","",IF(BS$6="","",BS$6)) -> 44 | BU80: =IF($E80="","",IF(BU$6="","",BU$6)) -> 44 | BW80: =IF($E80="","",IF(BW$6="","",BW$6)) -> 42 | BY80: =IF($E80="","",IF(BY$6="","",BY$6)) -> 40 | CA80: =IF($E80="","",IF(CA$6="","",CA$6)) -> 36 | CC80: =IF($E80="","",IF(CC$6="","",CC$6)) -> 34 | CE80: =IF($E80="","",IF(CE$6="","",CE$6)) -> 24 | CG80: =IF($E80="","",IF(CG$6="","",CG$6)) -> 28 | CI80: =IF($E80="","",IF(CI$6="","",CI$6)) -> 24 | CK80: =IF($E80="","",IF(CK$6="","",CK$6)) -> 24 | CM80: =IF($E80="","",IF(CM$6="","",CM$6)) -> 22 | CP80: =IF(BS80="","",SUM(BQ80,BS80)) -> 44 | CQ80: =IF(BT80="","",SUM(BR80,BT80)) | CR80: =IF(BU80="","",SUM(CP80,BU80)) -> 88 | CS80: =IF(BV80="","",SUM(CQ80,BV80)) | CT80: =IF(BW80="","",SUM(CR80,BW80)) -> 130 | CU80: =IF(BX80="","",SUM(CS80,BX80)) | CV80: =IF(BY80="","",SUM(CT80,BY80)) -> 170 | CW80: =IF(BZ80="","",SUM(CU80,BZ80)) | CX80: =IF(CA80="","",SUM(CV80,CA80)) -> 206 | CY80: =IF(CB80="","",SUM(CW80,CB80)) | ... DI80: =IF(CL80="","",SUM(DG80,CL80)) | DJ80: =IF(E80="","",SUM(BQ80,BS80,BU80,BW80,BY80,CA80,CC80,CE80,CG80,CI80,CK80,CM80)) -> 362 | DK80: =IF(E80="","",SUM(BR80,BT80,BV80,BX80,BZ80,CB80,CD80,CF80,CH80,CJ80,CL80,CN80)) -> 0 | ER80: 26 | ES80: =ROUNDUP(ER80/ER$6*ES$6,0) -> 52
E81: 11173 | G81: A 073 | H81: B 073 | I81: C 073 | J81: 10 | K81: 10 | L81: 8 | M81: 2 | N81: 70 | O81: 100 | P81: 10 | Q81: 10 | R81: 8 | S81: 2 | T81: 70 | U81: 100 | V81: b | W81: 10 | X81: 10 | Y81: 9 | Z81: 1 | AA81: 30 | AB81: 20 | AC81: 70 | AD81: 30 | AE81: b | AF81: 10 | AG81: 10 | AH81: 9 | AI81: 1 | AJ81: 50 | AK81: 20 | AL81: 70 | AM81: 30 | AN81: b | AO81: 10 | AP81: 10 | AQ81: 9 | AR81: 1 | AS81: 70 | AU81: 18 | AW81: a | AX81: 10 | AY81: 10 | AZ81: 10 | BB81: 50 | BC81: 20 | BD81: 70 | BE81: 30 | BF81: 10 | BG81: 10 | BH81: 10 | BI81: 70 | BJ81: 100 | BK81: 30 | BL81: 30 | BM81: 40 | BQ81: =IF($E81="","",IF(BQ$6="","",BQ$6)) | BS81: =IF($E81="","",IF(BS$6="","",BS$6)) -> 44 | BU81: =IF($E81="","",IF(BU$6="","",BU$6)) -> 44 | BW81: =IF($E81="","",IF(BW$6="","",BW$6)) -> 42 | BY81: =IF($E81="","",IF(BY$6="","",BY$6)) -> 40 | CA81: =IF($E81="","",IF(CA$6="","",CA$6)) -> 36 | CC81: =IF($E81="","",IF(CC$6="","",CC$6)) -> 34 | CE81: =IF($E81="","",IF(CE$6="","",CE$6)) -> 24 | CG81: =IF($E81="","",IF(CG$6="","",CG$6)) -> 28 | CI81: =IF($E81="","",IF(CI$6="","",CI$6)) -> 24 | CK81: =IF($E81="","",IF(CK$6="","",CK$6)) -> 24 | CM81: =IF($E81="","",IF(CM$6="","",CM$6)) -> 22 | CP81: =IF(BS81="","",SUM(BQ81,BS81)) -> 44 | CQ81: =IF(BT81="","",SUM(BR81,BT81)) | CR81: =IF(BU81="","",SUM(CP81,BU81)) -> 88 | CS81: =IF(BV81="","",SUM(CQ81,BV81)) | CT81: =IF(BW81="","",SUM(CR81,BW81)) -> 130 | CU81: =IF(BX81="","",SUM(CS81,BX81)) | CV81: =IF(BY81="","",SUM(CT81,BY81)) -> 170 | CW81: =IF(BZ81="","",SUM(CU81,BZ81)) | CX81: =IF(CA81="","",SUM(CV81,CA81)) -> 206 | CY81: =IF(CB81="","",SUM(CW81,CB81)) | ... DI81: =IF(CL81="","",SUM(DG81,CL81)) | DJ81: =IF(E81="","",SUM(BQ81,BS81,BU81,BW81,BY81,CA81,CC81,CE81,CG81,CI81,CK81,CM81)) -> 362 | DK81: =IF(E81="","",SUM(BR81,BT81,BV81,BX81,BZ81,CB81,CD81,CF81,CH81,CJ81,CL81,CN81)) -> 0 | ER81: 25 | ES81: =ROUNDUP(ER81/ER$6*ES$6,0) -> 50
E82: 11174 | G82: A 074 | H82: B 074 | I82: C 074 | J82: 10 | K82: 10 | L82: 8 | M82: 2 | N82: 70 | O82: 100 | P82: 10 | Q82: 10 | R82: 8 | S82: 2 | T82: 70 | U82: 100 | V82: b | W82: 10 | X82: 10 | Y82: 9 | Z82: 1 | AA82: 30 | AB82: 20 | AC82: 70 | AD82: 30 | AE82: b | AF82: 10 | AG82: 10 | AH82: 9 | AI82: 1 | AJ82: 50 | AK82: 20 | AL82: 70 | AM82: 30 | AN82: b | AO82: 10 | AP82: 10 | AQ82: 9 | AR82: 1 | AS82: 70 | AU82: 18 | AW82: a | AX82: 10 | AY82: 10 | AZ82: 10 | BB82: 50 | BC82: 20 | BD82: 70 | BE82: 30 | BF82: 10 | BG82: 10 | BH82: 10 | BI82: 70 | BJ82: 100 | BK82: 30 | BL82: 30 | BM82: 40 | BQ82: =IF($E82="","",IF(BQ$6="","",BQ$6)) | BS82: =IF($E82="","",IF(BS$6="","",BS$6)) -> 44 | BU82: =IF($E82="","",IF(BU$6="","",BU$6)) -> 44 | BW82: =IF($E82="","",IF(BW$6="","",BW$6)) -> 42 | BY82: =IF($E82="","",IF(BY$6="","",BY$6)) -> 40 | CA82: =IF($E82="","",IF(CA$6="","",CA$6)) -> 36 | CC82: =IF($E82="","",IF(CC$6="","",CC$6)) -> 34 | CE82: =IF($E82="","",IF(CE$6="","",CE$6)) -> 24 | CG82: =IF($E82="","",IF(CG$6="","",CG$6)) -> 28 | CI82: =IF($E82="","",IF(CI$6="","",CI$6)) -> 24 | CK82: =IF($E82="","",IF(CK$6="","",CK$6)) -> 24 | CM82: =IF($E82="","",IF(CM$6="","",CM$6)) -> 22 | CP82: =IF(BS82="","",SUM(BQ82,BS82)) -> 44 | CQ82: =IF(BT82="","",SUM(BR82,BT82)) | CR82: =IF(BU82="","",SUM(CP82,BU82)) -> 88 | CS82: =IF(BV82="","",SUM(CQ82,BV82)) | CT82: =IF(BW82="","",SUM(CR82,BW82)) -> 130 | CU82: =IF(BX82="","",SUM(CS82,BX82)) | CV82: =IF(BY82="","",SUM(CT82,BY82)) -> 170 | CW82: =IF(BZ82="","",SUM(CU82,BZ82)) | CX82: =IF(CA82="","",SUM(CV82,CA82)) -> 206 | CY82: =IF(CB82="","",SUM(CW82,CB82)) | ... DI82: =IF(CL82="","",SUM(DG82,CL82)) | DJ82: =IF(E82="","",SUM(BQ82,BS82,BU82,BW82,BY82,CA82,CC82,CE82,CG82,CI82,CK82,CM82)) -> 362 | DK82: =IF(E82="","",SUM(BR82,BT82,BV82,BX82,BZ82,CB82,CD82,CF82,CH82,CJ82,CL82,CN82)) -> 0 | ER82: 24 | ES82: =ROUNDUP(ER82/ER$6*ES$6,0) -> 48
E83: 11175 | G83: A 075 | H83: B 075 | I83: C 075 | J83: 10 | K83: 10 | L83: 8 | M83: 2 | N83: 70 | O83: 100 | P83: 10 | Q83: 10 | R83: 8 | S83: 2 | T83: 70 | U83: 100 | V83: b | W83: 10 | X83: 10 | Y83: 9 | Z83: 1 | AA83: 30 | AB83: 20 | AC83: 70 | AD83: 30 | AE83: b | AF83: 10 | AG83: 10 | AH83: 9 | AI83: 1 | AJ83: 50 | AK83: 20 | AL83: 70 | AM83: 30 | AN83: b | AO83: 10 | AP83: 10 | AQ83: 9 | AR83: 1 | AS83: 70 | AU83: 18 | AW83: a | AX83: 10 | AY83: 10 | AZ83: 10 | BB83: 50 | BC83: 20 | BD83: 70 | BE83: 30 | BF83: 10 | BG83: 10 | BH83: 10 | BI83: 70 | BJ83: 100 | BK83: 30 | BL83: 30 | BM83: 40 | BQ83: =IF($E83="","",IF(BQ$6="","",BQ$6)) | BS83: =IF($E83="","",IF(BS$6="","",BS$6)) -> 44 | BU83: =IF($E83="","",IF(BU$6="","",BU$6)) -> 44 | BW83: =IF($E83="","",IF(BW$6="","",BW$6)) -> 42 | BY83: =IF($E83="","",IF(BY$6="","",BY$6)) -> 40 | CA83: =IF($E83="","",IF(CA$6="","",CA$6)) -> 36 | CC83: =IF($E83="","",IF(CC$6="","",CC$6)) -> 34 | CE83: =IF($E83="","",IF(CE$6="","",CE$6)) -> 24 | CG83: =IF($E83="","",IF(CG$6="","",CG$6)) -> 28 | CI83: =IF($E83="","",IF(CI$6="","",CI$6)) -> 24 | CK83: =IF($E83="","",IF(CK$6="","",CK$6)) -> 24 | CM83: =IF($E83="","",IF(CM$6="","",CM$6)) -> 22 | CP83: =IF(BS83="","",SUM(BQ83,BS83)) -> 44 | CQ83: =IF(BT83="","",SUM(BR83,BT83)) | CR83: =IF(BU83="","",SUM(CP83,BU83)) -> 88 | CS83: =IF(BV83="","",SUM(CQ83,BV83)) | CT83: =IF(BW83="","",SUM(CR83,BW83)) -> 130 | CU83: =IF(BX83="","",SUM(CS83,BX83)) | CV83: =IF(BY83="","",SUM(CT83,BY83)) -> 170 | CW83: =IF(BZ83="","",SUM(CU83,BZ83)) | CX83: =IF(CA83="","",SUM(CV83,CA83)) -> 206 | CY83: =IF(CB83="","",SUM(CW83,CB83)) | ... DI83: =IF(CL83="","",SUM(DG83,CL83)) | DJ83: =IF(E83="","",SUM(BQ83,BS83,BU83,BW83,BY83,CA83,CC83,CE83,CG83,CI83,CK83,CM83)) -> 362 | DK83: =IF(E83="","",SUM(BR83,BT83,BV83,BX83,BZ83,CB83,CD83,CF83,CH83,CJ83,CL83,CN83)) -> 0 | ER83: 23 | ES83: =ROUNDUP(ER83/ER$6*ES$6,0) -> 46
E84: 11176 | G84: A 076 | H84: B 076 | I84: C 076 | J84: 10 | K84: 10 | L84: 8 | M84: 2 | N84: 70 | O84: 100 | P84: 10 | Q84: 10 | R84: 8 | S84: 2 | T84: 70 | U84: 100 | V84: b | W84: 10 | X84: 10 | Y84: 9 | Z84: 1 | AA84: 30 | AB84: 20 | AC84: 70 | AD84: 30 | AE84: b | AF84: 10 | AG84: 10 | AH84: 9 | AI84: 1 | AJ84: 50 | AK84: 20 | AL84: 70 | AM84: 30 | AN84: b | AO84: 10 | AP84: 10 | AQ84: 9 | AR84: 1 | AS84: 70 | AU84: 18 | AW84: a | AX84: 10 | AY84: 10 | AZ84: 10 | BB84: 50 | BC84: 20 | BD84: 70 | BE84: 30 | BF84: 10 | BG84: 10 | BH84: 10 | BI84: 70 | BJ84: 100 | BK84: 30 | BL84: 30 | BM84: 40 | BQ84: =IF($E84="","",IF(BQ$6="","",BQ$6)) | BS84: =IF($E84="","",IF(BS$6="","",BS$6)) -> 44 | BU84: =IF($E84="","",IF(BU$6="","",BU$6)) -> 44 | BW84: =IF($E84="","",IF(BW$6="","",BW$6)) -> 42 | BY84: =IF($E84="","",IF(BY$6="","",BY$6)) -> 40 | CA84: =IF($E84="","",IF(CA$6="","",CA$6)) -> 36 | CC84: =IF($E84="","",IF(CC$6="","",CC$6)) -> 34 | CE84: =IF($E84="","",IF(CE$6="","",CE$6)) -> 24 | CG84: =IF($E84="","",IF(CG$6="","",CG$6)) -> 28 | CI84: =IF($E84="","",IF(CI$6="","",CI$6)) -> 24 | CK84: =IF($E84="","",IF(CK$6="","",CK$6)) -> 24 | CM84: =IF($E84="","",IF(CM$6="","",CM$6)) -> 22 | CP84: =IF(BS84="","",SUM(BQ84,BS84)) -> 44 | CQ84: =IF(BT84="","",SUM(BR84,BT84)) | CR84: =IF(BU84="","",SUM(CP84,BU84)) -> 88 | CS84: =IF(BV84="","",SUM(CQ84,BV84)) | CT84: =IF(BW84="","",SUM(CR84,BW84)) -> 130 | CU84: =IF(BX84="","",SUM(CS84,BX84)) | CV84: =IF(BY84="","",SUM(CT84,BY84)) -> 170 | CW84: =IF(BZ84="","",SUM(CU84,BZ84)) | CX84: =IF(CA84="","",SUM(CV84,CA84)) -> 206 | CY84: =IF(CB84="","",SUM(CW84,CB84)) | ... DI84: =IF(CL84="","",SUM(DG84,CL84)) | DJ84: =IF(E84="","",SUM(BQ84,BS84,BU84,BW84,BY84,CA84,CC84,CE84,CG84,CI84,CK84,CM84)) -> 362 | DK84: =IF(E84="","",SUM(BR84,BT84,BV84,BX84,BZ84,CB84,CD84,CF84,CH84,CJ84,CL84,CN84)) -> 0 | ER84: 22 | ES84: =ROUNDUP(ER84/ER$6*ES$6,0) -> 44
E85: 11177 | G85: A 077 | H85: B 077 | I85: C 077 | J85: 10 | K85: 10 | L85: 8 | M85: 2 | N85: 70 | O85: 100 | P85: 10 | Q85: 10 | R85: 8 | S85: 2 | T85: 70 | U85: 100 | V85: b | W85: 10 | X85: 10 | Y85: 9 | Z85: 1 | AA85: 30 | AB85: 20 | AC85: 70 | AD85: 30 | AE85: b | AF85: 10 | AG85: 10 | AH85: 9 | AI85: 1 | AJ85: 50 | AK85: 20 | AL85: 70 | AM85: 30 | AN85: b | AO85: 10 | AP85: 10 | AQ85: 9 | AR85: 1 | AS85: 70 | AU85: 18 | AW85: a | AX85: 10 | AY85: 10 | AZ85: 10 | BB85: 50 | BC85: 20 | BD85: 70 | BE85: 30 | BF85: 10 | BG85: 10 | BH85: 10 | BI85: 70 | BJ85: 100 | BK85: 30 | BL85: 30 | BM85: 40 | BQ85: =IF($E85="","",IF(BQ$6="","",BQ$6)) | BS85: =IF($E85="","",IF(BS$6="","",BS$6)) -> 44 | BU85: =IF($E85="","",IF(BU$6="","",BU$6)) -> 44 | BW85: =IF($E85="","",IF(BW$6="","",BW$6)) -> 42 | BY85: =IF($E85="","",IF(BY$6="","",BY$6)) -> 40 | CA85: =IF($E85="","",IF(CA$6="","",CA$6)) -> 36 | CC85: =IF($E85="","",IF(CC$6="","",CC$6)) -> 34 | CE85: =IF($E85="","",IF(CE$6="","",CE$6)) -> 24 | CG85: =IF($E85="","",IF(CG$6="","",CG$6)) -> 28 | CI85: =IF($E85="","",IF(CI$6="","",CI$6)) -> 24 | CK85: =IF($E85="","",IF(CK$6="","",CK$6)) -> 24 | CM85: =IF($E85="","",IF(CM$6="","",CM$6)) -> 22 | CP85: =IF(BS85="","",SUM(BQ85,BS85)) -> 44 | CQ85: =IF(BT85="","",SUM(BR85,BT85)) | CR85: =IF(BU85="","",SUM(CP85,BU85)) -> 88 | CS85: =IF(BV85="","",SUM(CQ85,BV85)) | CT85: =IF(BW85="","",SUM(CR85,BW85)) -> 130 | CU85: =IF(BX85="","",SUM(CS85,BX85)) | CV85: =IF(BY85="","",SUM(CT85,BY85)) -> 170 | CW85: =IF(BZ85="","",SUM(CU85,BZ85)) | CX85: =IF(CA85="","",SUM(CV85,CA85)) -> 206 | CY85: =IF(CB85="","",SUM(CW85,CB85)) | ... DI85: =IF(CL85="","",SUM(DG85,CL85)) | DJ85: =IF(E85="","",SUM(BQ85,BS85,BU85,BW85,BY85,CA85,CC85,CE85,CG85,CI85,CK85,CM85)) -> 362 | DK85: =IF(E85="","",SUM(BR85,BT85,BV85,BX85,BZ85,CB85,CD85,CF85,CH85,CJ85,CL85,CN85)) -> 0 | ER85: 21 | ES85: =ROUNDUP(ER85/ER$6*ES$6,0) -> 42
E86: 11178 | G86: A 078 | H86: B 078 | I86: C 078 | J86: 10 | K86: 10 | L86: 8 | M86: 2 | N86: 70 | O86: 100 | P86: 10 | Q86: 10 | R86: 8 | S86: 2 | T86: 70 | U86: 100 | V86: b | W86: 10 | X86: 10 | Y86: 9 | Z86: 1 | AA86: 30 | AB86: 20 | AC86: 70 | AD86: 30 | AE86: b | AF86: 10 | AG86: 10 | AH86: 9 | AI86: 1 | AJ86: 50 | AK86: 20 | AL86: 70 | AM86: 30 | AN86: b | AO86: 10 | AP86: 10 | AQ86: 9 | AR86: 1 | AS86: 70 | AU86: 18 | AW86: a | AX86: 10 | AY86: 10 | AZ86: 10 | BB86: 50 | BC86: 20 | BD86: 70 | BE86: 30 | BF86: 10 | BG86: 10 | BH86: 10 | BI86: 70 | BJ86: 100 | BK86: 30 | BL86: 30 | BM86: 40 | BQ86: =IF($E86="","",IF(BQ$6="","",BQ$6)) | BS86: =IF($E86="","",IF(BS$6="","",BS$6)) -> 44 | BU86: =IF($E86="","",IF(BU$6="","",BU$6)) -> 44 | BW86: =IF($E86="","",IF(BW$6="","",BW$6)) -> 42 | BY86: =IF($E86="","",IF(BY$6="","",BY$6)) -> 40 | CA86: =IF($E86="","",IF(CA$6="","",CA$6)) -> 36 | CC86: =IF($E86="","",IF(CC$6="","",CC$6)) -> 34 | CE86: =IF($E86="","",IF(CE$6="","",CE$6)) -> 24 | CG86: =IF($E86="","",IF(CG$6="","",CG$6)) -> 28 | CI86: =IF($E86="","",IF(CI$6="","",CI$6)) -> 24 | CK86: =IF($E86="","",IF(CK$6="","",CK$6)) -> 24 | CM86: =IF($E86="","",IF(CM$6="","",CM$6)) -> 22 | CP86: =IF(BS86="","",SUM(BQ86,BS86)) -> 44 | CQ86: =IF(BT86="","",SUM(BR86,BT86)) | CR86: =IF(BU86="","",SUM(CP86,BU86)) -> 88 | CS86: =IF(BV86="","",SUM(CQ86,BV86)) | CT86: =IF(BW86="","",SUM(CR86,BW86)) -> 130 | CU86: =IF(BX86="","",SUM(CS86,BX86)) | CV86: =IF(BY86="","",SUM(CT86,BY86)) -> 170 | CW86: =IF(BZ86="","",SUM(CU86,BZ86)) | CX86: =IF(CA86="","",SUM(CV86,CA86)) -> 206 | CY86: =IF(CB86="","",SUM(CW86,CB86)) | ... DI86: =IF(CL86="","",SUM(DG86,CL86)) | DJ86: =IF(E86="","",SUM(BQ86,BS86,BU86,BW86,BY86,CA86,CC86,CE86,CG86,CI86,CK86,CM86)) -> 362 | DK86: =IF(E86="","",SUM(BR86,BT86,BV86,BX86,BZ86,CB86,CD86,CF86,CH86,CJ86,CL86,CN86)) -> 0 | ER86: 20 | ES86: =ROUNDUP(ER86/ER$6*ES$6,0) -> 40
E87: 11179 | G87: A 079 | H87: B 079 | I87: C 079 | J87: 10 | K87: 10 | L87: 8 | M87: 2 | N87: 70 | O87: 100 | P87: 10 | Q87: 10 | R87: 8 | S87: 2 | T87: 70 | U87: 100 | V87: b | W87: 10 | X87: 10 | Y87: 9 | Z87: 1 | AA87: 30 | AB87: 20 | AC87: 70 | AD87: 30 | AE87: b | AF87: 10 | AG87: 10 | AH87: 9 | AI87: 1 | AJ87: 50 | AK87: 20 | AL87: 70 | AM87: 30 | AN87: b | AO87: 10 | AP87: 10 | AQ87: 9 | AR87: 1 | AS87: 70 | AU87: 18 | AW87: a | AX87: 10 | AY87: 10 | AZ87: 10 | BB87: 50 | BC87: 20 | BD87: 70 | BE87: 30 | BF87: 10 | BG87: 10 | BH87: 10 | BI87: 70 | BJ87: 100 | BK87: 30 | BL87: 30 | BM87: 40 | BQ87: =IF($E87="","",IF(BQ$6="","",BQ$6)) | BS87: =IF($E87="","",IF(BS$6="","",BS$6)) -> 44 | BU87: =IF($E87="","",IF(BU$6="","",BU$6)) -> 44 | BW87: =IF($E87="","",IF(BW$6="","",BW$6)) -> 42 | BY87: =IF($E87="","",IF(BY$6="","",BY$6)) -> 40 | CA87: =IF($E87="","",IF(CA$6="","",CA$6)) -> 36 | CC87: =IF($E87="","",IF(CC$6="","",CC$6)) -> 34 | CE87: =IF($E87="","",IF(CE$6="","",CE$6)) -> 24 | CG87: =IF($E87="","",IF(CG$6="","",CG$6)) -> 28 | CI87: =IF($E87="","",IF(CI$6="","",CI$6)) -> 24 | CK87: =IF($E87="","",IF(CK$6="","",CK$6)) -> 24 | CM87: =IF($E87="","",IF(CM$6="","",CM$6)) -> 22 | CP87: =IF(BS87="","",SUM(BQ87,BS87)) -> 44 | CQ87: =IF(BT87="","",SUM(BR87,BT87)) | CR87: =IF(BU87="","",SUM(CP87,BU87)) -> 88 | CS87: =IF(BV87="","",SUM(CQ87,BV87)) | CT87: =IF(BW87="","",SUM(CR87,BW87)) -> 130 | CU87: =IF(BX87="","",SUM(CS87,BX87)) | CV87: =IF(BY87="","",SUM(CT87,BY87)) -> 170 | CW87: =IF(BZ87="","",SUM(CU87,BZ87)) | CX87: =IF(CA87="","",SUM(CV87,CA87)) -> 206 | CY87: =IF(CB87="","",SUM(CW87,CB87)) | ... DI87: =IF(CL87="","",SUM(DG87,CL87)) | DJ87: =IF(E87="","",SUM(BQ87,BS87,BU87,BW87,BY87,CA87,CC87,CE87,CG87,CI87,CK87,CM87)) -> 362 | DK87: =IF(E87="","",SUM(BR87,BT87,BV87,BX87,BZ87,CB87,CD87,CF87,CH87,CJ87,CL87,CN87)) -> 0 | ER87: 19 | ES87: =ROUNDUP(ER87/ER$6*ES$6,0) -> 38
E88: 11180 | G88: A 080 | H88: B 080 | I88: C 080 | J88: 10 | K88: 10 | L88: 8 | M88: 2 | N88: 70 | O88: 100 | P88: 10 | Q88: 10 | R88: 8 | S88: 2 | T88: 70 | U88: 100 | V88: b | W88: 10 | X88: 10 | Y88: 9 | Z88: 1 | AA88: 30 | AB88: 20 | AC88: 70 | AD88: 30 | AE88: b | AF88: 10 | AG88: 10 | AH88: 9 | AI88: 1 | AJ88: 50 | AK88: 20 | AL88: 70 | AM88: 30 | AN88: b | AO88: 10 | AP88: 10 | AQ88: 9 | AR88: 1 | AS88: 70 | AU88: 18 | AW88: a | AX88: 10 | AY88: 10 | AZ88: 10 | BB88: 50 | BC88: 20 | BD88: 70 | BE88: 30 | BF88: 10 | BG88: 10 | BH88: 10 | BI88: 70 | BJ88: 100 | BK88: 30 | BL88: 30 | BM88: 40 | BQ88: =IF($E88="","",IF(BQ$6="","",BQ$6)) | BS88: =IF($E88="","",IF(BS$6="","",BS$6)) -> 44 | BU88: =IF($E88="","",IF(BU$6="","",BU$6)) -> 44 | BW88: =IF($E88="","",IF(BW$6="","",BW$6)) -> 42 | BY88: =IF($E88="","",IF(BY$6="","",BY$6)) -> 40 | CA88: =IF($E88="","",IF(CA$6="","",CA$6)) -> 36 | CC88: =IF($E88="","",IF(CC$6="","",CC$6)) -> 34 | CE88: =IF($E88="","",IF(CE$6="","",CE$6)) -> 24 | CG88: =IF($E88="","",IF(CG$6="","",CG$6)) -> 28 | CI88: =IF($E88="","",IF(CI$6="","",CI$6)) -> 24 | CK88: =IF($E88="","",IF(CK$6="","",CK$6)) -> 24 | CM88: =IF($E88="","",IF(CM$6="","",CM$6)) -> 22 | CP88: =IF(BS88="","",SUM(BQ88,BS88)) -> 44 | CQ88: =IF(BT88="","",SUM(BR88,BT88)) | CR88: =IF(BU88="","",SUM(CP88,BU88)) -> 88 | CS88: =IF(BV88="","",SUM(CQ88,BV88)) | CT88: =IF(BW88="","",SUM(CR88,BW88)) -> 130 | CU88: =IF(BX88="","",SUM(CS88,BX88)) | CV88: =IF(BY88="","",SUM(CT88,BY88)) -> 170 | CW88: =IF(BZ88="","",SUM(CU88,BZ88)) | CX88: =IF(CA88="","",SUM(CV88,CA88)) -> 206 | CY88: =IF(CB88="","",SUM(CW88,CB88)) | ... DI88: =IF(CL88="","",SUM(DG88,CL88)) | DJ88: =IF(E88="","",SUM(BQ88,BS88,BU88,BW88,BY88,CA88,CC88,CE88,CG88,CI88,CK88,CM88)) -> 362 | DK88: =IF(E88="","",SUM(BR88,BT88,BV88,BX88,BZ88,CB88,CD88,CF88,CH88,CJ88,CL88,CN88)) -> 0 | ER88: 18 | ES88: =ROUNDUP(ER88/ER$6*ES$6,0) -> 36
E89: 11181 | G89: A 081 | H89: B 081 | I89: C 081 | J89: 10 | K89: 10 | L89: 8 | M89: 2 | N89: 70 | O89: 100 | P89: 10 | Q89: 10 | R89: 8 | S89: 2 | T89: 70 | U89: 100 | V89: b | W89: 10 | X89: 10 | Y89: 9 | Z89: 1 | AA89: 30 | AB89: 20 | AC89: 70 | AD89: 30 | AE89: b | AF89: 10 | AG89: 10 | AH89: 9 | AI89: 1 | AJ89: 50 | AK89: 20 | AL89: 70 | AM89: 30 | AN89: b | AO89: 10 | AP89: 10 | AQ89: 9 | AR89: 1 | AS89: 70 | AU89: 18 | AW89: a | AX89: 10 | AY89: 10 | AZ89: 10 | BB89: 50 | BC89: 20 | BD89: 70 | BE89: 30 | BF89: 10 | BG89: 10 | BH89: 10 | BI89: 70 | BJ89: 100 | BK89: 30 | BL89: 30 | BM89: 40 | BQ89: =IF($E89="","",IF(BQ$6="","",BQ$6)) | BS89: =IF($E89="","",IF(BS$6="","",BS$6)) -> 44 | BU89: =IF($E89="","",IF(BU$6="","",BU$6)) -> 44 | BW89: =IF($E89="","",IF(BW$6="","",BW$6)) -> 42 | BY89: =IF($E89="","",IF(BY$6="","",BY$6)) -> 40 | CA89: =IF($E89="","",IF(CA$6="","",CA$6)) -> 36 | CC89: =IF($E89="","",IF(CC$6="","",CC$6)) -> 34 | CE89: =IF($E89="","",IF(CE$6="","",CE$6)) -> 24 | CG89: =IF($E89="","",IF(CG$6="","",CG$6)) -> 28 | CI89: =IF($E89="","",IF(CI$6="","",CI$6)) -> 24 | CK89: =IF($E89="","",IF(CK$6="","",CK$6)) -> 24 | CM89: =IF($E89="","",IF(CM$6="","",CM$6)) -> 22 | CP89: =IF(BS89="","",SUM(BQ89,BS89)) -> 44 | CQ89: =IF(BT89="","",SUM(BR89,BT89)) | CR89: =IF(BU89="","",SUM(CP89,BU89)) -> 88 | CS89: =IF(BV89="","",SUM(CQ89,BV89)) | CT89: =IF(BW89="","",SUM(CR89,BW89)) -> 130 | CU89: =IF(BX89="","",SUM(CS89,BX89)) | CV89: =IF(BY89="","",SUM(CT89,BY89)) -> 170 | CW89: =IF(BZ89="","",SUM(CU89,BZ89)) | CX89: =IF(CA89="","",SUM(CV89,CA89)) -> 206 | CY89: =IF(CB89="","",SUM(CW89,CB89)) | ... DI89: =IF(CL89="","",SUM(DG89,CL89)) | DJ89: =IF(E89="","",SUM(BQ89,BS89,BU89,BW89,BY89,CA89,CC89,CE89,CG89,CI89,CK89,CM89)) -> 362 | DK89: =IF(E89="","",SUM(BR89,BT89,BV89,BX89,BZ89,CB89,CD89,CF89,CH89,CJ89,CL89,CN89)) -> 0 | ER89: 17 | ES89: =ROUNDUP(ER89/ER$6*ES$6,0) -> 34
... E106: 11198 | G106: A 098 | H106: B 098 | I106: C 098 | J106: 10 | K106: 10 | L106: 8 | M106: 2 | N106: 70 | O106: 100 | P106: 10 | Q106: 10 | R106: 8 | S106: 2 | T106: 70 | U106: 100 | V106: b | W106: 10 | X106: 10 | Y106: 9 | Z106: 1 | AA106: 30 | AB106: 20 | AC106: 70 | AD106: 30 | AE106: b | AF106: 10 | AG106: 10 | AH106: 9 | AI106: 1 | AJ106: 50 | AK106: 20 | AL106: 70 | AM106: 30 | AN106: b | AO106: 10 | AP106: 10 | AQ106: 9 | AR106: 1 | AS106: 70 | AU106: 18 | AW106: a | AX106: 10 | AY106: 10 | AZ106: 10 | BB106: 50 | BC106: 20 | BD106: 70 | BE106: 30 | BF106: 10 | BG106: 10 | BH106: 10 | BI106: 70 | BJ106: 100 | BK106: 30 | BL106: 30 | BM106: 40 | BQ106: =IF($E106="","",IF(BQ$6="","",BQ$6)) | BS106: =IF($E106="","",IF(BS$6="","",BS$6)) -> 44 | BU106: =IF($E106="","",IF(BU$6="","",BU$6)) -> 44 | BW106: =IF($E106="","",IF(BW$6="","",BW$6)) -> 42 | BY106: =IF($E106="","",IF(BY$6="","",BY$6)) -> 40 | CA106: =IF($E106="","",IF(CA$6="","",CA$6)) -> 36 | CC106: =IF($E106="","",IF(CC$6="","",CC$6)) -> 34 | CE106: =IF($E106="","",IF(CE$6="","",CE$6)) -> 24 | CG106: =IF($E106="","",IF(CG$6="","",CG$6)) -> 28 | CI106: =IF($E106="","",IF(CI$6="","",CI$6)) -> 24 | CK106: =IF($E106="","",IF(CK$6="","",CK$6)) -> 24 | CM106: =IF($E106="","",IF(CM$6="","",CM$6)) -> 22 | CP106: =IF(BS106="","",SUM(BQ106,BS106)) -> 44 | CQ106: =IF(BT106="","",SUM(BR106,BT106)) | CR106: =IF(BU106="","",SUM(CP106,BU106)) -> 88 | CS106: =IF(BV106="","",SUM(CQ106,BV106)) | CT106: =IF(BW106="","",SUM(CR106,BW106)) -> 130 | CU106: =IF(BX106="","",SUM(CS106,BX106)) | CV106: =IF(BY106="","",SUM(CT106,BY106)) -> 170 | CW106: =IF(BZ106="","",SUM(CU106,BZ106)) | CX106: =IF(CA106="","",SUM(CV106,CA106)) -> 206 | CY106: =IF(CB106="","",SUM(CW106,CB106)) | ... DI106: =IF(CL106="","",SUM(DG106,CL106)) | DJ106: =IF(E106="","",SUM(BQ106,BS106,BU106,BW106,BY106,CA106,CC106,CE106,CG106,CI106,CK106,CM106)) -> 362 | DK106: =IF(E106="","",SUM(BR106,BT106,BV106,BX106,BZ106,CB106,CD106,CF106,CH106,CJ106,CL106,CN106)) -> 0 | ER106: 0 | ES106: =ROUNDUP(ER106/ER$6*ES$6,0) -> 0
E107: 11199 | G107: A 099 | H107: B 099 | I107: C 099 | J107: 10 | K107: 10 | L107: 8 | M107: 2 | N107: 70 | O107: 100 | P107: 10 | Q107: 10 | R107: 8 | S107: 2 | T107: 70 | U107: 100 | V107: b | W107: 10 | X107: 10 | Y107: 9 | Z107: 1 | AA107: 30 | AB107: 20 | AC107: 70 | AD107: 30 | AE107: b | AF107: 10 | AG107: 10 | AH107: 9 | AI107: 1 | AJ107: 50 | AK107: 20 | AL107: 70 | AM107: 30 | AN107: b | AO107: 10 | AP107: 10 | AQ107: 9 | AR107: 1 | AS107: 70 | AU107: 18 | AW107: a | AX107: 10 | AY107: 10 | AZ107: 10 | BB107: 50 | BC107: 20 | BD107: 70 | BE107: 30 | BF107: 10 | BG107: 10 | BH107: 10 | BI107: 70 | BJ107: 100 | BK107: 30 | BL107: 30 | BM107: 40 | BQ107: =IF($E107="","",IF(BQ$6="","",BQ$6)) | BS107: =IF($E107="","",IF(BS$6="","",BS$6)) -> 44 | BU107: =IF($E107="","",IF(BU$6="","",BU$6)) -> 44 | BW107: =IF($E107="","",IF(BW$6="","",BW$6)) -> 42 | BY107: =IF($E107="","",IF(BY$6="","",BY$6)) -> 40 | CA107: =IF($E107="","",IF(CA$6="","",CA$6)) -> 36 | CC107: =IF($E107="","",IF(CC$6="","",CC$6)) -> 34 | CE107: =IF($E107="","",IF(CE$6="","",CE$6)) -> 24 | CG107: =IF($E107="","",IF(CG$6="","",CG$6)) -> 28 | CI107: =IF($E107="","",IF(CI$6="","",CI$6)) -> 24 | CK107: =IF($E107="","",IF(CK$6="","",CK$6)) -> 24 | CM107: =IF($E107="","",IF(CM$6="","",CM$6)) -> 22 | CP107: =IF(BS107="","",SUM(BQ107,BS107)) -> 44 | CQ107: =IF(BT107="","",SUM(BR107,BT107)) | CR107: =IF(BU107="","",SUM(CP107,BU107)) -> 88 | CS107: =IF(BV107="","",SUM(CQ107,BV107)) | CT107: =IF(BW107="","",SUM(CR107,BW107)) -> 130 | CU107: =IF(BX107="","",SUM(CS107,BX107)) | CV107: =IF(BY107="","",SUM(CT107,BY107)) -> 170 | CW107: =IF(BZ107="","",SUM(CU107,BZ107)) | CX107: =IF(CA107="","",SUM(CV107,CA107)) -> 206 | CY107: =IF(CB107="","",SUM(CW107,CB107)) | ... DI107: =IF(CL107="","",SUM(DG107,CL107)) | DJ107: =IF(E107="","",SUM(BQ107,BS107,BU107,BW107,BY107,CA107,CC107,CE107,CG107,CI107,CK107,CM107)) -> 362 | DK107: =IF(E107="","",SUM(BR107,BT107,BV107,BX107,BZ107,CB107,CD107,CF107,CH107,CJ107,CL107,CN107)) -> 0
E108: 11200 | G108: A 100 | H108: B 100 | I108: C 100 | J108: 10 | K108: 10 | L108: 8 | M108: 2 | N108: 70 | O108: 100 | P108: 10 | Q108: 10 | R108: 8 | S108: 2 | T108: 70 | U108: 100 | V108: b | W108: 10 | X108: 10 | Y108: 9 | Z108: 1 | AA108: 30 | AB108: 20 | AC108: 70 | AD108: 30 | AE108: b | AF108: 10 | AG108: 10 | AH108: 9 | AI108: 1 | AJ108: 50 | AK108: 20 | AL108: 70 | AM108: 30 | AN108: b | AO108: 10 | AP108: 10 | AQ108: 9 | AR108: 1 | AS108: 70 | AU108: 18 | AW108: a | AX108: 10 | AY108: 10 | AZ108: 10 | BB108: 50 | BC108: 20 | BD108: 70 | BE108: 30 | BF108: 10 | BG108: 10 | BH108: 10 | BI108: 70 | BJ108: 100 | BK108: 30 | BL108: 30 | BM108: 40 | BQ108: =IF($E108="","",IF(BQ$6="","",BQ$6)) | BS108: =IF($E108="","",IF(BS$6="","",BS$6)) -> 44 | BU108: =IF($E108="","",IF(BU$6="","",BU$6)) -> 44 | BW108: =IF($E108="","",IF(BW$6="","",BW$6)) -> 42 | BY108: =IF($E108="","",IF(BY$6="","",BY$6)) -> 40 | CA108: =IF($E108="","",IF(CA$6="","",CA$6)) -> 36 | CC108: =IF($E108="","",IF(CC$6="","",CC$6)) -> 34 | CE108: =IF($E108="","",IF(CE$6="","",CE$6)) -> 24 | CG108: =IF($E108="","",IF(CG$6="","",CG$6)) -> 28 | CI108: =IF($E108="","",IF(CI$6="","",CI$6)) -> 24 | CK108: =IF($E108="","",IF(CK$6="","",CK$6)) -> 24 | CM108: =IF($E108="","",IF(CM$6="","",CM$6)) -> 22 | CP108: =IF(BS108="","",SUM(BQ108,BS108)) -> 44 | CQ108: =IF(BT108="","",SUM(BR108,BT108)) | CR108: =IF(BU108="","",SUM(CP108,BU108)) -> 88 | CS108: =IF(BV108="","",SUM(CQ108,BV108)) | CT108: =IF(BW108="","",SUM(CR108,BW108)) -> 130 | CU108: =IF(BX108="","",SUM(CS108,BX108)) | CV108: =IF(BY108="","",SUM(CT108,BY108)) -> 170 | CW108: =IF(BZ108="","",SUM(CU108,BZ108)) | CX108: =IF(CA108="","",SUM(CV108,CA108)) -> 206 | CY108: =IF(CB108="","",SUM(CW108,CB108)) | ... DI108: =IF(CL108="","",SUM(DG108,CL108)) | DJ108: =IF(E108="","",SUM(BQ108,BS108,BU108,BW108,BY108,CA108,CC108,CE108,CG108,CI108,CK108,CM108)) -> 362 | DK108: =IF(E108="","",SUM(BR108,BT108,BV108,BX108,BZ108,CB108,CD108,CF108,CH108,CJ108,CL108,CN108)) -> 0
BO109: total attendance for the month | BQ109: =SUM(BQ9:BQ108) -> 0 | BR109: =SUM(BR9:BR108) -> 0 | BS109: =SUM(BS9:BS108) -> 4400 | BT109: =SUM(BT9:BT108) -> 40 | BU109: =SUM(BU9:BU108) -> 4400 | BV109: =SUM(BV9:BV108) -> 40 | BW109: =SUM(BW9:BW108) -> 4200 | BX109: =SUM(BX9:BX108) -> 40 | ... CN109: =SUM(CN9:CN108) -> 40 | CP109: =SUM(BQ109,BS109) -> 4400 | CQ109: =SUM(BR109,BT109) -> 40 | CR109: =SUM(CP109,BU109) -> 8800 | CS109: =SUM(CQ109,BV109) -> 80 | CT109: =SUM(CR109,BW109) -> 13000 | CU109: =SUM(CS109,BX109) -> 120 | CV109: =SUM(CT109,BY109) -> 17000 | CW109: =SUM(CU109,BZ109) -> 160 | CX109: =SUM(CV109,CA109) -> 20600 | CY109: =SUM(CW109,CB109) -> 200 | ... DI109: =SUM(DG109,CL109) -> 400 | DJ109: =SUM(DJ9:DJ108) -> 36200 | DK109: =SUM(DK9:DK108) -> 440
BO110: daily average attendance | BR110: =IF(BQ109=0,"",BR109/BQ6) | BT110: =IF(BS109=0,"",BT109/BS6) -> 0.90909091 | BV110: =IF(BU109=0,"",BV109/BU6) -> 0.90909091 | BX110: =IF(BW109=0,"",BX109/BW6) -> 0.95238095 | BZ110: =IF(BY109=0,"",BZ109/BY6) -> 1 | CB110: =IF(CA109=0,"",CB109/CA6) -> 1.1111111 | CD110: =IF(CC109=0,"",CD109/CC6) -> 1.1764706 | CF110: =IF(CE109=0,"",CF109/CE6) -> 1.6666667 | CH110: =IF(CG109=0,"",CH109/CG6) -> 1.4285714 | CJ110: =IF(CI109=0,"",CJ109/CI6) -> 1.6666667 | CL110: =IF(CK109=0,"",CL109/CK6) -> 1.6666667 | CN110: =IF(CM109=0,"",CN109/CM6) -> 1.8181818

Sheet statement of marks
A1: =details!A1 -> Govt. Hr. Sec. School, | X1: RESULT SHEET | AL1: =details!V1 -> OPTIONAL SUBJECT 1 | BP1: =details!AE1 -> OPTIONAL SUBJECT 2 | CT1: =details!AN1 -> OPTIONAL SUBJECT 3 | DY1: =details!AW1 -> ADDITIONAL OPTIONAL SUBJECT | GK1: ATTENDANCE | GV1: SUBJECT-W-SE RESULT | IL1: REMARKS | IP1: RESULT | JE1: =A1 -> Govt. Hr. Sec. School,
A3: =details!G6 -> 11 'A' | F3: =details!H6 -> 2024-25 | I3: GO TO LAST ROW | J3: =IF(details!J2="","",details!J2) -> HINDI COMPULSORY | X3: =IF(details!P2="","",details!P2) -> ENGLISH COMPULSORY | AM3: =IF(details!V2="","",details!V2) -> HOME SCIENCE | AO3: =IF(details!W2="","",details!W2) -> PHYSICS | AQ3: =IF(details!X2="","",details!X2) | AT3: =IF(details!Y2="","",details!Y2) | AV3: =IF(details!AA2="","",details!AA2) | AX3: =IF(details!AB2="","",details!AB2) | AZ3: =IF(details!AC2="","",details!AC2) -> DRAWING | BB3: =IF(details!AD2="","",details!AD2) -> MUSIC INSTR. FLUTE | BD3: EXEMPTION | BF3: ANNUAL | BI3: TOTAL | BM3: RESULT | BQ3: =IF(details!AE2="","",details!AE2) -> GEOGRAPHY | BS3: =IF(details!AF2="","",details!AF2) -> CHEMISTRY | BU3: =IF(details!AG2="","",details!AG2) | BX3: =IF(details!AH2="","",details!AH2) | BZ3: =IF(details!AJ2="","",details!AJ2) | CB3: =IF(details!AK2="","",details!AK2) | CD3: =IF(details!AL2="","",details!AL2) -> DRAWING | CF3: =IF(details!AM2="","",details!AM2) -> MUSIC INSTR. FLUTE | CH3: EXEMPTION | CJ3: ANNUAL | CM3: TOTAL | CQ3: RESULT | CU3: =IF(details!AN2="","",details!AN2) -> HOME SCIENCE | CW3: =IF(details!AO2="","",details!AO2) -> MATHEMATICS | CY3: =IF(details!AP2="","",details!AP2) | DB3: =IF(details!AQ2="","",details!AQ2) | DD3: =IF(details!AS2="","",details!AS2) | DF3: =IF(details!AT2="","",details!AT2) | DH3: =IF(details!AU2="","",details!AU2) -> TYPING | DJ3: =IF(details!AV2="","",details!AV2) -> SHORT HAND | DL3: EXEMPTION | DN3: ANNUAL | DQ3: TOTAL | DU3: RESULT | DZ3: =IF(details!AW2="","",details!AW2) -> BIOLOGY | EB3: =IF(details!AX2="","",details!AX2) -> MATHEMATICS | ED3: =IF(details!AY2="","",details!AY2) -> AGRICULTURE | EG3: =IF(details!AZ2="","",details!AZ2) -> GEO SCIENCE | EI3: =IF(details!BB2="","",details!BB2) -> MULTIMEDIA WEB TECH | EK3: =IF(details!BC2="","",details!BC2) -> BIOLOGY | EM3: =IF(details!BD2="","",details!BD2) -> DRAWING | EO3: =IF(details!BE2="","",details!BE2) -> MUSIC INSTR. FLUTE | EQ3: EXEMPTION | ES3: ANNUAL | EV3: TOTAL | EZ3: RESULT | FC3: =IF(details!BF2="","",details!BF2) -> Azadi ke Baad ka Swarnim Bharat | FP3: =IF(details!BK2="","",details!BK2) -> JEEVAN KAUShAL | FY3: SUBJECT-WISE RESULT | GD3: SUBJECTS OF FAILURE | GE3: SUBJECTS FOR SUPPL. | GF3: GRACE IN 1 SUBJECT | GG3: GRACE IN 2 SUBJECTS | GH3: SUBJECTS FOR RE-EXAM | GI3: ADDITIONAL SUBJECTS | GK3: MTNG | GL3: ST ATT | GM3: MTNG | GN3: ST ATT | GO3: MTNG | GP3: ST ATT | GQ3: MTNG | GR3: ST ATT | GS3: MTNG | GT3: ST ATT | GU3: % | IL3: BACK TO DETAILS | IP3: MAIN EXAM. RESULT | IV3: FINAL RESULT | JE3: SUBJECT-WISE RESULT OF THE CLASS | JF3: =A3 -> 11 'A' | JH3: =F3 -> 2024-25
A4: =details!A2 -> S.NO. | B4: =details!B2 -> CATEGORY | C4: =details!C2 -> GENDER | D4: =details!D2 -> S.R. NO. | E4: =details!E2 -> RO. NO. | F4: =details!F2 -> DATE OF BIRTH | G4: =details!G5 -> NAME OF THE STUDENT | H4: =details!H5 -> FATIEHR'S NAME | I4: =details!I5 -> MOTHER'S NAME | J4: =details!J4 -> UNIT TEST | N4: =IF(details!M4="","",details!M4) -> VRIKSHAROPAN | O4: =details!N4 -> HALF YEARLY EXAM. | P4: TOTAL OF TESTS+ HYE | Q4: =details!O4 -> ANNUAL EXAM. | R4: SUBJECT TOTAL | S4: EXEMPTION | T4: SUBJECT TOTAL | U4: 2T+E OR 2E+T | V4: RES. IN SUB. | W4: DIV. IN SUB. | X4: =details!P4 -> UNIT TEST | AB4: =IF(details!S4="","",details!S4) -> VRUKSHAROPAN | AC4: =details!T4 -> HALF YEARLY EXAM. | AD4: TOTAL OF TESTS+ HYE | AE4: =details!U4 -> ANNUAL EXAM. | AF4: SUBJECT TOTAL | AG4: EXEMPTION | AH4: SUBJECT TOTAL | AI4: 2T+E OR 2E+T | AJ4: RES. IN SUB. | AK4: DIV. IN SUB. | AL4: =details!V4 -> SUBJECT CODE | AM4: SUBJECT | AN4: =details!W4 -> UNIT TEST | AR4: =IF(details!Z4="","",details!Z4) -> VRUKSHAROPAN | AS4: =details!AA4 -> HALF YEARLY EXAM. | AV4: TOTAL THEORY TESTS + HYE | AW4: TOTAL OF TESTS+ HYE | AX4: =details!AC4 -> ANNUAL EXAM. | BA4: SUBJECT TOTAL THEORY | BB4: SUBJECT TOTAL PRACT. | BC4: SUBJECT TOTAL | BD4: EXMEPTION IN TH. | BE4: EXMEPTION IN PR. | BF4: SUB. ANN. THEOROY | BG4: SUB. ANN. PRACT. | BH4: SUB. HALF YRL. PRACT. | BI4: SUBJECT TOTAL THEORY | BJ4: SUBJECT TOTAL PRACTICAL | BK4: SUBJECT TOTAL | BL4: 2T+E OR 2E+T | BM4: RESULT IN THEORY | BN4: RESULT IN PRACTICAL | BO4: DIV. IN SUB. | BP4: =details!AE4 -> SUBJECT CODE | BQ4: SUBJECT | BR4: =details!AF4 -> UNIT TEST | BV4: =IF(details!AI4="","",details!AI4) -> VRUKSHAROPAN | BW4: =details!AJ4 -> HALF YEARLY EXAM. | BZ4: TOTAL THEORY TESTS + HYE | CA4: TOTAL OF TESTS+ HYE | CB4: =details!AL4 -> ANNUAL EXAM. | CE4: SUBJECT TOTAL THEORY | CF4: SUBJECT TOTAL PRACT. | CG4: SUBJECT TOTAL | CH4: EXMEPTION IN TH. | CI4: EXMEPTION IN PR. | CJ4: SUB. ANN. THEOROY | CK4: SUB. ANN. PRACT. | CL4: SUB. HALF YRL. PRACT. | CM4: SUBJECT TOTAL THEORY | CN4: SUBJECT TOTAL PRACTICAL | CO4: SUBJECT TOTAL | CP4: 2T+E OR 2E+T | CQ4: RESULT IN THEORY | CR4: RESULT IN PRACTICAL | CS4: DIV. IN SUB. | CT4: =details!AN4 -> SUBJECT CODE | CU4: SUBJECT | CV4: =details!AO4 -> UNIT TEST | CZ4: =IF(details!AR4="","",details!AR4) -> VRUKSHAROPAN | DA4: =details!AS4 -> HALF YEARLY EXAM. | DD4: TOTAL THEORY TESTS + HYE | DE4: TOTAL OF TESTS+ HYE | DF4: =details!AU4 -> ANNUAL EXAM. | DI4: SUBJECT TOTAL THEORY | DJ4: SUBJECT TOTAL PRACT. | DK4: SUBJECT TOTAL | DL4: EXMEPTION IN TH. | DM4: EXMEPTION IN PR. | DN4: SUB. ANN. THEOROY | DO4: SUB. ANN. PRACT. | DP4: SUB. HALF YRL. PRACT. | DQ4: SUBJECT TOTAL THEORY | DR4: SUBJECT TOTAL PRACTICAL | DS4: SUBJECT TOTAL | DT4: 2T+E OR 2E+T | DU4: RESULT IN THEORY | DV4: RESULT IN PRACTICAL | DW4: DIV. IN SUB. | DX4: TOTAL EXEMPTION | DY4: =details!AW4 -> SUBJECT CODE | DZ4: SUBJECT | EA4: =details!AX4 -> UNIT TEST | EE4: =IF(details!BA4="","",details!BA4) -> VRUKSHAROPAN | EF4: =details!BB4 -> HALF YEARLY EXAM. | EI4: TOTAL THEORY TESTS + HYE | EJ4: TOTAL OF TESTS+ HYE | EK4: =details!BD4 -> ANNUAL EXAM. | EN4: SUBJECT TOTAL THEORY | EO4: SUBJECT TOTAL PRACT. | EP4: SUBJECT TOTAL | EQ4: EXMEPTION IN TH. | ER4: EXMEPTION IN PR. | ES4: SUB. ANN. THEOROY | ET4: SUB. ANN. PRACT. | EU4: SUB. HALF YRL. PRACT. | EV4: SUBJECT TOTAL THEORY | EW4: SUBJECT TOTAL PRACTICAL | EX4: SUBJECT TOTAL | EZ4: RESULT IN THEORY | FA4: RESULT IN PRACTICAL | FB4: DIV. IN SUB. | FC4: =details!BF4 -> UNIT TEST | FG4: =details!BI4 -> HALF YEARLY EXAM. | FH4: TOTAL OF TESTS+ HYE | FI4: =details!BJ4 -> ANNUAL EXAM. | FJ4: SUBJECT TOTAL | FK4: EXEMPTION | FL4: EXEMPTION | FM4: fo"k; iw.kkZad | FN4: 2T+E OR 2E+T | FO4: fo"k; xszM | FP4: =details!BK4 -> CONT. ASSMNT. | FQ4: =details!BL4 -> CONT. ASSMNT. | FR4: =details!BM4 -> ANNUAL EXAM. | FS4: SUBJECT TOTAL | FT4: EXEMPTION | FU4: EXEMPTION | FV4: SUBJECT TOTAL THEORY | FW4: 2T+E OR 2E+T | FX4: SUBJECT GRADE | GJ4: PASS/ PASS BY GRACE/ FAIL/ SUPPL./ FAIL | GV4: =J3 -> HINDI COMPULSORY | GY4: =X3 -> ENGLISH COMPULSORY | HB4: =AL1 -> OPTIONAL SUBJECT 1 | HC4: =AL1 -> OPTIONAL SUBJECT 1 | HM4: =BP1 -> OPTIONAL SUBJECT 2 | HN4: =BP1 -> OPTIONAL SUBJECT 2 | HX4: =CT1 -> OPTIONAL SUBJECT 3 | HY4: =CT1 -> OPTIONAL SUBJECT 3 | IL4: CLICK HERE TO VIEW THE SUPPLEMENTRY RESULT | IN4: CLICK HERE TO VIEW THE FINAL REPORT | IP4: PASS/ PASS BY GRACE/ SUPPL./ FAIL | IQ4: GRAND TOTAL OBTAINED | IR4: PERCENTAGE | IS4: DIVISION | IV4: PASS/ PASS BY GRACE/ FAIL | IW4: %AGE AFTER SUPPL. | IX4: FINAL %AGE OF MARKS OBTAINED | IY4: DIVISION | IZ4: REMARKS
J5: =details!J5 -> FIRST | K5: =details!K5 -> SECOND | L5: =details!L5 -> THIRD | M5: TOTAL | X5: =details!P5 -> FIRST | Y5: =details!Q5 -> SECOND | Z5: =details!R5 -> THIRD | AA5: TOTAL | AN5: =details!W5 -> FIRST | AO5: =details!X5 -> SECOND | AP5: =details!Y5 -> THIRD | AQ5: TOTAL | AS5: =details!AA5 -> THEORY | AT5: =details!AB5 -> PRACTICAL | AU5: TOTAL | AX5: =details!AC5 -> THEORY | AY5: =details!AD5 -> PRACTICAL | AZ5: TOTAL | BR5: =details!AF5 -> FIRST | BS5: =details!AG5 -> SECOND | BT5: =details!AH5 -> THIRD | BU5: TOTAL | BW5: =details!AJ5 -> THEORY | BX5: =details!AK5 -> PRACTICAL | BY5: TOTAL | CB5: =details!AL5 -> THEORY | CC5: =details!AM5 -> PRACTICAL | CD5: TOTAL | CV5: =details!AO5 -> FIRST | CW5: =details!AP5 -> SECOND | CX5: =details!AQ5 -> THIRD | CY5: TOTAL | DA5: =details!AS5 -> THEORY | DB5: =details!AT5 -> PRACTICAL | DC5: TOTAL | DF5: =details!AU5 -> THEORY | DG5: =details!AV5 -> PRACTICAL | DH5: TOTAL | EA5: =details!AX5 -> FIRST | EB5: =details!AY5 -> SECOND | EC5: =details!AZ5 -> THIRD | ED5: TOTAL | EF5: =details!BB5 -> THEORY | EG5: =details!BC5 -> PRACTICAL | EH5: TOTAL | EK5: =details!BD5 -> THEORY | EL5: =details!BE5 -> PRACTICAL | EM5: TOTAL | FC5: =details!BF5 -> FIRST | FD5: =details!BG5 -> SECOND | FE5: =details!BH5 -> THIRD | FF5: TOTAL | GK5: =details!CT3 -> TOTAL UPTO AUGUST | GM5: =details!CX3 -> TOTAL UPTO OCTOBER | GO5: =details!DB3 -> TOTAL UPTO DECEMBER | GQ5: =details!DF3 -> TOTAL UPTO FEBRUARY | GS5: =details!DJ3 -> TOTAL FOR THE SESSION | GU5: ATTENDACNE %AGE | GV5: =GV4 -> HINDI COMPULSORY | GX5: GRACE MARKS | GY5: =GY4 -> ENGLISH COMPULSORY | HA5: GRACE MARKS | HC5: =AM3 -> HOME SCIENCE | HD5: =AO3 -> PHYSICS | HE5: =AQ3 | HF5: =AT3 | HG5: =AV3 | HH5: =AX3 | HI5: =AZ3 -> DRAWING | HJ5: =BB3 -> MUSIC INSTR. FLUTE | HL5: GRACE MARKS | HN5: =BQ3 -> GEOGRAPHY | HO5: =BS3 -> CHEMISTRY | HP5: =BU3 | HQ5: =BX3 | HR5: =BZ3 | HS5: =CB3 | HT5: =CD3 -> DRAWING | HU5: =CF3 -> MUSIC INSTR. FLUTE | HW5: GRACE MARKS | HY5: =CU3 -> HOME SCIENCE | HZ5: =CW3 -> MATHEMATICS | IA5: =CY3 | IB5: =DB3 | IC5: =DD3 | ID5: =DF3 | IE5: =DH3 -> TYPING | IF5: =DJ3 -> SHORT HAND | IH5: GRACE MARKS | II5: =FC3 -> Azadi ke Baad ka Swarnim Bharat | IJ5: =FP3 -> JEEVAN KAUShAL | IK5: SUBJECTS IN WHICH FAILED | IL5: SUBJECTS FOR SUPPL. EXAM. | IM5: SUBJECT OF GRACE MARKS | IN5: SUBJECTS FOR RE-EXAM. | IO5: SUBJECTS OF DISTINCTION | IU5: RANK | JE5: SUBJECT  | JF5: =J110 -> HINDI COMPULSORY | JG5: =X110 -> ENGLISH COMPULSORY | JH5: =AM110 -> HOME SCIENCE | JI5: =AO110 -> PHYSICS | JJ5: =AQ110 | JK5: =AT110 | JL5: =AV110 | JM5: =AX110 | JN5: =AZ110 -> DRAWING | JO5: =BB110 -> MUSIC INSTR. FLUTE | JP5: =BQ110 -> GEOGRAPHY | JQ5: =BS110 -> CHEMISTRY | JR5: =BU110 | JS5: =BX110 | JT5: =BZ110 | JU5: =CB110 | JV5: =CD110 -> DRAWING | JW5: =CF110 -> MUSIC INSTR. FLUTE | JX5: =CU110 -> HOME SCIENCE | JY5: =CW110 -> MATHEMATICS | JZ5: =CY110 | KA5: =DB110 | KB5: =DD110 | KC5: =DF110 | KD5: =DH110 -> TYPING | KE5: =DJ110 -> SHORT HAND | KF5: GRADE | KG5: =FC110 -> Azadi ke Baad ka Swarnim Bharat | KH5: =FP110 -> JEEVAN KAUShAL
