Workbook
Name _A100000: details!#REF!
Name _A100000: details!#REF!
Name _A200000: details!#REF!
Name _A200000: details!#REF!
Name _A200400: details!#REF!
Name _A200400: details!#REF!
Name _A200550: details!#REF!
Name _A200550: details!#REF!
Name _A210000: details!#REF!
Name _A210000: details!#REF!
Name _A280000: details!#REF!
Name _A280000: details!#REF!
Name _A300000: details!#REF!
Name _A300000: details!#REF!
Name CR: 'statement of marks'!#REF!
Name CR: 'statement of marks'!#REF!
Name IV: 'result aggregate'!#REF!
Name IV: #REF!

Sheet from the developer's desk
A1: This application has been designed for the Secondary and Higher Secondary schools of Rajasthan. All rights are reserved with the director of Secondary Education, Bikaner, Rajasthan.
A3: designed by D. Kavita Lecturer in English Govt. Girls' Hr. Sec. School, Nimbahera, Distt. Chittaurgarh, Rajasthan kavita.fadnavis@gmail.com
A7: In cooperation with
A8: Pushpendra Kumar Sharma Principal Govt. Hr. Sec. School, Veerpura Distt. Udaipur, Rajasthan | B8: Anil Kumar Somani Lecturer in Physics Govt. Hr. Sec. School, Nimbahera, Distt. Chittaurgarh, Rajasthan | C8: Arvind Kumar Sharma Sr.Teacher (Maths) Govt. Girls Sec. School Ramsar, Srinagar (Ajmer) Distt. Ajmer, Rajasthan
A12: Plz. Read all instructions given in this pages carefully before you proceed. For more help you can download the training videos from www.ctor.in
A14: This workbook can prepare results of 100 students of a class. According the the the departmental norms we can split the class into two sections as soon as the strength crosses 60 students, yet this workbooks supports result upto a strength of 100 students. Please limit your class strength not to exceed If there occur any errors in your result due to accidental deletion or feeding in wrong sheets, you can rectify all such errors by using a fresh workbook and just copying the 'details' of your old workbook into the new one. Password to enter details entries is 'shivira'. All sheets are protected. The password to unprotect sheets is 'dkf'. For any queries regarding the use of this application, drop a mail to kavita.fadnavis@gmail.com You may also contact the master trainers of your own district. D. Kavita
A21: Plz. Read the class promotion rules before you begin to work on this workbook. Use this workbook only if you find it as per rules. The cell pertaining to the result of a student of class 8th is deliberately left blank in case he/she sobtains grade 'e' in any of the subjects. Fill it using your own understanding of the rules.
A24: IN case of class 11 and 12, plz. note that you can put together theory and practical subjects in one place ( for example in the place of optional 1 or 2 or 3) but you can not put two practical subjects of different marking scheme together. It means you can put music, drawing and physical education together (30+70 scheme) scheme, physics, geography, homescience together (70+30 scheme), typing seperate and shorthand seperate. Plz. do not make any changes to row no. 6 in details sheet. Especially the cells containing the maximum marks in optional subjects.
A28: fjtYV odZcqd ds iz;ksx esa vkusokyh lkekU; leL;k,¡ o lek/kku
A29: CLICK HERE TO GO BACK TO DETAILS TO CONTINUE DATA ENTRY
A30: HOW TO MAKE ENTRIES?
A31: The current sheet, 'from the developer's desk' is only to read and undestand as to how to prepare result, do not try to unprotect it, you need not make any entries here.
A33: When you try to type in any cell for the first time, you are requested to enter the password. The password is 'shivira'
A35: Enter students' details and marks only in the sheet named 'details' and no where else.
A36: Enter the marks of after supplementary exam. in the sheet named 'Result Subject-wise'
A37: Print the report card from the sheet named 'Full Report'
... A105: vf/kd lg;ksx pkgus gsrq ohfM;ks ns[ksaA

Sheet details
A1: GOVT. HR. SEC. SCHOOL, _________________ | G1: SESSION | H1: 2024-25 | I1: SCHOOL DISE CODE | J1: 08291009401 | L1: HINDI | Y1: ENGLISH | AL1: SANSKRIT | AX1: MATHEMATICS | BK1: SCIENCE | BV1: SOCIAL STUDIES | CG1: WORK EXPERIENCE | CL1: ART EDUCATION | CQ1: PHYSICIAL EDUCATION | CV1: REMARKS | DA1: MONTHLY ATTENDANCE | EB1: TOTAL ATTENDANCE UPTO
J2: CSWN | K2: MR
A3: PANCHAYAT SAMITI AND DISTRICT | F3: NIMBAHERA | H3: CHITTAURGARH | I3: COUNTER SIGNATURE OF | J3: D.E.O. | K3: ELEMENTARY | L3: BHANWAR LAL THANNA | Y3: ASHOK KUMAR SHREEMALI | AL3: SAROJ PORWAL | AX3: BHAGGA LAL RAWAT | BK3: RADHE SHYAM DHAKER | BV3: SHREE RAM RAWAT | CG3: BHAGGA LAL RAWAT | CL3: BHAGGA LAL RAWAT | CQ3: SURAJ KUMAR MEENA | DA3: APRIL | DB3: APRIL | DC3: MAY+JUNE | DD3: MAY+JUNE | DE3: JULY | DF3: JULY | DG3: AUGUST | DH3: AUGUST | DI3: SEPTEMBER | DJ3: SEPTEMBER | DK3: OCTOBER | DL3: OCTOBER | DM3: NOVEMBER | DN3: NOVEMBER | DO3: DECEMBER | DP3: DECEMBER | DQ3: JANUARY | DR3: JANUARY | DS3: FEBRUARY | DT3: FEBRUARY | DU3: MARCH | DV3: MARCH | DW3: APRIL | DX3: APRIL | EB3: MAY | ED3: JULY | EF3: AUGUST | EH3: SEPTEMBER | EJ3: OCTOBER | EL3: NOVEMBER | EN3: DECEMBER | EP3: JANUARY | ER3: FEBURARY | ET3: MARCH | EV3: GRAND TOAL
A4: CLASS | B4: 6 | C4: SECTION | D4: A | E4: NAME OF THE PRINCIPAL | G4: D. KAVITA | H4: NAME OF THE CL. TEACHER | I4: Mr. BHAGGA LAL RAWAT | J4: DATE OF RESULT DECLARATION | K4: 45777 | L4: FIRST TEST | N4: SECOND TEST | P4: THIRD TEST | R4: VRUKSHAROPAN | S4: HALF YEARLY EXAM | V4: ANNUAL EXAM | Y4: FIRST TEST | AA4: SECOND TEST | AC4: THIRD TEST | AE4: VRUKSHAROPAN | AF4: HALF YEARLY EXAM | AI4: ANNUAL EXAM | AL4: SUBJECT CODE | AM4: FIRST TEST | AO4: SECOND TEST | AQ4: THIRD TEST | AS4: VRUKSHAROPAN | AT4: HALF YEARLY EXAM | AV4: ANNUAL EXAM | AX4: FIRST TEST | AZ4: SECOND TEST | BB4: THIRD TEST | BD4: VRUKSHAROPAN | BE4: HALF YEARLY EXAM | BH4: ANNUAL EXAM | BK4: FIRST TEST | BM4: SECOND TEST | BO4: THIRD TEST | BQ4: VRUKSHAROPAN | BR4: HALF YEARLY EXAM | BT4: ANNUAL EXAM | BV4: FIRST TEST | BX4: SECOND TEST | BZ4: THIRD TEST | CB4: VRUKSHAROPAN | CC4: HALF YEARLY EXAM | CE4: ANNUAL EXAM | CG4: FIRST EVALUATION | CH4: SECOND EVALUATION | CI4: THIRD EVALUATION | CJ4: FOURTH EVALUATION | CK4: FIFTH EVALUATION | CL4: FIRST EVALUATION | CM4: SECOND EVALUATION | CN4: THIRD EVALUATION | CO4: FOURTH EVALUATION | CP4: FIFTH EVALUATION | CQ4: FIRST EVALUATION | CR4: SECOND EVALUATION | CS4: THIRD EVALUATION | CT4: FOURTH EVALUATION | CU4: FIFTH EVALUATION
A5: S.NO. | B5: CATEGORY | C5: GENDER | D5: R. NO. LOCAL | E5: R. NO. BOARD | F5: S.R. NO. | G5: DATE OF BIRTH IN FIGURES | H5: DATE OF BIRTH IN WORDS | I5: NAME OF THE STUDENT | J5: FATHER'S NAME | K5: MOTHER'S NAME | L5: WRITTEN BY TEACHER | M5: ACTIVITY, ORAL, PROJECT, PRACTICAL BY TEACHER | N5: WRITTEN BY TEACHER | O5: ACTIVITY, ORAL, PROJECT, PRACTICAL BY TEACHER | P5: WRITTEN BY TEACHER | Q5: ACTIVITY, ORAL, PROJECT, PRACTICAL BY TEACHER | S5: WRITTEN BY TEACHER | T5: ACTIVITY, ORAL, PROJECT, PRACTICAL BY TEACHER | U5: Poorv Kaksha Dakshata Addharit Ankalan 1 | V5: WRITTEN BY TEACHER | W5: ACTIVITY, ORAL, PROJECT, PRACTICAL BY TEACHER | X5: Poorv Kaksha Dakshata Addharit Ankalan 2 | Y5: WRITTEN BY TEACHER | Z5: ACTIVITY, ORAL, PROJECT, PRACTICAL BY TEACHER | AA5: WRITTEN BY TEACHER | AB5: ACTIVITY, ORAL, PROJECT, PRACTICAL BY TEACHER | AC5: WRITTEN BY TEACHER | AD5: ACTIVITY, ORAL, PROJECT, PRACTICAL BY TEACHER | AF5: WRITTEN BY TEACHER | AG5: ACTIVITY, ORAL, PROJECT, PRACTICAL BY TEACHER | AH5: Poorv Kaksha Dakshata Addharit Ankalan 1 | AI5: WRITTEN BY TEACHER | AJ5: ACTIVITY, ORAL, PROJECT, PRACTICAL BY TEACHER | AK5: Poorv Kaksha Dakshata Addharit Ankalan 2 | AM5: WRITTEN BY TEACHER | AN5: ACTIVITY, ORAL, PROJECT, PRACTICAL BY TEACHER | AO5: WRITTEN BY TEACHER | AP5: ACTIVITY, ORAL, PROJECT, PRACTICAL BY TEACHER | AQ5: WRITTEN BY TEACHER | AR5: ACTIVITY, ORAL, PROJECT, PRACTICAL BY TEACHER | AT5: WRITTEN BY TEACHER | AU5: ACTIVITY, ORAL, PROJECT, PRACTICAL BY TEACHER | AV5: WRITTEN BY TEACHER | AW5: ACTIVITY, ORAL, PROJECT, PRACTICAL BY TEACHER | AX5: WRITTEN BY TEACHER | AY5: ACTIVITY, ORAL, PROJECT, PRACTICAL BY TEACHER | AZ5: WRITTEN BY TEACHER | BA5: ACTIVITY, ORAL, PROJECT, PRACTICAL BY TEACHER | BB5: WRITTEN BY TEACHER | BC5: ACTIVITY, ORAL, PROJECT, PRACTICAL BY TEACHER | BE5: WRITTEN BY TEACHER | BF5: ACTIVITY, ORAL, PROJECT, PRACTICAL BY TEACHER | BG5: Poorv Kaksha Dakshata Addharit Ankalan 1 | BH5: WRITTEN BY TEACHER | BI5: ACTIVITY, ORAL, PROJECT, PRACTICAL BY TEACHER | BJ5: Poorv Kaksha Dakshata Addharit Ankalan 2 | BK5: WRITTEN BY TEACHER | BL5: ACTIVITY, ORAL, PROJECT, PRACTICAL BY TEACHER | BM5: WRITTEN BY TEACHER | BN5: ACTIVITY, ORAL, PROJECT, PRACTICAL BY TEACHER | BO5: WRITTEN BY TEACHER | BP5: ACTIVITY, ORAL, PROJECT, PRACTICAL BY TEACHER | BR5: WRITTEN BY TEACHER | BS5: ACTIVITY, ORAL, PROJECT, PRACTICAL BY TEACHER | BT5: WRITTEN BY TEACHER | BU5: ACTIVITY, ORAL, PROJECT, PRACTICAL BY TEACHER | BV5: WRITTEN BY TEACHER | BW5: ACTIVITY, ORAL, PROJECT, PRACTICAL BY TEACHER | BX5: WRITTEN BY TEACHER | BY5: ACTIVITY, ORAL, PROJECT, PRACTICAL BY TEACHER | BZ5: WRITTEN BY TEACHER | CA5: ACTIVITY, ORAL, PROJECT, PRACTICAL BY TEACHER | CC5: WRITTEN BY TEACHER | CD5: ACTIVITY, ORAL, PROJECT, PRACTICAL BY TEACHER | CE5: WRITTEN BY TEACHER | CF5: ACTIVITY, ORAL, PROJECT, PRACTICAL BY TEACHER | DA5: MEETINGS | DB5: STUDENT ATTENDANCE | DC5: MEETINGS | DD5: STUDENT ATTENDANCE | DE5: MEETINGS | DF5: STUDENT ATTENDANCE | DG5: MEETINGS | DH5: STUDENT ATTENDANCE | DI5: MEETINGS | DJ5: STUDENT ATTENDANCE | DK5: MEETINGS | DL5: STUDENT ATTENDANCE | DM5: MEETINGS | DN5: STUDENT ATTENDANCE | DO5: MEETINGS | DP5: STUDENT ATTENDANCE | DQ5: MEETINGS | DR5: STUDENT ATTENDANCE | DS5: MEETINGS | DT5: STUDENT ATTENDANCE | DU5: MEETINGS | DV5: STUDENT ATTENDANCE | DW5: MEETINGS | DX5: STUDENT ATTENDANCE | EB5: MEETINGS | EC5: STUDENT ATTENDANCE | ED5: MEETINGS | EE5: STUDENT ATTENDANCE | EF5: MEETINGS | EG5: STUDENT ATTENDANCE | EH5: MEETINGS | EI5: STUDENT ATTENDANCE | EJ5: MEETINGS | EK5: STUDENT ATTENDANCE | EL5: MEETINGS | EM5: STUDENT ATTENDANCE | EN5: MEETINGS | EO5: STUDENT ATTENDANCE | EP5: MEETINGS | EQ5: STUDENT ATTENDANCE | ER5: MEETINGS | ES5: STUDENT ATTENDANCE | ET5: MEETINGS | EU5: STUDENT ATTENDANCE | EV5: MEETINGS | EW5: STUDENT ATTENDANCE
A6: CLICK HERE TO SELECT | B6: B.E.O. | C6: D.E.O. | F6: CLICK HERE TO SELECT | G6: ELEMENTARY | H6: SECONDARY | I6: CLICK HERE FOR HELP | L6: 5 | M6: 5 | N6: 5 | O6: 5 | P6: 5 | Q6: 4 | R6: 1 | S6: 40 | T6: 10 | U6: 20 | V6: 65 | W6: 15 | X6: 20 | Y6: 5 | Z6: 5 | AA6: 5 | AB6: 5 | AC6: 5 | AD6: 4 | AE6: 1 | AF6: 40 | AG6: 10 | AH6: 20 | AI6: 65 | AJ6: 15 | AK6: 20 | AL6: s | AM6: 5 | AN6: 5 | AO6: 5 | AP6: 5 | AQ6: 5 | AR6: 4 | AS6: 1 | AT6: 50 | AU6: 20 | AV6: 80 | AW6: 20 | AX6: 5 | AY6: 5 | AZ6: 5 | BA6: 5 | BB6: 5 | BC6: 4 | BD6: 1 | BE6: 40 | BF6: 10 | BG6: 20 | BH6: 65 | BI6: 15 | BJ6: 20 | BK6: 5 | BL6: 5 | BM6: 5 | BN6: 5 | BO6: 3 | BP6: 2 | BQ6: 5 | BR6: 50 | BS6: 20 | BT6: 80 | BU6: 20 | BV6: 5 | BW6: 5 | BX6: 5 | BY6: 5 | BZ6: 5 | CA6: 4 | CB6: 1 | CC6: 50 | CD6: 20 | CE6: 80 | CF6: 20 | CG6: 20 | CH6: 20 | CI6: 20 | CJ6: 20 | CK6: 20 | CL6: 20 | CM6: 20 | CN6: 20 | CO6: 20 | CP6: 20 | CQ6: 20 | CR6: 20 | CS6: 20 | CT6: 20 | CU6: 20 | CY6: monthly att. | DC6: 10 | DE6: 10 | DG6: 10 | DI6: 10 | DK6: 10 | DM6: 10 | DO6: 10 | DQ6: 10 | DS6: 10 | DU6: 10 | DW6: 10 | EB6: =IF(DC6="","",SUM(DA6,DC6)) -> 10 | EC6: =IF(DD6="","",SUM(DB6,DD6)) | ED6: =IF(DE6="","",SUM(EB6,DE6)) -> 20 | EE6: =IF(DF6="","",SUM(EC6,DF6)) | EF6: =IF(DG6="","",SUM(ED6,DG6)) -> 30 | EG6: =IF(DH6="","",SUM(EE6,DH6)) | EH6: =IF(DI6="","",SUM(EF6,DI6)) -> 40 | EI6: =IF(DJ6="","",SUM(EG6,DJ6)) | EJ6: =IF(DK6="","",SUM(EH6,DK6)) -> 50 | EK6: =IF(DL6="","",SUM(EI6,DL6)) | ... EW6: =IF(DX6="","",SUM(EU6,DX6))
A7: 1 | B7: SC | C7: B | D7: 801 | F7: 2491 | G7: 37466 | H7: =CW7 -> Twenty Nine July Two Thousand Two | I7: A1 | J7: B1 | K7: C1 | L7: 5 | M7: 5 | N7: 5 | O7: 5 | P7: 5 | Q7: 4 | R7: 1 | S7: 40 | T7: 10 | U7: 20 | V7: 65 | W7: 15 | X7: 20 | Y7: 5 | Z7: 5 | AA7: 5 | AB7: 5 | AC7: 5 | AD7: 4 | AE7: 1 | AF7: 40 | AG7: 10 | AH7: 20 | AI7: 65 | AJ7: 15 | AK7: 20 | AL7: s | AM7: 5 | AN7: 5 | AO7: 5 | AP7: 5 | AQ7: 5 | AR7: 4 | AS7: 1 | AT7: 50 | AU7: 20 | AV7: 80 | AW7: 20 | AX7: 5 | AY7: 5 | AZ7: 5 | BA7: 5 | BB7: 5 | BC7: 4 | BD7: 1 | BE7: 40 | BF7: 10 | BG7: 20 | BH7: 65 | BI7: 15 | BJ7: 20 | BK7: 5 | BL7: 5 | BM7: 5 | BN7: 5 | BO7: 3 | BP7: 2 | BQ7: 5 | BR7: 50 | BS7: 20 | BT7: 80 | BU7: 20 | BV7: 5 | BW7: 5 | BX7: 5 | BY7: 5 | BZ7: 5 | CA7: 4 | CB7: 1 | CC7: 50 | CD7: 20 | CE7: 80 | CF7: 20 | CG7: 20 | CH7: 20 | CI7: 20 | CJ7: 20 | CK7: 20 | CL7: 20 | CM7: 20 | CN7: 20 | CO7: 20 | CP7: 20 | CQ7: 20 | CR7: 20 | CS7: 20 | CT7: 20 | CU7: 20 | CW7: =IF(DOB!D7="","",DOB!D7) -> Twenty Nine July Two Thousand Two | DA7: =IF($D7="","",IF(DA$6="","",DA$6)) | DC7: =IF($D7="","",IF(DC$6="","",DC$6)) -> 10 | DD7: 9 | DE7: =IF($D7="","",IF(DE$6="","",DE$6)) -> 10 | DF7: 8 | DG7: =IF($D7="","",IF(DG$6="","",DG$6)) -> 10 | DH7: 9 | DI7: =IF(DI$6="","",DI$6) -> 10 | DJ7: 9 | DK7: =IF(DK$6="","",DK$6) -> 10 | DL7: 9 | DM7: =IF(DM$6="","",DM$6) -> 10 | DN7: 9 | DO7: =IF(DO$6="","",DO$6) -> 10 | DP7: 9 | DQ7: =IF(DQ$6="","",DQ$6) -> 10 | DR7: 9 | DS7: =IF(DS$6="","",DS$6) -> 10 | DT7: 9 | DU7: =IF(DU$6="","",DU$6) -> 10 | DV7: 9 | DW7: =IF(DW$6="","",DW$6) -> 10 | DX7: 9 | EB7: =IF(DC7="","",SUM(DA7,DC7)) -> 10 | EC7: =IF(DD7="","",SUM(DB7,DD7)) -> 9 | ED7: =IF(DE7="","",SUM(EB7,DE7)) -> 20 | EE7: =IF(DF7="","",SUM(EC7,DF7)) -> 17 | EF7: =IF(DG7="","",SUM(ED7,DG7)) -> 30 | EG7: =IF(DH7="","",SUM(EE7,DH7)) -> 26 | EH7: =IF(DI7="","",SUM(EF7,DI7)) -> 40 | EI7: =IF(DJ7="","",SUM(EG7,DJ7)) -> 35 | EJ7: =IF(DK7="","",SUM(EH7,DK7)) -> 50 | EK7: =IF(DL7="","",SUM(EI7,DL7)) -> 44 | ... EW7: =IF(DX7="","",SUM(EU7,DX7)) -> 98
A8: 2 | B8: SC | C8: B | D8: 802 | G8: 35887 | H8: =CW8 -> Two April Nineteen Hundred Ninety Eight | I8: A2 | J8: B2 | K8: C2 | L8: 5 | M8: 5 | N8: 5 | O8: 5 | P8: 5 | Q8: 4 | R8: 1 | S8: 40 | T8: 10 | U8: 20 | V8: 65 | W8: 15 | X8: 20 | Y8: 5 | Z8: 5 | AA8: 5 | AB8: 5 | AC8: 5 | AD8: 4 | AE8: 1 | AF8: 40 | AG8: 10 | AH8: 20 | AI8: 65 | AJ8: 15 | AK8: 20 | AL8: s | AM8: 5 | AN8: 5 | AO8: 5 | AP8: 5 | AQ8: 5 | AR8: 4 | AS8: 1 | AT8: 50 | AU8: 20 | AV8: 80 | AW8: 20 | AX8: 5 | AY8: 5 | AZ8: 5 | BA8: 5 | BB8: 5 | BC8: 4 | BD8: 1 | BE8: 40 | BF8: 10 | BG8: 20 | BH8: 65 | BI8: 15 | BJ8: 20 | BK8: 5 | BL8: 5 | BM8: 5 | BN8: 5 | BO8: 3 | BP8: 2 | BQ8: 5 | BR8: 50 | BS8: 20 | BT8: 80 | BU8: 20 | BV8: 5 | BW8: 5 | BX8: 5 | BY8: 5 | BZ8: 5 | CA8: 4 | CB8: 1 | CC8: 50 | CD8: 20 | CE8: 80 | CF8: 20 | CG8: 20 | CH8: 20 | CI8: 20 | CJ8: 20 | CK8: 20 | CL8: 20 | CM8: 20 | CN8: 20 | CO8: 20 | CP8: 20 | CQ8: 20 | CR8: 20 | CS8: 20 | CT8: 20 | CU8: 20 | CW8: =IF(DOB!D8="","",DOB!D8) -> Two April Nineteen Hundred Ninety Eight | DA8: =IF($D8="","",IF(DA$6="","",DA$6)) | DC8: =IF($D8="","",IF(DC$6="","",DC$6)) -> 10 | DE8: =IF($D8="","",IF(DE$6="","",DE$6)) -> 10 | DG8: =IF($D8="","",IF(DG$6="","",DG$6)) -> 10 | DI8: =IF(DI$6="","",DI$6) -> 10 | DK8: =IF(DK$6="","",DK$6) -> 10 | DM8: =IF(DM$6="","",DM$6) -> 10 | DO8: =IF(DO$6="","",DO$6) -> 10 | DQ8: =IF(DQ$6="","",DQ$6) -> 10 | DS8: =IF(DS$6="","",DS$6) -> 10 | DU8: =IF(DU$6="","",DU$6) -> 10 | DW8: =IF(DW$6="","",DW$6) -> 10 | EB8: =IF(DC8="","",SUM(DA8,DC8)) -> 10 | EC8: =IF(DD8="","",SUM(DB8,DD8)) | ED8: =IF(DE8="","",SUM(EB8,DE8)) -> 20 | EE8: =IF(DF8="","",SUM(EC8,DF8)) | EF8: =IF(DG8="","",SUM(ED8,DG8)) -> 30 | EG8: =IF(DH8="","",SUM(EE8,DH8)) | EH8: =IF(DI8="","",SUM(EF8,DI8)) -> 40 | EI8: =IF(DJ8="","",SUM(EG8,DJ8)) | EJ8: =IF(DK8="","",SUM(EH8,DK8)) -> 50 | EK8: =IF(DL8="","",SUM(EI8,DL8)) | ... EW8: =IF(DX8="","",SUM(EU8,DX8))
A9: 3 | B9: SC | C9: B | D9: 803 | H9: =CW9 | I9: A3 | J9: B3 | K9: C3 | L9: 5 | M9: 5 | N9: 5 | O9: 5 | P9: 5 | Q9: 4 | R9: 1 | S9: 40 | T9: 10 | U9: 20 | V9: 65 | W9: 15 | X9: 20 | Y9: 5 | Z9: 5 | AA9: 5 | AB9: 5 | AC9: 5 | AD9: 4 | AE9: 1 | AF9: 40 | AG9: 10 | AH9: 20 | AI9: 65 | AJ9: 15 | AK9: 20 | AL9: s | AM9: 5 | AN9: 5 | AO9: 5 | AP9: 5 | AQ9: 5 | AR9: 4 | AS9: 1 | AT9: 50 | AU9: 20 | AV9: 80 | AW9: 20 | AX9: 5 | AY9: 5 | AZ9: 5 | BA9: 5 | BB9: 5 | BC9: 4 | BD9: 1 | BE9: 40 | BF9: 10 | BG9: 20 | BH9: 65 | BI9: 15 | BJ9: 20 | BK9: 5 | BL9: 5 | BM9: 5 | BN9: 5 | BO9: 3 | BP9: 2 | BQ9: 5 | BR9: 50 | BS9: 20 | BT9: 80 | BU9: 20 | BV9: 5 | BW9: 5 | BX9: 5 | BY9: 5 | BZ9: 5 | CA9: 4 | CB9: 1 | CC9: 50 | CD9: 20 | CE9: 80 | CF9: 20 | CG9: 20 | CH9: 20 | CI9: 20 | CJ9: 20 | CK9: 20 | CL9: 20 | CM9: 20 | CN9: 20 | CO9: 20 | CP9: 20 | CQ9: 20 | CR9: 20 | CS9: 20 | CT9: 20 | CU9: 20 | CW9: =IF(DOB!D9="","",DOB!D9) | CX9: SC | DA9: 0 | DC9: =IF($D9="","",IF(DC$6="","",DC$6)) -> 10 | DE9: =IF($D9="","",IF(DE$6="","",DE$6)) -> 10 | DG9: =IF($D9="","",IF(DG$6="","",DG$6)) -> 10 | DI9: =IF(DI$6="","",DI$6) -> 10 | DK9: =IF(DK$6="","",DK$6) -> 10 | DM9: =IF(DM$6="","",DM$6) -> 10 | DO9: =IF(DO$6="","",DO$6) -> 10 | DQ9: =IF(DQ$6="","",DQ$6) -> 10 | DS9: =IF(DS$6="","",DS$6) -> 10 | DU9: =IF(DU$6="","",DU$6) -> 10 | DW9: =IF(DW$6="","",DW$6) -> 10 | EB9: =IF(DC9="","",SUM(DA9,DC9)) -> 10 | EC9: =IF(DD9="","",SUM(DB9,DD9)) | ED9: =IF(DE9="","",SUM(EB9,DE9)) -> 20 | EE9: =IF(DF9="","",SUM(EC9,DF9)) | EF9: =IF(DG9="","",SUM(ED9,DG9)) -> 30 | EG9: =IF(DH9="","",SUM(EE9,DH9)) | EH9: =IF(DI9="","",SUM(EF9,DI9)) -> 40 | EI9: =IF(DJ9="","",SUM(EG9,DJ9)) | EJ9: =IF(DK9="","",SUM(EH9,DK9)) -> 50 | EK9: =IF(DL9="","",SUM(EI9,DL9)) | ... EW9: =IF(DX9="","",SUM(EU9,DX9))
A10: 4 | D10: 804 | H10: =CW10 | I10: A4 | J10: B4 | K10: C4 | L10: 5 | M10: 5 | N10: 5 | O10: 5 | P10: 5 | Q10: 4 | R10: 1 | S10: 40 | T10: 10 | U10: 20 | V10: 65 | W10: 15 | X10: 20 | Y10: 5 | Z10: 5 | AA10: 5 | AB10: 5 | AC10: 5 | AD10: 4 | AE10: 1 | AF10: 40 | AG10: 10 | AH10: 20 | AI10: 65 | AJ10: 15 | AK10: 20 | AL10: s | AM10: 5 | AN10: 5 | AO10: 5 | AP10: 5 | AQ10: 5 | AR10: 4 | AS10: 1 | AT10: 50 | AU10: 20 | AV10: 80 | AW10: 20 | AX10: 5 | AY10: 5 | AZ10: 5 | BA10: 5 | BB10: 5 | BC10: 4 | BD10: 1 | BE10: 40 | BF10: 10 | BG10: 20 | BH10: 65 | BI10: 15 | BJ10: 20 | BK10: 5 | BL10: 5 | BM10: 5 | BN10: 5 | BO10: 3 | BP10: 2 | BQ10: 5 | BR10: 50 | BS10: 20 | BT10: 80 | BU10: 20 | BV10: 5 | BW10: 5 | BX10: 5 | BY10: 5 | BZ10: 5 | CA10: 4 | CB10: 1 | CC10: 50 | CD10: 20 | CE10: 80 | CF10: 20 | CG10: 20 | CH10: 20 | CI10: 20 | CJ10: 20 | CK10: 20 | CL10: 20 | CM10: 20 | CN10: 20 | CO10: 20 | CP10: 20 | CQ10: 20 | CR10: 20 | CS10: 20 | CT10: 20 | CU10: 20 | CW10: =IF(DOB!D10="","",DOB!D10) | CX10: ST | DA10: 0 | DC10: =IF($D10="","",IF(DC$6="","",DC$6)) -> 10 | DE10: =IF($D10="","",IF(DE$6="","",DE$6)) -> 10 | DG10: =IF($D10="","",IF(DG$6="","",DG$6)) -> 10 | DI10: =IF(DI$6="","",DI$6) -> 10 | DK10: =IF(DK$6="","",DK$6) -> 10 | DM10: =IF(DM$6="","",DM$6) -> 10 | DO10: =IF(DO$6="","",DO$6) -> 10 | DQ10: =IF(DQ$6="","",DQ$6) -> 10 | DS10: =IF(DS$6="","",DS$6) -> 10 | DU10: =IF(DU$6="","",DU$6) -> 10 | DW10: =IF(DW$6="","",DW$6) -> 10 | EB10: =IF(DC10="","",SUM(DA10,DC10)) -> 10 | EC10: =IF(DD10="","",SUM(DB10,DD10)) | ED10: =IF(DE10="","",SUM(EB10,DE10)) -> 20 | EE10: =IF(DF10="","",SUM(EC10,DF10)) | EF10: =IF(DG10="","",SUM(ED10,DG10)) -> 30 | EG10: =IF(DH10="","",SUM(EE10,DH10)) | EH10: =IF(DI10="","",SUM(EF10,DI10)) -> 40 | EI10: =IF(DJ10="","",SUM(EG10,DJ10)) | EJ10: =IF(DK10="","",SUM(EH10,DK10)) -> 50 | EK10: =IF(DL10="","",SUM(EI10,DL10)) | ... EW10: =IF(DX10="","",SUM(EU10,DX10))
A11: 5 | D11: 805 | H11: =CW11 | I11: A5 | J11: B5 | K11: C5 | L11: 5 | M11: 5 | N11: 5 | O11: 5 | P11: 5 | Q11: 4 | R11: 1 | S11: 40 | T11: 10 | U11: 20 | V11: 65 | W11: 15 | X11: 20 | Y11: 5 | Z11: 5 | AA11: 5 | AB11: 5 | AC11: 5 | AD11: 4 | AE11: 1 | AF11: 40 | AG11: 10 | AH11: 20 | AI11: 65 | AJ11: 15 | AK11: 20 | AL11: s | AM11: 5 | AN11: 5 | AO11: 5 | AP11: 5 | AQ11: 5 | AR11: 4 | AS11: 1 | AT11: 50 | AU11: 20 | AV11: 80 | AW11: 20 | AX11: 5 | AY11: 5 | AZ11: 5 | BA11: 5 | BB11: 5 | BC11: 4 | BD11: 1 | BE11: 40 | BF11: 10 | BG11: 20 | BH11: 65 | BI11: 15 | BJ11: 20 | BK11: 5 | BL11: 5 | BM11: 5 | BN11: 5 | BO11: 3 | BP11: 2 | BQ11: 5 | BR11: 50 | BS11: 20 | BT11: 80 | BU11: 20 | BV11: 5 | BW11: 5 | BX11: 5 | BY11: 5 | BZ11: 5 | CA11: 4 | CB11: 1 | CC11: 50 | CD11: 20 | CE11: 80 | CF11: 20 | CG11: 20 | CH11: 20 | CI11: 20 | CJ11: 20 | CK11: 20 | CL11: 20 | CM11: 20 | CN11: 20 | CO11: 20 | CP11: 20 | CQ11: 20 | CR11: 20 | CS11: 20 | CT11: 20 | CU11: 20 | CW11: =IF(DOB!D11="","",DOB!D11) | CX11: OBC | DA11: =IF($D11="","",IF(DA$6="","",DA$6)) | DC11: =IF($D11="","",IF(DC$6="","",DC$6)) -> 10 | DE11: =IF($D11="","",IF(DE$6="","",DE$6)) -> 10 | DG11: =IF($D11="","",IF(DG$6="","",DG$6)) -> 10 | DI11: =IF(DI$6="","",DI$6) -> 10 | DK11: =IF(DK$6="","",DK$6) -> 10 | DM11: =IF(DM$6="","",DM$6) -> 10 | DO11: =IF(DO$6="","",DO$6) -> 10 | DQ11: =IF(DQ$6="","",DQ$6) -> 10 | DS11: =IF(DS$6="","",DS$6) -> 10 | DU11: =IF(DU$6="","",DU$6) -> 10 | DW11: =IF(DW$6="","",DW$6) -> 10 | EB11: =IF(DC11="","",SUM(DA11,DC11)) -> 10 | EC11: =IF(DD11="","",SUM(DB11,DD11)) | ED11: =IF(DE11="","",SUM(EB11,DE11)) -> 20 | EE11: =IF(DF11="","",SUM(EC11,DF11)) | EF11: =IF(DG11="","",SUM(ED11,DG11)) -> 30 | EG11: =IF(DH11="","",SUM(EE11,DH11)) | EH11: =IF(DI11="","",SUM(EF11,DI11)) -> 40 | EI11: =IF(DJ11="","",SUM(EG11,DJ11)) | EJ11: =IF(DK11="","",SUM(EH11,DK11)) -> 50 | EK11: =IF(DL11="","",SUM(EI11,DL11)) | ... EW11: =IF(DX11="","",SUM(EU11,DX11))
A12: 6 | D12: 806 | H12: =CW12 | I12: A6 | J12: B6 | K12: C6 | L12: 5 | M12: 5 | N12: 5 | O12: 5 | P12: 5 | Q12: 4 | R12: 1 | S12: 40 | T12: 10 | U12: 20 | V12: 65 | W12: 15 | X12: 20 | Y12: 5 | Z12: 5 | AA12: 5 | AB12: 5 | AC12: 5 | AD12: 4 | AE12: 1 | AF12: 40 | AG12: 10 | AH12: 20 | AI12: 65 | AJ12: 15 | AK12: 20 | AL12: s | AM12: 5 | AN12: 5 | AO12: 5 | AP12: 5 | AQ12: 5 | AR12: 4 | AS12: 1 | AT12: 50 | AU12: 20 | AV12: 80 | AW12: 20 | AX12: 5 | AY12: 5 | AZ12: 5 | BA12: 5 | BB12: 5 | BC12: 4 | BD12: 1 | BE12: 40 | BF12: 10 | BG12: 20 | BH12: 65 | BI12: 15 | BJ12: 20 | BK12: 5 | BL12: 5 | BM12: 5 | BN12: 5 | BO12: 3 | BP12: 2 | BQ12: 5 | BR12: 50 | BS12: 20 | BT12: 80 | BU12: 20 | BV12: 5 | BW12: 5 | BX12: 5 | BY12: 5 | BZ12: 5 | CA12: 4 | CB12: 1 | CC12: 50 | CD12: 20 | CE12: 80 | CF12: 20 | CG12: 20 | CH12: 20 | CI12: 20 | CJ12: 20 | CK12: 20 | CL12: 20 | CM12: 20 | CN12: 20 | CO12: 20 | CP12: 20 | CQ12: 20 | CR12: 20 | CS12: 20 | CT12: 20 | CU12: 20 | CW12: =IF(DOB!D12="","",DOB!D12) | CX12: SBC | DA12: =IF($D12="","",IF(DA$6="","",DA$6)) | DC12: =IF($D12="","",IF(DC$6="","",DC$6)) -> 10 | DE12: =IF($D12="","",IF(DE$6="","",DE$6)) -> 10 | DG12: =IF($D12="","",IF(DG$6="","",DG$6)) -> 10 | DI12: =IF(DI$6="","",DI$6) -> 10 | DK12: =IF(DK$6="","",DK$6) -> 10 | DM12: =IF(DM$6="","",DM$6) -> 10 | DO12: =IF(DO$6="","",DO$6) -> 10 | DQ12: =IF(DQ$6="","",DQ$6) -> 10 | DS12: =IF(DS$6="","",DS$6) -> 10 | DU12: =IF(DU$6="","",DU$6) -> 10 | DW12: =IF(DW$6="","",DW$6) -> 10 | EB12: =IF(DC12="","",SUM(DA12,DC12)) -> 10 | EC12: =IF(DD12="","",SUM(DB12,DD12)) | ED12: =IF(DE12="","",SUM(EB12,DE12)) -> 20 | EE12: =IF(DF12="","",SUM(EC12,DF12)) | EF12: =IF(DG12="","",SUM(ED12,DG12)) -> 30 | EG12: =IF(DH12="","",SUM(EE12,DH12)) | EH12: =IF(DI12="","",SUM(EF12,DI12)) -> 40 | EI12: =IF(DJ12="","",SUM(EG12,DJ12)) | EJ12: =IF(DK12="","",SUM(EH12,DK12)) -> 50 | EK12: =IF(DL12="","",SUM(EI12,DL12)) | ... EW12: =IF(DX12="","",SUM(EU12,DX12))
A13: 7 | D13: 807 | H13: =CW13 | I13: A7 | J13: B7 | K13: C7 | L13: 5 | M13: 5 | N13: 5 | O13: 5 | P13: 5 | Q13: 4 | R13: 1 | S13: 40 | T13: 10 | U13: 20 | V13: 65 | W13: 15 | X13: 20 | Y13: 5 | Z13: 5 | AA13: 5 | AB13: 5 | AC13: 5 | AD13: 4 | AE13: 1 | AF13: 40 | AG13: 10 | AH13: 20 | AI13: 65 | AJ13: 15 | AK13: 20 | AL13: s | AM13: 5 | AN13: 5 | AO13: 5 | AP13: 5 | AQ13: 5 | AR13: 4 | AS13: 1 | AT13: 50 | AU13: 20 | AV13: 80 | AW13: 20 | AX13: 5 | AY13: 5 | AZ13: 5 | BA13: 5 | BB13: 5 | BC13: 4 | BD13: 1 | BE13: 40 | BF13: 10 | BG13: 20 | BH13: 65 | BI13: 15 | BJ13: 20 | BK13: 5 | BL13: 5 | BM13: 5 | BN13: 5 | BO13: 3 | BP13: 2 | BQ13: 5 | BR13: 50 | BS13: 20 | BT13: 80 | BU13: 20 | BV13: 5 | BW13: 5 | BX13: 5 | BY13: 5 | BZ13: 5 | CA13: 4 | CB13: 1 | CC13: 50 | CD13: 20 | CE13: 80 | CF13: 20 | CG13: 20 | CH13: 20 | CI13: 20 | CJ13: 20 | CK13: 20 | CL13: 20 | CM13: 20 | CN13: 20 | CO13: 20 | CP13: 20 | CQ13: 20 | CR13: 20 | CS13: 20 | CT13: 20 | CU13: 20 | CW13: =IF(DOB!D13="","",DOB!D13) | CX13: GEN | DA13: =IF($D13="","",IF(DA$6="","",DA$6)) | DC13: =IF($D13="","",IF(DC$6="","",DC$6)) -> 10 | DE13: =IF($D13="","",IF(DE$6="","",DE$6)) -> 10 | DG13: =IF($D13="","",IF(DG$6="","",DG$6)) -> 10 | DI13: =IF(DI$6="","",DI$6) -> 10 | DK13: =IF(DK$6="","",DK$6) -> 10 | DM13: =IF(DM$6="","",DM$6) -> 10 | DO13: =IF(DO$6="","",DO$6) -> 10 | DQ13: =IF(DQ$6="","",DQ$6) -> 10 | DS13: =IF(DS$6="","",DS$6) -> 10 | DU13: =IF(DU$6="","",DU$6) -> 10 | DW13: =IF(DW$6="","",DW$6) -> 10 | EB13: =IF(DC13="","",SUM(DA13,DC13)) -> 10 | EC13: =IF(DD13="","",SUM(DB13,DD13)) | ED13: =IF(DE13="","",SUM(EB13,DE13)) -> 20 | EE13: =IF(DF13="","",SUM(EC13,DF13)) | EF13: =IF(DG13="","",SUM(ED13,DG13)) -> 30 | EG13: =IF(DH13="","",SUM(EE13,DH13)) | EH13: =IF(DI13="","",SUM(EF13,DI13)) -> 40 | EI13: =IF(DJ13="","",SUM(EG13,DJ13)) | EJ13: =IF(DK13="","",SUM(EH13,DK13)) -> 50 | EK13: =IF(DL13="","",SUM(EI13,DL13)) | ... EW13: =IF(DX13="","",SUM(EU13,DX13))
A14: 8 | D14: 808 | H14: =CW14 | I14: A8 | J14: B8 | K14: C8 | L14: 5 | M14: 5 | N14: 5 | O14: 5 | P14: 5 | Q14: 4 | R14: 1 | S14: 40 | T14: 10 | U14: 20 | V14: 65 | W14: 15 | X14: 20 | Y14: 5 | Z14: 5 | AA14: 5 | AB14: 5 | AC14: 5 | AD14: 4 | AE14: 1 | AF14: 40 | AG14: 10 | AH14: 20 | AI14: 65 | AJ14: 15 | AK14: 20 | AL14: s | AM14: 5 | AN14: 5 | AO14: 5 | AP14: 5 | AQ14: 5 | AR14: 4 | AS14: 1 | AT14: 50 | AU14: 20 | AV14: 80 | AW14: 20 | AX14: 5 | AY14: 5 | AZ14: 5 | BA14: 5 | BB14: 5 | BC14: 4 | BD14: 1 | BE14: 40 | BF14: 10 | BG14: 20 | BH14: 65 | BI14: 15 | BJ14: 20 | BK14: 5 | BL14: 5 | BM14: 5 | BN14: 5 | BO14: 3 | BP14: 2 | BQ14: 5 | BR14: 50 | BS14: 20 | BT14: 80 | BU14: 20 | BV14: 5 | BW14: 5 | BX14: 5 | BY14: 5 | BZ14: 5 | CA14: 4 | CB14: 1 | CC14: 50 | CD14: 20 | CE14: 80 | CF14: 20 | CG14: 20 | CH14: 20 | CI14: 20 | CJ14: 20 | CK14: 20 | CL14: 20 | CM14: 20 | CN14: 20 | CO14: 20 | CP14: 20 | CQ14: 20 | CR14: 20 | CS14: 20 | CT14: 20 | CU14: 20 | CW14: =IF(DOB!D14="","",DOB!D14) | CX14: MIN | DA14: 0 | DC14: =IF($D14="","",IF(DC$6="","",DC$6)) -> 10 | DE14: =IF($D14="","",IF(DE$6="","",DE$6)) -> 10 | DG14: =IF($D14="","",IF(DG$6="","",DG$6)) -> 10 | DI14: =IF(DI$6="","",DI$6) -> 10 | DK14: =IF(DK$6="","",DK$6) -> 10 | DM14: =IF(DM$6="","",DM$6) -> 10 | DO14: =IF(DO$6="","",DO$6) -> 10 | DQ14: =IF(DQ$6="","",DQ$6) -> 10 | DS14: =IF(DS$6="","",DS$6) -> 10 | DU14: =IF(DU$6="","",DU$6) -> 10 | DW14: =IF(DW$6="","",DW$6) -> 10 | EB14: =IF(DC14="","",SUM(DA14,DC14)) -> 10 | EC14: =IF(DD14="","",SUM(DB14,DD14)) | ED14: =IF(DE14="","",SUM(EB14,DE14)) -> 20 | EE14: =IF(DF14="","",SUM(EC14,DF14)) | EF14: =IF(DG14="","",SUM(ED14,DG14)) -> 30 | EG14: =IF(DH14="","",SUM(EE14,DH14)) | EH14: =IF(DI14="","",SUM(EF14,DI14)) -> 40 | EI14: =IF(DJ14="","",SUM(EG14,DJ14)) | EJ14: =IF(DK14="","",SUM(EH14,DK14)) -> 50 | EK14: =IF(DL14="","",SUM(EI14,DL14)) | ... EW14: =IF(DX14="","",SUM(EU14,DX14))
A15: 9 | D15: 809 | H15: =CW15 | I15: A9 | J15: B9 | K15: C9 | L15: 5 | M15: 5 | N15: 5 | O15: 5 | P15: 5 | Q15: 4 | R15: 1 | S15: 40 | T15: 10 | U15: 20 | V15: 65 | W15: 15 | X15: 20 | Y15: 5 | Z15: 5 | AA15: 5 | AB15: 5 | AC15: 5 | AD15: 4 | AE15: 1 | AF15: 40 | AG15: 10 | AH15: 20 | AI15: 65 | AJ15: 15 | AK15: 20 | AL15: s | AM15: 5 | AN15: 5 | AO15: 5 | AP15: 5 | AQ15: 5 | AR15: 4 | AS15: 1 | AT15: 50 | AU15: 20 | AV15: 80 | AW15: 20 | AX15: 5 | AY15: 5 | AZ15: 5 | BA15: 5 | BB15: 5 | BC15: 4 | BD15: 1 | BE15: 40 | BF15: 10 | BG15: 20 | BH15: 65 | BI15: 15 | BJ15: 20 | BK15: 5 | BL15: 5 | BM15: 5 | BN15: 5 | BO15: 3 | BP15: 2 | BQ15: 5 | BR15: 50 | BS15: 20 | BT15: 80 | BU15: 20 | BV15: 5 | BW15: 5 | BX15: 5 | BY15: 5 | BZ15: 5 | CA15: 4 | CB15: 1 | CC15: 50 | CD15: 20 | CE15: 80 | CF15: 20 | CG15: 20 | CH15: 20 | CI15: 20 | CJ15: 20 | CK15: 20 | CL15: 20 | CM15: 20 | CN15: 20 | CO15: 20 | CP15: 20 | CQ15: 20 | CR15: 20 | CS15: 20 | CT15: 20 | CU15: 20 | CW15: =IF(DOB!D15="","",DOB!D15) | DA15: =IF($D15="","",IF(DA$6="","",DA$6)) | DC15: =IF($D15="","",IF(DC$6="","",DC$6)) -> 10 | DE15: =IF($D15="","",IF(DE$6="","",DE$6)) -> 10 | DG15: =IF($D15="","",IF(DG$6="","",DG$6)) -> 10 | DI15: =IF(DI$6="","",DI$6) -> 10 | DK15: =IF(DK$6="","",DK$6) -> 10 | DM15: =IF(DM$6="","",DM$6) -> 10 | DO15: =IF(DO$6="","",DO$6) -> 10 | DQ15: =IF(DQ$6="","",DQ$6) -> 10 | DS15: =IF(DS$6="","",DS$6) -> 10 | DU15: =IF(DU$6="","",DU$6) -> 10 | DW15: =IF(DW$6="","",DW$6) -> 10 | EB15: =IF(DC15="","",SUM(DA15,DC15)) -> 10 | EC15: =IF(DD15="","",SUM(DB15,DD15)) | ED15: =IF(DE15="","",SUM(EB15,DE15)) -> 20 | EE15: =IF(DF15="","",SUM(EC15,DF15)) | EF15: =IF(DG15="","",SUM(ED15,DG15)) -> 30 | EG15: =IF(DH15="","",SUM(EE15,DH15)) | EH15: =IF(DI15="","",SUM(EF15,DI15)) -> 40 | EI15: =IF(DJ15="","",SUM(EG15,DJ15)) | EJ15: =IF(DK15="","",SUM(EH15,DK15)) -> 50 | EK15: =IF(DL15="","",SUM(EI15,DL15)) | ... EW15: =IF(DX15="","",SUM(EU15,DX15))
A16: 10 | D16: 810 | H16: =CW16 | I16: A10 | J16: B10 | K16: C10 | L16: 5 | M16: 5 | N16: 5 | O16: 5 | P16: 5 | Q16: 4 | R16: 1 | S16: 40 | T16: 10 | U16: 20 | V16: 65 | W16: 15 | X16: 20 | Y16: 5 | Z16: 5 | AA16: 5 | AB16: 5 | AC16: 5 | AD16: 4 | AE16: 1 | AF16: 40 | AG16: 10 | AH16: 20 | AI16: 65 | AJ16: 15 | AK16: 20 | AL16: s | AM16: 5 | AN16: 5 | AO16: 5 | AP16: 5 | AQ16: 5 | AR16: 4 | AS16: 1 | AT16: 50 | AU16: 20 | AV16: 80 | AW16: 20 | AX16: 5 | AY16: 5 | AZ16: 5 | BA16: 5 | BB16: 5 | BC16: 4 | BD16: 1 | BE16: 40 | BF16: 10 | BG16: 20 | BH16: 65 | BI16: 15 | BJ16: 20 | BK16: 5 | BL16: 5 | BM16: 5 | BN16: 5 | BO16: 3 | BP16: 2 | BQ16: 5 | BR16: 50 | BS16: 20 | BT16: 80 | BU16: 20 | BV16: 5 | BW16: 5 | BX16: 5 | BY16: 5 | BZ16: 5 | CA16: 4 | CB16: 1 | CC16: 50 | CD16: 20 | CE16: 80 | CF16: 20 | CG16: 20 | CH16: 20 | CI16: 20 | CJ16: 20 | CK16: 20 | CL16: 20 | CM16: 20 | CN16: 20 | CO16: 20 | CP16: 20 | CQ16: 20 | CR16: 20 | CS16: 20 | CT16: 20 | CU16: 20 | CW16: =IF(DOB!D16="","",DOB!D16) | DA16: 0 | DC16: =IF($D16="","",IF(DC$6="","",DC$6)) -> 10 | DE16: =IF($D16="","",IF(DE$6="","",DE$6)) -> 10 | DG16: =IF($D16="","",IF(DG$6="","",DG$6)) -> 10 | DI16: =IF(DI$6="","",DI$6) -> 10 | DK16: =IF(DK$6="","",DK$6) -> 10 | DM16: =IF(DM$6="","",DM$6) -> 10 | DO16: =IF(DO$6="","",DO$6) -> 10 | DQ16: =IF(DQ$6="","",DQ$6) -> 10 | DS16: =IF(DS$6="","",DS$6) -> 10 | DU16: =IF(DU$6="","",DU$6) -> 10 | DW16: =IF(DW$6="","",DW$6) -> 10 | EB16: =IF(DC16="","",SUM(DA16,DC16)) -> 10 | EC16: =IF(DD16="","",SUM(DB16,DD16)) | ED16: =IF(DE16="","",SUM(EB16,DE16)) -> 20 | EE16: =IF(DF16="","",SUM(EC16,DF16)) | EF16: =IF(DG16="","",SUM(ED16,DG16)) -> 30 | EG16: =IF(DH16="","",SUM(EE16,DH16)) | EH16: =IF(DI16="","",SUM(EF16,DI16)) -> 40 | EI16: =IF(DJ16="","",SUM(EG16,DJ16)) | EJ16: =IF(DK16="","",SUM(EH16,DK16)) -> 50 | EK16: =IF(DL16="","",SUM(EI16,DL16)) | ... EW16: =IF(DX16="","",SUM(EU16,DX16))
A17: 11 | D17: 811 | H17: =CW17 | I17: A11 | J17: B11 | K17: C11 | L17: 5 | M17: 5 | N17: 5 | O17: 5 | P17: 5 | Q17: 4 | R17: 1 | S17: 40 | T17: 10 | U17: 20 | V17: 65 | W17: 15 | X17: 20 | Y17: 5 | Z17: 5 | AA17: 5 | AB17: 5 | AC17: 5 | AD17: 4 | AE17: 1 | AF17: 40 | AG17: 10 | AH17: 20 | AI17: 65 | AJ17: 15 | AK17: 20 | AL17: s | AM17: 5 | AN17: 5 | AO17: 5 | AP17: 5 | AQ17: 5 | AR17: 4 | AS17: 1 | AT17: 50 | AU17: 20 | AV17: 80 | AW17: 20 | AX17: 5 | AY17: 5 | AZ17: 5 | BA17: 5 | BB17: 5 | BC17: 4 | BD17: 1 | BE17: 40 | BF17: 10 | BG17: 20 | BH17: 65 | BI17: 15 | BJ17: 20 | BK17: 5 | BL17: 5 | BM17: 5 | BN17: 5 | BO17: 3 | BP17: 2 | BQ17: 5 | BR17: 50 | BS17: 20 | BT17: 80 | BU17: 20 | BV17: 5 | BW17: 5 | BX17: 5 | BY17: 5 | BZ17: 5 | CA17: 4 | CB17: 1 | CC17: 50 | CD17: 20 | CE17: 80 | CF17: 20 | CG17: 20 | CH17: 20 | CI17: 20 | CJ17: 20 | CK17: 20 | CL17: 20 | CM17: 20 | CN17: 20 | CO17: 20 | CP17: 20 | CQ17: 20 | CR17: 20 | CS17: 20 | CT17: 20 | CU17: 20 | CW17: =IF(DOB!D17="","",DOB!D17) | CX17: B | DA17: =IF($D17="","",IF(DA$6="","",DA$6)) | DC17: =IF($D17="","",IF(DC$6="","",DC$6)) -> 10 | DE17: =IF($D17="","",IF(DE$6="","",DE$6)) -> 10 | DG17: =IF($D17="","",IF(DG$6="","",DG$6)) -> 10 | DI17: =IF(DI$6="","",DI$6) -> 10 | DK17: =IF(DK$6="","",DK$6) -> 10 | DM17: =IF(DM$6="","",DM$6) -> 10 | DO17: =IF(DO$6="","",DO$6) -> 10 | DQ17: =IF(DQ$6="","",DQ$6) -> 10 | DS17: =IF(DS$6="","",DS$6) -> 10 | DU17: =IF(DU$6="","",DU$6) -> 10 | DW17: =IF(DW$6="","",DW$6) -> 10 | EB17: =IF(DC17="","",SUM(DA17,DC17)) -> 10 | EC17: =IF(DD17="","",SUM(DB17,DD17)) | ED17: =IF(DE17="","",SUM(EB17,DE17)) -> 20 | EE17: =IF(DF17="","",SUM(EC17,DF17)) | EF17: =IF(DG17="","",SUM(ED17,DG17)) -> 30 | EG17: =IF(DH17="","",SUM(EE17,DH17)) | EH17: =IF(DI17="","",SUM(EF17,DI17)) -> 40 | EI17: =IF(DJ17="","",SUM(EG17,DJ17)) | EJ17: =IF(DK17="","",SUM(EH17,DK17)) -> 50 | EK17: =IF(DL17="","",SUM(EI17,DL17)) | ... EW17: =IF(DX17="","",SUM(EU17,DX17))
A18: 12 | D18: 812 | H18: =CW18 | I18: A12 | J18: B12 | K18: C12 | L18: 5 | M18: 5 | N18: 5 | O18: 5 | P18: 5 | Q18: 4 | R18: 1 | S18: 40 | T18: 10 | U18: 20 | V18: 65 | W18: 15 | X18: 20 | Y18: 5 | Z18: 5 | AA18: 5 | AB18: 5 | AC18: 5 | AD18: 4 | AE18: 1 | AF18: 40 | AG18: 10 | AH18: 20 | AI18: 65 | AJ18: 15 | AK18: 20 | AL18: s | AM18: 5 | AN18: 5 | AO18: 5 | AP18: 5 | AQ18: 5 | AR18: 4 | AS18: 1 | AT18: 50 | AU18: 20 | AV18: 80 | AW18: 20 | AX18: 5 | AY18: 5 | AZ18: 5 | BA18: 5 | BB18: 5 | BC18: 4 | BD18: 1 | BE18: 40 | BF18: 10 | BG18: 20 | BH18: 65 | BI18: 15 | BJ18: 20 | BK18: 5 | BL18: 5 | BM18: 5 | BN18: 5 | BO18: 3 | BP18: 2 | BQ18: 5 | BR18: 50 | BS18: 20 | BT18: 80 | BU18: 20 | BV18: 5 | BW18: 5 | BX18: 5 | BY18: 5 | BZ18: 5 | CA18: 4 | CB18: 1 | CC18: 50 | CD18: 20 | CE18: 80 | CF18: 20 | CG18: 20 | CH18: 20 | CI18: 20 | CJ18: 20 | CK18: 20 | CL18: 20 | CM18: 20 | CN18: 20 | CO18: 20 | CP18: 20 | CQ18: 20 | CR18: 20 | CS18: 20 | CT18: 20 | CU18: 20 | CW18: =IF(DOB!D18="","",DOB!D18) | CX18: G | DA18: =IF($D18="","",IF(DA$6="","",DA$6)) | DC18: =IF($D18="","",IF(DC$6="","",DC$6)) -> 10 | DE18: =IF($D18="","",IF(DE$6="","",DE$6)) -> 10 | DG18: =IF($D18="","",IF(DG$6="","",DG$6)) -> 10 | DI18: =IF(DI$6="","",DI$6) -> 10 | DK18: =IF(DK$6="","",DK$6) -> 10 | DM18: =IF(DM$6="","",DM$6) -> 10 | DO18: =IF(DO$6="","",DO$6) -> 10 | DQ18: =IF(DQ$6="","",DQ$6) -> 10 | DS18: =IF(DS$6="","",DS$6) -> 10 | DU18: =IF(DU$6="","",DU$6) -> 10 | DW18: =IF(DW$6="","",DW$6) -> 10 | EB18: =IF(DC18="","",SUM(DA18,DC18)) -> 10 | EC18: =IF(DD18="","",SUM(DB18,DD18)) | ED18: =IF(DE18="","",SUM(EB18,DE18)) -> 20 | EE18: =IF(DF18="","",SUM(EC18,DF18)) | EF18: =IF(DG18="","",SUM(ED18,DG18)) -> 30 | EG18: =IF(DH18="","",SUM(EE18,DH18)) | EH18: =IF(DI18="","",SUM(EF18,DI18)) -> 40 | EI18: =IF(DJ18="","",SUM(EG18,DJ18)) | EJ18: =IF(DK18="","",SUM(EH18,DK18)) -> 50 | EK18: =IF(DL18="","",SUM(EI18,DL18)) | ... EW18: =IF(DX18="","",SUM(EU18,DX18))
A19: 13 | D19: 813 | H19: =CW19 | I19: A13 | J19: B13 | K19: C13 | L19: 5 | M19: 5 | N19: 5 | O19: 5 | P19: 5 | Q19: 4 | R19: 1 | S19: 40 | T19: 10 | U19: 20 | V19: 65 | W19: 15 | X19: 20 | Y19: 5 | Z19: 5 | AA19: 5 | AB19: 5 | AC19: 5 | AD19: 4 | AE19: 1 | AF19: 40 | AG19: 10 | AH19: 20 | AI19: 65 | AJ19: 15 | AK19: 20 | AL19: s | AM19: 5 | AN19: 5 | AO19: 5 | AP19: 5 | AQ19: 5 | AR19: 4 | AS19: 1 | AT19: 50 | AU19: 20 | AV19: 80 | AW19: 20 | AX19: 5 | AY19: 5 | AZ19: 5 | BA19: 5 | BB19: 5 | BC19: 4 | BD19: 1 | BE19: 40 | BF19: 10 | BG19: 20 | BH19: 65 | BI19: 15 | BJ19: 20 | BK19: 5 | BL19: 5 | BM19: 5 | BN19: 5 | BO19: 3 | BP19: 2 | BQ19: 5 | BR19: 50 | BS19: 20 | BT19: 80 | BU19: 20 | BV19: 5 | BW19: 5 | BX19: 5 | BY19: 5 | BZ19: 5 | CA19: 4 | CB19: 1 | CC19: 50 | CD19: 20 | CE19: 80 | CF19: 20 | CG19: 20 | CH19: 20 | CI19: 20 | CJ19: 20 | CK19: 20 | CL19: 20 | CM19: 20 | CN19: 20 | CO19: 20 | CP19: 20 | CQ19: 20 | CR19: 20 | CS19: 20 | CT19: 20 | CU19: 20 | CW19: =IF(DOB!D19="","",DOB!D19) | DA19: =IF($D19="","",IF(DA$6="","",DA$6)) | DC19: =IF($D19="","",IF(DC$6="","",DC$6)) -> 10 | DE19: =IF($D19="","",IF(DE$6="","",DE$6)) -> 10 | DG19: =IF($D19="","",IF(DG$6="","",DG$6)) -> 10 | DI19: =IF(DI$6="","",DI$6) -> 10 | DK19: =IF(DK$6="","",DK$6) -> 10 | DM19: =IF(DM$6="","",DM$6) -> 10 | DO19: =IF(DO$6="","",DO$6) -> 10 | DQ19: =IF(DQ$6="","",DQ$6) -> 10 | DS19: =IF(DS$6="","",DS$6) -> 10 | DU19: =IF(DU$6="","",DU$6) -> 10 | DW19: =IF(DW$6="","",DW$6) -> 10 | EB19: =IF(DC19="","",SUM(DA19,DC19)) -> 10 | EC19: =IF(DD19="","",SUM(DB19,DD19)) | ED19: =IF(DE19="","",SUM(EB19,DE19)) -> 20 | EE19: =IF(DF19="","",SUM(EC19,DF19)) | EF19: =IF(DG19="","",SUM(ED19,DG19)) -> 30 | EG19: =IF(DH19="","",SUM(EE19,DH19)) | EH19: =IF(DI19="","",SUM(EF19,DI19)) -> 40 | EI19: =IF(DJ19="","",SUM(EG19,DJ19)) | EJ19: =IF(DK19="","",SUM(EH19,DK19)) -> 50 | EK19: =IF(DL19="","",SUM(EI19,DL19)) | ... EW19: =IF(DX19="","",SUM(EU19,DX19))
A20: 14 | D20: 814 | H20: =CW20 | I20: A14 | J20: B14 | K20: C14 | L20: 5 | M20: 5 | N20: 5 | O20: 5 | P20: 5 | Q20: 4 | R20: 1 | S20: 40 | T20: 10 | U20: 20 | V20: 65 | W20: 15 | X20: 20 | Y20: 5 | Z20: 5 | AA20: 5 | AB20: 5 | AC20: 5 | AD20: 4 | AE20: 1 | AF20: 40 | AG20: 10 | AH20: 20 | AI20: 65 | AJ20: 15 | AK20: 20 | AL20: s | AM20: 5 | AN20: 5 | AO20: 5 | AP20: 5 | AQ20: 5 | AR20: 4 | AS20: 1 | AT20: 50 | AU20: 20 | AV20: 80 | AW20: 20 | AX20: 5 | AY20: 5 | AZ20: 5 | BA20: 5 | BB20: 5 | BC20: 4 | BD20: 1 | BE20: 40 | BF20: 10 | BG20: 20 | BH20: 65 | BI20: 15 | BJ20: 20 | BK20: 5 | BL20: 5 | BM20: 5 | BN20: 5 | BO20: 3 | BP20: 2 | BQ20: 5 | BR20: 50 | BS20: 20 | BT20: 80 | BU20: 20 | BV20: 5 | BW20: 5 | BX20: 5 | BY20: 5 | BZ20: 5 | CA20: 4 | CB20: 1 | CC20: 50 | CD20: 20 | CE20: 80 | CF20: 20 | CG20: 20 | CH20: 20 | CI20: 20 | CJ20: 20 | CK20: 20 | CL20: 20 | CM20: 20 | CN20: 20 | CO20: 20 | CP20: 20 | CQ20: 20 | CR20: 20 | CS20: 20 | CT20: 20 | CU20: 20 | CW20: =IF(DOB!D20="","",DOB!D20) | CX20: s | DA20: =IF($D20="","",IF(DA$6="","",DA$6)) | DC20: =IF($D20="","",IF(DC$6="","",DC$6)) -> 10 | DE20: =IF($D20="","",IF(DE$6="","",DE$6)) -> 10 | DG20: =IF($D20="","",IF(DG$6="","",DG$6)) -> 10 | DI20: =IF(DI$6="","",DI$6) -> 10 | DK20: =IF(DK$6="","",DK$6) -> 10 | DM20: =IF(DM$6="","",DM$6) -> 10 | DO20: =IF(DO$6="","",DO$6) -> 10 | DQ20: =IF(DQ$6="","",DQ$6) -> 10 | DS20: =IF(DS$6="","",DS$6) -> 10 | DU20: =IF(DU$6="","",DU$6) -> 10 | DW20: =IF(DW$6="","",DW$6) -> 10 | EB20: =IF(DC20="","",SUM(DA20,DC20)) -> 10 | EC20: =IF(DD20="","",SUM(DB20,DD20)) | ED20: =IF(DE20="","",SUM(EB20,DE20)) -> 20 | EE20: =IF(DF20="","",SUM(EC20,DF20)) | EF20: =IF(DG20="","",SUM(ED20,DG20)) -> 30 | EG20: =IF(DH20="","",SUM(EE20,DH20)) | EH20: =IF(DI20="","",SUM(EF20,DI20)) -> 40 | EI20: =IF(DJ20="","",SUM(EG20,DJ20)) | EJ20: =IF(DK20="","",SUM(EH20,DK20)) -> 50 | EK20: =IF(DL20="","",SUM(EI20,DL20)) | ... EW20: =IF(DX20="","",SUM(EU20,DX20))
A21: 15 | D21: 815 | H21: =CW21 | I21: A15 | J21: B15 | K21: C15 | L21: 5 | M21: 5 | N21: 5 | O21: 5 | P21: 5 | Q21: 4 | R21: 1 | S21: 40 | T21: 10 | U21: 20 | V21: 65 | W21: 15 | X21: 20 | Y21: 5 | Z21: 5 | AA21: 5 | AB21: 5 | AC21: 5 | AD21: 4 | AE21: 1 | AF21: 40 | AG21: 10 | AH21: 20 | AI21: 65 | AJ21: 15 | AK21: 20 | AL21: s | AM21: 5 | AN21: 5 | AO21: 5 | AP21: 5 | AQ21: 5 | AR21: 4 | AS21: 1 | AT21: 50 | AU21: 20 | AV21: 80 | AW21: 20 | AX21: 5 | AY21: 5 | AZ21: 5 | BA21: 5 | BB21: 5 | BC21: 4 | BD21: 1 | BE21: 40 | BF21: 10 | BG21: 20 | BH21: 65 | BI21: 15 | BJ21: 20 | BK21: 5 | BL21: 5 | BM21: 5 | BN21: 5 | BO21: 3 | BP21: 2 | BQ21: 5 | BR21: 50 | BS21: 20 | BT21: 80 | BU21: 20 | BV21: 5 | BW21: 5 | BX21: 5 | BY21: 5 | BZ21: 5 | CA21: 4 | CB21: 1 | CC21: 50 | CD21: 20 | CE21: 80 | CF21: 20 | CG21: 20 | CH21: 20 | CI21: 20 | CJ21: 20 | CK21: 20 | CL21: 20 | CM21: 20 | CN21: 20 | CO21: 20 | CP21: 20 | CQ21: 20 | CR21: 20 | CS21: 20 | CT21: 20 | CU21: 20 | CW21: =IF(DOB!D21="","",DOB!D21) | CX21: u | DA21: =IF($D21="","",IF(DA$6="","",DA$6)) | DC21: =IF($D21="","",IF(DC$6="","",DC$6)) -> 10 | DE21: =IF($D21="","",IF(DE$6="","",DE$6)) -> 10 | DG21: =IF($D21="","",IF(DG$6="","",DG$6)) -> 10 | DI21: =IF(DI$6="","",DI$6) -> 10 | DK21: =IF(DK$6="","",DK$6) -> 10 | DM21: =IF(DM$6="","",DM$6) -> 10 | DO21: =IF(DO$6="","",DO$6) -> 10 | DQ21: =IF(DQ$6="","",DQ$6) -> 10 | DS21: =IF(DS$6="","",DS$6) -> 10 | DU21: =IF(DU$6="","",DU$6) -> 10 | DW21: =IF(DW$6="","",DW$6) -> 10 | EB21: =IF(DC21="","",SUM(DA21,DC21)) -> 10 | EC21: =IF(DD21="","",SUM(DB21,DD21)) | ED21: =IF(DE21="","",SUM(EB21,DE21)) -> 20 | EE21: =IF(DF21="","",SUM(EC21,DF21)) | EF21: =IF(DG21="","",SUM(ED21,DG21)) -> 30 | EG21: =IF(DH21="","",SUM(EE21,DH21)) | EH21: =IF(DI21="","",SUM(EF21,DI21)) -> 40 | EI21: =IF(DJ21="","",SUM(EG21,DJ21)) | EJ21: =IF(DK21="","",SUM(EH21,DK21)) -> 50 | EK21: =IF(DL21="","",SUM(EI21,DL21)) | ... EW21: =IF(DX21="","",SUM(EU21,DX21))
A22: 16 | D22: 816 | H22: =CW22 | I22: A16 | J22: B16 | K22: C16 | L22: 5 | M22: 5 | N22: 5 | O22: 5 | P22: 5 | Q22: 4 | R22: 1 | S22: 40 | T22: 10 | U22: 20 | V22: 65 | W22: 15 | X22: 20 | Y22: 5 | Z22: 5 | AA22: 5 | AB22: 5 | AC22: 5 | AD22: 4 | AE22: 1 | AF22: 40 | AG22: 10 | AH22: 20 | AI22: 65 | AJ22: 15 | AK22: 20 | AL22: s | AM22: 5 | AN22: 5 | AO22: 5 | AP22: 5 | AQ22: 5 | AR22: 4 | AS22: 1 | AT22: 50 | AU22: 20 | AV22: 80 | AW22: 20 | AX22: 5 | AY22: 5 | AZ22: 5 | BA22: 5 | BB22: 5 | BC22: 4 | BD22: 1 | BE22: 40 | BF22: 10 | BG22: 20 | BH22: 65 | BI22: 15 | BJ22: 20 | BK22: 5 | BL22: 5 | BM22: 5 | BN22: 5 | BO22: 3 | BP22: 2 | BQ22: 5 | BR22: 50 | BS22: 20 | BT22: 80 | BU22: 20 | BV22: 5 | BW22: 5 | BX22: 5 | BY22: 5 | BZ22: 5 | CA22: 4 | CB22: 1 | CC22: 50 | CD22: 20 | CE22: 80 | CF22: 20 | CG22: 20 | CH22: 20 | CI22: 20 | CJ22: 20 | CK22: 20 | CL22: 20 | CM22: 20 | CN22: 20 | CO22: 20 | CP22: 20 | CQ22: 20 | CR22: 20 | CS22: 20 | CT22: 20 | CU22: 20 | CW22: =IF(DOB!D22="","",DOB!D22) | CX22: g | DA22: =IF($D22="","",IF(DA$6="","",DA$6)) | DC22: =IF($D22="","",IF(DC$6="","",DC$6)) -> 10 | DE22: =IF($D22="","",IF(DE$6="","",DE$6)) -> 10 | DG22: =IF($D22="","",IF(DG$6="","",DG$6)) -> 10 | DI22: =IF(DI$6="","",DI$6) -> 10 | DK22: =IF(DK$6="","",DK$6) -> 10 | DM22: =IF(DM$6="","",DM$6) -> 10 | DO22: =IF(DO$6="","",DO$6) -> 10 | DQ22: =IF(DQ$6="","",DQ$6) -> 10 | DS22: =IF(DS$6="","",DS$6) -> 10 | DU22: =IF(DU$6="","",DU$6) -> 10 | DW22: =IF(DW$6="","",DW$6) -> 10 | EB22: =IF(DC22="","",SUM(DA22,DC22)) -> 10 | EC22: =IF(DD22="","",SUM(DB22,DD22)) | ED22: =IF(DE22="","",SUM(EB22,DE22)) -> 20 | EE22: =IF(DF22="","",SUM(EC22,DF22)) | EF22: =IF(DG22="","",SUM(ED22,DG22)) -> 30 | EG22: =IF(DH22="","",SUM(EE22,DH22)) | EH22: =IF(DI22="","",SUM(EF22,DI22)) -> 40 | EI22: =IF(DJ22="","",SUM(EG22,DJ22)) | EJ22: =IF(DK22="","",SUM(EH22,DK22)) -> 50 | EK22: =IF(DL22="","",SUM(EI22,DL22)) | ... EW22: =IF(DX22="","",SUM(EU22,DX22))
A23: 17 | D23: 817 | H23: =CW23 | I23: A17 | J23: B17 | K23: C17 | L23: 5 | M23: 5 | N23: 5 | O23: 5 | P23: 5 | Q23: 4 | R23: 1 | S23: 40 | T23: 10 | U23: 20 | V23: 65 | W23: 15 | X23: 20 | Y23: 5 | Z23: 5 | AA23: 5 | AB23: 5 | AC23: 5 | AD23: 4 | AE23: 1 | AF23: 40 | AG23: 10 | AH23: 20 | AI23: 65 | AJ23: 15 | AK23: 20 | AL23: s | AM23: 5 | AN23: 5 | AO23: 5 | AP23: 5 | AQ23: 5 | AR23: 4 | AS23: 1 | AT23: 50 | AU23: 20 | AV23: 80 | AW23: 20 | AX23: 5 | AY23: 5 | AZ23: 5 | BA23: 5 | BB23: 5 | BC23: 4 | BD23: 1 | BE23: 40 | BF23: 10 | BG23: 20 | BH23: 65 | BI23: 15 | BJ23: 20 | BK23: 5 | BL23: 5 | BM23: 5 | BN23: 5 | BO23: 3 | BP23: 2 | BQ23: 5 | BR23: 50 | BS23: 20 | BT23: 80 | BU23: 20 | BV23: 5 | BW23: 5 | BX23: 5 | BY23: 5 | BZ23: 5 | CA23: 4 | CB23: 1 | CC23: 50 | CD23: 20 | CE23: 80 | CF23: 20 | CG23: 20 | CH23: 20 | CI23: 20 | CJ23: 20 | CK23: 20 | CL23: 20 | CM23: 20 | CN23: 20 | CO23: 20 | CP23: 20 | CQ23: 20 | CR23: 20 | CS23: 20 | CT23: 20 | CU23: 20 | CW23: =IF(DOB!D23="","",DOB!D23) | CX23: p | DA23: =IF($D23="","",IF(DA$6="","",DA$6)) | DC23: =IF($D23="","",IF(DC$6="","",DC$6)) -> 10 | DE23: =IF($D23="","",IF(DE$6="","",DE$6)) -> 10 | DG23: =IF($D23="","",IF(DG$6="","",DG$6)) -> 10 | DI23: =IF(DI$6="","",DI$6) -> 10 | DK23: =IF(DK$6="","",DK$6) -> 10 | DM23: =IF(DM$6="","",DM$6) -> 10 | DO23: =IF(DO$6="","",DO$6) -> 10 | DQ23: =IF(DQ$6="","",DQ$6) -> 10 | DS23: =IF(DS$6="","",DS$6) -> 10 | DU23: =IF(DU$6="","",DU$6) -> 10 | DW23: =IF(DW$6="","",DW$6) -> 10 | EB23: =IF(DC23="","",SUM(DA23,DC23)) -> 10 | EC23: =IF(DD23="","",SUM(DB23,DD23)) | ED23: =IF(DE23="","",SUM(EB23,DE23)) -> 20 | EE23: =IF(DF23="","",SUM(EC23,DF23)) | EF23: =IF(DG23="","",SUM(ED23,DG23)) -> 30 | EG23: =IF(DH23="","",SUM(EE23,DH23)) | EH23: =IF(DI23="","",SUM(EF23,DI23)) -> 40 | EI23: =IF(DJ23="","",SUM(EG23,DJ23)) | EJ23: =IF(DK23="","",SUM(EH23,DK23)) -> 50 | EK23: =IF(DL23="","",SUM(EI23,DL23)) | ... EW23: =IF(DX23="","",SUM(EU23,DX23))
A24: 18 | D24: 818 | H24: =CW24 | I24: A18 | J24: B18 | K24: C18 | L24: 5 | M24: 5 | N24: 5 | O24: 5 | P24: 5 | Q24: 4 | R24: 1 | S24: 40 | T24: 10 | U24: 20 | V24: 65 | W24: 15 | X24: 20 | Y24: 5 | Z24: 5 | AA24: 5 | AB24: 5 | AC24: 5 | AD24: 4 | AE24: 1 | AF24: 40 | AG24: 10 | AH24: 20 | AI24: 65 | AJ24: 15 | AK24: 20 | AL24: s | AM24: 5 | AN24: 5 | AO24: 5 | AP24: 5 | AQ24: 5 | AR24: 4 | AS24: 1 | AT24: 50 | AU24: 20 | AV24: 80 | AW24: 20 | AX24: 5 | AY24: 5 | AZ24: 5 | BA24: 5 | BB24: 5 | BC24: 4 | BD24: 1 | BE24: 40 | BF24: 10 | BG24: 20 | BH24: 65 | BI24: 15 | BJ24: 20 | BK24: 5 | BL24: 5 | BM24: 5 | BN24: 5 | BO24: 3 | BP24: 2 | BQ24: 5 | BR24: 50 | BS24: 20 | BT24: 80 | BU24: 20 | BV24: 5 | BW24: 5 | BX24: 5 | BY24: 5 | BZ24: 5 | CA24: 4 | CB24: 1 | CC24: 50 | CD24: 20 | CE24: 80 | CF24: 20 | CG24: 20 | CH24: 20 | CI24: 20 | CJ24: 20 | CK24: 20 | CL24: 20 | CM24: 20 | CN24: 20 | CO24: 20 | CP24: 20 | CQ24: 20 | CR24: 20 | CS24: 20 | CT24: 20 | CU24: 20 | CW24: =IF(DOB!D24="","",DOB!D24) | CX24: sd | DA24: =IF($D24="","",IF(DA$6="","",DA$6)) | DC24: =IF($D24="","",IF(DC$6="","",DC$6)) -> 10 | DE24: =IF($D24="","",IF(DE$6="","",DE$6)) -> 10 | DG24: =IF($D24="","",IF(DG$6="","",DG$6)) -> 10 | DI24: =IF(DI$6="","",DI$6) -> 10 | DK24: =IF(DK$6="","",DK$6) -> 10 | DM24: =IF(DM$6="","",DM$6) -> 10 | DO24: =IF(DO$6="","",DO$6) -> 10 | DQ24: =IF(DQ$6="","",DQ$6) -> 10 | DS24: =IF(DS$6="","",DS$6) -> 10 | DU24: =IF(DU$6="","",DU$6) -> 10 | DW24: =IF(DW$6="","",DW$6) -> 10 | EB24: =IF(DC24="","",SUM(DA24,DC24)) -> 10 | EC24: =IF(DD24="","",SUM(DB24,DD24)) | ED24: =IF(DE24="","",SUM(EB24,DE24)) -> 20 | EE24: =IF(DF24="","",SUM(EC24,DF24)) | EF24: =IF(DG24="","",SUM(ED24,DG24)) -> 30 | EG24: =IF(DH24="","",SUM(EE24,DH24)) | EH24: =IF(DI24="","",SUM(EF24,DI24)) -> 40 | EI24: =IF(DJ24="","",SUM(EG24,DJ24)) | EJ24: =IF(DK24="","",SUM(EH24,DK24)) -> 50 | EK24: =IF(DL24="","",SUM(EI24,DL24)) | ... EW24: =IF(DX24="","",SUM(EU24,DX24))
A25: 19 | D25: 819 | H25: =CW25 | I25: A19 | J25: B19 | K25: C19 | L25: 5 | M25: 5 | N25: 5 | O25: 5 | P25: 5 | Q25: 4 | R25: 1 | S25: 40 | T25: 10 | U25: 20 | V25: 65 | W25: 15 | X25: 20 | Y25: 5 | Z25: 5 | AA25: 5 | AB25: 5 | AC25: 5 | AD25: 4 | AE25: 1 | AF25: 40 | AG25: 10 | AH25: 20 | AI25: 65 | AJ25: 15 | AK25: 20 | AL25: s | AM25: 5 | AN25: 5 | AO25: 5 | AP25: 5 | AQ25: 5 | AR25: 4 | AS25: 1 | AT25: 50 | AU25: 20 | AV25: 80 | AW25: 20 | AX25: 5 | AY25: 5 | AZ25: 5 | BA25: 5 | BB25: 5 | BC25: 4 | BD25: 1 | BE25: 40 | BF25: 10 | BG25: 20 | BH25: 65 | BI25: 15 | BJ25: 20 | BK25: 5 | BL25: 5 | BM25: 5 | BN25: 5 | BO25: 3 | BP25: 2 | BQ25: 5 | BR25: 50 | BS25: 20 | BT25: 80 | BU25: 20 | BV25: 5 | BW25: 5 | BX25: 5 | BY25: 5 | BZ25: 5 | CA25: 4 | CB25: 1 | CC25: 50 | CD25: 20 | CE25: 80 | CF25: 20 | CG25: 20 | CH25: 20 | CI25: 20 | CJ25: 20 | CK25: 20 | CL25: 20 | CM25: 20 | CN25: 20 | CO25: 20 | CP25: 20 | CQ25: 20 | CR25: 20 | CS25: 20 | CT25: 20 | CU25: 20 | CW25: =IF(DOB!D25="","",DOB!D25) | DA25: =IF($D25="","",IF(DA$6="","",DA$6)) | DC25: =IF($D25="","",IF(DC$6="","",DC$6)) -> 10 | DE25: =IF($D25="","",IF(DE$6="","",DE$6)) -> 10 | DG25: =IF($D25="","",IF(DG$6="","",DG$6)) -> 10 | DI25: =IF(DI$6="","",DI$6) -> 10 | DK25: =IF(DK$6="","",DK$6) -> 10 | DM25: =IF(DM$6="","",DM$6) -> 10 | DO25: =IF(DO$6="","",DO$6) -> 10 | DQ25: =IF(DQ$6="","",DQ$6) -> 10 | DS25: =IF(DS$6="","",DS$6) -> 10 | DU25: =IF(DU$6="","",DU$6) -> 10 | DW25: =IF(DW$6="","",DW$6) -> 10 | EB25: =IF(DC25="","",SUM(DA25,DC25)) -> 10 | EC25: =IF(DD25="","",SUM(DB25,DD25)) | ED25: =IF(DE25="","",SUM(EB25,DE25)) -> 20 | EE25: =IF(DF25="","",SUM(EC25,DF25)) | EF25: =IF(DG25="","",SUM(ED25,DG25)) -> 30 | EG25: =IF(DH25="","",SUM(EE25,DH25)) | EH25: =IF(DI25="","",SUM(EF25,DI25)) -> 40 | EI25: =IF(DJ25="","",SUM(EG25,DJ25)) | EJ25: =IF(DK25="","",SUM(EH25,DK25)) -> 50 | EK25: =IF(DL25="","",SUM(EI25,DL25)) | ... EW25: =IF(DX25="","",SUM(EU25,DX25))
A26: 20 | D26: 820 | H26: =CW26 | I26: A20 | J26: B20 | K26: C20 | L26: 5 | M26: 5 | N26: 5 | O26: 5 | P26: 5 | Q26: 4 | R26: 1 | S26: 40 | T26: 10 | U26: 20 | V26: 65 | W26: 15 | X26: 20 | Y26: 5 | Z26: 5 | AA26: 5 | AB26: 5 | AC26: 5 | AD26: 4 | AE26: 1 | AF26: 40 | AG26: 10 | AH26: 20 | AI26: 65 | AJ26: 15 | AK26: 20 | AL26: s | AM26: 5 | AN26: 5 | AO26: 5 | AP26: 5 | AQ26: 5 | AR26: 4 | AS26: 1 | AT26: 50 | AU26: 20 | AV26: 80 | AW26: 20 | AX26: 5 | AY26: 5 | AZ26: 5 | BA26: 5 | BB26: 5 | BC26: 4 | BD26: 1 | BE26: 40 | BF26: 10 | BG26: 20 | BH26: 65 | BI26: 15 | BJ26: 20 | BK26: 5 | BL26: 5 | BM26: 5 | BN26: 5 | BO26: 3 | BP26: 2 | BQ26: 5 | BR26: 50 | BS26: 20 | BT26: 80 | BU26: 20 | BV26: 5 | BW26: 5 | BX26: 5 | BY26: 5 | BZ26: 5 | CA26: 4 | CB26: 1 | CC26: 50 | CD26: 20 | CE26: 80 | CF26: 20 | CG26: 20 | CH26: 20 | CI26: 20 | CJ26: 20 | CK26: 20 | CL26: 20 | CM26: 20 | CN26: 20 | CO26: 20 | CP26: 20 | CQ26: 20 | CR26: 20 | CS26: 20 | CT26: 20 | CU26: 20 | CW26: =IF(DOB!D26="","",DOB!D26) | DA26: =IF($D26="","",IF(DA$6="","",DA$6)) | DC26: =IF($D26="","",IF(DC$6="","",DC$6)) -> 10 | DE26: =IF($D26="","",IF(DE$6="","",DE$6)) -> 10 | DG26: =IF($D26="","",IF(DG$6="","",DG$6)) -> 10 | DI26: =IF(DI$6="","",DI$6) -> 10 | DK26: =IF(DK$6="","",DK$6) -> 10 | DM26: =IF(DM$6="","",DM$6) -> 10 | DO26: =IF(DO$6="","",DO$6) -> 10 | DQ26: =IF(DQ$6="","",DQ$6) -> 10 | DS26: =IF(DS$6="","",DS$6) -> 10 | DU26: =IF(DU$6="","",DU$6) -> 10 | DW26: =IF(DW$6="","",DW$6) -> 10 | EB26: =IF(DC26="","",SUM(DA26,DC26)) -> 10 | EC26: =IF(DD26="","",SUM(DB26,DD26)) | ED26: =IF(DE26="","",SUM(EB26,DE26)) -> 20 | EE26: =IF(DF26="","",SUM(EC26,DF26)) | EF26: =IF(DG26="","",SUM(ED26,DG26)) -> 30 | EG26: =IF(DH26="","",SUM(EE26,DH26)) | EH26: =IF(DI26="","",SUM(EF26,DI26)) -> 40 | EI26: =IF(DJ26="","",SUM(EG26,DJ26)) | EJ26: =IF(DK26="","",SUM(EH26,DK26)) -> 50 | EK26: =IF(DL26="","",SUM(EI26,DL26)) | ... EW26: =IF(DX26="","",SUM(EU26,DX26))
A27: 21 | D27: 821 | H27: =CW27 | I27: A21 | J27: B21 | K27: C21 | L27: 5 | M27: 5 | N27: 5 | O27: 5 | P27: 5 | Q27: 4 | R27: 1 | S27: 40 | T27: 10 | U27: 20 | V27: 65 | W27: 15 | X27: 20 | Y27: 5 | Z27: 5 | AA27: 5 | AB27: 5 | AC27: 5 | AD27: 4 | AE27: 1 | AF27: 40 | AG27: 10 | AH27: 20 | AI27: 65 | AJ27: 15 | AK27: 20 | AL27: s | AM27: 5 | AN27: 5 | AO27: 5 | AP27: 5 | AQ27: 5 | AR27: 4 | AS27: 1 | AT27: 50 | AU27: 20 | AV27: 80 | AW27: 20 | AX27: 5 | AY27: 5 | AZ27: 5 | BA27: 5 | BB27: 5 | BC27: 4 | BD27: 1 | BE27: 40 | BF27: 10 | BG27: 20 | BH27: 65 | BI27: 15 | BJ27: 20 | BK27: 5 | BL27: 5 | BM27: 5 | BN27: 5 | BO27: 3 | BP27: 2 | BQ27: 5 | BR27: 50 | BS27: 20 | BT27: 80 | BU27: 20 | BV27: 5 | BW27: 5 | BX27: 5 | BY27: 5 | BZ27: 5 | CA27: 4 | CB27: 1 | CC27: 50 | CD27: 20 | CE27: 80 | CF27: 20 | CG27: 20 | CH27: 20 | CI27: 20 | CJ27: 20 | CK27: 20 | CL27: 20 | CM27: 20 | CN27: 20 | CO27: 20 | CP27: 20 | CQ27: 20 | CR27: 20 | CS27: 20 | CT27: 20 | CU27: 20 | CW27: =IF(DOB!D27="","",DOB!D27) | CX27: 8 | DA27: =IF($D27="","",IF(DA$6="","",DA$6)) | DC27: =IF($D27="","",IF(DC$6="","",DC$6)) -> 10 | DE27: =IF($D27="","",IF(DE$6="","",DE$6)) -> 10 | DG27: =IF($D27="","",IF(DG$6="","",DG$6)) -> 10 | DI27: =IF(DI$6="","",DI$6) -> 10 | DK27: =IF(DK$6="","",DK$6) -> 10 | DM27: =IF(DM$6="","",DM$6) -> 10 | DO27: =IF(DO$6="","",DO$6) -> 10 | DQ27: =IF(DQ$6="","",DQ$6) -> 10 | DS27: =IF(DS$6="","",DS$6) -> 10 | DU27: =IF(DU$6="","",DU$6) -> 10 | DW27: =IF(DW$6="","",DW$6) -> 10 | EB27: =IF(DC27="","",SUM(DA27,DC27)) -> 10 | EC27: =IF(DD27="","",SUM(DB27,DD27)) | ED27: =IF(DE27="","",SUM(EB27,DE27)) -> 20 | EE27: =IF(DF27="","",SUM(EC27,DF27)) | EF27: =IF(DG27="","",SUM(ED27,DG27)) -> 30 | EG27: =IF(DH27="","",SUM(EE27,DH27)) | EH27: =IF(DI27="","",SUM(EF27,DI27)) -> 40 | EI27: =IF(DJ27="","",SUM(EG27,DJ27)) | EJ27: =IF(DK27="","",SUM(EH27,DK27)) -> 50 | EK27: =IF(DL27="","",SUM(EI27,DL27)) | ... EW27: =IF(DX27="","",SUM(EU27,DX27))
A28: 22 | D28: 822 | H28: =CW28 | I28: A22 | J28: B22 | K28: C22 | L28: 5 | M28: 5 | N28: 5 | O28: 5 | P28: 5 | Q28: 4 | R28: 1 | S28: 40 | T28: 10 | U28: 20 | V28: 65 | W28: 15 | X28: 20 | Y28: 5 | Z28: 5 | AA28: 5 | AB28: 5 | AC28: 5 | AD28: 4 | AE28: 1 | AF28: 40 | AG28: 10 | AH28: 20 | AI28: 65 | AJ28: 15 | AK28: 20 | AL28: s | AM28: 5 | AN28: 5 | AO28: 5 | AP28: 5 | AQ28: 5 | AR28: 4 | AS28: 1 | AT28: 50 | AU28: 20 | AV28: 80 | AW28: 20 | AX28: 5 | AY28: 5 | AZ28: 5 | BA28: 5 | BB28: 5 | BC28: 4 | BD28: 1 | BE28: 40 | BF28: 10 | BG28: 20 | BH28: 65 | BI28: 15 | BJ28: 20 | BK28: 5 | BL28: 5 | BM28: 5 | BN28: 5 | BO28: 3 | BP28: 2 | BQ28: 5 | BR28: 50 | BS28: 20 | BT28: 80 | BU28: 20 | BV28: 5 | BW28: 5 | BX28: 5 | BY28: 5 | BZ28: 5 | CA28: 4 | CB28: 1 | CC28: 50 | CD28: 20 | CE28: 80 | CF28: 20 | CG28: 20 | CH28: 20 | CI28: 20 | CJ28: 20 | CK28: 20 | CL28: 20 | CM28: 20 | CN28: 20 | CO28: 20 | CP28: 20 | CQ28: 20 | CR28: 20 | CS28: 20 | CT28: 20 | CU28: 20 | CW28: =IF(DOB!D28="","",DOB!D28) | CX28: 7 | DA28: =IF($D28="","",IF(DA$6="","",DA$6)) | DC28: =IF($D28="","",IF(DC$6="","",DC$6)) -> 10 | DE28: =IF($D28="","",IF(DE$6="","",DE$6)) -> 10 | DG28: =IF($D28="","",IF(DG$6="","",DG$6)) -> 10 | DI28: =IF(DI$6="","",DI$6) -> 10 | DK28: =IF(DK$6="","",DK$6) -> 10 | DM28: =IF(DM$6="","",DM$6) -> 10 | DO28: =IF(DO$6="","",DO$6) -> 10 | DQ28: =IF(DQ$6="","",DQ$6) -> 10 | DS28: =IF(DS$6="","",DS$6) -> 10 | DU28: =IF(DU$6="","",DU$6) -> 10 | DW28: =IF(DW$6="","",DW$6) -> 10 | EB28: =IF(DC28="","",SUM(DA28,DC28)) -> 10 | EC28: =IF(DD28="","",SUM(DB28,DD28)) | ED28: =IF(DE28="","",SUM(EB28,DE28)) -> 20 | EE28: =IF(DF28="","",SUM(EC28,DF28)) | EF28: =IF(DG28="","",SUM(ED28,DG28)) -> 30 | EG28: =IF(DH28="","",SUM(EE28,DH28)) | EH28: =IF(DI28="","",SUM(EF28,DI28)) -> 40 | EI28: =IF(DJ28="","",SUM(EG28,DJ28)) | EJ28: =IF(DK28="","",SUM(EH28,DK28)) -> 50 | EK28: =IF(DL28="","",SUM(EI28,DL28)) | ... EW28: =IF(DX28="","",SUM(EU28,DX28))
A29: 23 | D29: 823 | H29: =CW29 | I29: A23 | J29: B23 | K29: C23 | L29: 5 | M29: 5 | N29: 5 | O29: 5 | P29: 5 | Q29: 4 | R29: 1 | S29: 40 | T29: 10 | U29: 20 | V29: 65 | W29: 15 | X29: 20 | Y29: 5 | Z29: 5 | AA29: 5 | AB29: 5 | AC29: 5 | AD29: 4 | AE29: 1 | AF29: 40 | AG29: 10 | AH29: 20 | AI29: 65 | AJ29: 15 | AK29: 20 | AL29: s | AM29: 5 | AN29: 5 | AO29: 5 | AP29: 5 | AQ29: 5 | AR29: 4 | AS29: 1 | AT29: 50 | AU29: 20 | AV29: 80 | AW29: 20 | AX29: 5 | AY29: 5 | AZ29: 5 | BA29: 5 | BB29: 5 | BC29: 4 | BD29: 1 | BE29: 40 | BF29: 10 | BG29: 20 | BH29: 65 | BI29: 15 | BJ29: 20 | BK29: 5 | BL29: 5 | BM29: 5 | BN29: 5 | BO29: 3 | BP29: 2 | BQ29: 5 | BR29: 50 | BS29: 20 | BT29: 80 | BU29: 20 | BV29: 5 | BW29: 5 | BX29: 5 | BY29: 5 | BZ29: 5 | CA29: 4 | CB29: 1 | CC29: 50 | CD29: 20 | CE29: 80 | CF29: 20 | CG29: 20 | CH29: 20 | CI29: 20 | CJ29: 20 | CK29: 20 | CL29: 20 | CM29: 20 | CN29: 20 | CO29: 20 | CP29: 20 | CQ29: 20 | CR29: 20 | CS29: 20 | CT29: 20 | CU29: 20 | CW29: =IF(DOB!D29="","",DOB!D29) | CX29: 6 | DA29: =IF($D29="","",IF(DA$6="","",DA$6)) | DC29: =IF($D29="","",IF(DC$6="","",DC$6)) -> 10 | DE29: =IF($D29="","",IF(DE$6="","",DE$6)) -> 10 | DG29: =IF($D29="","",IF(DG$6="","",DG$6)) -> 10 | DI29: =IF(DI$6="","",DI$6) -> 10 | DK29: =IF(DK$6="","",DK$6) -> 10 | DM29: =IF(DM$6="","",DM$6) -> 10 | DO29: =IF(DO$6="","",DO$6) -> 10 | DQ29: =IF(DQ$6="","",DQ$6) -> 10 | DS29: =IF(DS$6="","",DS$6) -> 10 | DU29: =IF(DU$6="","",DU$6) -> 10 | DW29: =IF(DW$6="","",DW$6) -> 10 | EB29: =IF(DC29="","",SUM(DA29,DC29)) -> 10 | EC29: =IF(DD29="","",SUM(DB29,DD29)) | ED29: =IF(DE29="","",SUM(EB29,DE29)) -> 20 | EE29: =IF(DF29="","",SUM(EC29,DF29)) | EF29: =IF(DG29="","",SUM(ED29,DG29)) -> 30 | EG29: =IF(DH29="","",SUM(EE29,DH29)) | EH29: =IF(DI29="","",SUM(EF29,DI29)) -> 40 | EI29: =IF(DJ29="","",SUM(EG29,DJ29)) | EJ29: =IF(DK29="","",SUM(EH29,DK29)) -> 50 | EK29: =IF(DL29="","",SUM(EI29,DL29)) | ... EW29: =IF(DX29="","",SUM(EU29,DX29))
A30: 24 | D30: 824 | H30: =CW30 | I30: A24 | J30: B24 | K30: C24 | L30: 5 | M30: 5 | N30: 5 | O30: 5 | P30: 5 | Q30: 4 | R30: 1 | S30: 40 | T30: 10 | U30: 20 | V30: 65 | W30: 15 | X30: 20 | Y30: 5 | Z30: 5 | AA30: 5 | AB30: 5 | AC30: 5 | AD30: 4 | AE30: 1 | AF30: 40 | AG30: 10 | AH30: 20 | AI30: 65 | AJ30: 15 | AK30: 20 | AL30: s | AM30: 5 | AN30: 5 | AO30: 5 | AP30: 5 | AQ30: 5 | AR30: 4 | AS30: 1 | AT30: 50 | AU30: 20 | AV30: 80 | AW30: 20 | AX30: 5 | AY30: 5 | AZ30: 5 | BA30: 5 | BB30: 5 | BC30: 4 | BD30: 1 | BE30: 40 | BF30: 10 | BG30: 20 | BH30: 65 | BI30: 15 | BJ30: 20 | BK30: 5 | BL30: 5 | BM30: 5 | BN30: 5 | BO30: 3 | BP30: 2 | BQ30: 5 | BR30: 50 | BS30: 20 | BT30: 80 | BU30: 20 | BV30: 5 | BW30: 5 | BX30: 5 | BY30: 5 | BZ30: 5 | CA30: 4 | CB30: 1 | CC30: 50 | CD30: 20 | CE30: 80 | CF30: 20 | CG30: 20 | CH30: 20 | CI30: 20 | CJ30: 20 | CK30: 20 | CL30: 20 | CM30: 20 | CN30: 20 | CO30: 20 | CP30: 20 | CQ30: 20 | CR30: 20 | CS30: 20 | CT30: 20 | CU30: 20 | CW30: =IF(DOB!D30="","",DOB!D30) | DA30: =IF($D30="","",IF(DA$6="","",DA$6)) | DC30: =IF($D30="","",IF(DC$6="","",DC$6)) -> 10 | DE30: =IF($D30="","",IF(DE$6="","",DE$6)) -> 10 | DG30: =IF($D30="","",IF(DG$6="","",DG$6)) -> 10 | DI30: =IF(DI$6="","",DI$6) -> 10 | DK30: =IF(DK$6="","",DK$6) -> 10 | DM30: =IF(DM$6="","",DM$6) -> 10 | DO30: =IF(DO$6="","",DO$6) -> 10 | DQ30: =IF(DQ$6="","",DQ$6) -> 10 | DS30: =IF(DS$6="","",DS$6) -> 10 | DU30: =IF(DU$6="","",DU$6) -> 10 | DW30: =IF(DW$6="","",DW$6) -> 10 | EB30: =IF(DC30="","",SUM(DA30,DC30)) -> 10 | EC30: =IF(DD30="","",SUM(DB30,DD30)) | ED30: =IF(DE30="","",SUM(EB30,DE30)) -> 20 | EE30: =IF(DF30="","",SUM(EC30,DF30)) | EF30: =IF(DG30="","",SUM(ED30,DG30)) -> 30 | EG30: =IF(DH30="","",SUM(EE30,DH30)) | EH30: =IF(DI30="","",SUM(EF30,DI30)) -> 40 | EI30: =IF(DJ30="","",SUM(EG30,DJ30)) | EJ30: =IF(DK30="","",SUM(EH30,DK30)) -> 50 | EK30: =IF(DL30="","",SUM(EI30,DL30)) | ... EW30: =IF(DX30="","",SUM(EU30,DX30))
A31: 25 | D31: 825 | H31: =CW31 | I31: A25 | J31: B25 | K31: C25 | L31: 5 | M31: 5 | N31: 5 | O31: 5 | P31: 5 | Q31: 4 | R31: 1 | S31: 40 | T31: 10 | U31: 20 | V31: 65 | W31: 15 | X31: 20 | Y31: 5 | Z31: 5 | AA31: 5 | AB31: 5 | AC31: 5 | AD31: 4 | AE31: 1 | AF31: 40 | AG31: 10 | AH31: 20 | AI31: 65 | AJ31: 15 | AK31: 20 | AL31: s | AM31: 5 | AN31: 5 | AO31: 5 | AP31: 5 | AQ31: 5 | AR31: 4 | AS31: 1 | AT31: 50 | AU31: 20 | AV31: 80 | AW31: 20 | AX31: 5 | AY31: 5 | AZ31: 5 | BA31: 5 | BB31: 5 | BC31: 4 | BD31: 1 | BE31: 40 | BF31: 10 | BG31: 20 | BH31: 65 | BI31: 15 | BJ31: 20 | BK31: 5 | BL31: 5 | BM31: 5 | BN31: 5 | BO31: 3 | BP31: 2 | BQ31: 5 | BR31: 50 | BS31: 20 | BT31: 80 | BU31: 20 | BV31: 5 | BW31: 5 | BX31: 5 | BY31: 5 | BZ31: 5 | CA31: 4 | CB31: 1 | CC31: 50 | CD31: 20 | CE31: 80 | CF31: 20 | CG31: 20 | CH31: 20 | CI31: 20 | CJ31: 20 | CK31: 20 | CL31: 20 | CM31: 20 | CN31: 20 | CO31: 20 | CP31: 20 | CQ31: 20 | CR31: 20 | CS31: 20 | CT31: 20 | CU31: 20 | CW31: =IF(DOB!D31="","",DOB!D31) | DA31: =IF($D31="","",IF(DA$6="","",DA$6)) | DC31: =IF($D31="","",IF(DC$6="","",DC$6)) -> 10 | DE31: =IF($D31="","",IF(DE$6="","",DE$6)) -> 10 | DG31: =IF($D31="","",IF(DG$6="","",DG$6)) -> 10 | DI31: =IF(DI$6="","",DI$6) -> 10 | DK31: =IF(DK$6="","",DK$6) -> 10 | DM31: =IF(DM$6="","",DM$6) -> 10 | DO31: =IF(DO$6="","",DO$6) -> 10 | DQ31: =IF(DQ$6="","",DQ$6) -> 10 | DS31: =IF(DS$6="","",DS$6) -> 10 | DU31: =IF(DU$6="","",DU$6) -> 10 | DW31: =IF(DW$6="","",DW$6) -> 10 | EB31: =IF(DC31="","",SUM(DA31,DC31)) -> 10 | EC31: =IF(DD31="","",SUM(DB31,DD31)) | ED31: =IF(DE31="","",SUM(EB31,DE31)) -> 20 | EE31: =IF(DF31="","",SUM(EC31,DF31)) | EF31: =IF(DG31="","",SUM(ED31,DG31)) -> 30 | EG31: =IF(DH31="","",SUM(EE31,DH31)) | EH31: =IF(DI31="","",SUM(EF31,DI31)) -> 40 | EI31: =IF(DJ31="","",SUM(EG31,DJ31)) | EJ31: =IF(DK31="","",SUM(EH31,DK31)) -> 50 | EK31: =IF(DL31="","",SUM(EI31,DL31)) | ... EW31: =IF(DX31="","",SUM(EU31,DX31))
A32: 26 | D32: 826 | H32: =CW32 | I32: A26 | J32: B26 | K32: C26 | L32: 5 | M32: 5 | N32: 5 | O32: 5 | P32: 5 | Q32: 4 | R32: 1 | S32: 40 | T32: 10 | U32: 20 | V32: 65 | W32: 15 | X32: 20 | Y32: 5 | Z32: 5 | AA32: 5 | AB32: 5 | AC32: 5 | AD32: 4 | AE32: 1 | AF32: 40 | AG32: 10 | AH32: 20 | AI32: 65 | AJ32: 15 | AK32: 20 | AL32: s | AM32: 5 | AN32: 5 | AO32: 5 | AP32: 5 | AQ32: 5 | AR32: 4 | AS32: 1 | AT32: 50 | AU32: 20 | AV32: 80 | AW32: 20 | AX32: 5 | AY32: 5 | AZ32: 5 | BA32: 5 | BB32: 5 | BC32: 4 | BD32: 1 | BE32: 40 | BF32: 10 | BG32: 20 | BH32: 65 | BI32: 15 | BJ32: 20 | BK32: 5 | BL32: 5 | BM32: 5 | BN32: 5 | BO32: 3 | BP32: 2 | BQ32: 5 | BR32: 50 | BS32: 20 | BT32: 80 | BU32: 20 | BV32: 5 | BW32: 5 | BX32: 5 | BY32: 5 | BZ32: 5 | CA32: 4 | CB32: 1 | CC32: 50 | CD32: 20 | CE32: 80 | CF32: 20 | CG32: 20 | CH32: 20 | CI32: 20 | CJ32: 20 | CK32: 20 | CL32: 20 | CM32: 20 | CN32: 20 | CO32: 20 | CP32: 20 | CQ32: 20 | CR32: 20 | CS32: 20 | CT32: 20 | CU32: 20 | CW32: =IF(DOB!D32="","",DOB!D32) | DA32: =IF($D32="","",IF(DA$6="","",DA$6)) | DC32: =IF($D32="","",IF(DC$6="","",DC$6)) -> 10 | DE32: =IF($D32="","",IF(DE$6="","",DE$6)) -> 10 | DG32: =IF($D32="","",IF(DG$6="","",DG$6)) -> 10 | DI32: =IF(DI$6="","",DI$6) -> 10 | DK32: =IF(DK$6="","",DK$6) -> 10 | DM32: =IF(DM$6="","",DM$6) -> 10 | DO32: =IF(DO$6="","",DO$6) -> 10 | DQ32: =IF(DQ$6="","",DQ$6) -> 10 | DS32: =IF(DS$6="","",DS$6) -> 10 | DU32: =IF(DU$6="","",DU$6) -> 10 | DW32: =IF(DW$6="","",DW$6) -> 10 | EB32: =IF(DC32="","",SUM(DA32,DC32)) -> 10 | EC32: =IF(DD32="","",SUM(DB32,DD32)) | ED32: =IF(DE32="","",SUM(EB32,DE32)) -> 20 | EE32: =IF(DF32="","",SUM(EC32,DF32)) | EF32: =IF(DG32="","",SUM(ED32,DG32)) -> 30 | EG32: =IF(DH32="","",SUM(EE32,DH32)) | EH32: =IF(DI32="","",SUM(EF32,DI32)) -> 40 | EI32: =IF(DJ32="","",SUM(EG32,DJ32)) | EJ32: =IF(DK32="","",SUM(EH32,DK32)) -> 50 | EK32: =IF(DL32="","",SUM(EI32,DL32)) | ... EW32: =IF(DX32="","",SUM(EU32,DX32))
A33: 27 | D33: 827 | H33: =CW33 | I33: A27 | J33: B27 | K33: C27 | L33: 5 | M33: 5 | N33: 5 | O33: 5 | P33: 5 | Q33: 4 | R33: 1 | S33: 40 | T33: 10 | U33: 20 | V33: 65 | W33: 15 | X33: 20 | Y33: 5 | Z33: 5 | AA33: 5 | AB33: 5 | AC33: 5 | AD33: 4 | AE33: 1 | AF33: 40 | AG33: 10 | AH33: 20 | AI33: 65 | AJ33: 15 | AK33: 20 | AL33: s | AM33: 5 | AN33: 5 | AO33: 5 | AP33: 5 | AQ33: 5 | AR33: 4 | AS33: 1 | AT33: 50 | AU33: 20 | AV33: 80 | AW33: 20 | AX33: 5 | AY33: 5 | AZ33: 5 | BA33: 5 | BB33: 5 | BC33: 4 | BD33: 1 | BE33: 40 | BF33: 10 | BG33: 20 | BH33: 65 | BI33: 15 | BJ33: 20 | BK33: 5 | BL33: 5 | BM33: 5 | BN33: 5 | BO33: 3 | BP33: 2 | BQ33: 5 | BR33: 50 | BS33: 20 | BT33: 80 | BU33: 20 | BV33: 5 | BW33: 5 | BX33: 5 | BY33: 5 | BZ33: 5 | CA33: 4 | CB33: 1 | CC33: 50 | CD33: 20 | CE33: 80 | CF33: 20 | CG33: 20 | CH33: 20 | CI33: 20 | CJ33: 20 | CK33: 20 | CL33: 20 | CM33: 20 | CN33: 20 | CO33: 20 | CP33: 20 | CQ33: 20 | CR33: 20 | CS33: 20 | CT33: 20 | CU33: 20 | CW33: =IF(DOB!D33="","",DOB!D33) | DA33: =IF($D33="","",IF(DA$6="","",DA$6)) | DC33: =IF($D33="","",IF(DC$6="","",DC$6)) -> 10 | DE33: =IF($D33="","",IF(DE$6="","",DE$6)) -> 10 | DG33: =IF($D33="","",IF(DG$6="","",DG$6)) -> 10 | DI33: =IF(DI$6="","",DI$6) -> 10 | DK33: =IF(DK$6="","",DK$6) -> 10 | DM33: =IF(DM$6="","",DM$6) -> 10 | DO33: =IF(DO$6="","",DO$6) -> 10 | DQ33: =IF(DQ$6="","",DQ$6) -> 10 | DS33: =IF(DS$6="","",DS$6) -> 10 | DU33: =IF(DU$6="","",DU$6) -> 10 | DW33: =IF(DW$6="","",DW$6) -> 10 | EB33: =IF(DC33="","",SUM(DA33,DC33)) -> 10 | EC33: =IF(DD33="","",SUM(DB33,DD33)) | ED33: =IF(DE33="","",SUM(EB33,DE33)) -> 20 | EE33: =IF(DF33="","",SUM(EC33,DF33)) | EF33: =IF(DG33="","",SUM(ED33,DG33)) -> 30 | EG33: =IF(DH33="","",SUM(EE33,DH33)) | EH33: =IF(DI33="","",SUM(EF33,DI33)) -> 40 | EI33: =IF(DJ33="","",SUM(EG33,DJ33)) | EJ33: =IF(DK33="","",SUM(EH33,DK33)) -> 50 | EK33: =IF(DL33="","",SUM(EI33,DL33)) | ... EW33: =IF(DX33="","",SUM(EU33,DX33))
A34: 28 | D34: 828 | H34: =CW34 | I34: A28 | J34: B28 | K34: C28 | L34: 5 | M34: 5 | N34: 5 | O34: 5 | P34: 5 | Q34: 4 | R34: 1 | S34: 40 | T34: 10 | U34: 20 | V34: 65 | W34: 15 | X34: 20 | Y34: 5 | Z34: 5 | AA34: 5 | AB34: 5 | AC34: 5 | AD34: 4 | AE34: 1 | AF34: 40 | AG34: 10 | AH34: 20 | AI34: 65 | AJ34: 15 | AK34: 20 | AL34: s | AM34: 5 | AN34: 5 | AO34: 5 | AP34: 5 | AQ34: 5 | AR34: 4 | AS34: 1 | AT34: 50 | AU34: 20 | AV34: 80 | AW34: 20 | AX34: 5 | AY34: 5 | AZ34: 5 | BA34: 5 | BB34: 5 | BC34: 4 | BD34: 1 | BE34: 40 | BF34: 10 | BG34: 20 | BH34: 65 | BI34: 15 | BJ34: 20 | BK34: 5 | BL34: 5 | BM34: 5 | BN34: 5 | BO34: 3 | BP34: 2 | BQ34: 5 | BR34: 50 | BS34: 20 | BT34: 80 | BU34: 20 | BV34: 5 | BW34: 5 | BX34: 5 | BY34: 5 | BZ34: 5 | CA34: 4 | CB34: 1 | CC34: 50 | CD34: 20 | CE34: 80 | CF34: 20 | CG34: 20 | CH34: 20 | CI34: 20 | CJ34: 20 | CK34: 20 | CL34: 20 | CM34: 20 | CN34: 20 | CO34: 20 | CP34: 20 | CQ34: 20 | CR34: 20 | CS34: 20 | CT34: 20 | CU34: 20 | CW34: =IF(DOB!D34="","",DOB!D34) | DA34: =IF($D34="","",IF(DA$6="","",DA$6)) | DC34: =IF($D34="","",IF(DC$6="","",DC$6)) -> 10 | DE34: =IF($D34="","",IF(DE$6="","",DE$6)) -> 10 | DG34: =IF($D34="","",IF(DG$6="","",DG$6)) -> 10 | DI34: =IF(DI$6="","",DI$6) -> 10 | DK34: =IF(DK$6="","",DK$6) -> 10 | DM34: =IF(DM$6="","",DM$6) -> 10 | DO34: =IF(DO$6="","",DO$6) -> 10 | DQ34: =IF(DQ$6="","",DQ$6) -> 10 | DS34: =IF(DS$6="","",DS$6) -> 10 | DU34: =IF(DU$6="","",DU$6) -> 10 | DW34: =IF(DW$6="","",DW$6) -> 10 | EB34: =IF(DC34="","",SUM(DA34,DC34)) -> 10 | EC34: =IF(DD34="","",SUM(DB34,DD34)) | ED34: =IF(DE34="","",SUM(EB34,DE34)) -> 20 | EE34: =IF(DF34="","",SUM(EC34,DF34)) | EF34: =IF(DG34="","",SUM(ED34,DG34)) -> 30 | EG34: =IF(DH34="","",SUM(EE34,DH34)) | EH34: =IF(DI34="","",SUM(EF34,DI34)) -> 40 | EI34: =IF(DJ34="","",SUM(EG34,DJ34)) | EJ34: =IF(DK34="","",SUM(EH34,DK34)) -> 50 | EK34: =IF(DL34="","",SUM(EI34,DL34)) | ... EW34: =IF(DX34="","",SUM(EU34,DX34))
A35: 29 | D35: 829 | H35: =CW35 | I35: A29 | J35: B29 | K35: C29 | L35: 5 | M35: 5 | N35: 5 | O35: 5 | P35: 5 | Q35: 4 | R35: 1 | S35: 40 | T35: 10 | U35: 20 | V35: 65 | W35: 15 | X35: 20 | Y35: 5 | Z35: 5 | AA35: 5 | AB35: 5 | AC35: 5 | AD35: 4 | AE35: 1 | AF35: 40 | AG35: 10 | AH35: 20 | AI35: 65 | AJ35: 15 | AK35: 20 | AL35: s | AM35: 5 | AN35: 5 | AO35: 5 | AP35: 5 | AQ35: 5 | AR35: 4 | AS35: 1 | AT35: 50 | AU35: 20 | AV35: 80 | AW35: 20 | AX35: 5 | AY35: 5 | AZ35: 5 | BA35: 5 | BB35: 5 | BC35: 4 | BD35: 1 | BE35: 40 | BF35: 10 | BG35: 20 | BH35: 65 | BI35: 15 | BJ35: 20 | BK35: 5 | BL35: 5 | BM35: 5 | BN35: 5 | BO35: 3 | BP35: 2 | BQ35: 5 | BR35: 50 | BS35: 20 | BT35: 80 | BU35: 20 | BV35: 5 | BW35: 5 | BX35: 5 | BY35: 5 | BZ35: 5 | CA35: 4 | CB35: 1 | CC35: 50 | CD35: 20 | CE35: 80 | CF35: 20 | CG35: 20 | CH35: 20 | CI35: 20 | CJ35: 20 | CK35: 20 | CL35: 20 | CM35: 20 | CN35: 20 | CO35: 20 | CP35: 20 | CQ35: 20 | CR35: 20 | CS35: 20 | CT35: 20 | CU35: 20 | CW35: =IF(DOB!D35="","",DOB!D35) | CX35: A | DA35: =IF($D35="","",IF(DA$6="","",DA$6)) | DC35: =IF($D35="","",IF(DC$6="","",DC$6)) -> 10 | DE35: =IF($D35="","",IF(DE$6="","",DE$6)) -> 10 | DG35: =IF($D35="","",IF(DG$6="","",DG$6)) -> 10 | DI35: =IF(DI$6="","",DI$6) -> 10 | DK35: =IF(DK$6="","",DK$6) -> 10 | DM35: =IF(DM$6="","",DM$6) -> 10 | DO35: =IF(DO$6="","",DO$6) -> 10 | DQ35: =IF(DQ$6="","",DQ$6) -> 10 | DS35: =IF(DS$6="","",DS$6) -> 10 | DU35: =IF(DU$6="","",DU$6) -> 10 | DW35: =IF(DW$6="","",DW$6) -> 10 | EB35: =IF(DC35="","",SUM(DA35,DC35)) -> 10 | EC35: =IF(DD35="","",SUM(DB35,DD35)) | ED35: =IF(DE35="","",SUM(EB35,DE35)) -> 20 | EE35: =IF(DF35="","",SUM(EC35,DF35)) | EF35: =IF(DG35="","",SUM(ED35,DG35)) -> 30 | EG35: =IF(DH35="","",SUM(EE35,DH35)) | EH35: =IF(DI35="","",SUM(EF35,DI35)) -> 40 | EI35: =IF(DJ35="","",SUM(EG35,DJ35)) | EJ35: =IF(DK35="","",SUM(EH35,DK35)) -> 50 | EK35: =IF(DL35="","",SUM(EI35,DL35)) | ... EW35: =IF(DX35="","",SUM(EU35,DX35))
A36: 30 | D36: 830 | H36: =CW36 | I36: A30 | J36: B30 | K36: C30 | L36: 5 | M36: 5 | N36: 5 | O36: 5 | P36: 5 | Q36: 4 | R36: 1 | S36: 40 | T36: 10 | U36: 20 | V36: 65 | W36: 15 | X36: 20 | Y36: 5 | Z36: 5 | AA36: 5 | AB36: 5 | AC36: 5 | AD36: 4 | AE36: 1 | AF36: 40 | AG36: 10 | AH36: 20 | AI36: 65 | AJ36: 15 | AK36: 20 | AL36: s | AM36: 5 | AN36: 5 | AO36: 5 | AP36: 5 | AQ36: 5 | AR36: 4 | AS36: 1 | AT36: 50 | AU36: 20 | AV36: 80 | AW36: 20 | AX36: 5 | AY36: 5 | AZ36: 5 | BA36: 5 | BB36: 5 | BC36: 4 | BD36: 1 | BE36: 40 | BF36: 10 | BG36: 20 | BH36: 65 | BI36: 15 | BJ36: 20 | BK36: 5 | BL36: 5 | BM36: 5 | BN36: 5 | BO36: 3 | BP36: 2 | BQ36: 5 | BR36: 50 | BS36: 20 | BT36: 80 | BU36: 20 | BV36: 5 | BW36: 5 | BX36: 5 | BY36: 5 | BZ36: 5 | CA36: 4 | CB36: 1 | CC36: 50 | CD36: 20 | CE36: 80 | CF36: 20 | CG36: 20 | CH36: 20 | CI36: 20 | CJ36: 20 | CK36: 20 | CL36: 20 | CM36: 20 | CN36: 20 | CO36: 20 | CP36: 20 | CQ36: 20 | CR36: 20 | CS36: 20 | CT36: 20 | CU36: 20 | CW36: =IF(DOB!D36="","",DOB!D36) | CX36: B | DA36: =IF($D36="","",IF(DA$6="","",DA$6)) | DC36: =IF($D36="","",IF(DC$6="","",DC$6)) -> 10 | DE36: =IF($D36="","",IF(DE$6="","",DE$6)) -> 10 | DG36: =IF($D36="","",IF(DG$6="","",DG$6)) -> 10 | DI36: =IF(DI$6="","",DI$6) -> 10 | DK36: =IF(DK$6="","",DK$6) -> 10 | DM36: =IF(DM$6="","",DM$6) -> 10 | DO36: =IF(DO$6="","",DO$6) -> 10 | DQ36: =IF(DQ$6="","",DQ$6) -> 10 | DS36: =IF(DS$6="","",DS$6) -> 10 | DU36: =IF(DU$6="","",DU$6) -> 10 | DW36: =IF(DW$6="","",DW$6) -> 10 | EB36: =IF(DC36="","",SUM(DA36,DC36)) -> 10 | EC36: =IF(DD36="","",SUM(DB36,DD36)) | ED36: =IF(DE36="","",SUM(EB36,DE36)) -> 20 | EE36: =IF(DF36="","",SUM(EC36,DF36)) | EF36: =IF(DG36="","",SUM(ED36,DG36)) -> 30 | EG36: =IF(DH36="","",SUM(EE36,DH36)) | EH36: =IF(DI36="","",SUM(EF36,DI36)) -> 40 | EI36: =IF(DJ36="","",SUM(EG36,DJ36)) | EJ36: =IF(DK36="","",SUM(EH36,DK36)) -> 50 | EK36: =IF(DL36="","",SUM(EI36,DL36)) | ... EW36: =IF(DX36="","",SUM(EU36,DX36))
D37: 831 | CW37: =IF(DOB!D37="","",DOB!D37) | CX37: C | DA37: =IF($D37="","",IF(DA$6="","",DA$6)) | DC37: =IF($D37="","",IF(DC$6="","",DC$6)) -> 10 | DE37: =IF($D37="","",IF(DE$6="","",DE$6)) -> 10 | DG37: =IF($D37="","",IF(DG$6="","",DG$6)) -> 10 | DI37: =IF(DI$6="","",DI$6) -> 10 | DK37: =IF(DK$6="","",DK$6) -> 10 | DM37: =IF(DM$6="","",DM$6) -> 10 | DO37: =IF(DO$6="","",DO$6) -> 10 | DQ37: =IF(DQ$6="","",DQ$6) -> 10 | DS37: =IF(DS$6="","",DS$6) -> 10 | DU37: =IF(DU$6="","",DU$6) -> 10 | DW37: =IF(DW$6="","",DW$6) -> 10 | EB37: =IF(DC37="","",SUM(DA37,DC37)) -> 10 | EC37: =IF(DD37="","",SUM(DB37,DD37)) | ED37: =IF(DE37="","",SUM(EB37,DE37)) -> 20 | EE37: =IF(DF37="","",SUM(EC37,DF37)) | EF37: =IF(DG37="","",SUM(ED37,DG37)) -> 30 | EG37: =IF(DH37="","",SUM(EE37,DH37)) | EH37: =IF(DI37="","",SUM(EF37,DI37)) -> 40 | EI37: =IF(DJ37="","",SUM(EG37,DJ37)) | EJ37: =IF(DK37="","",SUM(EH37,DK37)) -> 50 | EK37: =IF(DL37="","",SUM(EI37,DL37)) | ... EW37: =IF(DX37="","",SUM(EU37,DX37))
D38: 832 | CW38: =IF(DOB!D38="","",DOB!D38) | CX38: D | DA38: =IF($D38="","",IF(DA$6="","",DA$6)) | DC38: =IF($D38="","",IF(DC$6="","",DC$6)) -> 10 | DE38: =IF($D38="","",IF(DE$6="","",DE$6)) -> 10 | DG38: =IF($D38="","",IF(DG$6="","",DG$6)) -> 10 | DI38: =IF(DI$6="","",DI$6) -> 10 | DK38: =IF(DK$6="","",DK$6) -> 10 | DM38: =IF(DM$6="","",DM$6) -> 10 | DO38: =IF(DO$6="","",DO$6) -> 10 | DQ38: =IF(DQ$6="","",DQ$6) -> 10 | DS38: =IF(DS$6="","",DS$6) -> 10 | DU38: =IF(DU$6="","",DU$6) -> 10 | DW38: =IF(DW$6="","",DW$6) -> 10 | EB38: =IF(DC38="","",SUM(DA38,DC38)) -> 10 | EC38: =IF(DD38="","",SUM(DB38,DD38)) | ED38: =IF(DE38="","",SUM(EB38,DE38)) -> 20 | EE38: =IF(DF38="","",SUM(EC38,DF38)) | EF38: =IF(DG38="","",SUM(ED38,DG38)) -> 30 | EG38: =IF(DH38="","",SUM(EE38,DH38)) | EH38: =IF(DI38="","",SUM(EF38,DI38)) -> 40 | EI38: =IF(DJ38="","",SUM(EG38,DJ38)) | EJ38: =IF(DK38="","",SUM(EH38,DK38)) -> 50 | EK38: =IF(DL38="","",SUM(EI38,DL38)) | ... EW38: =IF(DX38="","",SUM(EU38,DX38))
D39: 833 | CW39: =IF(DOB!D39="","",DOB!D39) | CX39: E | DA39: =IF(DA$6="","",DA$6) | DC39: =IF(DC$6="","",DC$6) -> 10 | DE39: =IF(DE$6="","",DE$6) -> 10 | DG39: =IF(DG$6="","",DG$6) -> 10 | DI39: =IF(DI$6="","",DI$6) -> 10 | DK39: =IF(DK$6="","",DK$6) -> 10 | DM39: =IF(DM$6="","",DM$6) -> 10 | DO39: =IF(DO$6="","",DO$6) -> 10 | DQ39: =IF(DQ$6="","",DQ$6) -> 10 | DS39: =IF(DS$6="","",DS$6) -> 10 | DU39: =IF(DU$6="","",DU$6) -> 10 | DW39: =IF(DW$6="","",DW$6) -> 10 | EB39: =IF(DC39="","",SUM(DA39,DC39)) -> 10 | EC39: =IF(DD39="","",SUM(DB39,DD39)) | ED39: =IF(DE39="","",SUM(EB39,DE39)) -> 20 | EE39: =IF(DF39="","",SUM(EC39,DF39)) | EF39: =IF(DG39="","",SUM(ED39,DG39)) -> 30 | EG39: =IF(DH39="","",SUM(EE39,DH39)) | EH39: =IF(DI39="","",SUM(EF39,DI39)) -> 40 | EI39: =IF(DJ39="","",SUM(EG39,DJ39)) | EJ39: =IF(DK39="","",SUM(EH39,DK39)) -> 50 | EK39: =IF(DL39="","",SUM(EI39,DL39)) | ... EW39: =IF(DX39="","",SUM(EU39,DX39))
D40: 834 | CW40: =IF(DOB!D40="","",DOB!D40) | CX40: F | DA40: =IF(DA$6="","",DA$6) | DC40: =IF(DC$6="","",DC$6) -> 10 | DE40: =IF(DE$6="","",DE$6) -> 10 | DG40: =IF(DG$6="","",DG$6) -> 10 | DI40: =IF(DI$6="","",DI$6) -> 10 | DK40: =IF(DK$6="","",DK$6) -> 10 | DM40: =IF(DM$6="","",DM$6) -> 10 | DO40: =IF(DO$6="","",DO$6) -> 10 | DQ40: =IF(DQ$6="","",DQ$6) -> 10 | DS40: =IF(DS$6="","",DS$6) -> 10 | DU40: =IF(DU$6="","",DU$6) -> 10 | DW40: =IF(DW$6="","",DW$6) -> 10 | EB40: =IF(DC40="","",SUM(DA40,DC40)) -> 10 | EC40: =IF(DD40="","",SUM(DB40,DD40)) | ED40: =IF(DE40="","",SUM(EB40,DE40)) -> 20 | EE40: =IF(DF40="","",SUM(EC40,DF40)) | EF40: =IF(DG40="","",SUM(ED40,DG40)) -> 30 | EG40: =IF(DH40="","",SUM(EE40,DH40)) | EH40: =IF(DI40="","",SUM(EF40,DI40)) -> 40 | EI40: =IF(DJ40="","",SUM(EG40,DJ40)) | EJ40: =IF(DK40="","",SUM(EH40,DK40)) -> 50 | EK40: =IF(DL40="","",SUM(EI40,DL40)) | ... EW40: =IF(DX40="","",SUM(EU40,DX40))
D41: 835 | CW41: =IF(DOB!D41="","",DOB!D41) | CX41: G | DA41: =IF(DA$6="","",DA$6) | DC41: =IF(DC$6="","",DC$6) -> 10 | DE41: =IF(DE$6="","",DE$6) -> 10 | DG41: =IF(DG$6="","",DG$6) -> 10 | DI41: =IF(DI$6="","",DI$6) -> 10 | DK41: =IF(DK$6="","",DK$6) -> 10 | DM41: =IF(DM$6="","",DM$6) -> 10 | DO41: =IF(DO$6="","",DO$6) -> 10 | DQ41: =IF(DQ$6="","",DQ$6) -> 10 | DS41: =IF(DS$6="","",DS$6) -> 10 | DU41: =IF(DU$6="","",DU$6) -> 10 | DW41: =IF(DW$6="","",DW$6) -> 10 | EB41: =IF(DC41="","",SUM(DA41,DC41)) -> 10 | EC41: =IF(DD41="","",SUM(DB41,DD41)) | ED41: =IF(DE41="","",SUM(EB41,DE41)) -> 20 | EE41: =IF(DF41="","",SUM(EC41,DF41)) | EF41: =IF(DG41="","",SUM(ED41,DG41)) -> 30 | EG41: =IF(DH41="","",SUM(EE41,DH41)) | EH41: =IF(DI41="","",SUM(EF41,DI41)) -> 40 | EI41: =IF(DJ41="","",SUM(EG41,DJ41)) | EJ41: =IF(DK41="","",SUM(EH41,DK41)) -> 50 | EK41: =IF(DL41="","",SUM(EI41,DL41)) | ... EW41: =IF(DX41="","",SUM(EU41,DX41))
D42: 836 | CW42: =IF(DOB!D42="","",DOB!D42) | CX42: H | DA42: =IF(DA$6="","",DA$6) | DC42: =IF(DC$6="","",DC$6) -> 10 | DE42: =IF(DE$6="","",DE$6) -> 10 | DG42: =IF(DG$6="","",DG$6) -> 10 | DI42: =IF(DI$6="","",DI$6) -> 10 | DK42: =IF(DK$6="","",DK$6) -> 10 | DM42: =IF(DM$6="","",DM$6) -> 10 | DO42: =IF(DO$6="","",DO$6) -> 10 | DQ42: =IF(DQ$6="","",DQ$6) -> 10 | DS42: =IF(DS$6="","",DS$6) -> 10 | DU42: =IF(DU$6="","",DU$6) -> 10 | DW42: =IF(DW$6="","",DW$6) -> 10 | EB42: =IF(DC42="","",SUM(DA42,DC42)) -> 10 | EC42: =IF(DD42="","",SUM(DB42,DD42)) | ED42: =IF(DE42="","",SUM(EB42,DE42)) -> 20 | EE42: =IF(DF42="","",SUM(EC42,DF42)) | EF42: =IF(DG42="","",SUM(ED42,DG42)) -> 30 | EG42: =IF(DH42="","",SUM(EE42,DH42)) | EH42: =IF(DI42="","",SUM(EF42,DI42)) -> 40 | EI42: =IF(DJ42="","",SUM(EG42,DJ42)) | EJ42: =IF(DK42="","",SUM(EH42,DK42)) -> 50 | EK42: =IF(DL42="","",SUM(EI42,DL42)) | ... EW42: =IF(DX42="","",SUM(EU42,DX42))
D43: 837 | CW43: =IF(DOB!D43="","",DOB!D43) | CX43: I | DA43: =IF(DA$6="","",DA$6) | DC43: =IF(DC$6="","",DC$6) -> 10 | DE43: =IF(DE$6="","",DE$6) -> 10 | DG43: =IF(DG$6="","",DG$6) -> 10 | DI43: =IF(DI$6="","",DI$6) -> 10 | DK43: =IF(DK$6="","",DK$6) -> 10 | DM43: =IF(DM$6="","",DM$6) -> 10 | DO43: =IF(DO$6="","",DO$6) -> 10 | DQ43: =IF(DQ$6="","",DQ$6) -> 10 | DS43: =IF(DS$6="","",DS$6) -> 10 | DU43: =IF(DU$6="","",DU$6) -> 10 | DW43: =IF(DW$6="","",DW$6) -> 10 | EB43: =IF(DC43="","",SUM(DA43,DC43)) -> 10 | EC43: =IF(DD43="","",SUM(DB43,DD43)) | ED43: =IF(DE43="","",SUM(EB43,DE43)) -> 20 | EE43: =IF(DF43="","",SUM(EC43,DF43)) | EF43: =IF(DG43="","",SUM(ED43,DG43)) -> 30 | EG43: =IF(DH43="","",SUM(EE43,DH43)) | EH43: =IF(DI43="","",SUM(EF43,DI43)) -> 40 | EI43: =IF(DJ43="","",SUM(EG43,DJ43)) | EJ43: =IF(DK43="","",SUM(EH43,DK43)) -> 50 | EK43: =IF(DL43="","",SUM(EI43,DL43)) | ... EW43: =IF(DX43="","",SUM(EU43,DX43))
D44: 838 | CW44: =IF(DOB!D44="","",DOB!D44) | CX44: J | DA44: =IF(DA$6="","",DA$6) | DC44: =IF(DC$6="","",DC$6) -> 10 | DE44: =IF(DE$6="","",DE$6) -> 10 | DG44: =IF(DG$6="","",DG$6) -> 10 | DI44: =IF(DI$6="","",DI$6) -> 10 | DK44: =IF(DK$6="","",DK$6) -> 10 | DM44: =IF(DM$6="","",DM$6) -> 10 | DO44: =IF(DO$6="","",DO$6) -> 10 | DQ44: =IF(DQ$6="","",DQ$6) -> 10 | DS44: =IF(DS$6="","",DS$6) -> 10 | DU44: =IF(DU$6="","",DU$6) -> 10 | DW44: =IF(DW$6="","",DW$6) -> 10 | EB44: =IF(DC44="","",SUM(DA44,DC44)) -> 10 | EC44: =IF(DD44="","",SUM(DB44,DD44)) | ED44: =IF(DE44="","",SUM(EB44,DE44)) -> 20 | EE44: =IF(DF44="","",SUM(EC44,DF44)) | EF44: =IF(DG44="","",SUM(ED44,DG44)) -> 30 | EG44: =IF(DH44="","",SUM(EE44,DH44)) | EH44: =IF(DI44="","",SUM(EF44,DI44)) -> 40 | EI44: =IF(DJ44="","",SUM(EG44,DJ44)) | EJ44: =IF(DK44="","",SUM(EH44,DK44)) -> 50 | EK44: =IF(DL44="","",SUM(EI44,DL44)) | ... EW44: =IF(DX44="","",SUM(EU44,DX44))
D45: 839 | CW45: =IF(DOB!D45="","",DOB!D45) | CX45: K | DA45: =IF(DA$6="","",DA$6) | DC45: =IF(DC$6="","",DC$6) -> 10 | DE45: =IF(DE$6="","",DE$6) -> 10 | DG45: =IF(DG$6="","",DG$6) -> 10 | DI45: =IF(DI$6="","",DI$6) -> 10 | DK45: =IF(DK$6="","",DK$6) -> 10 | DM45: =IF(DM$6="","",DM$6) -> 10 | DO45: =IF(DO$6="","",DO$6) -> 10 | DQ45: =IF(DQ$6="","",DQ$6) -> 10 | DS45: =IF(DS$6="","",DS$6) -> 10 | DU45: =IF(DU$6="","",DU$6) -> 10 | DW45: =IF(DW$6="","",DW$6) -> 10 | EB45: =IF(DC45="","",SUM(DA45,DC45)) -> 10 | EC45: =IF(DD45="","",SUM(DB45,DD45)) | ED45: =IF(DE45="","",SUM(EB45,DE45)) -> 20 | EE45: =IF(DF45="","",SUM(EC45,DF45)) | EF45: =IF(DG45="","",SUM(ED45,DG45)) -> 30 | EG45: =IF(DH45="","",SUM(EE45,DH45)) | EH45: =IF(DI45="","",SUM(EF45,DI45)) -> 40 | EI45: =IF(DJ45="","",SUM(EG45,DJ45)) | EJ45: =IF(DK45="","",SUM(EH45,DK45)) -> 50 | EK45: =IF(DL45="","",SUM(EI45,DL45)) | ... EW45: =IF(DX45="","",SUM(EU45,DX45))
D46: 840 | CW46: =IF(DOB!D46="","",DOB!D46) | CX46: L | DA46: =IF(DA$6="","",DA$6) | DC46: =IF(DC$6="","",DC$6) -> 10 | DE46: =IF(DE$6="","",DE$6) -> 10 | DG46: =IF(DG$6="","",DG$6) -> 10 | DI46: =IF(DI$6="","",DI$6) -> 10 | DK46: =IF(DK$6="","",DK$6) -> 10 | DM46: =IF(DM$6="","",DM$6) -> 10 | DO46: =IF(DO$6="","",DO$6) -> 10 | DQ46: =IF(DQ$6="","",DQ$6) -> 10 | DS46: =IF(DS$6="","",DS$6) -> 10 | DU46: =IF(DU$6="","",DU$6) -> 10 | DW46: =IF(DW$6="","",DW$6) -> 10 | EB46: =IF(DC46="","",SUM(DA46,DC46)) -> 10 | EC46: =IF(DD46="","",SUM(DB46,DD46)) | ED46: =IF(DE46="","",SUM(EB46,DE46)) -> 20 | EE46: =IF(DF46="","",SUM(EC46,DF46)) | EF46: =IF(DG46="","",SUM(ED46,DG46)) -> 30 | EG46: =IF(DH46="","",SUM(EE46,DH46)) | EH46: =IF(DI46="","",SUM(EF46,DI46)) -> 40 | EI46: =IF(DJ46="","",SUM(EG46,DJ46)) | EJ46: =IF(DK46="","",SUM(EH46,DK46)) -> 50 | EK46: =IF(DL46="","",SUM(EI46,DL46)) | ... EW46: =IF(DX46="","",SUM(EU46,DX46))
D47: 841 | CW47: =IF(DOB!D47="","",DOB!D47) | CX47: M | DA47: =IF(DA$6="","",DA$6) | DC47: =IF(DC$6="","",DC$6) -> 10 | DE47: =IF(DE$6="","",DE$6) -> 10 | DG47: =IF(DG$6="","",DG$6) -> 10 | DI47: =IF(DI$6="","",DI$6) -> 10 | DK47: =IF(DK$6="","",DK$6) -> 10 | DM47: =IF(DM$6="","",DM$6) -> 10 | DO47: =IF(DO$6="","",DO$6) -> 10 | DQ47: =IF(DQ$6="","",DQ$6) -> 10 | DS47: =IF(DS$6="","",DS$6) -> 10 | DU47: =IF(DU$6="","",DU$6) -> 10 | DW47: =IF(DW$6="","",DW$6) -> 10 | EB47: =IF(DC47="","",SUM(DA47,DC47)) -> 10 | EC47: =IF(DD47="","",SUM(DB47,DD47)) | ED47: =IF(DE47="","",SUM(EB47,DE47)) -> 20 | EE47: =IF(DF47="","",SUM(EC47,DF47)) | EF47: =IF(DG47="","",SUM(ED47,DG47)) -> 30 | EG47: =IF(DH47="","",SUM(EE47,DH47)) | EH47: =IF(DI47="","",SUM(EF47,DI47)) -> 40 | EI47: =IF(DJ47="","",SUM(EG47,DJ47)) | EJ47: =IF(DK47="","",SUM(EH47,DK47)) -> 50 | EK47: =IF(DL47="","",SUM(EI47,DL47)) | ... EW47: =IF(DX47="","",SUM(EU47,DX47))
D48: 842 | CW48: =IF(DOB!D48="","",DOB!D48) | CX48: N | DA48: =IF(DA$6="","",DA$6) | DC48: =IF(DC$6="","",DC$6) -> 10 | DE48: =IF(DE$6="","",DE$6) -> 10 | DG48: =IF(DG$6="","",DG$6) -> 10 | DI48: =IF(DI$6="","",DI$6) -> 10 | DK48: =IF(DK$6="","",DK$6) -> 10 | DM48: =IF(DM$6="","",DM$6) -> 10 | DO48: =IF(DO$6="","",DO$6) -> 10 | DQ48: =IF(DQ$6="","",DQ$6) -> 10 | DS48: =IF(DS$6="","",DS$6) -> 10 | DU48: =IF(DU$6="","",DU$6) -> 10 | DW48: =IF(DW$6="","",DW$6) -> 10 | EB48: =IF(DC48="","",SUM(DA48,DC48)) -> 10 | EC48: =IF(DD48="","",SUM(DB48,DD48)) | ED48: =IF(DE48="","",SUM(EB48,DE48)) -> 20 | EE48: =IF(DF48="","",SUM(EC48,DF48)) | EF48: =IF(DG48="","",SUM(ED48,DG48)) -> 30 | EG48: =IF(DH48="","",SUM(EE48,DH48)) | EH48: =IF(DI48="","",SUM(EF48,DI48)) -> 40 | EI48: =IF(DJ48="","",SUM(EG48,DJ48)) | EJ48: =IF(DK48="","",SUM(EH48,DK48)) -> 50 | EK48: =IF(DL48="","",SUM(EI48,DL48)) | ... EW48: =IF(DX48="","",SUM(EU48,DX48))
D49: 843 | CW49: =IF(DOB!D49="","",DOB!D49) | DA49: =IF(DA$6="","",DA$6) | DC49: =IF(DC$6="","",DC$6) -> 10 | DE49: =IF(DE$6="","",DE$6) -> 10 | DG49: =IF(DG$6="","",DG$6) -> 10 | DI49: =IF(DI$6="","",DI$6) -> 10 | DK49: =IF(DK$6="","",DK$6) -> 10 | DM49: =IF(DM$6="","",DM$6) -> 10 | DO49: =IF(DO$6="","",DO$6) -> 10 | DQ49: =IF(DQ$6="","",DQ$6) -> 10 | DS49: =IF(DS$6="","",DS$6) -> 10 | DU49: =IF(DU$6="","",DU$6) -> 10 | DW49: =IF(DW$6="","",DW$6) -> 10 | EB49: =IF(DC49="","",SUM(DA49,DC49)) -> 10 | EC49: =IF(DD49="","",SUM(DB49,DD49)) | ED49: =IF(DE49="","",SUM(EB49,DE49)) -> 20 | EE49: =IF(DF49="","",SUM(EC49,DF49)) | EF49: =IF(DG49="","",SUM(ED49,DG49)) -> 30 | EG49: =IF(DH49="","",SUM(EE49,DH49)) | EH49: =IF(DI49="","",SUM(EF49,DI49)) -> 40 | EI49: =IF(DJ49="","",SUM(EG49,DJ49)) | EJ49: =IF(DK49="","",SUM(EH49,DK49)) -> 50 | EK49: =IF(DL49="","",SUM(EI49,DL49)) | ... EW49: =IF(DX49="","",SUM(EU49,DX49))
D50: 844 | CW50: =IF(DOB!D50="","",DOB!D50) | DA50: =IF(DA$6="","",DA$6) | DC50: =IF(DC$6="","",DC$6) -> 10 | DE50: =IF(DE$6="","",DE$6) -> 10 | DG50: =IF(DG$6="","",DG$6) -> 10 | DI50: =IF(DI$6="","",DI$6) -> 10 | DK50: =IF(DK$6="","",DK$6) -> 10 | DM50: =IF(DM$6="","",DM$6) -> 10 | DO50: =IF(DO$6="","",DO$6) -> 10 | DQ50: =IF(DQ$6="","",DQ$6) -> 10 | DS50: =IF(DS$6="","",DS$6) -> 10 | DU50: =IF(DU$6="","",DU$6) -> 10 | DW50: =IF(DW$6="","",DW$6) -> 10 | EB50: =IF(DC50="","",SUM(DA50,DC50)) -> 10 | EC50: =IF(DD50="","",SUM(DB50,DD50)) | ED50: =IF(DE50="","",SUM(EB50,DE50)) -> 20 | EE50: =IF(DF50="","",SUM(EC50,DF50)) | EF50: =IF(DG50="","",SUM(ED50,DG50)) -> 30 | EG50: =IF(DH50="","",SUM(EE50,DH50)) | EH50: =IF(DI50="","",SUM(EF50,DI50)) -> 40 | EI50: =IF(DJ50="","",SUM(EG50,DJ50)) | EJ50: =IF(DK50="","",SUM(EH50,DK50)) -> 50 | EK50: =IF(DL50="","",SUM(EI50,DL50)) | ... EW50: =IF(DX50="","",SUM(EU50,DX50))
D51: 845 | CW51: =IF(DOB!D51="","",DOB!D51) | DA51: =IF(DA$6="","",DA$6) | DC51: =IF(DC$6="","",DC$6) -> 10 | DE51: =IF(DE$6="","",DE$6) -> 10 | DG51: =IF(DG$6="","",DG$6) -> 10 | DI51: =IF(DI$6="","",DI$6) -> 10 | DK51: =IF(DK$6="","",DK$6) -> 10 | DM51: =IF(DM$6="","",DM$6) -> 10 | DO51: =IF(DO$6="","",DO$6) -> 10 | DQ51: =IF(DQ$6="","",DQ$6) -> 10 | DS51: =IF(DS$6="","",DS$6) -> 10 | DU51: =IF(DU$6="","",DU$6) -> 10 | DW51: =IF(DW$6="","",DW$6) -> 10 | EB51: =IF(DC51="","",SUM(DA51,DC51)) -> 10 | EC51: =IF(DD51="","",SUM(DB51,DD51)) | ED51: =IF(DE51="","",SUM(EB51,DE51)) -> 20 | EE51: =IF(DF51="","",SUM(EC51,DF51)) | EF51: =IF(DG51="","",SUM(ED51,DG51)) -> 30 | EG51: =IF(DH51="","",SUM(EE51,DH51)) | EH51: =IF(DI51="","",SUM(EF51,DI51)) -> 40 | EI51: =IF(DJ51="","",SUM(EG51,DJ51)) | EJ51: =IF(DK51="","",SUM(EH51,DK51)) -> 50 | EK51: =IF(DL51="","",SUM(EI51,DL51)) | ... EW51: =IF(DX51="","",SUM(EU51,DX51))
D52: 846 | CW52: =IF(DOB!D52="","",DOB!D52) | DA52: =IF(DA$6="","",DA$6) | DC52: =IF(DC$6="","",DC$6) -> 10 | DE52: =IF(DE$6="","",DE$6) -> 10 | DG52: =IF(DG$6="","",DG$6) -> 10 | DI52: =IF(DI$6="","",DI$6) -> 10 | DK52: =IF(DK$6="","",DK$6) -> 10 | DM52: =IF(DM$6="","",DM$6) -> 10 | DO52: =IF(DO$6="","",DO$6) -> 10 | DQ52: =IF(DQ$6="","",DQ$6) -> 10 | DS52: =IF(DS$6="","",DS$6) -> 10 | DU52: =IF(DU$6="","",DU$6) -> 10 | DW52: =IF(DW$6="","",DW$6) -> 10 | EB52: =IF(DC52="","",SUM(DA52,DC52)) -> 10 | EC52: =IF(DD52="","",SUM(DB52,DD52)) | ED52: =IF(DE52="","",SUM(EB52,DE52)) -> 20 | EE52: =IF(DF52="","",SUM(EC52,DF52)) | EF52: =IF(DG52="","",SUM(ED52,DG52)) -> 30 | EG52: =IF(DH52="","",SUM(EE52,DH52)) | EH52: =IF(DI52="","",SUM(EF52,DI52)) -> 40 | EI52: =IF(DJ52="","",SUM(EG52,DJ52)) | EJ52: =IF(DK52="","",SUM(EH52,DK52)) -> 50 | EK52: =IF(DL52="","",SUM(EI52,DL52)) | ... EW52: =IF(DX52="","",SUM(EU52,DX52))
D53: 847 | CW53: =IF(DOB!D53="","",DOB!D53) | DA53: =IF(DA$6="","",DA$6) | DC53: =IF(DC$6="","",DC$6) -> 10 | DE53: =IF(DE$6="","",DE$6) -> 10 | DG53: =IF(DG$6="","",DG$6) -> 10 | DI53: =IF(DI$6="","",DI$6) -> 10 | DK53: =IF(DK$6="","",DK$6) -> 10 | DM53: =IF(DM$6="","",DM$6) -> 10 | DO53: =IF(DO$6="","",DO$6) -> 10 | DQ53: =IF(DQ$6="","",DQ$6) -> 10 | DS53: =IF(DS$6="","",DS$6) -> 10 | DU53: =IF(DU$6="","",DU$6) -> 10 | DW53: =IF(DW$6="","",DW$6) -> 10 | EB53: =IF(DC53="","",SUM(DA53,DC53)) -> 10 | EC53: =IF(DD53="","",SUM(DB53,DD53)) | ED53: =IF(DE53="","",SUM(EB53,DE53)) -> 20 | EE53: =IF(DF53="","",SUM(EC53,DF53)) | EF53: =IF(DG53="","",SUM(ED53,DG53)) -> 30 | EG53: =IF(DH53="","",SUM(EE53,DH53)) | EH53: =IF(DI53="","",SUM(EF53,DI53)) -> 40 | EI53: =IF(DJ53="","",SUM(EG53,DJ53)) | EJ53: =IF(DK53="","",SUM(EH53,DK53)) -> 50 | EK53: =IF(DL53="","",SUM(EI53,DL53)) | ... EW53: =IF(DX53="","",SUM(EU53,DX53))
D54: 848 | CW54: =IF(DOB!D54="","",DOB!D54) | DA54: =IF(DA$6="","",DA$6) | DC54: =IF(DC$6="","",DC$6) -> 10 | DE54: =IF(DE$6="","",DE$6) -> 10 | DG54: =IF(DG$6="","",DG$6) -> 10 | DI54: =IF(DI$6="","",DI$6) -> 10 | DK54: =IF(DK$6="","",DK$6) -> 10 | DM54: =IF(DM$6="","",DM$6) -> 10 | DO54: =IF(DO$6="","",DO$6) -> 10 | DQ54: =IF(DQ$6="","",DQ$6) -> 10 | DS54: =IF(DS$6="","",DS$6) -> 10 | DU54: =IF(DU$6="","",DU$6) -> 10 | DW54: =IF(DW$6="","",DW$6) -> 10 | EB54: =IF(DC54="","",SUM(DA54,DC54)) -> 10 | EC54: =IF(DD54="","",SUM(DB54,DD54)) | ED54: =IF(DE54="","",SUM(EB54,DE54)) -> 20 | EE54: =IF(DF54="","",SUM(EC54,DF54)) | EF54: =IF(DG54="","",SUM(ED54,DG54)) -> 30 | EG54: =IF(DH54="","",SUM(EE54,DH54)) | EH54: =IF(DI54="","",SUM(EF54,DI54)) -> 40 | EI54: =IF(DJ54="","",SUM(EG54,DJ54)) | EJ54: =IF(DK54="","",SUM(EH54,DK54)) -> 50 | EK54: =IF(DL54="","",SUM(EI54,DL54)) | ... EW54: =IF(DX54="","",SUM(EU54,DX54))
D55: 849 | CW55: =IF(DOB!D55="","",DOB!D55) | DA55: =IF(DA$6="","",DA$6) | DC55: =IF(DC$6="","",DC$6) -> 10 | DE55: =IF(DE$6="","",DE$6) -> 10 | DG55: =IF(DG$6="","",DG$6) -> 10 | DI55: =IF(DI$6="","",DI$6) -> 10 | DK55: =IF(DK$6="","",DK$6) -> 10 | DM55: =IF(DM$6="","",DM$6) -> 10 | DO55: =IF(DO$6="","",DO$6) -> 10 | DQ55: =IF(DQ$6="","",DQ$6) -> 10 | DS55: =IF(DS$6="","",DS$6) -> 10 | DU55: =IF(DU$6="","",DU$6) -> 10 | DW55: =IF(DW$6="","",DW$6) -> 10 | EB55: =IF(DC55="","",SUM(DA55,DC55)) -> 10 | EC55: =IF(DD55="","",SUM(DB55,DD55)) | ED55: =IF(DE55="","",SUM(EB55,DE55)) -> 20 | EE55: =IF(DF55="","",SUM(EC55,DF55)) | EF55: =IF(DG55="","",SUM(ED55,DG55)) -> 30 | EG55: =IF(DH55="","",SUM(EE55,DH55)) | EH55: =IF(DI55="","",SUM(EF55,DI55)) -> 40 | EI55: =IF(DJ55="","",SUM(EG55,DJ55)) | EJ55: =IF(DK55="","",SUM(EH55,DK55)) -> 50 | EK55: =IF(DL55="","",SUM(EI55,DL55)) | ... EW55: =IF(DX55="","",SUM(EU55,DX55))
D56: 850 | CW56: =IF(DOB!D56="","",DOB!D56) | DA56: =IF(DA$6="","",DA$6) | DC56: =IF(DC$6="","",DC$6) -> 10 | DE56: =IF(DE$6="","",DE$6) -> 10 | DG56: =IF(DG$6="","",DG$6) -> 10 | DI56: =IF(DI$6="","",DI$6) -> 10 | DK56: =IF(DK$6="","",DK$6) -> 10 | DM56: =IF(DM$6="","",DM$6) -> 10 | DO56: =IF(DO$6="","",DO$6) -> 10 | DQ56: =IF(DQ$6="","",DQ$6) -> 10 | DS56: =IF(DS$6="","",DS$6) -> 10 | DU56: =IF(DU$6="","",DU$6) -> 10 | DW56: =IF(DW$6="","",DW$6) -> 10 | EB56: =IF(DC56="","",SUM(DA56,DC56)) -> 10 | EC56: =IF(DD56="","",SUM(DB56,DD56)) | ED56: =IF(DE56="","",SUM(EB56,DE56)) -> 20 | EE56: =IF(DF56="","",SUM(EC56,DF56)) | EF56: =IF(DG56="","",SUM(ED56,DG56)) -> 30 | EG56: =IF(DH56="","",SUM(EE56,DH56)) | EH56: =IF(DI56="","",SUM(EF56,DI56)) -> 40 | EI56: =IF(DJ56="","",SUM(EG56,DJ56)) | EJ56: =IF(DK56="","",SUM(EH56,DK56)) -> 50 | EK56: =IF(DL56="","",SUM(EI56,DL56)) | ... EW56: =IF(DX56="","",SUM(EU56,DX56))
D57: 851 | CW57: =IF(DOB!D57="","",DOB!D57) | DA57: =IF(DA$6="","",DA$6) | DC57: =IF(DC$6="","",DC$6) -> 10 | DE57: =IF(DE$6="","",DE$6) -> 10 | DG57: =IF(DG$6="","",DG$6) -> 10 | DI57: =IF(DI$6="","",DI$6) -> 10 | DK57: =IF(DK$6="","",DK$6) -> 10 | DM57: =IF(DM$6="","",DM$6) -> 10 | DO57: =IF(DO$6="","",DO$6) -> 10 | DQ57: =IF(DQ$6="","",DQ$6) -> 10 | DS57: =IF(DS$6="","",DS$6) -> 10 | DU57: =IF(DU$6="","",DU$6) -> 10 | DW57: =IF(DW$6="","",DW$6) -> 10 | EB57: =IF(DC57="","",SUM(DA57,DC57)) -> 10 | EC57: =IF(DD57="","",SUM(DB57,DD57)) | ED57: =IF(DE57="","",SUM(EB57,DE57)) -> 20 | EE57: =IF(DF57="","",SUM(EC57,DF57)) | EF57: =IF(DG57="","",SUM(ED57,DG57)) -> 30 | EG57: =IF(DH57="","",SUM(EE57,DH57)) | EH57: =IF(DI57="","",SUM(EF57,DI57)) -> 40 | EI57: =IF(DJ57="","",SUM(EG57,DJ57)) | EJ57: =IF(DK57="","",SUM(EH57,DK57)) -> 50 | EK57: =IF(DL57="","",SUM(EI57,DL57)) | ... EW57: =IF(DX57="","",SUM(EU57,DX57))
D58: 852 | CW58: =IF(DOB!D58="","",DOB!D58) | DA58: =IF(DA$6="","",DA$6) | DC58: =IF(DC$6="","",DC$6) -> 10 | DE58: =IF(DE$6="","",DE$6) -> 10 | DG58: =IF(DG$6="","",DG$6) -> 10 | DI58: =IF(DI$6="","",DI$6) -> 10 | DK58: =IF(DK$6="","",DK$6) -> 10 | DM58: =IF(DM$6="","",DM$6) -> 10 | DO58: =IF(DO$6="","",DO$6) -> 10 | DQ58: =IF(DQ$6="","",DQ$6) -> 10 | DS58: =IF(DS$6="","",DS$6) -> 10 | DU58: =IF(DU$6="","",DU$6) -> 10 | DW58: =IF(DW$6="","",DW$6) -> 10 | EB58: =IF(DC58="","",SUM(DA58,DC58)) -> 10 | EC58: =IF(DD58="","",SUM(DB58,DD58)) | ED58: =IF(DE58="","",SUM(EB58,DE58)) -> 20 | EE58: =IF(DF58="","",SUM(EC58,DF58)) | EF58: =IF(DG58="","",SUM(ED58,DG58)) -> 30 | EG58: =IF(DH58="","",SUM(EE58,DH58)) | EH58: =IF(DI58="","",SUM(EF58,DI58)) -> 40 | EI58: =IF(DJ58="","",SUM(EG58,DJ58)) | EJ58: =IF(DK58="","",SUM(EH58,DK58)) -> 50 | EK58: =IF(DL58="","",SUM(EI58,DL58)) | ... EW58: =IF(DX58="","",SUM(EU58,DX58))
D59: 853 | CW59: =IF(DOB!D59="","",DOB!D59) | DA59: =IF(DA$6="","",DA$6) | DC59: =IF(DC$6="","",DC$6) -> 10 | DE59: =IF(DE$6="","",DE$6) -> 10 | DG59: =IF(DG$6="","",DG$6) -> 10 | DI59: =IF(DI$6="","",DI$6) -> 10 | DK59: =IF(DK$6="","",DK$6) -> 10 | DM59: =IF(DM$6="","",DM$6) -> 10 | DO59: =IF(DO$6="","",DO$6) -> 10 | DQ59: =IF(DQ$6="","",DQ$6) -> 10 | DS59: =IF(DS$6="","",DS$6) -> 10 | DU59: =IF(DU$6="","",DU$6) -> 10 | DW59: =IF(DW$6="","",DW$6) -> 10 | EB59: =IF(DC59="","",SUM(DA59,DC59)) -> 10 | EC59: =IF(DD59="","",SUM(DB59,DD59)) | ED59: =IF(DE59="","",SUM(EB59,DE59)) -> 20 | EE59: =IF(DF59="","",SUM(EC59,DF59)) | EF59: =IF(DG59="","",SUM(ED59,DG59)) -> 30 | EG59: =IF(DH59="","",SUM(EE59,DH59)) | EH59: =IF(DI59="","",SUM(EF59,DI59)) -> 40 | EI59: =IF(DJ59="","",SUM(EG59,DJ59)) | EJ59: =IF(DK59="","",SUM(EH59,DK59)) -> 50 | EK59: =IF(DL59="","",SUM(EI59,DL59)) | ... EW59: =IF(DX59="","",SUM(EU59,DX59))
D60: 854 | CW60: =IF(DOB!D60="","",DOB!D60) | DA60: =IF(DA$6="","",DA$6) | DC60: =IF(DC$6="","",DC$6) -> 10 | DE60: =IF(DE$6="","",DE$6) -> 10 | DG60: =IF(DG$6="","",DG$6) -> 10 | DI60: =IF(DI$6="","",DI$6) -> 10 | DK60: =IF(DK$6="","",DK$6) -> 10 | DM60: =IF(DM$6="","",DM$6) -> 10 | DO60: =IF(DO$6="","",DO$6) -> 10 | DQ60: =IF(DQ$6="","",DQ$6) -> 10 | DS60: =IF(DS$6="","",DS$6) -> 10 | DU60: =IF(DU$6="","",DU$6) -> 10 | DW60: =IF(DW$6="","",DW$6) -> 10 | EB60: =IF(DC60="","",SUM(DA60,DC60)) -> 10 | EC60: =IF(DD60="","",SUM(DB60,DD60)) | ED60: =IF(DE60="","",SUM(EB60,DE60)) -> 20 | EE60: =IF(DF60="","",SUM(EC60,DF60)) | EF60: =IF(DG60="","",SUM(ED60,DG60)) -> 30 | EG60: =IF(DH60="","",SUM(EE60,DH60)) | EH60: =IF(DI60="","",SUM(EF60,DI60)) -> 40 | EI60: =IF(DJ60="","",SUM(EG60,DJ60)) | EJ60: =IF(DK60="","",SUM(EH60,DK60)) -> 50 | EK60: =IF(DL60="","",SUM(EI60,DL60)) | ... EW60: =IF(DX60="","",SUM(EU60,DX60))
... D89: 883 | CW89: =IF(DOB!D89="","",DOB!D89) | DA89: =IF(DA$6="","",DA$6) | DC89: =IF(DC$6="","",DC$6) -> 10 | DE89: =IF(DE$6="","",DE$6) -> 10 | DG89: =IF(DG$6="","",DG$6) -> 10 | DI89: =IF(DI$6="","",DI$6) -> 10 | DK89: =IF(DK$6="","",DK$6) -> 10 | DM89: =IF(DM$6="","",DM$6) -> 10 | DO89: =IF(DO$6="","",DO$6) -> 10 | DQ89: =IF(DQ$6="","",DQ$6) -> 10 | DS89: =IF(DS$6="","",DS$6) -> 10 | DU89: =IF(DU$6="","",DU$6) -> 10 | DW89: =IF(DW$6="","",DW$6) -> 10 | EB89: =IF(DC89="","",SUM(DA89,DC89)) -> 10 | EC89: =IF(DD89="","",SUM(DB89,DD89)) | ED89: =IF(DE89="","",SUM(EB89,DE89)) -> 20 | EE89: =IF(DF89="","",SUM(EC89,DF89)) | EF89: =IF(DG89="","",SUM(ED89,DG89)) -> 30 | EG89: =IF(DH89="","",SUM(EE89,DH89)) | EH89: =IF(DI89="","",SUM(EF89,DI89)) -> 40 | EI89: =IF(DJ89="","",SUM(EG89,DJ89)) | EJ89: =IF(DK89="","",SUM(EH89,DK89)) -> 50 | EK89: =IF(DL89="","",SUM(EI89,DL89)) | ... EW89: =IF(DX89="","",SUM(EU89,DX89))
D90: 884 | CW90: =IF(DOB!D90="","",DOB!D90) | DA90: =IF($D90="","",IF(DA$6="","",DA$6)) | DC90: =IF($D90="","",IF(DC$6="","",DC$6)) -> 10 | DE90: =IF($D90="","",IF(DE$6="","",DE$6)) -> 10 | DG90: =IF($D90="","",IF(DG$6="","",DG$6)) -> 10 | DI90: =IF($D90="","",IF(DI$6="","",DI$6)) -> 10 | DK90: =IF($D90="","",IF(DK$6="","",DK$6)) -> 10 | DM90: =IF($D90="","",IF(DM$6="","",DM$6)) -> 10 | DO90: =IF($D90="","",IF(DO$6="","",DO$6)) -> 10 | DQ90: =IF($D90="","",IF(DQ$6="","",DQ$6)) -> 10 | DS90: =IF($D90="","",IF(DS$6="","",DS$6)) -> 10 | DU90: =IF($D90="","",IF(DU$6="","",DU$6)) -> 10 | DW90: =IF($D90="","",IF(DW$6="","",DW$6)) -> 10 | EB90: =IF(DC90="","",SUM(DA90,DC90)) -> 10 | EC90: =IF(DD90="","",SUM(DB90,DD90)) | ED90: =IF(DE90="","",SUM(EB90,DE90)) -> 20 | EE90: =IF(DF90="","",SUM(EC90,DF90)) | EF90: =IF(DG90="","",SUM(ED90,DG90)) -> 30 | EG90: =IF(DH90="","",SUM(EE90,DH90)) | EH90: =IF(DI90="","",SUM(EF90,DI90)) -> 40 | EI90: =IF(DJ90="","",SUM(EG90,DJ90)) | EJ90: =IF(DK90="","",SUM(EH90,DK90)) -> 50 | EK90: =IF(DL90="","",SUM(EI90,DL90)) | ... EW90: =IF(DX90="","",SUM(EU90,DX90))
D91: 885 | CW91: =IF(DOB!D91="","",DOB!D91) | DA91: =IF($D91="","",IF(DA$6="","",DA$6)) | DC91: =IF($D91="","",IF(DC$6="","",DC$6)) -> 10 | DE91: =IF($D91="","",IF(DE$6="","",DE$6)) -> 10 | DG91: =IF($D91="","",IF(DG$6="","",DG$6)) -> 10 | DI91: =IF($D91="","",IF(DI$6="","",DI$6)) -> 10 | DK91: =IF($D91="","",IF(DK$6="","",DK$6)) -> 10 | DM91: =IF($D91="","",IF(DM$6="","",DM$6)) -> 10 | DO91: =IF($D91="","",IF(DO$6="","",DO$6)) -> 10 | DQ91: =IF($D91="","",IF(DQ$6="","",DQ$6)) -> 10 | DS91: =IF($D91="","",IF(DS$6="","",DS$6)) -> 10 | DU91: =IF($D91="","",IF(DU$6="","",DU$6)) -> 10 | DW91: =IF($D91="","",IF(DW$6="","",DW$6)) -> 10 | EB91: =IF(DC91="","",SUM(DA91,DC91)) -> 10 | EC91: =IF(DD91="","",SUM(DB91,DD91)) | ED91: =IF(DE91="","",SUM(EB91,DE91)) -> 20 | EE91: =IF(DF91="","",SUM(EC91,DF91)) | EF91: =IF(DG91="","",SUM(ED91,DG91)) -> 30 | EG91: =IF(DH91="","",SUM(EE91,DH91)) | EH91: =IF(DI91="","",SUM(EF91,DI91)) -> 40 | EI91: =IF(DJ91="","",SUM(EG91,DJ91)) | EJ91: =IF(DK91="","",SUM(EH91,DK91)) -> 50 | EK91: =IF(DL91="","",SUM(EI91,DL91)) | ... EW91: =IF(DX91="","",SUM(EU91,DX91))
D92: 886 | CW92: =IF(DOB!D92="","",DOB!D92) | DA92: =IF($D92="","",IF(DA$6="","",DA$6)) | DC92: =IF($D92="","",IF(DC$6="","",DC$6)) -> 10 | DE92: =IF($D92="","",IF(DE$6="","",DE$6)) -> 10 | DG92: =IF($D92="","",IF(DG$6="","",DG$6)) -> 10 | DI92: =IF($D92="","",IF(DI$6="","",DI$6)) -> 10 | DK92: =IF($D92="","",IF(DK$6="","",DK$6)) -> 10 | DM92: =IF($D92="","",IF(DM$6="","",DM$6)) -> 10 | DO92: =IF($D92="","",IF(DO$6="","",DO$6)) -> 10 | DQ92: =IF($D92="","",IF(DQ$6="","",DQ$6)) -> 10 | DS92: =IF($D92="","",IF(DS$6="","",DS$6)) -> 10 | DU92: =IF($D92="","",IF(DU$6="","",DU$6)) -> 10 | DW92: =IF($D92="","",IF(DW$6="","",DW$6)) -> 10 | EB92: =IF(DC92="","",SUM(DA92,DC92)) -> 10 | EC92: =IF(DD92="","",SUM(DB92,DD92)) | ED92: =IF(DE92="","",SUM(EB92,DE92)) -> 20 | EE92: =IF(DF92="","",SUM(EC92,DF92)) | EF92: =IF(DG92="","",SUM(ED92,DG92)) -> 30 | EG92: =IF(DH92="","",SUM(EE92,DH92)) | EH92: =IF(DI92="","",SUM(EF92,DI92)) -> 40 | EI92: =IF(DJ92="","",SUM(EG92,DJ92)) | EJ92: =IF(DK92="","",SUM(EH92,DK92)) -> 50 | EK92: =IF(DL92="","",SUM(EI92,DL92)) | ... EW92: =IF(DX92="","",SUM(EU92,DX92))
D93: 887 | CW93: =IF(DOB!D93="","",DOB!D93) | DA93: =IF($D93="","",IF(DA$6="","",DA$6)) | DC93: =IF($D93="","",IF(DC$6="","",DC$6)) -> 10 | DE93: =IF($D93="","",IF(DE$6="","",DE$6)) -> 10 | DG93: =IF($D93="","",IF(DG$6="","",DG$6)) -> 10 | DI93: =IF($D93="","",IF(DI$6="","",DI$6)) -> 10 | DK93: =IF($D93="","",IF(DK$6="","",DK$6)) -> 10 | DM93: =IF($D93="","",IF(DM$6="","",DM$6)) -> 10 | DO93: =IF($D93="","",IF(DO$6="","",DO$6)) -> 10 | DQ93: =IF($D93="","",IF(DQ$6="","",DQ$6)) -> 10 | DS93: =IF($D93="","",IF(DS$6="","",DS$6)) -> 10 | DU93: =IF($D93="","",IF(DU$6="","",DU$6)) -> 10 | DW93: =IF($D93="","",IF(DW$6="","",DW$6)) -> 10 | EB93: =IF(DC93="","",SUM(DA93,DC93)) -> 10 | EC93: =IF(DD93="","",SUM(DB93,DD93)) | ED93: =IF(DE93="","",SUM(EB93,DE93)) -> 20 | EE93: =IF(DF93="","",SUM(EC93,DF93)) | EF93: =IF(DG93="","",SUM(ED93,DG93)) -> 30 | EG93: =IF(DH93="","",SUM(EE93,DH93)) | EH93: =IF(DI93="","",SUM(EF93,DI93)) -> 40 | EI93: =IF(DJ93="","",SUM(EG93,DJ93)) | EJ93: =IF(DK93="","",SUM(EH93,DK93)) -> 50 | EK93: =IF(DL93="","",SUM(EI93,DL93)) | ... EW93: =IF(DX93="","",SUM(EU93,DX93))
D94: 888 | CW94: =IF(DOB!D94="","",DOB!D94) | DA94: =IF($D94="","",IF(DA$6="","",DA$6)) | DC94: =IF($D94="","",IF(DC$6="","",DC$6)) -> 10 | DE94: =IF($D94="","",IF(DE$6="","",DE$6)) -> 10 | DG94: =IF($D94="","",IF(DG$6="","",DG$6)) -> 10 | DI94: =IF($D94="","",IF(DI$6="","",DI$6)) -> 10 | DK94: =IF($D94="","",IF(DK$6="","",DK$6)) -> 10 | DM94: =IF($D94="","",IF(DM$6="","",DM$6)) -> 10 | DO94: =IF($D94="","",IF(DO$6="","",DO$6)) -> 10 | DQ94: =IF($D94="","",IF(DQ$6="","",DQ$6)) -> 10 | DS94: =IF($D94="","",IF(DS$6="","",DS$6)) -> 10 | DU94: =IF($D94="","",IF(DU$6="","",DU$6)) -> 10 | DW94: =IF($D94="","",IF(DW$6="","",DW$6)) -> 10 | EB94: =IF(DC94="","",SUM(DA94,DC94)) -> 10 | EC94: =IF(DD94="","",SUM(DB94,DD94)) | ED94: =IF(DE94="","",SUM(EB94,DE94)) -> 20 | EE94: =IF(DF94="","",SUM(EC94,DF94)) | EF94: =IF(DG94="","",SUM(ED94,DG94)) -> 30 | EG94: =IF(DH94="","",SUM(EE94,DH94)) | EH94: =IF(DI94="","",SUM(EF94,DI94)) -> 40 | EI94: =IF(DJ94="","",SUM(EG94,DJ94)) | EJ94: =IF(DK94="","",SUM(EH94,DK94)) -> 50 | EK94: =IF(DL94="","",SUM(EI94,DL94)) | ... EW94: =IF(DX94="","",SUM(EU94,DX94))
D95: 889 | CW95: =IF(DOB!D95="","",DOB!D95) | DA95: =IF($D95="","",IF(DA$6="","",DA$6)) | DC95: =IF($D95="","",IF(DC$6="","",DC$6)) -> 10 | DE95: =IF($D95="","",IF(DE$6="","",DE$6)) -> 10 | DG95: =IF($D95="","",IF(DG$6="","",DG$6)) -> 10 | DI95: =IF($D95="","",IF(DI$6="","",DI$6)) -> 10 | DK95: =IF($D95="","",IF(DK$6="","",DK$6)) -> 10 | DM95: =IF($D95="","",IF(DM$6="","",DM$6)) -> 10 | DO95: =IF($D95="","",IF(DO$6="","",DO$6)) -> 10 | DQ95: =IF($D95="","",IF(DQ$6="","",DQ$6)) -> 10 | DS95: =IF($D95="","",IF(DS$6="","",DS$6)) -> 10 | DU95: =IF($D95="","",IF(DU$6="","",DU$6)) -> 10 | DW95: =IF($D95="","",IF(DW$6="","",DW$6)) -> 10 | EB95: =IF(DC95="","",SUM(DA95,DC95)) -> 10 | EC95: =IF(DD95="","",SUM(DB95,DD95)) | ED95: =IF(DE95="","",SUM(EB95,DE95)) -> 20 | EE95: =IF(DF95="","",SUM(EC95,DF95)) | EF95: =IF(DG95="","",SUM(ED95,DG95)) -> 30 | EG95: =IF(DH95="","",SUM(EE95,DH95)) | EH95: =IF(DI95="","",SUM(EF95,DI95)) -> 40 | EI95: =IF(DJ95="","",SUM(EG95,DJ95)) | EJ95: =IF(DK95="","",SUM(EH95,DK95)) -> 50 | EK95: =IF(DL95="","",SUM(EI95,DL95)) | ... EW95: =IF(DX95="","",SUM(EU95,DX95))
D96: 890 | CW96: =IF(DOB!D96="","",DOB!D96) | DA96: =IF($D96="","",IF(DA$6="","",DA$6)) | DC96: =IF($D96="","",IF(DC$6="","",DC$6)) -> 10 | DE96: =IF($D96="","",IF(DE$6="","",DE$6)) -> 10 | DG96: =IF($D96="","",IF(DG$6="","",DG$6)) -> 10 | DI96: =IF($D96="","",IF(DI$6="","",DI$6)) -> 10 | DK96: =IF($D96="","",IF(DK$6="","",DK$6)) -> 10 | DM96: =IF($D96="","",IF(DM$6="","",DM$6)) -> 10 | DO96: =IF($D96="","",IF(DO$6="","",DO$6)) -> 10 | DQ96: =IF($D96="","",IF(DQ$6="","",DQ$6)) -> 10 | DS96: =IF($D96="","",IF(DS$6="","",DS$6)) -> 10 | DU96: =IF($D96="","",IF(DU$6="","",DU$6)) -> 10 | DW96: =IF($D96="","",IF(DW$6="","",DW$6)) -> 10 | EB96: =IF(DC96="","",SUM(DA96,DC96)) -> 10 | EC96: =IF(DD96="","",SUM(DB96,DD96)) | ED96: =IF(DE96="","",SUM(EB96,DE96)) -> 20 | EE96: =IF(DF96="","",SUM(EC96,DF96)) | EF96: =IF(DG96="","",SUM(ED96,DG96)) -> 30 | EG96: =IF(DH96="","",SUM(EE96,DH96)) | EH96: =IF(DI96="","",SUM(EF96,DI96)) -> 40 | EI96: =IF(DJ96="","",SUM(EG96,DJ96)) | EJ96: =IF(DK96="","",SUM(EH96,DK96)) -> 50 | EK96: =IF(DL96="","",SUM(EI96,DL96)) | ... EW96: =IF(DX96="","",SUM(EU96,DX96))
D97: 891 | CW97: =IF(DOB!D97="","",DOB!D97) | DA97: =IF($D97="","",IF(DA$6="","",DA$6)) | DC97: =IF($D97="","",IF(DC$6="","",DC$6)) -> 10 | DE97: =IF($D97="","",IF(DE$6="","",DE$6)) -> 10 | DG97: =IF($D97="","",IF(DG$6="","",DG$6)) -> 10 | DI97: =IF($D97="","",IF(DI$6="","",DI$6)) -> 10 | DK97: =IF($D97="","",IF(DK$6="","",DK$6)) -> 10 | DM97: =IF($D97="","",IF(DM$6="","",DM$6)) -> 10 | DO97: =IF($D97="","",IF(DO$6="","",DO$6)) -> 10 | DQ97: =IF($D97="","",IF(DQ$6="","",DQ$6)) -> 10 | DS97: =IF($D97="","",IF(DS$6="","",DS$6)) -> 10 | DU97: =IF($D97="","",IF(DU$6="","",DU$6)) -> 10 | DW97: =IF($D97="","",IF(DW$6="","",DW$6)) -> 10 | EB97: =IF(DC97="","",SUM(DA97,DC97)) -> 10 | EC97: =IF(DD97="","",SUM(DB97,DD97)) | ED97: =IF(DE97="","",SUM(EB97,DE97)) -> 20 | EE97: =IF(DF97="","",SUM(EC97,DF97)) | EF97: =IF(DG97="","",SUM(ED97,DG97)) -> 30 | EG97: =IF(DH97="","",SUM(EE97,DH97)) | EH97: =IF(DI97="","",SUM(EF97,DI97)) -> 40 | EI97: =IF(DJ97="","",SUM(EG97,DJ97)) | EJ97: =IF(DK97="","",SUM(EH97,DK97)) -> 50 | EK97: =IF(DL97="","",SUM(EI97,DL97)) | ... EW97: =IF(DX97="","",SUM(EU97,DX97))
D98: 892 | CW98: =IF(DOB!D98="","",DOB!D98) | DA98: =IF($D98="","",IF(DA$6="","",DA$6)) | DC98: =IF($D98="","",IF(DC$6="","",DC$6)) -> 10 | DE98: =IF($D98="","",IF(DE$6="","",DE$6)) -> 10 | DG98: =IF($D98="","",IF(DG$6="","",DG$6)) -> 10 | DI98: =IF($D98="","",IF(DI$6="","",DI$6)) -> 10 | DK98: =IF($D98="","",IF(DK$6="","",DK$6)) -> 10 | DM98: =IF($D98="","",IF(DM$6="","",DM$6)) -> 10 | DO98: =IF($D98="","",IF(DO$6="","",DO$6)) -> 10 | DQ98: =IF($D98="","",IF(DQ$6="","",DQ$6)) -> 10 | DS98: =IF($D98="","",IF(DS$6="","",DS$6)) -> 10 | DU98: =IF($D98="","",IF(DU$6="","",DU$6)) -> 10 | DW98: =IF($D98="","",IF(DW$6="","",DW$6)) -> 10 | EB98: =IF(DC98="","",SUM(DA98,DC98)) -> 10 | EC98: =IF(DD98="","",SUM(DB98,DD98)) | ED98: =IF(DE98="","",SUM(EB98,DE98)) -> 20 | EE98: =IF(DF98="","",SUM(EC98,DF98)) | EF98: =IF(DG98="","",SUM(ED98,DG98)) -> 30 | EG98: =IF(DH98="","",SUM(EE98,DH98)) | EH98: =IF(DI98="","",SUM(EF98,DI98)) -> 40 | EI98: =IF(DJ98="","",SUM(EG98,DJ98)) | EJ98: =IF(DK98="","",SUM(EH98,DK98)) -> 50 | EK98: =IF(DL98="","",SUM(EI98,DL98)) | ... EW98: =IF(DX98="","",SUM(EU98,DX98))
D99: 893 | CW99: =IF(DOB!D99="","",DOB!D99) | DA99: =IF($D99="","",IF(DA$6="","",DA$6)) | DC99: =IF($D99="","",IF(DC$6="","",DC$6)) -> 10 | DE99: =IF($D99="","",IF(DE$6="","",DE$6)) -> 10 | DG99: =IF($D99="","",IF(DG$6="","",DG$6)) -> 10 | DI99: =IF($D99="","",IF(DI$6="","",DI$6)) -> 10 | DK99: =IF($D99="","",IF(DK$6="","",DK$6)) -> 10 | DM99: =IF($D99="","",IF(DM$6="","",DM$6)) -> 10 | DO99: =IF($D99="","",IF(DO$6="","",DO$6)) -> 10 | DQ99: =IF($D99="","",IF(DQ$6="","",DQ$6)) -> 10 | DS99: =IF($D99="","",IF(DS$6="","",DS$6)) -> 10 | DU99: =IF($D99="","",IF(DU$6="","",DU$6)) -> 10 | DW99: =IF($D99="","",IF(DW$6="","",DW$6)) -> 10 | EB99: =IF(DC99="","",SUM(DA99,DC99)) -> 10 | EC99: =IF(DD99="","",SUM(DB99,DD99)) | ED99: =IF(DE99="","",SUM(EB99,DE99)) -> 20 | EE99: =IF(DF99="","",SUM(EC99,DF99)) | EF99: =IF(DG99="","",SUM(ED99,DG99)) -> 30 | EG99: =IF(DH99="","",SUM(EE99,DH99)) | EH99: =IF(DI99="","",SUM(EF99,DI99)) -> 40 | EI99: =IF(DJ99="","",SUM(EG99,DJ99)) | EJ99: =IF(DK99="","",SUM(EH99,DK99)) -> 50 | EK99: =IF(DL99="","",SUM(EI99,DL99)) | ... EW99: =IF(DX99="","",SUM(EU99,DX99))
D100: 894 | CW100: =IF(DOB!D100="","",DOB!D100) | DA100: =IF($D100="","",IF(DA$6="","",DA$6)) | DC100: =IF($D100="","",IF(DC$6="","",DC$6)) -> 10 | DE100: =IF($D100="","",IF(DE$6="","",DE$6)) -> 10 | DG100: =IF($D100="","",IF(DG$6="","",DG$6)) -> 10 | DI100: =IF($D100="","",IF(DI$6="","",DI$6)) -> 10 | DK100: =IF($D100="","",IF(DK$6="","",DK$6)) -> 10 | DM100: =IF($D100="","",IF(DM$6="","",DM$6)) -> 10 | DO100: =IF($D100="","",IF(DO$6="","",DO$6)) -> 10 | DQ100: =IF($D100="","",IF(DQ$6="","",DQ$6)) -> 10 | DS100: =IF($D100="","",IF(DS$6="","",DS$6)) -> 10 | DU100: =IF($D100="","",IF(DU$6="","",DU$6)) -> 10 | DW100: =IF($D100="","",IF(DW$6="","",DW$6)) -> 10 | EB100: =IF(DC100="","",SUM(DA100,DC100)) -> 10 | EC100: =IF(DD100="","",SUM(DB100,DD100)) | ED100: =IF(DE100="","",SUM(EB100,DE100)) -> 20 | EE100: =IF(DF100="","",SUM(EC100,DF100)) | EF100: =IF(DG100="","",SUM(ED100,DG100)) -> 30 | EG100: =IF(DH100="","",SUM(EE100,DH100)) | EH100: =IF(DI100="","",SUM(EF100,DI100)) -> 40 | EI100: =IF(DJ100="","",SUM(EG100,DJ100)) | EJ100: =IF(DK100="","",SUM(EH100,DK100)) -> 50 | EK100: =IF(DL100="","",SUM(EI100,DL100)) | ... EW100: =IF(DX100="","",SUM(EU100,DX100))
D101: 895 | CW101: =IF(DOB!D101="","",DOB!D101) | DA101: =IF($D101="","",IF(DA$6="","",DA$6)) | DC101: =IF($D101="","",IF(DC$6="","",DC$6)) -> 10 | DE101: =IF($D101="","",IF(DE$6="","",DE$6)) -> 10 | DG101: =IF($D101="","",IF(DG$6="","",DG$6)) -> 10 | DI101: =IF($D101="","",IF(DI$6="","",DI$6)) -> 10 | DK101: =IF($D101="","",IF(DK$6="","",DK$6)) -> 10 | DM101: =IF($D101="","",IF(DM$6="","",DM$6)) -> 10 | DO101: =IF($D101="","",IF(DO$6="","",DO$6)) -> 10 | DQ101: =IF($D101="","",IF(DQ$6="","",DQ$6)) -> 10 | DS101: =IF($D101="","",IF(DS$6="","",DS$6)) -> 10 | DU101: =IF($D101="","",IF(DU$6="","",DU$6)) -> 10 | DW101: =IF($D101="","",IF(DW$6="","",DW$6)) -> 10 | EB101: =IF(DC101="","",SUM(DA101,DC101)) -> 10 | EC101: =IF(DD101="","",SUM(DB101,DD101)) | ED101: =IF(DE101="","",SUM(EB101,DE101)) -> 20 | EE101: =IF(DF101="","",SUM(EC101,DF101)) | EF101: =IF(DG101="","",SUM(ED101,DG101)) -> 30 | EG101: =IF(DH101="","",SUM(EE101,DH101)) | EH101: =IF(DI101="","",SUM(EF101,DI101)) -> 40 | EI101: =IF(DJ101="","",SUM(EG101,DJ101)) | EJ101: =IF(DK101="","",SUM(EH101,DK101)) -> 50 | EK101: =IF(DL101="","",SUM(EI101,DL101)) | ... EW101: =IF(DX101="","",SUM(EU101,DX101))
... D106: 900 | CW106: =IF(DOB!D106="","",DOB!D106) | DA106: =IF($D106="","",IF(DA$6="","",DA$6)) | DC106: =IF($D106="","",IF(DC$6="","",DC$6)) -> 10 | DE106: =IF($D106="","",IF(DE$6="","",DE$6)) -> 10 | DG106: =IF($D106="","",IF(DG$6="","",DG$6)) -> 10 | DI106: =IF($D106="","",IF(DI$6="","",DI$6)) -> 10 | DK106: =IF($D106="","",IF(DK$6="","",DK$6)) -> 10 | DM106: =IF($D106="","",IF(DM$6="","",DM$6)) -> 10 | DO106: =IF($D106="","",IF(DO$6="","",DO$6)) -> 10 | DQ106: =IF($D106="","",IF(DQ$6="","",DQ$6)) -> 10 | DS106: =IF($D106="","",IF(DS$6="","",DS$6)) -> 10 | DU106: =IF($D106="","",IF(DU$6="","",DU$6)) -> 10 | DW106: =IF($D106="","",IF(DW$6="","",DW$6)) -> 10 | EB106: =IF(DC106="","",SUM(DA106,DC106)) -> 10 | EC106: =IF(DD106="","",SUM(DB106,DD106)) | ED106: =IF(DE106="","",SUM(EB106,DE106)) -> 20 | EE106: =IF(DF106="","",SUM(EC106,DF106)) | EF106: =IF(DG106="","",SUM(ED106,DG106)) -> 30 | EG106: =IF(DH106="","",SUM(EE106,DH106)) | EH106: =IF(DI106="","",SUM(EF106,DI106)) -> 40 | EI106: =IF(DJ106="","",SUM(EG106,DJ106)) | EJ106: =IF(DK106="","",SUM(EH106,DK106)) -> 50 | EK106: =IF(DL106="","",SUM(EI106,DL106)) | ... EW106: =IF(DX106="","",SUM(EU106,DX106))
CY107: ekg dh dqy mi- | DA107: =SUM(DA7:DA106) -> 0 | DB107: =SUM(DB7:DB106) -> 0 | DC107: =SUM(DC7:DC106) -> 1000 | DD107: =SUM(DD7:DD106) -> 9 | DE107: =SUM(DE7:DE106) -> 1000 | DF107: =SUM(DF7:DF106) -> 8 | DG107: =SUM(DG7:DG106) -> 1000 | DH107: =SUM(DH7:DH106) -> 9 | ... DX107: =SUM(DX7:DX106) -> 9 | EB107: =SUM(DA107,DC107) -> 1000 | EC107: =SUM(DB107,DD107) -> 9 | ED107: =SUM(EB107,DE107) -> 2000 | EE107: =SUM(EC107,DF107) -> 17 | EF107: =SUM(ED107,DG107) -> 3000 | EG107: =SUM(EE107,DH107) -> 26 | EH107: =SUM(EF107,DI107) -> 4000 | EI107: =SUM(EG107,DJ107) -> 35 | EJ107: =SUM(EH107,DK107) -> 5000 | EK107: =SUM(EI107,DL107) -> 44 | ... EU107: =SUM(ES107,DV107) -> 89 | EV107: =SUM(EV9:EV106) -> 10780 | EW107: =SUM(EW9:EW106) -> 0
CY108: nSfud vkSlr mi- | DB108: =IF(DA107=0,"",DB107/DA6) | DD108: =IF(DC107=0,"",DD107/DC6) -> 0.9 | DF108: =IF(DE107=0,"",DF107/DE6) -> 0.8 | DH108: =IF(DG107=0,"",DH107/DG6) -> 0.9 | DJ108: =IF(DI107=0,"",DJ107/DI6) -> 0.9 | DL108: =IF(DK107=0,"",DL107/DK6) -> 0.9 | DN108: =IF(DM107=0,"",DN107/DM6) -> 0.9 | DP108: =IF(DO107=0,"",DP107/DO6) -> 0.9 | DR108: =IF(DQ107=0,"",DR107/DQ6) -> 0.9 | DT108: =IF(DS107=0,"",DT107/DS6) -> 0.9 | DV108: =IF(DU107=0,"",DV107/DU6) -> 0.9 | DX108: =IF(DW107=0,"",DX107/DW6) -> 0.9

Sheet DOB
A1: Date of Birth In Words | H1: Labourious Critical Formulas. Please Don't Destroy My EFFORT…..
A2: Vishvambhar Presents New Effort to write it
A4: Date & Day of Birth in words in Hindi from 1960 to 2025
A5: S. No. | B5: In Figures | C5: In Words | E5: The Day on the Date | H5: DD | I5: MM | J5: YY | K5: DD | M5: MM | O5: YY | T5: In Words
C6: IN HINID | D6: IN ENGLISH | K6: Hindi | L6: English | M6: Hindi | N6: English | O6: Year | P6: Hindi | Q6: English | R6: Hindi | S6: English | T6: Hindi | U6: English
A7: 1 | B7: =IF(details!G7="","",details!G7) -> 37466 | C7: =T7 -> mUrhl tqykbZ] nks gtkj nks | D7: =U7 -> Twenty Nine July Two Thousand Two | E7: =IF(B7="","",TEXT(B7,"DDDD")) -> Monday | H7: =TEXT(B7,"DD") -> 29 | I7: =TEXT(B7,"MM") -> 07 | J7: =TEXT(B7,"YY") -> 02 | K7: =IF(H7="01",",d",IF(H7="02","nks",IF(H7="03","rhu",IF(H7="04","pkj",IF(H7="05","ikap",IF(H7="06","N%",IF(H7="07","lkr",IF(H7="08","vkB",IF(H7="09","ukS",IF(H7="10","nl",IF(H7="11","X;kjg",IF(H7="12","ckjg",IF(H7="13","rsjg",IF(H7="14","pkSng",IF(H7="15","iUnzg",IF(H7="16","lksyg",IF(H7="17","l=g",IF(H7="18","vBkjg",IF(H7="19","mUuhl",IF(H7="20","chl",IF(H7="21","bDdhl",IF(H7="22","ckbZl",IF(H7="23","rschl",IF(H7="24","pkSchl",IF(H7="25","iPphl",IF(H7="26","NCchl",IF(H7="27","lRrkbZl",IF(H7="28","vBkbZl",IF(H7="29","mUrhl",IF(H7="30","rhl",IF(H7="31","bdrhl",""))))))))))))))))))))))))))))))) -> mUrhl | L7: =IF(H7="01","One",IF(H7="02","Two",IF(H7="03","Three",IF(H7="04","Four",IF(H7="05","Five",IF(H7="06","Six",IF(H7="07","Seven",IF(H7="08","Eight",IF(H7="09","Nine",IF(H7="10","Ten",IF(H7="11","Eleven",IF(H7="12","Twelve",IF(H7="13","Thirteen",IF(H7="14","Forteen",IF(H7="15","Fifteen",IF(H7="16","Sixteen",IF(H7="17","Seventeen",IF(H7="18","Eighteen",IF(H7="19","Nineteen",IF(H7="20","Twenty",IF(H7="21","Twenty One",IF(H7="22","Twenty Two",IF(H7="23","Twenty Three",IF(H7="24","Twenty Four",IF(H7="25","Twenty Five",IF(H7="26","Twenty Six",IF(H7="27","Twenty Seven",IF(H7="28","Twenty Eight",IF(H7="29","Twenty Nine",IF(H7="30","Thirty",IF(H7="31","Thirty One",""))))))))))))))))))))))))))))))) -> Twenty Nine | M7: =IF(I7="01","tuojh",IF(I7="02","Qjojh",IF(I7="03","ekpZ",IF(I7="04","vizsy",IF(I7="05","ebZ",IF(I7="06","twu",IF(I7="07","tqykbZ",IF(I7="08","vxLr",IF(I7="09","flrEcj",IF(I7="10","vDVwcj",IF(I7="11","uoEcj",IF(I7="12","fnlEcj","")))))))))))) -> tqykbZ | N7: =IF(I7="01","January",IF(I7="02","February",IF(I7="03","March",IF(I7="04","April",IF(I7="05","May",IF(I7="06","June",IF(I7="07","July",IF(I7="08","August",IF(I7="09","September",IF(I7="10","October",IF(I7="11","November",IF(I7="12","December","")))))))))))) -> July | O7: =IF(B7="","",YEAR(B7)) -> 2002 | P7: =IF(O7="","",IF(O7<=1999,"mUuhl lkS","nks gtkj")) -> nks gtkj | Q7: =IF(O7="","",IF(O7<=1999,"Nineteen Hundred",IF(O7>=2000,"Two Thousand",""))) -> Two Thousand | R7: =IF(J7="91","bdjkuoS",IF(J7="92","cjkuos",IF(J7="93","frjkuoS",IF(J7="94","pkSjkuos",IF(J7="95","fipkuos",IF(J7="96","fN;kuoS",IF(J7="97","lR;kuoS",IF(J7="98","vBkuoS",IF(J7="99","fuUukuoS",IF(J7="01",",d",IF(J7="02","nks",IF(J7="03","rhu",IF(J7="04","pkj",IF(J7="05","ikap",IF(J7="06","N%",IF(J7="07","lkr",IF(J7="08","vkB",IF(J7="09","ukS",IF(J7="10","nl",IF(J7="11","X;kjg",IF(J7="12","ckjg",IF(J7="13","rsjg",IF(J7="14","pkSng",IF(J7="15","iUnzg",IF(J7="16","lksyg",IF(J7="17","l=g",IF(J7="18","vBkjg",IF(J7="19","mUuhl",IF(J7="20","chl",IF(J7="21","bDdhl",IF(J7="22","ckbZl",IF(J7="23","rschl",IF(J7="24","pkSchl",IF(J7="25","iPphl","")))))))))))))))))))))))))))))))))) -> nks | S7: =IF(J7="","",IF(J7="91","Ninety One",IF(J7="92","Ninety Two",IF(J7="93","Ninety Three",IF(J7="94","Ninety Four",IF(J7="95","Ninety Five",IF(J7="96","Ninety Six",IF(J7="97","Ninety SEven",IF(J7="98","Ninety Eight",IF(J7="99","Ninety Nine",IF(J7="00","",IF(J7="01","One",IF(J7="02","Two",IF(J7="03","Three",IF(J7="04","Four",IF(J7="05","Five",IF(J7="06","Six",IF(J7="07","Seven",IF(J7="08","Eight",IF(J7="09","Nine",IF(J7="10","Ten",IF(J7="11","Eleven",IF(J7="12","Twelve",IF(J7="13","Thirteen",IF(J7="14","Forteen",IF(J7="15","Fifteen",IF(J7="16","Sixteen",IF(J7="17","Seventeen",IF(J7="18","Eighteen",IF(J7="19","Nineteen",IF(J7="20","Twenty",IF(J7="21","Twenty One",IF(J7="22","Twenty Two",IF(J7="23","Twenty Three",IF(J7="24","Twenty Four",IF(J7="25","Twenty Five",IF(J7="26","Twenty Six",IF(J7="27","Twenty Seven",IF(J7="28","Twenty Eight",IF(J7="29","Twenty Nine",IF(J7="30","Thirty",""""))))))))))))))))))))))))))))))))))))))))) -> Two | T7: =IF(B7="","",CONCATENATE(K7," ",M7,"] ",P7," ",R7)) -> mUrhl tqykbZ] nks gtkj nks | U7: =IF(C7="","",CONCATENATE(L7," ",N7," ",Q7," ",S7)) -> Twenty Nine July Two Thousand Two
A8: 2 | B8: =IF(details!G8="","",details!G8) -> 35887 | C8: =T8 -> nks vizsy] mUuhl lkS vBkuoS | D8: =U8 -> Two April Nineteen Hundred Ninety Eight | E8: =IF(B8="","",TEXT(B8,"DDDD")) -> Thursday | H8: =TEXT(B8,"DD") -> 02 | I8: =TEXT(B8,"MM") -> 04 | J8: =TEXT(B8,"YY") -> 98 | K8: =IF(H8="01",",d",IF(H8="02","nks",IF(H8="03","rhu",IF(H8="04","pkj",IF(H8="05","ikap",IF(H8="06","N%",IF(H8="07","lkr",IF(H8="08","vkB",IF(H8="09","ukS",IF(H8="10","nl",IF(H8="11","X;kjg",IF(H8="12","ckjg",IF(H8="13","rsjg",IF(H8="14","pkSng",IF(H8="15","iUnzg",IF(H8="16","lksyg",IF(H8="17","l=g",IF(H8="18","vBkjg",IF(H8="19","mUuhl",IF(H8="20","chl",IF(H8="21","bDdhl",IF(H8="22","ckbZl",IF(H8="23","rschl",IF(H8="24","pkSchl",IF(H8="25","iPphl",IF(H8="26","NCchl",IF(H8="27","lRrkbZl",IF(H8="28","vBkbZl",IF(H8="29","mUrhl",IF(H8="30","rhl",IF(H8="31","bdrhl",""))))))))))))))))))))))))))))))) -> nks | L8: =IF(H8="01","One",IF(H8="02","Two",IF(H8="03","Three",IF(H8="04","Four",IF(H8="05","Five",IF(H8="06","Six",IF(H8="07","Seven",IF(H8="08","Eight",IF(H8="09","Nine",IF(H8="10","Ten",IF(H8="11","Eleven",IF(H8="12","Twelve",IF(H8="13","Thirteen",IF(H8="14","Forteen",IF(H8="15","Fifteen",IF(H8="16","Sixteen",IF(H8="17","Seventeen",IF(H8="18","Eighteen",IF(H8="19","Nineteen",IF(H8="20","Twenty",IF(H8="21","Twenty One",IF(H8="22","Twenty Two",IF(H8="23","Twenty Three",IF(H8="24","Twenty Four",IF(H8="25","Twenty Five",IF(H8="26","Twenty Six",IF(H8="27","Twenty Seven",IF(H8="28","Twenty Eight",IF(H8="29","Twenty Nine",IF(H8="30","Thirty",IF(H8="31","Thirty One",""))))))))))))))))))))))))))))))) -> Two | M8: =IF(I8="01","tuojh",IF(I8="02","Qjojh",IF(I8="03","ekpZ",IF(I8="04","vizsy",IF(I8="05","ebZ",IF(I8="06","twu",IF(I8="07","tqykbZ",IF(I8="08","vxLr",IF(I8="09","flrEcj",IF(I8="10","vDVwcj",IF(I8="11","uoEcj",IF(I8="12","fnlEcj","")))))))))))) -> vizsy | N8: =IF(I8="01","January",IF(I8="02","February",IF(I8="03","March",IF(I8="04","April",IF(I8="05","May",IF(I8="06","June",IF(I8="07","July",IF(I8="08","August",IF(I8="09","September",IF(I8="10","October",IF(I8="11","November",IF(I8="12","December","")))))))))))) -> April | O8: =IF(B8="","",YEAR(B8)) -> 1998 | P8: =IF(O8="","",IF(O8<=1999,"mUuhl lkS","nks gtkj")) -> mUuhl lkS | Q8: =IF(O8="","",IF(O8<=1999,"Nineteen Hundred",IF(O8>=2000,"Two Thousand",""))) -> Nineteen Hundred | R8: =IF(J8="91","bdjkuoS",IF(J8="92","cjkuos",IF(J8="93","frjkuoS",IF(J8="94","pkSjkuos",IF(J8="95","fipkuos",IF(J8="96","fN;kuoS",IF(J8="97","lR;kuoS",IF(J8="98","vBkuoS",IF(J8="99","fuUukuoS",IF(J8="01",",d",IF(J8="02","nks",IF(J8="03","rhu",IF(J8="04","pkj",IF(J8="05","ikap",IF(J8="06","N%",IF(J8="07","lkr",IF(J8="08","vkB",IF(J8="09","ukS",IF(J8="10","nl",IF(J8="11","X;kjg",IF(J8="12","ckjg",IF(J8="13","rsjg",IF(J8="14","pkSng",IF(J8="15","iUnzg",IF(J8="16","lksyg",IF(J8="17","l=g",IF(J8="18","vBkjg",IF(J8="19","mUuhl",IF(J8="20","chl",IF(J8="21","bDdhl",IF(J8="22","ckbZl",IF(J8="23","rschl",IF(J8="24","pkSchl",IF(J8="25","iPphl","")))))))))))))))))))))))))))))))))) -> vBkuoS | S8: =IF(J8="","",IF(J8="91","Ninety One",IF(J8="92","Ninety Two",IF(J8="93","Ninety Three",IF(J8="94","Ninety Four",IF(J8="95","Ninety Five",IF(J8="96","Ninety Six",IF(J8="97","Ninety SEven",IF(J8="98","Ninety Eight",IF(J8="99","Ninety Nine",IF(J8="00","",IF(J8="01","One",IF(J8="02","Two",IF(J8="03","Three",IF(J8="04","Four",IF(J8="05","Five",IF(J8="06","Six",IF(J8="07","Seven",IF(J8="08","Eight",IF(J8="09","Nine",IF(J8="10","Ten",IF(J8="11","Eleven",IF(J8="12","Twelve",IF(J8="13","Thirteen",IF(J8="14","Forteen",IF(J8="15","Fifteen",IF(J8="16","Sixteen",IF(J8="17","Seventeen",IF(J8="18","Eighteen",IF(J8="19","Nineteen",IF(J8="20","Twenty",IF(J8="21","Twenty One",IF(J8="22","Twenty Two",IF(J8="23","Twenty Three",IF(J8="24","Twenty Four",IF(J8="25","Twenty Five",IF(J8="26","Twenty Six",IF(J8="27","Twenty Seven",IF(J8="28","Twenty Eight",IF(J8="29","Twenty Nine",IF(J8="30","Thirty",""""))))))))))))))))))))))))))))))))))))))))) -> Ninety Eight | T8: =IF(B8="","",CONCATENATE(K8," ",M8,"] ",P8," ",R8)) -> nks vizsy] mUuhl lkS vBkuoS | U8: =IF(C8="","",CONCATENATE(L8," ",N8," ",Q8," ",S8)) -> Two April Nineteen Hundred Ninety Eight
A9: 3 | B9: =IF(details!G9="","",details!G9) | C9: =T9 | D9: =U9 | E9: =IF(B9="","",TEXT(B9,"DDDD")) | H9: =TEXT(B9,"DD") | I9: =TEXT(B9,"MM") | J9: =TEXT(B9,"YY") | K9: =IF(H9="01",",d",IF(H9="02","nks",IF(H9="03","rhu",IF(H9="04","pkj",IF(H9="05","ikap",IF(H9="06","N%",IF(H9="07","lkr",IF(H9="08","vkB",IF(H9="09","ukS",IF(H9="10","nl",IF(H9="11","X;kjg",IF(H9="12","ckjg",IF(H9="13","rsjg",IF(H9="14","pkSng",IF(H9="15","iUnzg",IF(H9="16","lksyg",IF(H9="17","l=g",IF(H9="18","vBkjg",IF(H9="19","mUuhl",IF(H9="20","chl",IF(H9="21","bDdhl",IF(H9="22","ckbZl",IF(H9="23","rschl",IF(H9="24","pkSchl",IF(H9="25","iPphl",IF(H9="26","NCchl",IF(H9="27","lRrkbZl",IF(H9="28","vBkbZl",IF(H9="29","mUrhl",IF(H9="30","rhl",IF(H9="31","bdrhl",""))))))))))))))))))))))))))))))) | L9: =IF(H9="01","One",IF(H9="02","Two",IF(H9="03","Three",IF(H9="04","Four",IF(H9="05","Five",IF(H9="06","Six",IF(H9="07","Seven",IF(H9="08","Eight",IF(H9="09","Nine",IF(H9="10","Ten",IF(H9="11","Eleven",IF(H9="12","Twelve",IF(H9="13","Thirteen",IF(H9="14","Forteen",IF(H9="15","Fifteen",IF(H9="16","Sixteen",IF(H9="17","Seventeen",IF(H9="18","Eighteen",IF(H9="19","Nineteen",IF(H9="20","Twenty",IF(H9="21","Twenty One",IF(H9="22","Twenty Two",IF(H9="23","Twenty Three",IF(H9="24","Twenty Four",IF(H9="25","Twenty Five",IF(H9="26","Twenty Six",IF(H9="27","Twenty Seven",IF(H9="28","Twenty Eight",IF(H9="29","Twenty Nine",IF(H9="30","Thirty",IF(H9="31","Thirty One",""))))))))))))))))))))))))))))))) | M9: =IF(I9="01","tuojh",IF(I9="02","Qjojh",IF(I9="03","ekpZ",IF(I9="04","vizsy",IF(I9="05","ebZ",IF(I9="06","twu",IF(I9="07","tqykbZ",IF(I9="08","vxLr",IF(I9="09","flrEcj",IF(I9="10","vDVwcj",IF(I9="11","uoEcj",IF(I9="12","fnlEcj","")))))))))))) | N9: =IF(I9="01","January",IF(I9="02","February",IF(I9="03","March",IF(I9="04","April",IF(I9="05","May",IF(I9="06","June",IF(I9="07","July",IF(I9="08","August",IF(I9="09","September",IF(I9="10","October",IF(I9="11","November",IF(I9="12","December","")))))))))))) | O9: =IF(B9="","",YEAR(B9)) | P9: =IF(O9="","",IF(O9<=1999,"mUuhl lkS","nks gtkj")) | Q9: =IF(O9="","",IF(O9<=1999,"Nineteen Hundred",IF(O9>=2000,"Two Thousand",""))) | R9: =IF(J9="91","bdjkuoS",IF(J9="92","cjkuos",IF(J9="93","frjkuoS",IF(J9="94","pkSjkuos",IF(J9="95","fipkuos",IF(J9="96","fN;kuoS",IF(J9="97","lR;kuoS",IF(J9="98","vBkuoS",IF(J9="99","fuUukuoS",IF(J9="01",",d",IF(J9="02","nks",IF(J9="03","rhu",IF(J9="04","pkj",IF(J9="05","ikap",IF(J9="06","N%",IF(J9="07","lkr",IF(J9="08","vkB",IF(J9="09","ukS",IF(J9="10","nl",IF(J9="11","X;kjg",IF(J9="12","ckjg",IF(J9="13","rsjg",IF(J9="14","pkSng",IF(J9="15","iUnzg",IF(J9="16","lksyg",IF(J9="17","l=g",IF(J9="18","vBkjg",IF(J9="19","mUuhl",IF(J9="20","chl",IF(J9="21","bDdhl",IF(J9="22","ckbZl",IF(J9="23","rschl",IF(J9="24","pkSchl",IF(J9="25","iPphl","")))))))))))))))))))))))))))))))))) | S9: =IF(J9="","",IF(J9="91","Ninety One",IF(J9="92","Ninety Two",IF(J9="93","Ninety Three",IF(J9="94","Ninety Four",IF(J9="95","Ninety Five",IF(J9="96","Ninety Six",IF(J9="97","Ninety SEven",IF(J9="98","Ninety Eight",IF(J9="99","Ninety Nine",IF(J9="00","",IF(J9="01","One",IF(J9="02","Two",IF(J9="03","Three",IF(J9="04","Four",IF(J9="05","Five",IF(J9="06","Six",IF(J9="07","Seven",IF(J9="08","Eight",IF(J9="09","Nine",IF(J9="10","Ten",IF(J9="11","Eleven",IF(J9="12","Twelve",IF(J9="13","Thirteen",IF(J9="14","Forteen",IF(J9="15","Fifteen",IF(J9="16","Sixteen",IF(J9="17","Seventeen",IF(J9="18","Eighteen",IF(J9="19","Nineteen",IF(J9="20","Twenty",IF(J9="21","Twenty One",IF(J9="22","Twenty Two",IF(J9="23","Twenty Three",IF(J9="24","Twenty Four",IF(J9="25","Twenty Five",IF(J9="26","Twenty Six",IF(J9="27","Twenty Seven",IF(J9="28","Twenty Eight",IF(J9="29","Twenty Nine",IF(J9="30","Thirty",""""))))))))))))))))))))))))))))))))))))))))) | T9: =IF(B9="","",CONCATENATE(K9," ",M9,"] ",P9," ",R9)) | U9: =IF(C9="","",CONCATENATE(L9," ",N9," ",Q9," ",S9))
A10: 4 | B10: =IF(details!G10="","",details!G10) | C10: =T10 | D10: =U10 | E10: =IF(B10="","",TEXT(B10,"DDDD")) | H10: =TEXT(B10,"DD") | I10: =TEXT(B10,"MM") | J10: =TEXT(B10,"YY") | K10: =IF(H10="01",",d",IF(H10="02","nks",IF(H10="03","rhu",IF(H10="04","pkj",IF(H10="05","ikap",IF(H10="06","N%",IF(H10="07","lkr",IF(H10="08","vkB",IF(H10="09","ukS",IF(H10="10","nl",IF(H10="11","X;kjg",IF(H10="12","ckjg",IF(H10="13","rsjg",IF(H10="14","pkSng",IF(H10="15","iUnzg",IF(H10="16","lksyg",IF(H10="17","l=g",IF(H10="18","vBkjg",IF(H10="19","mUuhl",IF(H10="20","chl",IF(H10="21","bDdhl",IF(H10="22","ckbZl",IF(H10="23","rschl",IF(H10="24","pkSchl",IF(H10="25","iPphl",IF(H10="26","NCchl",IF(H10="27","lRrkbZl",IF(H10="28","vBkbZl",IF(H10="29","mUrhl",IF(H10="30","rhl",IF(H10="31","bdrhl",""))))))))))))))))))))))))))))))) | L10: =IF(H10="01","One",IF(H10="02","Two",IF(H10="03","Three",IF(H10="04","Four",IF(H10="05","Five",IF(H10="06","Six",IF(H10="07","Seven",IF(H10="08","Eight",IF(H10="09","Nine",IF(H10="10","Ten",IF(H10="11","Eleven",IF(H10="12","Twelve",IF(H10="13","Thirteen",IF(H10="14","Forteen",IF(H10="15","Fifteen",IF(H10="16","Sixteen",IF(H10="17","Seventeen",IF(H10="18","Eighteen",IF(H10="19","Nineteen",IF(H10="20","Twenty",IF(H10="21","Twenty One",IF(H10="22","Twenty Two",IF(H10="23","Twenty Three",IF(H10="24","Twenty Four",IF(H10="25","Twenty Five",IF(H10="26","Twenty Six",IF(H10="27","Twenty Seven",IF(H10="28","Twenty Eight",IF(H10="29","Twenty Nine",IF(H10="30","Thirty",IF(H10="31","Thirty One",""))))))))))))))))))))))))))))))) | M10: =IF(I10="01","tuojh",IF(I10="02","Qjojh",IF(I10="03","ekpZ",IF(I10="04","vizsy",IF(I10="05","ebZ",IF(I10="06","twu",IF(I10="07","tqykbZ",IF(I10="08","vxLr",IF(I10="09","flrEcj",IF(I10="10","vDVwcj",IF(I10="11","uoEcj",IF(I10="12","fnlEcj","")))))))))))) | N10: =IF(I10="01","January",IF(I10="02","February",IF(I10="03","March",IF(I10="04","April",IF(I10="05","May",IF(I10="06","June",IF(I10="07","July",IF(I10="08","August",IF(I10="09","September",IF(I10="10","October",IF(I10="11","November",IF(I10="12","December","")))))))))))) | O10: =IF(B10="","",YEAR(B10)) | P10: =IF(O10="","",IF(O10<=1999,"mUuhl lkS","nks gtkj")) | Q10: =IF(O10="","",IF(O10<=1999,"Nineteen Hundred",IF(O10>=2000,"Two Thousand",""))) | R10: =IF(J10="91","bdjkuoS",IF(J10="92","cjkuos",IF(J10="93","frjkuoS",IF(J10="94","pkSjkuos",IF(J10="95","fipkuos",IF(J10="96","fN;kuoS",IF(J10="97","lR;kuoS",IF(J10="98","vBkuoS",IF(J10="99","fuUukuoS",IF(J10="01",",d",IF(J10="02","nks",IF(J10="03","rhu",IF(J10="04","pkj",IF(J10="05","ikap",IF(J10="06","N%",IF(J10="07","lkr",IF(J10="08","vkB",IF(J10="09","ukS",IF(J10="10","nl",IF(J10="11","X;kjg",IF(J10="12","ckjg",IF(J10="13","rsjg",IF(J10="14","pkSng",IF(J10="15","iUnzg",IF(J10="16","lksyg",IF(J10="17","l=g",IF(J10="18","vBkjg",IF(J10="19","mUuhl",IF(J10="20","chl",IF(J10="21","bDdhl",IF(J10="22","ckbZl",IF(J10="23","rschl",IF(J10="24","pkSchl",IF(J10="25","iPphl","")))))))))))))))))))))))))))))))))) | S10: =IF(J10="","",IF(J10="91","Ninety One",IF(J10="92","Ninety Two",IF(J10="93","Ninety Three",IF(J10="94","Ninety Four",IF(J10="95","Ninety Five",IF(J10="96","Ninety Six",IF(J10="97","Ninety SEven",IF(J10="98","Ninety Eight",IF(J10="99","Ninety Nine",IF(J10="00","",IF(J10="01","One",IF(J10="02","Two",IF(J10="03","Three",IF(J10="04","Four",IF(J10="05","Five",IF(J10="06","Six",IF(J10="07","Seven",IF(J10="08","Eight",IF(J10="09","Nine",IF(J10="10","Ten",IF(J10="11","Eleven",IF(J10="12","Twelve",IF(J10="13","Thirteen",IF(J10="14","Forteen",IF(J10="15","Fifteen",IF(J10="16","Sixteen",IF(J10="17","Seventeen",IF(J10="18","Eighteen",IF(J10="19","Nineteen",IF(J10="20","Twenty",IF(J10="21","Twenty One",IF(J10="22","Twenty Two",IF(J10="23","Twenty Three",IF(J10="24","Twenty Four",IF(J10="25","Twenty Five",IF(J10="26","Twenty Six",IF(J10="27","Twenty Seven",IF(J10="28","Twenty Eight",IF(J10="29","Twenty Nine",IF(J10="30","Thirty",""""))))))))))))))))))))))))))))))))))))))))) | T10: =IF(B10="","",CONCATENATE(K10," ",M10,"] ",P10," ",R10)) | U10: =IF(C10="","",CONCATENATE(L10," ",N10," ",Q10," ",S10))
A11: 5 | B11: =IF(details!G11="","",details!G11) | C11: =T11 | D11: =U11 | E11: =IF(B11="","",TEXT(B11,"DDDD")) | H11: =TEXT(B11,"DD") | I11: =TEXT(B11,"MM") | J11: =TEXT(B11,"YY") | K11: =IF(H11="01",",d",IF(H11="02","nks",IF(H11="03","rhu",IF(H11="04","pkj",IF(H11="05","ikap",IF(H11="06","N%",IF(H11="07","lkr",IF(H11="08","vkB",IF(H11="09","ukS",IF(H11="10","nl",IF(H11="11","X;kjg",IF(H11="12","ckjg",IF(H11="13","rsjg",IF(H11="14","pkSng",IF(H11="15","iUnzg",IF(H11="16","lksyg",IF(H11="17","l=g",IF(H11="18","vBkjg",IF(H11="19","mUuhl",IF(H11="20","chl",IF(H11="21","bDdhl",IF(H11="22","ckbZl",IF(H11="23","rschl",IF(H11="24","pkSchl",IF(H11="25","iPphl",IF(H11="26","NCchl",IF(H11="27","lRrkbZl",IF(H11="28","vBkbZl",IF(H11="29","mUrhl",IF(H11="30","rhl",IF(H11="31","bdrhl",""))))))))))))))))))))))))))))))) | L11: =IF(H11="01","One",IF(H11="02","Two",IF(H11="03","Three",IF(H11="04","Four",IF(H11="05","Five",IF(H11="06","Six",IF(H11="07","Seven",IF(H11="08","Eight",IF(H11="09","Nine",IF(H11="10","Ten",IF(H11="11","Eleven",IF(H11="12","Twelve",IF(H11="13","Thirteen",IF(H11="14","Forteen",IF(H11="15","Fifteen",IF(H11="16","Sixteen",IF(H11="17","Seventeen",IF(H11="18","Eighteen",IF(H11="19","Nineteen",IF(H11="20","Twenty",IF(H11="21","Twenty One",IF(H11="22","Twenty Two",IF(H11="23","Twenty Three",IF(H11="24","Twenty Four",IF(H11="25","Twenty Five",IF(H11="26","Twenty Six",IF(H11="27","Twenty Seven",IF(H11="28","Twenty Eight",IF(H11="29","Twenty Nine",IF(H11="30","Thirty",IF(H11="31","Thirty One",""))))))))))))))))))))))))))))))) | M11: =IF(I11="01","tuojh",IF(I11="02","Qjojh",IF(I11="03","ekpZ",IF(I11="04","vizsy",IF(I11="05","ebZ",IF(I11="06","twu",IF(I11="07","tqykbZ",IF(I11="08","vxLr",IF(I11="09","flrEcj",IF(I11="10","vDVwcj",IF(I11="11","uoEcj",IF(I11="12","fnlEcj","")))))))))))) | N11: =IF(I11="01","January",IF(I11="02","February",IF(I11="03","March",IF(I11="04","April",IF(I11="05","May",IF(I11="06","June",IF(I11="07","July",IF(I11="08","August",IF(I11="09","September",IF(I11="10","October",IF(I11="11","November",IF(I11="12","December","")))))))))))) | O11: =IF(B11="","",YEAR(B11)) | P11: =IF(O11="","",IF(O11<=1999,"mUuhl lkS","nks gtkj")) | Q11: =IF(O11="","",IF(O11<=1999,"Nineteen Hundred",IF(O11>=2000,"Two Thousand",""))) | R11: =IF(J11="91","bdjkuoS",IF(J11="92","cjkuos",IF(J11="93","frjkuoS",IF(J11="94","pkSjkuos",IF(J11="95","fipkuos",IF(J11="96","fN;kuoS",IF(J11="97","lR;kuoS",IF(J11="98","vBkuoS",IF(J11="99","fuUukuoS",IF(J11="01",",d",IF(J11="02","nks",IF(J11="03","rhu",IF(J11="04","pkj",IF(J11="05","ikap",IF(J11="06","N%",IF(J11="07","lkr",IF(J11="08","vkB",IF(J11="09","ukS",IF(J11="10","nl",IF(J11="11","X;kjg",IF(J11="12","ckjg",IF(J11="13","rsjg",IF(J11="14","pkSng",IF(J11="15","iUnzg",IF(J11="16","lksyg",IF(J11="17","l=g",IF(J11="18","vBkjg",IF(J11="19","mUuhl",IF(J11="20","chl",IF(J11="21","bDdhl",IF(J11="22","ckbZl",IF(J11="23","rschl",IF(J11="24","pkSchl",IF(J11="25","iPphl","")))))))))))))))))))))))))))))))))) | S11: =IF(J11="","",IF(J11="91","Ninety One",IF(J11="92","Ninety Two",IF(J11="93","Ninety Three",IF(J11="94","Ninety Four",IF(J11="95","Ninety Five",IF(J11="96","Ninety Six",IF(J11="97","Ninety SEven",IF(J11="98","Ninety Eight",IF(J11="99","Ninety Nine",IF(J11="00","",IF(J11="01","One",IF(J11="02","Two",IF(J11="03","Three",IF(J11="04","Four",IF(J11="05","Five",IF(J11="06","Six",IF(J11="07","Seven",IF(J11="08","Eight",IF(J11="09","Nine",IF(J11="10","Ten",IF(J11="11","Eleven",IF(J11="12","Twelve",IF(J11="13","Thirteen",IF(J11="14","Forteen",IF(J11="15","Fifteen",IF(J11="16","Sixteen",IF(J11="17","Seventeen",IF(J11="18","Eighteen",IF(J11="19","Nineteen",IF(J11="20","Twenty",IF(J11="21","Twenty One",IF(J11="22","Twenty Two",IF(J11="23","Twenty Three",IF(J11="24","Twenty Four",IF(J11="25","Twenty Five",IF(J11="26","Twenty Six",IF(J11="27","Twenty Seven",IF(J11="28","Twenty Eight",IF(J11="29","Twenty Nine",IF(J11="30","Thirty",""""))))))))))))))))))))))))))))))))))))))))) | T11: =IF(B11="","",CONCATENATE(K11," ",M11,"] ",P11," ",R11)) | U11: =IF(C11="","",CONCATENATE(L11," ",N11," ",Q11," ",S11))
A12: 6 | B12: =IF(details!G12="","",details!G12) | C12: =T12 | D12: =U12 | E12: =IF(B12="","",TEXT(B12,"DDDD")) | H12: =TEXT(B12,"DD") | I12: =TEXT(B12,"MM") | J12: =TEXT(B12,"YY") | K12: =IF(H12="01",",d",IF(H12="02","nks",IF(H12="03","rhu",IF(H12="04","pkj",IF(H12="05","ikap",IF(H12="06","N%",IF(H12="07","lkr",IF(H12="08","vkB",IF(H12="09","ukS",IF(H12="10","nl",IF(H12="11","X;kjg",IF(H12="12","ckjg",IF(H12="13","rsjg",IF(H12="14","pkSng",IF(H12="15","iUnzg",IF(H12="16","lksyg",IF(H12="17","l=g",IF(H12="18","vBkjg",IF(H12="19","mUuhl",IF(H12="20","chl",IF(H12="21","bDdhl",IF(H12="22","ckbZl",IF(H12="23","rschl",IF(H12="24","pkSchl",IF(H12="25","iPphl",IF(H12="26","NCchl",IF(H12="27","lRrkbZl",IF(H12="28","vBkbZl",IF(H12="29","mUrhl",IF(H12="30","rhl",IF(H12="31","bdrhl",""))))))))))))))))))))))))))))))) | L12: =IF(H12="01","One",IF(H12="02","Two",IF(H12="03","Three",IF(H12="04","Four",IF(H12="05","Five",IF(H12="06","Six",IF(H12="07","Seven",IF(H12="08","Eight",IF(H12="09","Nine",IF(H12="10","Ten",IF(H12="11","Eleven",IF(H12="12","Twelve",IF(H12="13","Thirteen",IF(H12="14","Forteen",IF(H12="15","Fifteen",IF(H12="16","Sixteen",IF(H12="17","Seventeen",IF(H12="18","Eighteen",IF(H12="19","Nineteen",IF(H12="20","Twenty",IF(H12="21","Twenty One",IF(H12="22","Twenty Two",IF(H12="23","Twenty Three",IF(H12="24","Twenty Four",IF(H12="25","Twenty Five",IF(H12="26","Twenty Six",IF(H12="27","Twenty Seven",IF(H12="28","Twenty Eight",IF(H12="29","Twenty Nine",IF(H12="30","Thirty",IF(H12="31","Thirty One",""))))))))))))))))))))))))))))))) | M12: =IF(I12="01","tuojh",IF(I12="02","Qjojh",IF(I12="03","ekpZ",IF(I12="04","vizsy",IF(I12="05","ebZ",IF(I12="06","twu",IF(I12="07","tqykbZ",IF(I12="08","vxLr",IF(I12="09","flrEcj",IF(I12="10","vDVwcj",IF(I12="11","uoEcj",IF(I12="12","fnlEcj","")))))))))))) | N12: =IF(I12="01","January",IF(I12="02","February",IF(I12="03","March",IF(I12="04","April",IF(I12="05","May",IF(I12="06","June",IF(I12="07","July",IF(I12="08","August",IF(I12="09","September",IF(I12="10","October",IF(I12="11","November",IF(I12="12","December","")))))))))))) | O12: =IF(B12="","",YEAR(B12)) | P12: =IF(O12="","",IF(O12<=1999,"mUuhl lkS","nks gtkj")) | Q12: =IF(O12="","",IF(O12<=1999,"Nineteen Hundred",IF(O12>=2000,"Two Thousand",""))) | R12: =IF(J12="91","bdjkuoS",IF(J12="92","cjkuos",IF(J12="93","frjkuoS",IF(J12="94","pkSjkuos",IF(J12="95","fipkuos",IF(J12="96","fN;kuoS",IF(J12="97","lR;kuoS",IF(J12="98","vBkuoS",IF(J12="99","fuUukuoS",IF(J12="01",",d",IF(J12="02","nks",IF(J12="03","rhu",IF(J12="04","pkj",IF(J12="05","ikap",IF(J12="06","N%",IF(J12="07","lkr",IF(J12="08","vkB",IF(J12="09","ukS",IF(J12="10","nl",IF(J12="11","X;kjg",IF(J12="12","ckjg",IF(J12="13","rsjg",IF(J12="14","pkSng",IF(J12="15","iUnzg",IF(J12="16","lksyg",IF(J12="17","l=g",IF(J12="18","vBkjg",IF(J12="19","mUuhl",IF(J12="20","chl",IF(J12="21","bDdhl",IF(J12="22","ckbZl",IF(J12="23","rschl",IF(J12="24","pkSchl",IF(J12="25","iPphl","")))))))))))))))))))))))))))))))))) | S12: =IF(J12="","",IF(J12="91","Ninety One",IF(J12="92","Ninety Two",IF(J12="93","Ninety Three",IF(J12="94","Ninety Four",IF(J12="95","Ninety Five",IF(J12="96","Ninety Six",IF(J12="97","Ninety SEven",IF(J12="98","Ninety Eight",IF(J12="99","Ninety Nine",IF(J12="00","",IF(J12="01","One",IF(J12="02","Two",IF(J12="03","Three",IF(J12="04","Four",IF(J12="05","Five",IF(J12="06","Six",IF(J12="07","Seven",IF(J12="08","Eight",IF(J12="09","Nine",IF(J12="10","Ten",IF(J12="11","Eleven",IF(J12="12","Twelve",IF(J12="13","Thirteen",IF(J12="14","Forteen",IF(J12="15","Fifteen",IF(J12="16","Sixteen",IF(J12="17","Seventeen",IF(J12="18","Eighteen",IF(J12="19","Nineteen",IF(J12="20","Twenty",IF(J12="21","Twenty One",IF(J12="22","Twenty Two",IF(J12="23","Twenty Three",IF(J12="24","Twenty Four",IF(J12="25","Twenty Five",IF(J12="26","Twenty Six",IF(J12="27","Twenty Seven",IF(J12="28","Twenty Eight",IF(J12="29","Twenty Nine",IF(J12="30","Thirty",""""))))))))))))))))))))))))))))))))))))))))) | T12: =IF(B12="","",CONCATENATE(K12," ",M12,"] ",P12," ",R12)) | U12: =IF(C12="","",CONCATENATE(L12," ",N12," ",Q12," ",S12))
A13: 7 | B13: =IF(details!G13="","",details!G13) | C13: =T13 | D13: =U13 | E13: =IF(B13="","",TEXT(B13,"DDDD")) | H13: =TEXT(B13,"DD") | I13: =TEXT(B13,"MM") | J13: =TEXT(B13,"YY") | K13: =IF(H13="01",",d",IF(H13="02","nks",IF(H13="03","rhu",IF(H13="04","pkj",IF(H13="05","ikap",IF(H13="06","N%",IF(H13="07","lkr",IF(H13="08","vkB",IF(H13="09","ukS",IF(H13="10","nl",IF(H13="11","X;kjg",IF(H13="12","ckjg",IF(H13="13","rsjg",IF(H13="14","pkSng",IF(H13="15","iUnzg",IF(H13="16","lksyg",IF(H13="17","l=g",IF(H13="18","vBkjg",IF(H13="19","mUuhl",IF(H13="20","chl",IF(H13="21","bDdhl",IF(H13="22","ckbZl",IF(H13="23","rschl",IF(H13="24","pkSchl",IF(H13="25","iPphl",IF(H13="26","NCchl",IF(H13="27","lRrkbZl",IF(H13="28","vBkbZl",IF(H13="29","mUrhl",IF(H13="30","rhl",IF(H13="31","bdrhl",""))))))))))))))))))))))))))))))) | L13: =IF(H13="01","One",IF(H13="02","Two",IF(H13="03","Three",IF(H13="04","Four",IF(H13="05","Five",IF(H13="06","Six",IF(H13="07","Seven",IF(H13="08","Eight",IF(H13="09","Nine",IF(H13="10","Ten",IF(H13="11","Eleven",IF(H13="12","Twelve",IF(H13="13","Thirteen",IF(H13="14","Forteen",IF(H13="15","Fifteen",IF(H13="16","Sixteen",IF(H13="17","Seventeen",IF(H13="18","Eighteen",IF(H13="19","Nineteen",IF(H13="20","Twenty",IF(H13="21","Twenty One",IF(H13="22","Twenty Two",IF(H13="23","Twenty Three",IF(H13="24","Twenty Four",IF(H13="25","Twenty Five",IF(H13="26","Twenty Six",IF(H13="27","Twenty Seven",IF(H13="28","Twenty Eight",IF(H13="29","Twenty Nine",IF(H13="30","Thirty",IF(H13="31","Thirty One",""))))))))))))))))))))))))))))))) | M13: =IF(I13="01","tuojh",IF(I13="02","Qjojh",IF(I13="03","ekpZ",IF(I13="04","vizsy",IF(I13="05","ebZ",IF(I13="06","twu",IF(I13="07","tqykbZ",IF(I13="08","vxLr",IF(I13="09","flrEcj",IF(I13="10","vDVwcj",IF(I13="11","uoEcj",IF(I13="12","fnlEcj","")))))))))))) | N13: =IF(I13="01","January",IF(I13="02","February",IF(I13="03","March",IF(I13="04","April",IF(I13="05","May",IF(I13="06","June",IF(I13="07","July",IF(I13="08","August",IF(I13="09","September",IF(I13="10","October",IF(I13="11","November",IF(I13="12","December","")))))))))))) | O13: =IF(B13="","",YEAR(B13)) | P13: =IF(O13="","",IF(O13<=1999,"mUuhl lkS","nks gtkj")) | Q13: =IF(O13="","",IF(O13<=1999,"Nineteen Hundred",IF(O13>=2000,"Two Thousand",""))) | R13: =IF(J13="91","bdjkuoS",IF(J13="92","cjkuos",IF(J13="93","frjkuoS",IF(J13="94","pkSjkuos",IF(J13="95","fipkuos",IF(J13="96","fN;kuoS",IF(J13="97","lR;kuoS",IF(J13="98","vBkuoS",IF(J13="99","fuUukuoS",IF(J13="01",",d",IF(J13="02","nks",IF(J13="03","rhu",IF(J13="04","pkj",IF(J13="05","ikap",IF(J13="06","N%",IF(J13="07","lkr",IF(J13="08","vkB",IF(J13="09","ukS",IF(J13="10","nl",IF(J13="11","X;kjg",IF(J13="12","ckjg",IF(J13="13","rsjg",IF(J13="14","pkSng",IF(J13="15","iUnzg",IF(J13="16","lksyg",IF(J13="17","l=g",IF(J13="18","vBkjg",IF(J13="19","mUuhl",IF(J13="20","chl",IF(J13="21","bDdhl",IF(J13="22","ckbZl",IF(J13="23","rschl",IF(J13="24","pkSchl",IF(J13="25","iPphl","")))))))))))))))))))))))))))))))))) | S13: =IF(J13="","",IF(J13="91","Ninety One",IF(J13="92","Ninety Two",IF(J13="93","Ninety Three",IF(J13="94","Ninety Four",IF(J13="95","Ninety Five",IF(J13="96","Ninety Six",IF(J13="97","Ninety SEven",IF(J13="98","Ninety Eight",IF(J13="99","Ninety Nine",IF(J13="00","",IF(J13="01","One",IF(J13="02","Two",IF(J13="03","Three",IF(J13="04","Four",IF(J13="05","Five",IF(J13="06","Six",IF(J13="07","Seven",IF(J13="08","Eight",IF(J13="09","Nine",IF(J13="10","Ten",IF(J13="11","Eleven",IF(J13="12","Twelve",IF(J13="13","Thirteen",IF(J13="14","Forteen",IF(J13="15","Fifteen",IF(J13="16","Sixteen",IF(J13="17","Seventeen",IF(J13="18","Eighteen",IF(J13="19","Nineteen",IF(J13="20","Twenty",IF(J13="21","Twenty One",IF(J13="22","Twenty Two",IF(J13="23","Twenty Three",IF(J13="24","Twenty Four",IF(J13="25","Twenty Five",IF(J13="26","Twenty Six",IF(J13="27","Twenty Seven",IF(J13="28","Twenty Eight",IF(J13="29","Twenty Nine",IF(J13="30","Thirty",""""))))))))))))))))))))))))))))))))))))))))) | T13: =IF(B13="","",CONCATENATE(K13," ",M13,"] ",P13," ",R13)) | U13: =IF(C13="","",CONCATENATE(L13," ",N13," ",Q13," ",S13))
A14: 8 | B14: =IF(details!G14="","",details!G14) | C14: =T14 | D14: =U14 | E14: =IF(B14="","",TEXT(B14,"DDDD")) | H14: =TEXT(B14,"DD") | I14: =TEXT(B14,"MM") | J14: =TEXT(B14,"YY") | K14: =IF(H14="01",",d",IF(H14="02","nks",IF(H14="03","rhu",IF(H14="04","pkj",IF(H14="05","ikap",IF(H14="06","N%",IF(H14="07","lkr",IF(H14="08","vkB",IF(H14="09","ukS",IF(H14="10","nl",IF(H14="11","X;kjg",IF(H14="12","ckjg",IF(H14="13","rsjg",IF(H14="14","pkSng",IF(H14="15","iUnzg",IF(H14="16","lksyg",IF(H14="17","l=g",IF(H14="18","vBkjg",IF(H14="19","mUuhl",IF(H14="20","chl",IF(H14="21","bDdhl",IF(H14="22","ckbZl",IF(H14="23","rschl",IF(H14="24","pkSchl",IF(H14="25","iPphl",IF(H14="26","NCchl",IF(H14="27","lRrkbZl",IF(H14="28","vBkbZl",IF(H14="29","mUrhl",IF(H14="30","rhl",IF(H14="31","bdrhl",""))))))))))))))))))))))))))))))) | L14: =IF(H14="01","One",IF(H14="02","Two",IF(H14="03","Three",IF(H14="04","Four",IF(H14="05","Five",IF(H14="06","Six",IF(H14="07","Seven",IF(H14="08","Eight",IF(H14="09","Nine",IF(H14="10","Ten",IF(H14="11","Eleven",IF(H14="12","Twelve",IF(H14="13","Thirteen",IF(H14="14","Forteen",IF(H14="15","Fifteen",IF(H14="16","Sixteen",IF(H14="17","Seventeen",IF(H14="18","Eighteen",IF(H14="19","Nineteen",IF(H14="20","Twenty",IF(H14="21","Twenty One",IF(H14="22","Twenty Two",IF(H14="23","Twenty Three",IF(H14="24","Twenty Four",IF(H14="25","Twenty Five",IF(H14="26","Twenty Six",IF(H14="27","Twenty Seven",IF(H14="28","Twenty Eight",IF(H14="29","Twenty Nine",IF(H14="30","Thirty",IF(H14="31","Thirty One",""))))))))))))))))))))))))))))))) | M14: =IF(I14="01","tuojh",IF(I14="02","Qjojh",IF(I14="03","ekpZ",IF(I14="04","vizsy",IF(I14="05","ebZ",IF(I14="06","twu",IF(I14="07","tqykbZ",IF(I14="08","vxLr",IF(I14="09","flrEcj",IF(I14="10","vDVwcj",IF(I14="11","uoEcj",IF(I14="12","fnlEcj","")))))))))))) | N14: =IF(I14="01","January",IF(I14="02","February",IF(I14="03","March",IF(I14="04","April",IF(I14="05","May",IF(I14="06","June",IF(I14="07","July",IF(I14="08","August",IF(I14="09","September",IF(I14="10","October",IF(I14="11","November",IF(I14="12","December","")))))))))))) | O14: =IF(B14="","",YEAR(B14)) | P14: =IF(O14="","",IF(O14<=1999,"mUuhl lkS","nks gtkj")) | Q14: =IF(O14="","",IF(O14<=1999,"Nineteen Hundred",IF(O14>=2000,"Two Thousand",""))) | R14: =IF(J14="91","bdjkuoS",IF(J14="92","cjkuos",IF(J14="93","frjkuoS",IF(J14="94","pkSjkuos",IF(J14="95","fipkuos",IF(J14="96","fN;kuoS",IF(J14="97","lR;kuoS",IF(J14="98","vBkuoS",IF(J14="99","fuUukuoS",IF(J14="01",",d",IF(J14="02","nks",IF(J14="03","rhu",IF(J14="04","pkj",IF(J14="05","ikap",IF(J14="06","N%",IF(J14="07","lkr",IF(J14="08","vkB",IF(J14="09","ukS",IF(J14="10","nl",IF(J14="11","X;kjg",IF(J14="12","ckjg",IF(J14="13","rsjg",IF(J14="14","pkSng",IF(J14="15","iUnzg",IF(J14="16","lksyg",IF(J14="17","l=g",IF(J14="18","vBkjg",IF(J14="19","mUuhl",IF(J14="20","chl",IF(J14="21","bDdhl",IF(J14="22","ckbZl",IF(J14="23","rschl",IF(J14="24","pkSchl",IF(J14="25","iPphl","")))))))))))))))))))))))))))))))))) | S14: =IF(J14="","",IF(J14="91","Ninety One",IF(J14="92","Ninety Two",IF(J14="93","Ninety Three",IF(J14="94","Ninety Four",IF(J14="95","Ninety Five",IF(J14="96","Ninety Six",IF(J14="97","Ninety SEven",IF(J14="98","Ninety Eight",IF(J14="99","Ninety Nine",IF(J14="00","",IF(J14="01","One",IF(J14="02","Two",IF(J14="03","Three",IF(J14="04","Four",IF(J14="05","Five",IF(J14="06","Six",IF(J14="07","Seven",IF(J14="08","Eight",IF(J14="09","Nine",IF(J14="10","Ten",IF(J14="11","Eleven",IF(J14="12","Twelve",IF(J14="13","Thirteen",IF(J14="14","Forteen",IF(J14="15","Fifteen",IF(J14="16","Sixteen",IF(J14="17","Seventeen",IF(J14="18","Eighteen",IF(J14="19","Nineteen",IF(J14="20","Twenty",IF(J14="21","Twenty One",IF(J14="22","Twenty Two",IF(J14="23","Twenty Three",IF(J14="24","Twenty Four",IF(J14="25","Twenty Five",IF(J14="26","Twenty Six",IF(J14="27","Twenty Seven",IF(J14="28","Twenty Eight",IF(J14="29","Twenty Nine",IF(J14="30","Thirty",""""))))))))))))))))))))))))))))))))))))))))) | T14: =IF(B14="","",CONCATENATE(K14," ",M14,"] ",P14," ",R14)) | U14: =IF(C14="","",CONCATENATE(L14," ",N14," ",Q14," ",S14))
A15: 9 | B15: =IF(details!G15="","",details!G15) | C15: =T15 | D15: =U15 | E15: =IF(B15="","",TEXT(B15,"DDDD")) | H15: =TEXT(B15,"DD") | I15: =TEXT(B15,"MM") | J15: =TEXT(B15,"YY") | K15: =IF(H15="01",",d",IF(H15="02","nks",IF(H15="03","rhu",IF(H15="04","pkj",IF(H15="05","ikap",IF(H15="06","N%",IF(H15="07","lkr",IF(H15="08","vkB",IF(H15="09","ukS",IF(H15="10","nl",IF(H15="11","X;kjg",IF(H15="12","ckjg",IF(H15="13","rsjg",IF(H15="14","pkSng",IF(H15="15","iUnzg",IF(H15="16","lksyg",IF(H15="17","l=g",IF(H15="18","vBkjg",IF(H15="19","mUuhl",IF(H15="20","chl",IF(H15="21","bDdhl",IF(H15="22","ckbZl",IF(H15="23","rschl",IF(H15="24","pkSchl",IF(H15="25","iPphl",IF(H15="26","NCchl",IF(H15="27","lRrkbZl",IF(H15="28","vBkbZl",IF(H15="29","mUrhl",IF(H15="30","rhl",IF(H15="31","bdrhl",""))))))))))))))))))))))))))))))) | L15: =IF(H15="01","One",IF(H15="02","Two",IF(H15="03","Three",IF(H15="04","Four",IF(H15="05","Five",IF(H15="06","Six",IF(H15="07","Seven",IF(H15="08","Eight",IF(H15="09","Nine",IF(H15="10","Ten",IF(H15="11","Eleven",IF(H15="12","Twelve",IF(H15="13","Thirteen",IF(H15="14","Forteen",IF(H15="15","Fifteen",IF(H15="16","Sixteen",IF(H15="17","Seventeen",IF(H15="18","Eighteen",IF(H15="19","Nineteen",IF(H15="20","Twenty",IF(H15="21","Twenty One",IF(H15="22","Twenty Two",IF(H15="23","Twenty Three",IF(H15="24","Twenty Four",IF(H15="25","Twenty Five",IF(H15="26","Twenty Six",IF(H15="27","Twenty Seven",IF(H15="28","Twenty Eight",IF(H15="29","Twenty Nine",IF(H15="30","Thirty",IF(H15="31","Thirty One",""))))))))))))))))))))))))))))))) | M15: =IF(I15="01","tuojh",IF(I15="02","Qjojh",IF(I15="03","ekpZ",IF(I15="04","vizsy",IF(I15="05","ebZ",IF(I15="06","twu",IF(I15="07","tqykbZ",IF(I15="08","vxLr",IF(I15="09","flrEcj",IF(I15="10","vDVwcj",IF(I15="11","uoEcj",IF(I15="12","fnlEcj","")))))))))))) | N15: =IF(I15="01","January",IF(I15="02","February",IF(I15="03","March",IF(I15="04","April",IF(I15="05","May",IF(I15="06","June",IF(I15="07","July",IF(I15="08","August",IF(I15="09","September",IF(I15="10","October",IF(I15="11","November",IF(I15="12","December","")))))))))))) | O15: =IF(B15="","",YEAR(B15)) | P15: =IF(O15="","",IF(O15<=1999,"mUuhl lkS","nks gtkj")) | Q15: =IF(O15="","",IF(O15<=1999,"Nineteen Hundred",IF(O15>=2000,"Two Thousand",""))) | R15: =IF(J15="91","bdjkuoS",IF(J15="92","cjkuos",IF(J15="93","frjkuoS",IF(J15="94","pkSjkuos",IF(J15="95","fipkuos",IF(J15="96","fN;kuoS",IF(J15="97","lR;kuoS",IF(J15="98","vBkuoS",IF(J15="99","fuUukuoS",IF(J15="01",",d",IF(J15="02","nks",IF(J15="03","rhu",IF(J15="04","pkj",IF(J15="05","ikap",IF(J15="06","N%",IF(J15="07","lkr",IF(J15="08","vkB",IF(J15="09","ukS",IF(J15="10","nl",IF(J15="11","X;kjg",IF(J15="12","ckjg",IF(J15="13","rsjg",IF(J15="14","pkSng",IF(J15="15","iUnzg",IF(J15="16","lksyg",IF(J15="17","l=g",IF(J15="18","vBkjg",IF(J15="19","mUuhl",IF(J15="20","chl",IF(J15="21","bDdhl",IF(J15="22","ckbZl",IF(J15="23","rschl",IF(J15="24","pkSchl",IF(J15="25","iPphl","")))))))))))))))))))))))))))))))))) | S15: =IF(J15="","",IF(J15="91","Ninety One",IF(J15="92","Ninety Two",IF(J15="93","Ninety Three",IF(J15="94","Ninety Four",IF(J15="95","Ninety Five",IF(J15="96","Ninety Six",IF(J15="97","Ninety SEven",IF(J15="98","Ninety Eight",IF(J15="99","Ninety Nine",IF(J15="00","",IF(J15="01","One",IF(J15="02","Two",IF(J15="03","Three",IF(J15="04","Four",IF(J15="05","Five",IF(J15="06","Six",IF(J15="07","Seven",IF(J15="08","Eight",IF(J15="09","Nine",IF(J15="10","Ten",IF(J15="11","Eleven",IF(J15="12","Twelve",IF(J15="13","Thirteen",IF(J15="14","Forteen",IF(J15="15","Fifteen",IF(J15="16","Sixteen",IF(J15="17","Seventeen",IF(J15="18","Eighteen",IF(J15="19","Nineteen",IF(J15="20","Twenty",IF(J15="21","Twenty One",IF(J15="22","Twenty Two",IF(J15="23","Twenty Three",IF(J15="24","Twenty Four",IF(J15="25","Twenty Five",IF(J15="26","Twenty Six",IF(J15="27","Twenty Seven",IF(J15="28","Twenty Eight",IF(J15="29","Twenty Nine",IF(J15="30","Thirty",""""))))))))))))))))))))))))))))))))))))))))) | T15: =IF(B15="","",CONCATENATE(K15," ",M15,"] ",P15," ",R15)) | U15: =IF(C15="","",CONCATENATE(L15," ",N15," ",Q15," ",S15))
A16: 10 | B16: =IF(details!G16="","",details!G16) | C16: =T16 | D16: =U16 | E16: =IF(B16="","",TEXT(B16,"DDDD")) | H16: =TEXT(B16,"DD") | I16: =TEXT(B16,"MM") | J16: =TEXT(B16,"YY") | K16: =IF(H16="01",",d",IF(H16="02","nks",IF(H16="03","rhu",IF(H16="04","pkj",IF(H16="05","ikap",IF(H16="06","N%",IF(H16="07","lkr",IF(H16="08","vkB",IF(H16="09","ukS",IF(H16="10","nl",IF(H16="11","X;kjg",IF(H16="12","ckjg",IF(H16="13","rsjg",IF(H16="14","pkSng",IF(H16="15","iUnzg",IF(H16="16","lksyg",IF(H16="17","l=g",IF(H16="18","vBkjg",IF(H16="19","mUuhl",IF(H16="20","chl",IF(H16="21","bDdhl",IF(H16="22","ckbZl",IF(H16="23","rschl",IF(H16="24","pkSchl",IF(H16="25","iPphl",IF(H16="26","NCchl",IF(H16="27","lRrkbZl",IF(H16="28","vBkbZl",IF(H16="29","mUrhl",IF(H16="30","rhl",IF(H16="31","bdrhl",""))))))))))))))))))))))))))))))) | L16: =IF(H16="01","One",IF(H16="02","Two",IF(H16="03","Three",IF(H16="04","Four",IF(H16="05","Five",IF(H16="06","Six",IF(H16="07","Seven",IF(H16="08","Eight",IF(H16="09","Nine",IF(H16="10","Ten",IF(H16="11","Eleven",IF(H16="12","Twelve",IF(H16="13","Thirteen",IF(H16="14","Forteen",IF(H16="15","Fifteen",IF(H16="16","Sixteen",IF(H16="17","Seventeen",IF(H16="18","Eighteen",IF(H16="19","Nineteen",IF(H16="20","Twenty",IF(H16="21","Twenty One",IF(H16="22","Twenty Two",IF(H16="23","Twenty Three",IF(H16="24","Twenty Four",IF(H16="25","Twenty Five",IF(H16="26","Twenty Six",IF(H16="27","Twenty Seven",IF(H16="28","Twenty Eight",IF(H16="29","Twenty Nine",IF(H16="30","Thirty",IF(H16="31","Thirty One",""))))))))))))))))))))))))))))))) | M16: =IF(I16="01","tuojh",IF(I16="02","Qjojh",IF(I16="03","ekpZ",IF(I16="04","vizsy",IF(I16="05","ebZ",IF(I16="06","twu",IF(I16="07","tqykbZ",IF(I16="08","vxLr",IF(I16="09","flrEcj",IF(I16="10","vDVwcj",IF(I16="11","uoEcj",IF(I16="12","fnlEcj","")))))))))))) | N16: =IF(I16="01","January",IF(I16="02","February",IF(I16="03","March",IF(I16="04","April",IF(I16="05","May",IF(I16="06","June",IF(I16="07","July",IF(I16="08","August",IF(I16="09","September",IF(I16="10","October",IF(I16="11","November",IF(I16="12","December","")))))))))))) | O16: =IF(B16="","",YEAR(B16)) | P16: =IF(O16="","",IF(O16<=1999,"mUuhl lkS","nks gtkj")) | Q16: =IF(O16="","",IF(O16<=1999,"Nineteen Hundred",IF(O16>=2000,"Two Thousand",""))) | R16: =IF(J16="91","bdjkuoS",IF(J16="92","cjkuos",IF(J16="93","frjkuoS",IF(J16="94","pkSjkuos",IF(J16="95","fipkuos",IF(J16="96","fN;kuoS",IF(J16="97","lR;kuoS",IF(J16="98","vBkuoS",IF(J16="99","fuUukuoS",IF(J16="01",",d",IF(J16="02","nks",IF(J16="03","rhu",IF(J16="04","pkj",IF(J16="05","ikap",IF(J16="06","N%",IF(J16="07","lkr",IF(J16="08","vkB",IF(J16="09","ukS",IF(J16="10","nl",IF(J16="11","X;kjg",IF(J16="12","ckjg",IF(J16="13","rsjg",IF(J16="14","pkSng",IF(J16="15","iUnzg",IF(J16="16","lksyg",IF(J16="17","l=g",IF(J16="18","vBkjg",IF(J16="19","mUuhl",IF(J16="20","chl",IF(J16="21","bDdhl",IF(J16="22","ckbZl",IF(J16="23","rschl",IF(J16="24","pkSchl",IF(J16="25","iPphl","")))))))))))))))))))))))))))))))))) | S16: =IF(J16="","",IF(J16="91","Ninety One",IF(J16="92","Ninety Two",IF(J16="93","Ninety Three",IF(J16="94","Ninety Four",IF(J16="95","Ninety Five",IF(J16="96","Ninety Six",IF(J16="97","Ninety SEven",IF(J16="98","Ninety Eight",IF(J16="99","Ninety Nine",IF(J16="00","",IF(J16="01","One",IF(J16="02","Two",IF(J16="03","Three",IF(J16="04","Four",IF(J16="05","Five",IF(J16="06","Six",IF(J16="07","Seven",IF(J16="08","Eight",IF(J16="09","Nine",IF(J16="10","Ten",IF(J16="11","Eleven",IF(J16="12","Twelve",IF(J16="13","Thirteen",IF(J16="14","Forteen",IF(J16="15","Fifteen",IF(J16="16","Sixteen",IF(J16="17","Seventeen",IF(J16="18","Eighteen",IF(J16="19","Nineteen",IF(J16="20","Twenty",IF(J16="21","Twenty One",IF(J16="22","Twenty Two",IF(J16="23","Twenty Three",IF(J16="24","Twenty Four",IF(J16="25","Twenty Five",IF(J16="26","Twenty Six",IF(J16="27","Twenty Seven",IF(J16="28","Twenty Eight",IF(J16="29","Twenty Nine",IF(J16="30","Thirty",""""))))))))))))))))))))))))))))))))))))))))) | T16: =IF(B16="","",CONCATENATE(K16," ",M16,"] ",P16," ",R16)) | U16: =IF(C16="","",CONCATENATE(L16," ",N16," ",Q16," ",S16))
A17: 11 | B17: =IF(details!G17="","",details!G17) | C17: =T17 | D17: =U17 | E17: =IF(B17="","",TEXT(B17,"DDDD")) | H17: =TEXT(B17,"DD") | I17: =TEXT(B17,"MM") | J17: =TEXT(B17,"YY") | K17: =IF(H17="01",",d",IF(H17="02","nks",IF(H17="03","rhu",IF(H17="04","pkj",IF(H17="05","ikap",IF(H17="06","N%",IF(H17="07","lkr",IF(H17="08","vkB",IF(H17="09","ukS",IF(H17="10","nl",IF(H17="11","X;kjg",IF(H17="12","ckjg",IF(H17="13","rsjg",IF(H17="14","pkSng",IF(H17="15","iUnzg",IF(H17="16","lksyg",IF(H17="17","l=g",IF(H17="18","vBkjg",IF(H17="19","mUuhl",IF(H17="20","chl",IF(H17="21","bDdhl",IF(H17="22","ckbZl",IF(H17="23","rschl",IF(H17="24","pkSchl",IF(H17="25","iPphl",IF(H17="26","NCchl",IF(H17="27","lRrkbZl",IF(H17="28","vBkbZl",IF(H17="29","mUrhl",IF(H17="30","rhl",IF(H17="31","bdrhl",""))))))))))))))))))))))))))))))) | L17: =IF(H17="01","One",IF(H17="02","Two",IF(H17="03","Three",IF(H17="04","Four",IF(H17="05","Five",IF(H17="06","Six",IF(H17="07","Seven",IF(H17="08","Eight",IF(H17="09","Nine",IF(H17="10","Ten",IF(H17="11","Eleven",IF(H17="12","Twelve",IF(H17="13","Thirteen",IF(H17="14","Forteen",IF(H17="15","Fifteen",IF(H17="16","Sixteen",IF(H17="17","Seventeen",IF(H17="18","Eighteen",IF(H17="19","Nineteen",IF(H17="20","Twenty",IF(H17="21","Twenty One",IF(H17="22","Twenty Two",IF(H17="23","Twenty Three",IF(H17="24","Twenty Four",IF(H17="25","Twenty Five",IF(H17="26","Twenty Six",IF(H17="27","Twenty Seven",IF(H17="28","Twenty Eight",IF(H17="29","Twenty Nine",IF(H17="30","Thirty",IF(H17="31","Thirty One",""))))))))))))))))))))))))))))))) | M17: =IF(I17="01","tuojh",IF(I17="02","Qjojh",IF(I17="03","ekpZ",IF(I17="04","vizsy",IF(I17="05","ebZ",IF(I17="06","twu",IF(I17="07","tqykbZ",IF(I17="08","vxLr",IF(I17="09","flrEcj",IF(I17="10","vDVwcj",IF(I17="11","uoEcj",IF(I17="12","fnlEcj","")))))))))))) | N17: =IF(I17="01","January",IF(I17="02","February",IF(I17="03","March",IF(I17="04","April",IF(I17="05","May",IF(I17="06","June",IF(I17="07","July",IF(I17="08","August",IF(I17="09","September",IF(I17="10","October",IF(I17="11","November",IF(I17="12","December","")))))))))))) | O17: =IF(B17="","",YEAR(B17)) | P17: =IF(O17="","",IF(O17<=1999,"mUuhl lkS","nks gtkj")) | Q17: =IF(O17="","",IF(O17<=1999,"Nineteen Hundred",IF(O17>=2000,"Two Thousand",""))) | R17: =IF(J17="91","bdjkuoS",IF(J17="92","cjkuos",IF(J17="93","frjkuoS",IF(J17="94","pkSjkuos",IF(J17="95","fipkuos",IF(J17="96","fN;kuoS",IF(J17="97","lR;kuoS",IF(J17="98","vBkuoS",IF(J17="99","fuUukuoS",IF(J17="01",",d",IF(J17="02","nks",IF(J17="03","rhu",IF(J17="04","pkj",IF(J17="05","ikap",IF(J17="06","N%",IF(J17="07","lkr",IF(J17="08","vkB",IF(J17="09","ukS",IF(J17="10","nl",IF(J17="11","X;kjg",IF(J17="12","ckjg",IF(J17="13","rsjg",IF(J17="14","pkSng",IF(J17="15","iUnzg",IF(J17="16","lksyg",IF(J17="17","l=g",IF(J17="18","vBkjg",IF(J17="19","mUuhl",IF(J17="20","chl",IF(J17="21","bDdhl",IF(J17="22","ckbZl",IF(J17="23","rschl",IF(J17="24","pkSchl",IF(J17="25","iPphl","")))))))))))))))))))))))))))))))))) | S17: =IF(J17="","",IF(J17="91","Ninety One",IF(J17="92","Ninety Two",IF(J17="93","Ninety Three",IF(J17="94","Ninety Four",IF(J17="95","Ninety Five",IF(J17="96","Ninety Six",IF(J17="97","Ninety SEven",IF(J17="98","Ninety Eight",IF(J17="99","Ninety Nine",IF(J17="00","",IF(J17="01","One",IF(J17="02","Two",IF(J17="03","Three",IF(J17="04","Four",IF(J17="05","Five",IF(J17="06","Six",IF(J17="07","Seven",IF(J17="08","Eight",IF(J17="09","Nine",IF(J17="10","Ten",IF(J17="11","Eleven",IF(J17="12","Twelve",IF(J17="13","Thirteen",IF(J17="14","Forteen",IF(J17="15","Fifteen",IF(J17="16","Sixteen",IF(J17="17","Seventeen",IF(J17="18","Eighteen",IF(J17="19","Nineteen",IF(J17="20","Twenty",IF(J17="21","Twenty One",IF(J17="22","Twenty Two",IF(J17="23","Twenty Three",IF(J17="24","Twenty Four",IF(J17="25","Twenty Five",IF(J17="26","Twenty Six",IF(J17="27","Twenty Seven",IF(J17="28","Twenty Eight",IF(J17="29","Twenty Nine",IF(J17="30","Thirty",""""))))))))))))))))))))))))))))))))))))))))) | T17: =IF(B17="","",CONCATENATE(K17," ",M17,"] ",P17," ",R17)) | U17: =IF(C17="","",CONCATENATE(L17," ",N17," ",Q17," ",S17))
A18: 12 | B18: =IF(details!G18="","",details!G18) | C18: =T18 | D18: =U18 | E18: =IF(B18="","",TEXT(B18,"DDDD")) | H18: =TEXT(B18,"DD") | I18: =TEXT(B18,"MM") | J18: =TEXT(B18,"YY") | K18: =IF(H18="01",",d",IF(H18="02","nks",IF(H18="03","rhu",IF(H18="04","pkj",IF(H18="05","ikap",IF(H18="06","N%",IF(H18="07","lkr",IF(H18="08","vkB",IF(H18="09","ukS",IF(H18="10","nl",IF(H18="11","X;kjg",IF(H18="12","ckjg",IF(H18="13","rsjg",IF(H18="14","pkSng",IF(H18="15","iUnzg",IF(H18="16","lksyg",IF(H18="17","l=g",IF(H18="18","vBkjg",IF(H18="19","mUuhl",IF(H18="20","chl",IF(H18="21","bDdhl",IF(H18="22","ckbZl",IF(H18="23","rschl",IF(H18="24","pkSchl",IF(H18="25","iPphl",IF(H18="26","NCchl",IF(H18="27","lRrkbZl",IF(H18="28","vBkbZl",IF(H18="29","mUrhl",IF(H18="30","rhl",IF(H18="31","bdrhl",""))))))))))))))))))))))))))))))) | L18: =IF(H18="01","One",IF(H18="02","Two",IF(H18="03","Three",IF(H18="04","Four",IF(H18="05","Five",IF(H18="06","Six",IF(H18="07","Seven",IF(H18="08","Eight",IF(H18="09","Nine",IF(H18="10","Ten",IF(H18="11","Eleven",IF(H18="12","Twelve",IF(H18="13","Thirteen",IF(H18="14","Forteen",IF(H18="15","Fifteen",IF(H18="16","Sixteen",IF(H18="17","Seventeen",IF(H18="18","Eighteen",IF(H18="19","Nineteen",IF(H18="20","Twenty",IF(H18="21","Twenty One",IF(H18="22","Twenty Two",IF(H18="23","Twenty Three",IF(H18="24","Twenty Four",IF(H18="25","Twenty Five",IF(H18="26","Twenty Six",IF(H18="27","Twenty Seven",IF(H18="28","Twenty Eight",IF(H18="29","Twenty Nine",IF(H18="30","Thirty",IF(H18="31","Thirty One",""))))))))))))))))))))))))))))))) | M18: =IF(I18="01","tuojh",IF(I18="02","Qjojh",IF(I18="03","ekpZ",IF(I18="04","vizsy",IF(I18="05","ebZ",IF(I18="06","twu",IF(I18="07","tqykbZ",IF(I18="08","vxLr",IF(I18="09","flrEcj",IF(I18="10","vDVwcj",IF(I18="11","uoEcj",IF(I18="12","fnlEcj","")))))))))))) | N18: =IF(I18="01","January",IF(I18="02","February",IF(I18="03","March",IF(I18="04","April",IF(I18="05","May",IF(I18="06","June",IF(I18="07","July",IF(I18="08","August",IF(I18="09","September",IF(I18="10","October",IF(I18="11","November",IF(I18="12","December","")))))))))))) | O18: =IF(B18="","",YEAR(B18)) | P18: =IF(O18="","",IF(O18<=1999,"mUuhl lkS","nks gtkj")) | Q18: =IF(O18="","",IF(O18<=1999,"Nineteen Hundred",IF(O18>=2000,"Two Thousand",""))) | R18: =IF(J18="91","bdjkuoS",IF(J18="92","cjkuos",IF(J18="93","frjkuoS",IF(J18="94","pkSjkuos",IF(J18="95","fipkuos",IF(J18="96","fN;kuoS",IF(J18="97","lR;kuoS",IF(J18="98","vBkuoS",IF(J18="99","fuUukuoS",IF(J18="01",",d",IF(J18="02","nks",IF(J18="03","rhu",IF(J18="04","pkj",IF(J18="05","ikap",IF(J18="06","N%",IF(J18="07","lkr",IF(J18="08","vkB",IF(J18="09","ukS",IF(J18="10","nl",IF(J18="11","X;kjg",IF(J18="12","ckjg",IF(J18="13","rsjg",IF(J18="14","pkSng",IF(J18="15","iUnzg",IF(J18="16","lksyg",IF(J18="17","l=g",IF(J18="18","vBkjg",IF(J18="19","mUuhl",IF(J18="20","chl",IF(J18="21","bDdhl",IF(J18="22","ckbZl",IF(J18="23","rschl",IF(J18="24","pkSchl",IF(J18="25","iPphl","")))))))))))))))))))))))))))))))))) | S18: =IF(J18="","",IF(J18="91","Ninety One",IF(J18="92","Ninety Two",IF(J18="93","Ninety Three",IF(J18="94","Ninety Four",IF(J18="95","Ninety Five",IF(J18="96","Ninety Six",IF(J18="97","Ninety SEven",IF(J18="98","Ninety Eight",IF(J18="99","Ninety Nine",IF(J18="00","",IF(J18="01","One",IF(J18="02","Two",IF(J18="03","Three",IF(J18="04","Four",IF(J18="05","Five",IF(J18="06","Six",IF(J18="07","Seven",IF(J18="08","Eight",IF(J18="09","Nine",IF(J18="10","Ten",IF(J18="11","Eleven",IF(J18="12","Twelve",IF(J18="13","Thirteen",IF(J18="14","Forteen",IF(J18="15","Fifteen",IF(J18="16","Sixteen",IF(J18="17","Seventeen",IF(J18="18","Eighteen",IF(J18="19","Nineteen",IF(J18="20","Twenty",IF(J18="21","Twenty One",IF(J18="22","Twenty Two",IF(J18="23","Twenty Three",IF(J18="24","Twenty Four",IF(J18="25","Twenty Five",IF(J18="26","Twenty Six",IF(J18="27","Twenty Seven",IF(J18="28","Twenty Eight",IF(J18="29","Twenty Nine",IF(J18="30","Thirty",""""))))))))))))))))))))))))))))))))))))))))) | T18: =IF(B18="","",CONCATENATE(K18," ",M18,"] ",P18," ",R18)) | U18: =IF(C18="","",CONCATENATE(L18," ",N18," ",Q18," ",S18))
... A106: 100 | B106: =IF(details!G106="","",details!G106) | C106: =T106 | D106: =U106 | E106: =IF(B106="","",TEXT(B106,"DDDD")) | H106: =TEXT(B106,"DD") | I106: =TEXT(B106,"MM") | J106: =TEXT(B106,"YY") | K106: =IF(H106="01",",d",IF(H106="02","nks",IF(H106="03","rhu",IF(H106="04","pkj",IF(H106="05","ikap",IF(H106="06","N%",IF(H106="07","lkr",IF(H106="08","vkB",IF(H106="09","ukS",IF(H106="10","nl",IF(H106="11","X;kjg",IF(H106="12","ckjg",IF(H106="13","rsjg",IF(H106="14","pkSng",IF(H106="15","iUnzg",IF(H106="16","lksyg",IF(H106="17","l=g",IF(H106="18","vBkjg",IF(H106="19","mUuhl",IF(H106="20","chl",IF(H106="21","bDdhl",IF(H106="22","ckbZl",IF(H106="23","rschl",IF(H106="24","pkSchl",IF(H106="25","iPphl",IF(H106="26","NCchl",IF(H106="27","lRrkbZl",IF(H106="28","vBkbZl",IF(H106="29","mUrhl",IF(H106="30","rhl",IF(H106="31","bdrhl",""))))))))))))))))))))))))))))))) | L106: =IF(H106="01","One",IF(H106="02","Two",IF(H106="03","Three",IF(H106="04","Four",IF(H106="05","Five",IF(H106="06","Six",IF(H106="07","Seven",IF(H106="08","Eight",IF(H106="09","Nine",IF(H106="10","Ten",IF(H106="11","Eleven",IF(H106="12","Twelve",IF(H106="13","Thirteen",IF(H106="14","Forteen",IF(H106="15","Fifteen",IF(H106="16","Sixteen",IF(H106="17","Seventeen",IF(H106="18","Eighteen",IF(H106="19","Nineteen",IF(H106="20","Twenty",IF(H106="21","Twenty One",IF(H106="22","Twenty Two",IF(H106="23","Twenty Three",IF(H106="24","Twenty Four",IF(H106="25","Twenty Five",IF(H106="26","Twenty Six",IF(H106="27","Twenty Seven",IF(H106="28","Twenty Eight",IF(H106="29","Twenty Nine",IF(H106="30","Thirty",IF(H106="31","Thirty One",""))))))))))))))))))))))))))))))) | M106: =IF(I106="01","tuojh",IF(I106="02","Qjojh",IF(I106="03","ekpZ",IF(I106="04","vizsy",IF(I106="05","ebZ",IF(I106="06","twu",IF(I106="07","tqykbZ",IF(I106="08","vxLr",IF(I106="09","flrEcj",IF(I106="10","vDVwcj",IF(I106="11","uoEcj",IF(I106="12","fnlEcj","")))))))))))) | N106: =IF(I106="01","January",IF(I106="02","February",IF(I106="03","March",IF(I106="04","April",IF(I106="05","May",IF(I106="06","June",IF(I106="07","July",IF(I106="08","August",IF(I106="09","September",IF(I106="10","October",IF(I106="11","November",IF(I106="12","December","")))))))))))) | O106: =IF(B106="","",YEAR(B106)) | P106: =IF(O106="","",IF(O106<=1999,"mUuhl lkS","nks gtkj")) | Q106: =IF(O106="","",IF(O106<=1999,"Nineteen Hundred",IF(O106>=2000,"Two Thousand",""))) | R106: =IF(J106="91","bdjkuoS",IF(J106="92","cjkuos",IF(J106="93","frjkuoS",IF(J106="94","pkSjkuos",IF(J106="95","fipkuos",IF(J106="96","fN;kuoS",IF(J106="97","lR;kuoS",IF(J106="98","vBkuoS",IF(J106="99","fuUukuoS",IF(J106="01",",d",IF(J106="02","nks",IF(J106="03","rhu",IF(J106="04","pkj",IF(J106="05","ikap",IF(J106="06","N%",IF(J106="07","lkr",IF(J106="08","vkB",IF(J106="09","ukS",IF(J106="10","nl",IF(J106="11","X;kjg",IF(J106="12","ckjg",IF(J106="13","rsjg",IF(J106="14","pkSng",IF(J106="15","iUnzg",IF(J106="16","lksyg",IF(J106="17","l=g",IF(J106="18","vBkjg",IF(J106="19","mUuhl",IF(J106="20","chl",IF(J106="21","bDdhl",IF(J106="22","ckbZl",IF(J106="23","rschl",IF(J106="24","pkSchl",IF(J106="25","iPphl","")))))))))))))))))))))))))))))))))) | S106: =IF(J106="","",IF(J106="91","Ninety One",IF(J106="92","Ninety Two",IF(J106="93","Ninety Three",IF(J106="94","Ninety Four",IF(J106="95","Ninety Five",IF(J106="96","Ninety Six",IF(J106="97","Ninety SEven",IF(J106="98","Ninety Eight",IF(J106="99","Ninety Nine",IF(J106="00","",IF(J106="01","One",IF(J106="02","Two",IF(J106="03","Three",IF(J106="04","Four",IF(J106="05","Five",IF(J106="06","Six",IF(J106="07","Seven",IF(J106="08","Eight",IF(J106="09","Nine",IF(J106="10","Ten",IF(J106="11","Eleven",IF(J106="12","Twelve",IF(J106="13","Thirteen",IF(J106="14","Forteen",IF(J106="15","Fifteen",IF(J106="16","Sixteen",IF(J106="17","Seventeen",IF(J106="18","Eighteen",IF(J106="19","Nineteen",IF(J106="20","Twenty",IF(J106="21","Twenty One",IF(J106="22","Twenty Two",IF(J106="23","Twenty Three",IF(J106="24","Twenty Four",IF(J106="25","Twenty Five",IF(J106="26","Twenty Six",IF(J106="27","Twenty Seven",IF(J106="28","Twenty Eight",IF(J106="29","Twenty Nine",IF(J106="30","Thirty",""""))))))))))))))))))))))))))))))))))))))))) | T106: =IF(B106="","",CONCATENATE(K106," ",M106,"] ",P106," ",R106)) | U106: =IF(C106="","",CONCATENATE(L106," ",N106," ",Q106," ",S106))

Sheet statement of marks
A1: =IF(details!A1="","",details!A1) -> GOVT. HR. SEC. SCHOOL, _________________ | AV1: LOCAL EXAMINATION RESULT SHEET | DJ1: =A1 -> GOVT. HR. SEC. SCHOOL, _________________ | FE1: =AV1 -> LOCAL EXAMINATION RESULT SHEET | GE1: SUBJECT-WISE LOCAL EXAM. RESULT | HO1: RESUSLT | HY1: =details!$CV$1 -> REMARKS | ID1: =A1 -> GOVT. HR. SEC. SCHOOL, _________________ | IK1: SESSION | IL1: =H3 -> 2024-25 | IN1: SUBJECT-WISE LOCAL EXAM. RESULT
C3: =IF(details!$B$4="","",details!$B$4) -> 6 | D3: =details!C4 -> SECTION | F3: =IF(details!D4="","",details!D4) -> A | G3: =CONCATENATE(C3," ",F3) -> 6 A | H3: =IF(details!$H$1="","",details!$H$1) -> 2024-25 | I3: =details!$I$1 -> SCHOOL DISE CODE | J3: =IF(details!$J$1="","",details!$J$1) -> 08291009401 | L3: =details!L1 -> HINDI | AK3: =details!Y1 -> ENGLISH | BJ3: =details!AL1 -> SANSKRIT | CH3: =details!AX1 -> MATHEMATICS | DG3: =details!BK1 -> SCIENCE | ED3: =details!BV1 -> SOCIAL STUDIES | FA3: =details!CG1 -> WORK EXPERIENCE | FK3: =details!CL1 -> ART EDUCATION | FU3: =details!CQ1 -> PHYSICIAL EDUCATION
A4: =details!A5 -> S.NO. | B4: =details!B5 -> CATEGORY | C4: =details!C5 -> GENDER | D4: =details!D5 -> R. NO. LOCAL | E4: =details!E5 -> R. NO. BOARD | F4: =details!F5 -> S.R. NO. | G4: =details!G5 -> DATE OF BIRTH IN FIGURES | H4: =details!H5 -> DATE OF BIRTH IN WORDS | ... K4: =details!K5 -> MOTHER'S NAME | L4: =details!L4 -> FIRST TEST | O4: =details!N4 -> SECOND TEST | R4: =details!P4 -> THIRD TEST | U4: TOTAL OF ALL TESTS | V4: =details!R4 -> VRUKSHAROPAN | W4: =details!S4 -> HALF YEARLY EXAM | AA4: TOTAL UPTO HALF YEARLY EXAM. | AB4: =details!V4 -> ANNUAL EXAM | AF4: SUBJECT TOTAL OBTAINED | AG4: PERCENTGE OBTAINED | AH4: GRADE OBTAINED | AI4: SUBJECT TOTAL MAX. | AJ4: EXEMPTION | AK4: =details!Y4 -> FIRST TEST | AN4: =details!AA4 -> SECOND TEST | AQ4: =details!AC4 -> THIRD TEST | AT4: TOTAL OF ALL TESTS | AU4: =details!AE4 -> VRUKSHAROPAN | AV4: =details!AF4 -> HALF YEARLY EXAM | AZ4: TOTAL UPTO HALF YEARLY EXAM. | BA4: =details!AI4 -> ANNUAL EXAM | BE4: SUBJECT TOTAL OBTAINED | BF4: PERCENTGE OBTAINED | BG4: GRADE OBTAINED | BH4: SUBJECT TOTAL MAX. | BI4: EXEMPTION | BJ4: =details!AL4 -> SUBJECT CODE | BK4: =details!AM4 -> FIRST TEST | BN4: =details!AO4 -> SECOND TEST | BQ4: =details!AQ4 -> THIRD TEST | BT4: TOTAL OF ALL TESTS | BU4: =details!AS4 -> VRUKSHAROPAN | BV4: =details!AT4 -> HALF YEARLY EXAM | BY4: TOTAL UPTO HALF YEARLY EXAM. | BZ4: =details!AV4 -> ANNUAL EXAM | CC4: SUBJECT TOTAL OBTAINED | CD4: PERCENTGE OBTAINED | CE4: GRADE OBTAINED | CF4: SUBJECT TOTAL MAX. | CG4: EXEMPTION | CH4: =details!AX4 -> FIRST TEST | CK4: =details!AZ4 -> SECOND TEST | CN4: =details!BB4 -> THIRD TEST | CQ4: TOTAL OF ALL TESTS | CR4: =details!BD4 -> VRUKSHAROPAN | CS4: =details!BE4 -> HALF YEARLY EXAM | CW4: TOTAL UPTO HALF YEARLY EXAM. | CX4: =details!BH4 -> ANNUAL EXAM | DB4: SUBJECT TOTAL OBTAINED | DC4: PERCENTGE OBTAINED | DD4: GRADE OBTAINED | DE4: SUBJECT TOTAL MAX. | DF4: EXEMPTION | DG4: =details!BK4 -> FIRST TEST | DJ4: =details!BM4 -> SECOND TEST | DM4: =details!BO4 -> THIRD TEST | DP4: TOTAL OF ALL TESTS | DQ4: =details!BQ4 -> VRUKSHAROPAN | DR4: =details!BR4 -> HALF YEARLY EXAM | DU4: TOTAL UPTO HALF YEARLY EXAM. | DV4: =details!BT4 -> ANNUAL EXAM | DY4: SUBJECT TOTAL OBTAINED | DZ4: PERCENTGE OBTAINED | EA4: GRADE OBTAINED | EB4: SUBJECT TOTAL MAX. | EC4: EXEMPTION | ED4: =details!BV4 -> FIRST TEST | EG4: =details!BX4 -> SECOND TEST | EJ4: =details!BZ4 -> THIRD TEST | EM4: TOTAL OF ALL TESTS | EN4: =IF(details!CB4="","",details!CB4) -> VRUKSHAROPAN | EO4: =details!CC4 -> HALF YEARLY EXAM | ER4: TOTAL UPTO HALF YEARLY EXAM. | ES4: =details!CE4 -> ANNUAL EXAM | EV4: SUBJECT TOTAL OBTAINED | EW4: PERCENTGE OBTAINED | EX4: GRADE OBTAINED | EY4: SUBJECT TOTAL MAX. | EZ4: EXEMPTION | FA4: =details!CG4 -> FIRST EVALUATION | FB4: =details!CH4 -> SECOND EVALUATION | FC4: =details!CI4 -> THIRD EVALUATION | FD4: =details!CJ4 -> FOURTH EVALUATION | FE4: =details!CK4 -> FIFTH EVALUATION | FF4: SUBJECT TOTAL OBTAINED | FG4: PERCENTGE OBTAINED | FH4: GRADE OBTAINED | FI4: SUBJECT TOTAL MAX. | FJ4: EXEMPTION | FK4: =details!CL4 -> FIRST EVALUATION | FL4: =details!CM4 -> SECOND EVALUATION | FM4: =details!CN4 -> THIRD EVALUATION | FN4: =details!CO4 -> FOURTH EVALUATION | FO4: =details!CP4 -> FIFTH EVALUATION | FP4: SUBJECT TOTAL OBTAINED | FQ4: PERCENTGE OBTAINED | FR4: GRADE OBTAINED | FS4: SUBJECT TOTAL MAX. | FT4: EXEMPTION | FU4: =details!CQ4 -> FIRST EVALUATION | FV4: =details!CR4 -> SECOND EVALUATION | FW4: =details!CS4 -> THIRD EVALUATION | FX4: =details!CT4 -> FOURTH EVALUATION | FY4: =details!CU4 -> FIFTH EVALUATION | FZ4: SUBJECT TOTAL OBTAINED | GA4: PERCENTGE OBTAINED | GB4: GRADE OBTAINED | GC4: SUBJECT TOTAL MAX. | GD4: EXEMPTION | GE4: =L3 -> HINDI | GH4: =AK3 -> ENGLISH | GK4: =BJ3 -> SANSKRIT | GS4: =CH3 -> MATHEMATICS | GV4: =DG3 -> SCIENCE | GY4: =ED3 -> SOCIAL STUDIES | HB4: =FA3 -> WORK EXPERIENCE | HE4: =FK3 -> ART EDUCATION | HH4: =FU3 -> PHYSICIAL EDUCATION | HK4: COUNT | HV4: TOTAL ATTENDANCE | ID4: SUBJECT  | IE4: =M107 -> HINDI | IF4: =AK107 -> ENGLISH | IG4: =BJ107 -> THIRD LANGUAGE | IH4: =BJ108 -> SANSKRIT | II4: =BJ109 -> URDU | IJ4: =BJ110 -> GUJRATI | IK4: =BJ111 -> PUNJABI | IL4: =BJ112 -> SINGHI | IM4: =CH107 -> MATHEMATICS | IN4: =DG107 -> SCIENCE | IO4: =ED107 -> SOCIAL STUDIES | IP4: =FA107 -> WORK EXPERIENCE | IQ4: =FK107 -> ART EDUCATION | IR4: =FU107 -> PHYSICIAL EDUCATION
L5: =details!L5 -> WRITTEN BY TEACHER | M5: =details!M5 -> ACTIVITY, ORAL, PROJECT, PRACTICAL BY TEACHER | N5: TOTAL | O5: =details!N5 -> WRITTEN BY TEACHER | P5: =details!O5 -> ACTIVITY, ORAL, PROJECT, PRACTICAL BY TEACHER | Q5: TOTAL | R5: =details!P5 -> WRITTEN BY TEACHER | S5: =details!Q5 -> ACTIVITY, ORAL, PROJECT, PRACTICAL BY TEACHER | T5: TOTAL | W5: =details!S5 -> WRITTEN BY TEACHER | X5: =details!T5 -> ACTIVITY, ORAL, PROJECT, PRACTICAL BY TEACHER | Y5: =details!U5 -> Poorv Kaksha Dakshata Addharit Ankalan 1 | Z5: TOTAL | AB5: =details!V5 -> WRITTEN BY TEACHER | AC5: =details!W5 -> ACTIVITY, ORAL, PROJECT, PRACTICAL BY TEACHER | AD5: =details!X5 -> Poorv Kaksha Dakshata Addharit Ankalan 2 | AE5: TOTAL | AK5: =details!Y5 -> WRITTEN BY TEACHER | AL5: =details!Z5 -> ACTIVITY, ORAL, PROJECT, PRACTICAL BY TEACHER | AM5: TOTAL | AN5: =details!AA5 -> WRITTEN BY TEACHER | AO5: =details!AB5 -> ACTIVITY, ORAL, PROJECT, PRACTICAL BY TEACHER | AP5: TOTAL | AQ5: =details!AC5 -> WRITTEN BY TEACHER | AR5: =details!AD5 -> ACTIVITY, ORAL, PROJECT, PRACTICAL BY TEACHER | AS5: TOTAL | AV5: =details!AF5 -> WRITTEN BY TEACHER | AW5: =details!AG5 -> ACTIVITY, ORAL, PROJECT, PRACTICAL BY TEACHER | AX5: =details!AH5 -> Poorv Kaksha Dakshata Addharit Ankalan 1 | AY5: TOTAL | BA5: =details!AI5 -> WRITTEN BY TEACHER | BB5: =details!AJ5 -> ACTIVITY, ORAL, PROJECT, PRACTICAL BY TEACHER | BC5: =details!AK5 -> Poorv Kaksha Dakshata Addharit Ankalan 2 | BD5: TOTAL | BK5: =details!AM5 -> WRITTEN BY TEACHER | BL5: =details!AN5 -> ACTIVITY, ORAL, PROJECT, PRACTICAL BY TEACHER | BM5: TOTAL | BN5: =details!AO5 -> WRITTEN BY TEACHER | BO5: =details!AP5 -> ACTIVITY, ORAL, PROJECT, PRACTICAL BY TEACHER | BP5: TOTAL | BQ5: =details!AQ5 -> WRITTEN BY TEACHER | BR5: =details!AR5 -> ACTIVITY, ORAL, PROJECT, PRACTICAL BY TEACHER | BS5: TOTAL | BV5: =details!AT5 -> WRITTEN BY TEACHER | BW5: =details!AU5 -> ACTIVITY, ORAL, PROJECT, PRACTICAL BY TEACHER | BX5: TOTAL | BZ5: =details!AV5 -> WRITTEN BY TEACHER | CA5: =details!AW5 -> ACTIVITY, ORAL, PROJECT, PRACTICAL BY TEACHER | CB5: TOTAL | CH5: =details!AX5 -> WRITTEN BY TEACHER | CI5: =details!AY5 -> ACTIVITY, ORAL, PROJECT, PRACTICAL BY TEACHER | CJ5: TOTAL | CK5: =details!AZ5 -> WRITTEN BY TEACHER | CL5: =details!BA5 -> ACTIVITY, ORAL, PROJECT, PRACTICAL BY TEACHER | CM5: TOTAL | CN5: =details!BB5 -> WRITTEN BY TEACHER | CO5: =details!BC5 -> ACTIVITY, ORAL, PROJECT, PRACTICAL BY TEACHER | CP5: TOTAL | CS5: =details!BE5 -> WRITTEN BY TEACHER | CT5: =details!BF5 -> ACTIVITY, ORAL, PROJECT, PRACTICAL BY TEACHER | CU5: =details!BG5 -> Poorv Kaksha Dakshata Addharit Ankalan 1 | CV5: TOTAL | CX5: =details!BH5 -> WRITTEN BY TEACHER | CY5: =details!BI5 -> ACTIVITY, ORAL, PROJECT, PRACTICAL BY TEACHER | CZ5: =details!BJ5 -> Poorv Kaksha Dakshata Addharit Ankalan 2 | DA5: TOTAL | DG5: =details!BK5 -> WRITTEN BY TEACHER | DH5: =details!BL5 -> ACTIVITY, ORAL, PROJECT, PRACTICAL BY TEACHER | DI5: TOTAL | DJ5: =details!BM5 -> WRITTEN BY TEACHER | DK5: =details!BN5 -> ACTIVITY, ORAL, PROJECT, PRACTICAL BY TEACHER | DL5: TOTAL | DM5: =details!BO5 -> WRITTEN BY TEACHER | DN5: =details!BP5 -> ACTIVITY, ORAL, PROJECT, PRACTICAL BY TEACHER | DO5: TOTAL | DR5: =details!BR5 -> WRITTEN BY TEACHER | DS5: =details!BS5 -> ACTIVITY, ORAL, PROJECT, PRACTICAL BY TEACHER | DT5: TOTAL | DV5: =details!BT5 -> WRITTEN BY TEACHER | DW5: =details!BU5 -> ACTIVITY, ORAL, PROJECT, PRACTICAL BY TEACHER | DX5: TOTAL | ED5: =details!BV5 -> WRITTEN BY TEACHER | EE5: =details!BW5 -> ACTIVITY, ORAL, PROJECT, PRACTICAL BY TEACHER | EF5: TOTAL | EG5: =details!BX5 -> WRITTEN BY TEACHER | EH5: =details!BY5 -> ACTIVITY, ORAL, PROJECT, PRACTICAL BY TEACHER | EI5: TOTAL | EJ5: =details!BZ5 -> WRITTEN BY TEACHER | EK5: =details!CA5 -> ACTIVITY, ORAL, PROJECT, PRACTICAL BY TEACHER | EL5: TOTAL | EO5: =details!CC5 -> WRITTEN BY TEACHER | EP5: =details!CD5 -> ACTIVITY, ORAL, PROJECT, PRACTICAL BY TEACHER | EQ5: TOTAL | ES5: =details!CE5 -> WRITTEN BY TEACHER | ET5: =details!CF5 -> ACTIVITY, ORAL, PROJECT, PRACTICAL BY TEACHER | EU5: TOTAL | FB5: =details!CH5 -> 0 | FC5: =details!CI5 -> 0 | FD5: =details!CJ5 -> 0 | FE5: =details!CK5 -> 0 | FK5: =details!CL5 -> 0 | FL5: =details!CM5 -> 0 | FM5: =details!CN5 -> 0 | FN5: =details!CO5 -> 0 | FO5: =details!CP5 -> 0 | FU5: =details!CQ5 -> 0 | FV5: =details!CR5 -> 0 | FW5: =details!CS5 -> 0 | FX5: =details!CT5 -> 0 | FY5: =details!CU5 -> 0 | GE5: =AI4 -> SUBJECT TOTAL MAX. | GF5: =AF4 -> SUBJECT TOTAL OBTAINED | GG5: =AH4 -> GRADE OBTAINED | GH5: =BH4 -> SUBJECT TOTAL MAX. | GI5: =BE4 -> SUBJECT TOTAL OBTAINED | GJ5: =BG4 -> GRADE OBTAINED | GK5: =CF4 -> SUBJECT TOTAL MAX. | GL5: =CC4 -> SUBJECT TOTAL OBTAINED | GM5: =CE4 -> GRADE OBTAINED | GN5: SANSKRIT | GO5: URDU | GP5: GUJRATI | GQ5: PUNJABI | GR5: SINDHI | GS5: =DE4 -> SUBJECT TOTAL MAX. | GT5: =DB4 -> SUBJECT TOTAL OBTAINED | GU5: =DD4 -> GRADE OBTAINED | GV5: =EB4 -> SUBJECT TOTAL MAX. | GW5: =DY4 -> SUBJECT TOTAL OBTAINED | GX5: =EA4 -> GRADE OBTAINED | GY5: =EY4 -> SUBJECT TOTAL MAX. | GZ5: =EV4 -> SUBJECT TOTAL OBTAINED | HA5: =EX4 -> GRADE OBTAINED | HB5: =FI4 -> SUBJECT TOTAL MAX. | HC5: =FF4 -> SUBJECT TOTAL OBTAINED | HD5: =FH4 -> GRADE OBTAINED | HE5: =FS4 -> SUBJECT TOTAL MAX. | HF5: =FP4 -> SUBJECT TOTAL OBTAINED | HG5: =FR4 -> GRADE OBTAINED | HH5: =GC4 -> SUBJECT TOTAL MAX. | HI5: =FZ4 -> SUBJECT TOTAL OBTAINED | HJ5: =GB4 -> GRADE OBTAINED | HK5: COUNT ABSENT | HL5: COUNT ML | HM5: COUNT BLANK | HN5: COUNT 'E' | HO5: LOCAL EXAMINATION RESULT | HP5: GRAND TOTAL | HQ5: TOTAL MARKS OBTAINED | HR5: PERCENTAGE | HT5: RANK | HU5: OVERALL GRADE | HV5: =details!EV5 -> MEETINGS | HW5: =details!EW5 -> STUDENT ATTENDANCE | HX5: ATTENDANCE %AGE | IE5: =M108 -> BHANWAR LAL THANNA | IF5: =AK108 -> ASHOK KUMAR SHREEMALI | IH5: =BN108 -> SAROJ PORWAL | II5: =BN109 -> 0 | IJ5: =BN110 -> 0 | IK5: =BN111 -> 0 | IL5: =BN112 -> 0 | IM5: =CH108 -> BHAGGA LAL RAWAT | IN5: =DG108 -> RADHE SHYAM DHAKER | IO5: =ED108 -> SHREE RAM RAWAT | IP5: =FA108 -> BHAGGA LAL RAWAT | IQ5: =FK108 -> BHAGGA LAL RAWAT | IR5: =FU108 -> SURAJ KUMAR MEENA
B6: CICK HERE TO VIEW THE RESULT AT A GLANCE | L6: =IF(details!L6="","",details!L6) -> 5 | M6: =IF(details!M6="","",details!M6) -> 5 | N6: =IF(AND(L6="",M6=""),"",IF(AND(L6="NA",M6="NA"),"NA",SUM(L6:M6))) -> 10 | O6: =IF(details!N6="","",details!N6) -> 5 | P6: =IF(details!O6="","",details!O6) -> 5 | Q6: =IF(AND(O6="",P6=""),"",IF(AND(O6="NA",P6="NA"),"NA",SUM(O6:P6))) -> 10 | R6: =IF(details!P6="","",details!P6) -> 5 | S6: =IF(details!Q6="","",details!Q6) -> 4 | T6: =IF(AND(R6="",S6=""),"",IF(AND(R6="NA",S6="NA"),"NA",SUM(R6:S6))) -> 9 | U6: =IF(AND(N6="",Q6="",T6=""),"",IF(AND(N6="NA",Q6="NA",T6="NA"),"NA",SUM(N6,Q6,T6))) -> 29 | V6: =IF(details!R6="","",details!R6) -> 1 | W6: =IF(details!S6="","",details!S6) -> 40 | X6: =IF(details!T6="","",details!T6) -> 10 | Y6: =IF(details!U6="","",details!U6) -> 20 | Z6: =IF(AND(W6="",Y6=""),"",IF(AND(W6="NA",Y6="NA"),"NA",SUM(W6:Y6))) -> 70 | AA6: =IF(AND(U6="NA",Z6="NA"),"NA",IF(Z6="","",SUM(U6,V6,Z6))) -> 100 | AB6: =IF(details!V6="","",details!V6) -> 65 | AC6: =IF(details!W6="","",details!W6) -> 15 | AD6: =IF(details!X6="","",details!X6) -> 20 | AE6: =IF(AND(AB6="",AD6=""),"",SUM(AB6:AD6)) -> 100 | AF6: =IF(AE6="","",SUM(AA6,AE6)) -> 200 | AG6: =IF(OR(AF6="",AI6=""),"",ROUNDUP(AF6/AI6*100,0)) | AH6: =IF(AG6="","",IF(AG6>85,"A",IF(AG6>70,"B",IF(AG6>50,"C",IF(AG6>30,"D","E"))))) | AI6: =IF(OR($D6="TC",$D6="drop",$D6=""),"",AF$6-AJ6) | AJ6: =COUNTIF(N6,"NA")*N$6+COUNTIF(Q6,"NA")*Q$6+COUNTIF(T6,"NA")*T$6+(COUNTIF(Z6,"NA")*Z$6) -> 0 | AK6: =IF(details!Y6="","",details!Y6) -> 5 | AL6: =IF(details!Z6="","",details!Z6) -> 5 | AM6: =IF(AND(AK6="",AL6=""),"",IF(AND(AK6="NA",AL6="NA"),"NA",SUM(AK6:AL6))) -> 10 | AN6: =IF(details!AA6="","",details!AA6) -> 5 | AO6: =IF(details!AB6="","",details!AB6) -> 5 | AP6: =IF(AND(AN6="",AO6=""),"",IF(AND(AN6="NA",AO6="NA"),"NA",SUM(AN6:AO6))) -> 10 | AQ6: =IF(details!AC6="","",details!AC6) -> 5 | AR6: =IF(details!AD6="","",details!AD6) -> 4 | AS6: =IF(AND(AQ6="",AR6=""),"",IF(AND(AQ6="NA",AR6="NA"),"NA",SUM(AQ6:AR6))) -> 9 | AT6: =IF(AND(AM6="",AP6="",AS6=""),"",IF(AND(AM6="NA",AP6="NA",AS6="NA"),"NA",SUM(AM6,AP6,AS6))) -> 29 | AU6: =IF(details!AE6="","",details!AE6) -> 1 | AV6: =IF(details!AF6="","",details!AF6) -> 40 | AW6: =IF(details!AG6="","",details!AG6) -> 10 | AX6: =IF(details!AH6="","",details!AH6) -> 20 | AY6: =IF(AND(AV6="",AX6=""),"",IF(AND(AV6="NA",AX6="NA"),"NA",SUM(AV6:AX6))) -> 70 | AZ6: =IF(AND(AT6="NA",AY6="NA"),"NA",IF(AY6="","",SUM(AT6,AU6,AY6))) -> 100 | BA6: =IF(details!AI6="","",details!AI6) -> 65 | BB6: =IF(details!AJ6="","",details!AJ6) -> 15 | BC6: =IF(details!AK6="","",details!AK6) -> 20 | BD6: =IF(AND(BA6="",BC6=""),"",SUM(BA6:BC6)) -> 100 | BE6: =IF(BD6="","",SUM(AZ6,BD6)) -> 200 | BF6: =IF(OR(BE6="",BH6=""),"",ROUNDUP(BE6/BH6*100,0)) | BG6: =IF(BF6="","",IF(BF6>85,"A",IF(BF6>70,"B",IF(BF6>50,"C",IF(BF6>30,"D","E"))))) | BH6: =IF(OR($D6="TC",$D6="drop",$D6=""),"",BE$6-BI6) | BI6: =COUNTIF(AM6,"NA")*AM$6+COUNTIF(AP6,"NA")*AP$6+COUNTIF(AS6,"NA")*AS$6+(COUNTIF(AY6,"NA")*AY$6) -> 0 | BJ6: =IF(D6="","",details!AL6) | BK6: =IF(details!AM6="","",details!AM6) -> 5 | BL6: =IF(details!AN6="","",details!AN6) -> 5 | BM6: =IF(AND(BK6="",BL6=""),"",IF(AND(BK6="NA",BL6="NA"),"NA",SUM(BK6:BL6))) -> 10 | BN6: =IF(details!AO6="","",details!AO6) -> 5 | BO6: =IF(details!AP6="","",details!AP6) -> 5 | BP6: =IF(AND(BN6="",BO6=""),"",IF(AND(BN6="NA",BO6="NA"),"NA",SUM(BN6:BO6))) -> 10 | BQ6: =IF(details!AQ6="","",details!AQ6) -> 5 | BR6: =IF(details!AR6="","",details!AR6) -> 4 | BS6: =IF(AND(BQ6="",BR6=""),"",IF(AND(BQ6="NA",BR6="NA"),"NA",SUM(BQ6:BR6))) -> 9 | BT6: =IF(AND(BM6="",BP6="",BS6=""),"",IF(AND(BM6="NA",BP6="NA",BS6="NA"),"NA",SUM(BM6,BP6,BS6))) -> 29 | BU6: =IF(details!AS6="","",details!AS6) -> 1 | BV6: =IF(details!AT6="","",details!AT6) -> 50 | BW6: =IF(details!AU6="","",details!AU6) -> 20 | BX6: =IF(AND(BV6="",BW6=""),"",IF(AND(BV6="NA",BW6="NA"),"NA",SUM(BV6:BW6))) -> 70 | BY6: =IF(AND(BT6="NA",BX6="NA"),"NA",IF(BX6="","",SUM(BT6,BU6,BX6))) -> 100 | BZ6: =IF(details!AV6="","",details!AV6) -> 80 | CA6: =IF(details!AW6="","",details!AW6) -> 20 | CB6: =IF(AND(BZ6="",CA6=""),"",SUM(BZ6:CA6)) -> 100 | CC6: =IF(CB6="","",SUM(BY6,CB6)) -> 200 | CD6: =IF(OR(CC6="",CF6=""),"",ROUNDUP(CC6/CF6*100,0)) | CE6: =IF(CD6="","",IF(CD6>85,"A",IF(CD6>70,"B",IF(CD6>50,"C",IF(CD6>30,"D","E"))))) | CF6: =IF(OR($D6="TC",$D6="drop",$D6=""),"",CC$6-CG6) | CG6: =COUNTIF(BM6,"NA")*BM$6+COUNTIF(BP6,"NA")*BP$6 -> 0 | CH6: =IF(details!AX6="","",details!AX6) -> 5 | CI6: =IF(details!AY6="","",details!AY6) -> 5 | CJ6: =IF(AND(CH6="",CI6=""),"",IF(AND(CH6="NA",CI6="NA"),"NA",SUM(CH6:CI6))) -> 10 | CK6: =IF(details!AZ6="","",details!AZ6) -> 5 | CL6: =IF(details!BA6="","",details!BA6) -> 5 | CM6: =IF(AND(CK6="",CL6=""),"",IF(AND(CK6="NA",CL6="NA"),"NA",SUM(CK6:CL6))) -> 10 | CN6: =IF(details!BB6="","",details!BB6) -> 5 | CO6: =IF(details!BC6="","",details!BC6) -> 4 | CP6: =IF(AND(CN6="",CO6=""),"",IF(AND(CN6="NA",CO6="NA"),"NA",SUM(CN6:CO6))) -> 9 | CQ6: =IF(AND(CJ6="",CM6="",CP6=""),"",IF(AND(CJ6="NA",CM6="NA",CP6="NA"),"NA",SUM(CJ6,CM6,CP6))) -> 29 | CR6: =IF(details!BD6="","",details!BD6) -> 1 | CS6: =IF(details!BE6="","",details!BE6) -> 40 | CT6: =IF(details!BF6="","",details!BF6) -> 10 | CU6: =IF(details!BG6="","",details!BG6) -> 20 | CV6: =IF(AND(CS6="",CU6=""),"",IF(AND(CS6="NA",CU6="NA"),"NA",SUM(CS6:CU6))) -> 70 | CW6: =IF(AND(CQ6="NA",CV6="NA"),"NA",IF(CV6="","",SUM(CQ6,CR6,CV6))) -> 100 | CX6: =IF(details!BH6="","",details!BH6) -> 65 | CY6: =IF(details!BI6="","",details!BI6) -> 15 | CZ6: =IF(details!BJ6="","",details!BJ6) -> 20 | DA6: =IF(AND(CX6="",CZ6=""),"",SUM(CX6:CZ6)) -> 100 | DB6: =IF(DA6="","",SUM(CW6,DA6)) -> 200 | DC6: =IF(OR(DB6="",DE6=""),"",ROUNDUP(DB6/DE6*100,0)) | DD6: =IF(DC6="","",IF(DC6>85,"A",IF(DC6>70,"B",IF(DC6>50,"C",IF(DC6>30,"D","E"))))) | DE6: =IF(OR($D6="TC",$D6="drop",$D6=""),"",DB$6-DF6) | DF6: =COUNTIF(CJ6,"NA")*CJ$6+COUNTIF(CM6,"NA")*CM$6+COUNTIF(CP6,"NA")*CP$6+(COUNTIF(CV6,"NA")*CV$6) -> 0 | DG6: =IF(details!BK6="","",details!BK6) -> 5 | DH6: =IF(details!BL6="","",details!BL6) -> 5 | DI6: =IF(AND(DG6="",DH6=""),"",IF(AND(DG6="NA",DH6="NA"),"NA",SUM(DG6:DH6))) -> 10 | DJ6: =IF(details!BM6="","",details!BM6) -> 5 | DK6: =IF(details!BN6="","",details!BN6) -> 5 | DL6: =IF(AND(DJ6="",DK6=""),"",IF(AND(DJ6="NA",DK6="NA"),"NA",SUM(DJ6:DK6))) -> 10 | DM6: =IF(details!BO6="","",details!BO6) -> 3 | DN6: =IF(details!BP6="","",details!BP6) -> 2 | DO6: =IF(AND(DM6="",DN6=""),"",IF(AND(DM6="NA",DN6="NA"),"NA",SUM(DM6:DN6))) -> 5 | DP6: =IF(AND(DI6="",DL6="",DO6=""),"",IF(AND(DI6="NA",DL6="NA",DO6="NA"),"NA",SUM(DI6,DL6,DO6))) -> 25 | DQ6: =IF(details!BQ6="","",details!BQ6) -> 5 | DR6: =IF(details!BR6="","",details!BR6) -> 50 | DS6: =IF(details!BS6="","",details!BS6) -> 20 | DT6: =IF(AND(DR6="",DS6=""),"",IF(AND(DR6="NA",DS6="NA"),"NA",SUM(DR6:DS6))) -> 70 | DU6: =IF(AND(DP6="NA",DT6="NA"),"NA",IF(DT6="","",SUM(DP6,DQ6,DT6))) -> 100 | DV6: =IF(details!BT6="","",details!BT6) -> 80 | DW6: =IF(details!BU6="","",details!BU6) -> 20 | DX6: =IF(AND(DV6="",DW6=""),"",SUM(DV6:DW6)) -> 100 | DY6: =IF(DX6="","",SUM(DU6,DX6)) -> 200 | DZ6: =IF(OR(DY6="",EB6=""),"",ROUNDUP(DY6/EB6*100,0)) | EA6: =IF(DZ6="","",IF(DZ6>85,"A",IF(DZ6>70,"B",IF(DZ6>50,"C",IF(DZ6>30,"D","E"))))) | EB6: =IF(OR($D6="TC",$D6="drop",$D6=""),"",DY$6-EC6) | EC6: =COUNTIF(DI6,"NA")*DI$6+COUNTIF(DL6,"NA")*DL$6 -> 0 | ED6: =IF(details!BV6="","",details!BV6) -> 5 | EE6: =IF(details!BW6="","",details!BW6) -> 5 | EF6: =IF(AND(ED6="",EE6=""),"",IF(AND(ED6="NA",EE6="NA"),"NA",SUM(ED6:EE6))) -> 10 | EG6: =IF(details!BX6="","",details!BX6) -> 5 | EH6: =IF(details!BY6="","",details!BY6) -> 5 | EI6: =IF(AND(EG6="",EH6=""),"",IF(AND(EG6="NA",EH6="NA"),"NA",SUM(EG6:EH6))) -> 10 | EJ6: =IF(details!BZ6="","",details!BZ6) -> 5 | EK6: =IF(details!CA6="","",details!CA6) -> 4 | EL6: =IF(AND(EJ6="",EK6=""),"",IF(AND(EJ6="NA",EK6="NA"),"NA",SUM(EJ6:EK6))) -> 9 | EM6: =IF(AND(EF6="",EI6="",EL6=""),"",IF(AND(EF6="NA",EI6="NA",EL6="NA"),"NA",SUM(EF6,EI6,EL6))) -> 29 | EN6: =IF(details!CB6="","",details!CB6) -> 1 | EO6: =IF(details!CC6="","",details!CC6) -> 50 | EP6: =IF(details!CD6="","",details!CD6) -> 20 | EQ6: =IF(AND(EO6="",EP6=""),"",IF(AND(EO6="NA",EP6="NA"),"NA",SUM(EO6:EP6))) -> 70 | ER6: =IF(AND(EM6="NA",EQ6="NA"),"NA",IF(EQ6="","",SUM(EM6,EN6,EQ6))) -> 100 | ES6: =IF(details!CE6="","",details!CE6) -> 80 | ET6: =IF(details!CF6="","",details!CF6) -> 20 | EU6: =IF(AND(ES6="",ET6=""),"",SUM(ES6:ET6)) -> 100 | EV6: =IF(EU6="","",SUM(ER6,EU6)) -> 200 | EW6: =IF(OR(EV6="",EY6=""),"",ROUNDUP(EV6/EY6*100,0)) | EX6: =IF(EW6="","",IF(EW6>85,"A",IF(EW6>70,"B",IF(EW6>50,"C",IF(EW6>30,"D","E"))))) | EY6: =IF(OR($D6="TC",$D6="drop",$D6=""),"",EV$6-EZ6) | EZ6: =COUNTIF(EF6,"NA")*EF$6+COUNTIF(EI6,"NA")*EI$6 -> 0 | FA6: =IF(details!CG6="","",details!CG6) -> 20 | FB6: =IF(details!CH6="","",details!CH6) -> 20 | FC6: =IF(details!CI6="","",details!CI6) -> 20 | FD6: =IF(details!CJ6="","",details!CJ6) -> 20 | FE6: =IF(details!CK6="","",details!CK6) -> 20 | FF6: =IF(AND(FA6="",FB6="",FC6="",FD6="",FE6=""),"",IF(AND(FA6="NA",FB6="NA",FC6="NA",FD6="NA",FE6="NA"),"NA",SUM(FA6:FE6))) -> 100 | FG6: =IF(OR(FF6="",FI6=""),"",ROUNDUP(FF6/FI6*100,0)) | FH6: =IF(FG6="","",IF(FG6>85,"A",IF(FG6>70,"B",IF(FG6>50,"C",IF(FG6>30,"D","E"))))) | FI6: =IF(OR($D6="TC",$D6="drop",$D6=""),"",FF$6-FJ6) | FJ6: =COUNTIF(FA6:FD6,"NA")*FA$6 -> 0 | FK6: =IF(details!CL6="","",details!CL6) -> 20 | FL6: =IF(details!CM6="","",details!CM6) -> 20 | FM6: =IF(details!CN6="","",details!CN6) -> 20 | FN6: =IF(details!CO6="","",details!CO6) -> 20 | FO6: =IF(details!CP6="","",details!CP6) -> 20 | FP6: =IF(AND(FK6="",FL6="",FM6="",FN6="",FO6=""),"",IF(AND(FK6="NA",FL6="NA",FM6="NA",FN6="NA",FO6="NA"),"NA",SUM(FK6:FO6))) -> 100 | FQ6: =IF(OR(FP6="",FS6=""),"",ROUNDUP(FP6/FS6*100,0)) | FR6: =IF(FQ6="","",IF(FQ6>85,"A",IF(FQ6>70,"B",IF(FQ6>50,"C",IF(FQ6>30,"D","E"))))) | FS6: =IF(OR($D6="TC",$D6="drop",$D6=""),"",FP$6-FT6) | FT6: =COUNTIF(FK6:FN6,"NA")*FK$6 -> 0 | FU6: =IF(details!CQ6="","",details!CQ6) -> 20 | FV6: =IF(details!CR6="","",details!CR6) -> 20 | FW6: =IF(details!CS6="","",details!CS6) -> 20 | FX6: =IF(details!CT6="","",details!CT6) -> 20 | FY6: =IF(details!CU6="","",details!CU6) -> 20 | FZ6: =IF(AND(FU6="",FV6="",FW6="",FX6="",FY6=""),"",IF(AND(FU6="NA",FV6="NA",FW6="NA",FX6="NA",FY6="NA"),"NA",SUM(FU6:FY6))) -> 100 | GA6: =IF(OR(FZ6="",GC6=""),"",ROUNDUP(FZ6/GC6*100,0)) | GB6: =IF(GA6="","",IF(GA6>85,"A",IF(GA6>70,"B",IF(GA6>50,"C",IF(GA6>30,"D","E"))))) | GC6: =IF(OR($D6="TC",$D6="drop",$D6=""),"",FZ$6-GD6) | GD6: =COUNTIF(FU6:FX6,"NA")*FU$6 -> 0
A7: =IF(details!A7="","",details!A7) -> 1 | B7: =IF(details!B7="","",details!B7) -> SC | C7: =IF(details!C7="","",details!C7) -> B | D7: =IF(details!D7="","",details!D7) -> 801 | E7: =IF(details!E7="","",details!E7) | F7: =IF(details!F7="","",details!F7) -> 2491 | G7: =IF(details!G7="","",details!G7) -> 37466 | H7: =IF(details!CW7="","",details!CW7) -> Twenty Nine July Two Thousand Two | I7: =IF(details!I7="","",details!I7) -> A1 | J7: =IF(details!J7="","",details!J7) -> B1 | K7: =IF(details!K7="","",details!K7) -> C1 | L7: =IF(details!L7="","",details!L7) -> 5 | M7: =IF(details!M7="","",details!M7) -> 5 | N7: =IF(AND(L7="",M7=""),"",IF(AND(L7="NA",M7="NA"),"NA",SUM(L7:M7))) -> 10 | O7: =IF(details!N7="","",details!N7) -> 5 | P7: =IF(details!O7="","",details!O7) -> 5 | Q7: =IF(AND(O7="",P7=""),"",IF(AND(O7="NA",P7="NA"),"NA",SUM(O7:P7))) -> 10 | R7: =IF(details!P7="","",details!P7) -> 5 | S7: =IF(details!Q7="","",details!Q7) -> 4 | T7: =IF(AND(R7="",S7=""),"",IF(AND(R7="NA",S7="NA"),"NA",SUM(R7:S7))) -> 9 | U7: =IF(AND(N7="",Q7="",T7=""),"",IF(AND(N7="NA",Q7="NA",T7="NA"),"NA",SUM(N7,Q7,T7))) -> 29 | V7: =IF(details!R7="","",details!R7) -> 1 | W7: =IF(details!S7="","",details!S7) -> 40 | X7: =IF(details!T7="","",details!T7) -> 10 | Y7: =IF(details!U7="","",details!U7) -> 20 | Z7: =IF(AND(W7="",Y7=""),"",IF(AND(W7="NA",Y7="NA"),"NA",SUM(W7:Y7))) -> 70 | AA7: =IF(AND(U7="NA",Z7="NA"),"NA",IF(Z7="","",SUM(U7,V7,Z7))) -> 100 | AB7: =IF(details!V7="","",details!V7) -> 65 | AC7: =IF(details!W7="","",details!W7) -> 15 | AD7: =IF(details!X7="","",details!X7) -> 20 | AE7: =IF(AND(AB7="",AD7=""),"",IF(OR(AB7="AB",AD7="AB"),"AB",IF(OR(AB7="ML",AD7="ML"),"ML",SUM(AB7:AD7)))) -> 100 | AF7: =IF(OR($D7="TC",$D7="drop",$D7="",AE7=""),"",SUM(AA7,AE7)) -> 200 | AG7: =IF(OR(AF7="",AI7=""),"",ROUNDUP(AF7/AI7*100,0)) -> 100 | AH7: =IF(AG7="","",IF(AE7="ab",AE7,IF(AE7="ML",AE7,IF(AG7>85,"A",IF(AG7>70,"B",IF(AG7>50,"C",IF(AG7>30,"D","E"))))))) -> A | AI7: =IF(OR($D7="TC",$D7="drop",$D7=""),"",AF$6-AJ7) -> 200 | AJ7: =COUNTIF(N7,"NA")*N$6+COUNTIF(Q7,"NA")*Q$6+COUNTIF(T7,"NA")*T$6+(COUNTIF(Z7,"NA")*Z$6) -> 0 | AK7: =IF(details!Y7="","",details!Y7) -> 5 | AL7: =IF(details!Z7="","",details!Z7) -> 5 | AM7: =IF(AND(AK7="",AL7=""),"",IF(AND(AK7="NA",AL7="NA"),"NA",SUM(AK7:AL7))) -> 10 | AN7: =IF(details!AA7="","",details!AA7) -> 5 | AO7: =IF(details!AB7="","",details!AB7) -> 5 | AP7: =IF(AND(AN7="",AO7=""),"",IF(AND(AN7="NA",AO7="NA"),"NA",SUM(AN7:AO7))) -> 10 | AQ7: =IF(details!AC7="","",details!AC7) -> 5 | AR7: =IF(details!AD7="","",details!AD7) -> 4 | AS7: =IF(AND(AQ7="",AR7=""),"",IF(AND(AQ7="NA",AR7="NA"),"NA",SUM(AQ7:AR7))) -> 9 | AT7: =IF(AND(AM7="",AP7="",AS7=""),"",IF(AND(AM7="NA",AP7="NA",AS7="NA"),"NA",SUM(AM7,AP7,AS7))) -> 29 | AU7: =IF(details!AE7="","",details!AE7) -> 1 | AV7: =IF(details!AF7="","",details!AF7) -> 40 | AW7: =IF(details!AG7="","",details!AG7) -> 10 | AX7: =IF(details!AH7="","",details!AH7) -> 20 | AY7: =IF(AND(AV7="",AX7=""),"",IF(AND(AV7="NA",AX7="NA"),"NA",SUM(AV7:AX7))) -> 70 | AZ7: =IF(AND(AT7="NA",AY7="NA"),"NA",IF(AY7="","",SUM(AT7,AU7,AY7))) -> 100 | BA7: =IF(details!AI7="","",details!AI7) -> 65 | BB7: =IF(details!AJ7="","",details!AJ7) -> 15 | BC7: =IF(details!AK7="","",details!AK7) -> 20 | BD7: =IF(AND(BA7="",BC7=""),"",IF(OR(BA7="AB",BC7="AB"),"AB",IF(OR(BA7="ML",BC7="ML"),"ML",SUM(BA7:BC7)))) -> 100 | BE7: =IF(OR($D7="TC",$D7="drop",$D7="",BD7=""),"",SUM(AZ7,BD7)) -> 200 | BF7: =IF(OR(BE7="",BH7=""),"",ROUNDUP(BE7/BH7*100,0)) -> 100 | BG7: =IF(BF7="","",IF(BD7="ab",BD7,IF(BD7="ML",BD7,IF(BF7>85,"A",IF(BF7>70,"B",IF(BF7>50,"C",IF(BF7>30,"D","E"))))))) -> A | BH7: =IF(OR($D7="TC",$D7="drop",$D7=""),"",BE$6-BI7) -> 200 | BI7: =COUNTIF(AM7,"NA")*AM$6+COUNTIF(AP7,"NA")*AP$6+COUNTIF(AS7,"NA")*AS$6+(COUNTIF(AY7,"NA")*AY$6) -> 0 | BJ7: =IF(D7="","",details!AL7) -> s | BK7: =IF(details!AM7="","",details!AM7) -> 5 | BL7: =IF(details!AN7="","",details!AN7) -> 5 | BM7: =IF(AND(BK7="",BL7=""),"",IF(AND(BK7="NA",BL7="NA"),"NA",SUM(BK7:BL7))) -> 10 | BN7: =IF(details!AO7="","",details!AO7) -> 5 | BO7: =IF(details!AP7="","",details!AP7) -> 5 | BP7: =IF(AND(BN7="",BO7=""),"",IF(AND(BN7="NA",BO7="NA"),"NA",SUM(BN7:BO7))) -> 10 | BQ7: =IF(details!AQ7="","",details!AQ7) -> 5 | BR7: =IF(details!AR7="","",details!AR7) -> 4 | BS7: =IF(AND(BQ7="",BR7=""),"",IF(AND(BQ7="NA",BR7="NA"),"NA",SUM(BQ7:BR7))) -> 9 | BT7: =IF(AND(BM7="",BP7="",BS7=""),"",IF(AND(BM7="NA",BP7="NA",BS7="NA"),"NA",SUM(BM7,BP7,BS7))) -> 29 | BU7: =IF(details!AS7="","",details!AS7) -> 1 | BV7: =IF(details!AT7="","",details!AT7) -> 50 | BW7: =IF(details!AU7="","",details!AU7) -> 20 | BX7: =IF(AND(BV7="",BW7=""),"",IF(AND(BV7="NA",BW7="NA"),"NA",SUM(BV7:BW7))) -> 70 | BY7: =IF(AND(BT7="NA",BX7="NA"),"NA",IF(BX7="","",SUM(BT7,BU7,BX7))) -> 100 | BZ7: =IF(details!AV7="","",details!AV7) -> 80 | CA7: =IF(details!AW7="","",details!AW7) -> 20 | CB7: =IF(AND(BZ7="",CA7=""),"",IF(OR(BZ7="AB",CA7="AB"),"AB",IF(OR(BZ7="ML",CA7="ML"),"ML",SUM(BZ7:CA7)))) -> 100 | CC7: =IF(OR($D7="TC",$D7="drop",$D7="",CB7=""),"",SUM(BY7,CB7)) -> 200 | CD7: =IF(OR(CC7="",CF7=""),"",ROUNDUP(CC7/CF7*100,0)) -> 100 | CE7: =IF(CD7="","",IF(CB7="ab",CB7,IF(CB7="ML",CB7,IF(CD7>85,"A",IF(CD7>70,"B",IF(CD7>50,"C",IF(CD7>30,"D","E"))))))) -> A | CF7: =IF(OR($D7="TC",$D7="drop",$D7=""),"",CC$6-CG7) -> 200 | CG7: =COUNTIF(BM7,"NA")*BM$6+COUNTIF(BP7,"NA")*BP$6 -> 0 | CH7: =IF(details!AX7="","",details!AX7) -> 5 | CI7: =IF(details!AY7="","",details!AY7) -> 5 | CJ7: =IF(AND(CH7="",CI7=""),"",IF(AND(CH7="NA",CI7="NA"),"NA",SUM(CH7:CI7))) -> 10 | CK7: =IF(details!AZ7="","",details!AZ7) -> 5 | CL7: =IF(details!BA7="","",details!BA7) -> 5 | CM7: =IF(AND(CK7="",CL7=""),"",IF(AND(CK7="NA",CL7="NA"),"NA",SUM(CK7:CL7))) -> 10 | CN7: =IF(details!BB7="","",details!BB7) -> 5 | CO7: =IF(details!BC7="","",details!BC7) -> 4 | CP7: =IF(AND(CN7="",CO7=""),"",IF(AND(CN7="NA",CO7="NA"),"NA",SUM(CN7:CO7))) -> 9 | CQ7: =IF(AND(CJ7="",CM7="",CP7=""),"",IF(AND(CJ7="NA",CM7="NA",CP7="NA"),"NA",SUM(CJ7,CM7,CP7))) -> 29 | CR7: =IF(details!BD7="","",details!BD7) -> 1 | CS7: =IF(details!BE7="","",details!BE7) -> 40 | CT7: =IF(details!BF7="","",details!BF7) -> 10 | CU7: =IF(details!BG7="","",details!BG7) -> 20 | CV7: =IF(AND(CS7="",CU7=""),"",IF(AND(CS7="NA",CU7="NA"),"NA",SUM(CS7:CU7))) -> 70 | CW7: =IF(AND(CQ7="NA",CV7="NA"),"NA",IF(CV7="","",SUM(CQ7,CR7,CV7))) -> 100 | CX7: =IF(details!BH7="","",details!BH7) -> 65 | CY7: =IF(details!BI7="","",details!BI7) -> 15 | CZ7: =IF(details!BJ7="","",details!BJ7) -> 20 | DA7: =IF(AND(CX7="",CZ7=""),"",IF(OR(CX7="AB",CZ7="AB"),"AB",IF(OR(CX7="ML",CZ7="ML"),"ML",SUM(CX7:CZ7)))) -> 100 | DB7: =IF(OR($D7="TC",$D7="drop",$D7="",DA7=""),"",SUM(CW7,DA7)) -> 200 | DC7: =IF(OR(DB7="",DE7=""),"",ROUNDUP(DB7/DE7*100,0)) -> 100 | DD7: =IF(DC7="","",IF(DA7="ab",DA7,IF(DA7="ML",DA7,IF(DC7>85,"A",IF(DC7>70,"B",IF(DC7>50,"C",IF(DC7>30,"D","E"))))))) -> A | DE7: =IF(OR($D7="TC",$D7="drop",$D7=""),"",DB$6-DF7) -> 200 | DF7: =COUNTIF(CJ7,"NA")*CJ$6+COUNTIF(CM7,"NA")*CM$6+COUNTIF(CP7,"NA")*CP$6+(COUNTIF(CV7,"NA")*CV$6) -> 0 | DG7: =IF(details!BK7="","",details!BK7) -> 5 | DH7: =IF(details!BL7="","",details!BL7) -> 5 | DI7: =IF(AND(DG7="",DH7=""),"",IF(AND(DG7="NA",DH7="NA"),"NA",SUM(DG7:DH7))) -> 10 | DJ7: =IF(details!BM7="","",details!BM7) -> 5 | DK7: =IF(details!BN7="","",details!BN7) -> 5 | DL7: =IF(AND(DJ7="",DK7=""),"",IF(AND(DJ7="NA",DK7="NA"),"NA",SUM(DJ7:DK7))) -> 10 | DM7: =IF(details!BO7="","",details!BO7) -> 3 | DN7: =IF(details!BP7="","",details!BP7) -> 2 | DO7: =IF(AND(DM7="",DN7=""),"",IF(AND(DM7="NA",DN7="NA"),"NA",SUM(DM7:DN7))) -> 5 | DP7: =IF(AND(DI7="",DL7="",DO7=""),"",IF(AND(DI7="NA",DL7="NA",DO7="NA"),"NA",SUM(DI7,DL7,DO7))) -> 25 | DQ7: =IF(details!BQ7="","",details!BQ7) -> 5 | DR7: =IF(details!BR7="","",details!BR7) -> 50 | DS7: =IF(details!BS7="","",details!BS7) -> 20 | DT7: =IF(AND(DR7="",DS7=""),"",IF(AND(DR7="NA",DS7="NA"),"NA",SUM(DR7:DS7))) -> 70 | DU7: =IF(AND(DP7="NA",DT7="NA"),"NA",IF(DT7="","",SUM(DP7,DQ7,DT7))) -> 100 | DV7: =IF(details!BT7="","",details!BT7) -> 80 | DW7: =IF(details!BU7="","",details!BU7) -> 20 | DX7: =IF(AND(DV7="",DW7=""),"",IF(OR(DV7="AB",DW7="AB"),"AB",IF(OR(DV7="ML",DW7="ML"),"ML",SUM(DV7:DW7)))) -> 100 | DY7: =IF(OR($D7="TC",$D7="drop",$D7="",DX7=""),"",SUM(DU7,DX7)) -> 200 | DZ7: =IF(OR(DY7="",EB7=""),"",ROUNDUP(DY7/EB7*100,0)) -> 100 | EA7: =IF(DZ7="","",IF(DX7="ab",DX7,IF(DX7="ML",DX7,IF(DZ7>85,"A",IF(DZ7>70,"B",IF(DZ7>50,"C",IF(DZ7>30,"D","E"))))))) -> A | EB7: =IF(OR($D7="TC",$D7="drop",$D7=""),"",DY$6-EC7) -> 200 | EC7: =COUNTIF(DI7,"NA")*DI$6+COUNTIF(DL7,"NA")*DL$6 -> 0 | ED7: =IF(details!BV7="","",details!BV7) -> 5 | EE7: =IF(details!BW7="","",details!BW7) -> 5 | EF7: =IF(AND(ED7="",EE7=""),"",IF(AND(ED7="NA",EE7="NA"),"NA",SUM(ED7:EE7))) -> 10 | EG7: =IF(details!BX7="","",details!BX7) -> 5 | EH7: =IF(details!BY7="","",details!BY7) -> 5 | EI7: =IF(AND(EG7="",EH7=""),"",IF(AND(EG7="NA",EH7="NA"),"NA",SUM(EG7:EH7))) -> 10 | EJ7: =IF(details!BZ7="","",details!BZ7) -> 5 | EK7: =IF(details!CA7="","",details!CA7) -> 4 | EL7: =IF(AND(EJ7="",EK7=""),"",IF(AND(EJ7="NA",EK7="NA"),"NA",SUM(EJ7:EK7))) -> 9 | EM7: =IF(AND(EF7="",EI7="",EL7=""),"",IF(AND(EF7="NA",EI7="NA",EL7="NA"),"NA",SUM(EF7,EI7,EL7))) -> 29 | EN7: =IF(details!CB7="","",details!CB7) -> 1 | EO7: =IF(details!CC7="","",details!CC7) -> 50 | EP7: =IF(details!CD7="","",details!CD7) -> 20 | EQ7: =IF(AND(EO7="",EP7=""),"",IF(AND(EO7="NA",EP7="NA"),"NA",SUM(EO7:EP7))) -> 70 | ER7: =IF(AND(EM7="NA",EQ7="NA"),"NA",IF(EQ7="","",SUM(EM7,EN7,EQ7))) -> 100 | ES7: =IF(details!CE7="","",details!CE7) -> 80 | ET7: =IF(details!CF7="","",details!CF7) -> 20 | EU7: =IF(AND(ES7="",ET7=""),"",IF(OR(ES7="AB",ET7="AB"),"AB",IF(OR(ES7="ML",ET7="ML"),"ML",SUM(ES7:ET7)))) -> 100 | EV7: =IF(OR($D7="TC",$D7="drop",$D7="",EU7=""),"",SUM(ER7,EU7)) -> 200 | EW7: =IF(OR(EV7="",EY7=""),"",ROUNDUP(EV7/EY7*100,0)) -> 100 | EX7: =IF(EW7="","",IF(EU7="ab",EU7,IF(EU7="ML",EU7,IF(EW7>85,"A",IF(EW7>70,"B",IF(EW7>50,"C",IF(EW7>30,"D","E"))))))) -> A | EY7: =IF(OR($D7="TC",$D7="drop",$D7=""),"",EV$6-EZ7) -> 200 | EZ7: =COUNTIF(EF7,"NA")*EF$6+COUNTIF(EI7,"NA")*EI$6 -> 0 | FA7: =IF(details!CG7="","",details!CG7) -> 20 | FB7: =IF(details!CH7="","",details!CH7) -> 20 | FC7: =IF(details!CI7="","",details!CI7) -> 20 | FD7: =IF(details!CJ7="","",details!CJ7) -> 20 | FE7: =IF(details!CK7="","",details!CK7) -> 20 | FF7: =IF(FI7="","",IF(FE7="","",IF(AND(FA7="AB",FB7="AB",FC7="AB",FD7="AB",FE7="AB"),"AB",IF(AND(FA7="NA",FB7="NA",FC7="NA",FD7="NA",FE7="NA"),"NA",SUM(FA7:FE7))))) -> 100 | FG7: =IF(OR(FF7="",FI7=""),"",IF(FF7="AB","",ROUNDUP(FF7/FI7*100,0))) -> 100 | FH7: =IF(FG7="","",IF(FG7>85,"A",IF(FG7>70,"B",IF(FG7>50,"C",IF(FG7>30,"D","E"))))) -> A | FI7: =IF(OR($D7="TC",$D7="drop",$D7=""),"",FF$6-FJ7) -> 100 | FJ7: =COUNTIF(FA7:FD7,"NA")*FA$6 -> 0 | FK7: =IF(details!CL7="","",details!CL7) -> 20 | FL7: =IF(details!CM7="","",details!CM7) -> 20 | FM7: =IF(details!CN7="","",details!CN7) -> 20 | FN7: =IF(details!CO7="","",details!CO7) -> 20 | FO7: =IF(details!CP7="","",details!CP7) -> 20 | FP7: =IF(FS7="","",IF(FO7="","",IF(AND(FK7="AB",FL7="AB",FM7="AB",FN7="AB",FO7="AB"),"AB",IF(AND(FK7="NA",FL7="NA",FM7="NA",FN7="NA",FO7="NA"),"NA",SUM(FK7:FO7))))) -> 100 | FQ7: =IF(OR(FP7="",FS7=""),"",IF(FP7="AB","",ROUNDUP(FP7/FS7*100,0))) -> 100 | FR7: =IF(FQ7="","",IF(FQ7>85,"A",IF(FQ7>70,"B",IF(FQ7>50,"C",IF(FQ7>30,"D","E"))))) -> A | FS7: =IF(OR($D7="TC",$D7="drop",$D7=""),"",FP$6-FT7) -> 100 | FT7: =COUNTIF(FK7:FN7,"NA")*FK$6 -> 0 | FU7: =IF(details!CQ7="","",details!CQ7) -> 20 | FV7: =IF(details!CR7="","",details!CR7) -> 20 | FW7: =IF(details!CS7="","",details!CS7) -> 20 | FX7: =IF(details!CT7="","",details!CT7) -> 20 | FY7: =IF(details!CU7="","",details!CU7) -> 20 | FZ7: =IF(GC7="","",IF(FY7="","",IF(AND(FU7="AB",FV7="AB",FW7="AB",FX7="AB",FY7="AB"),"AB",IF(AND(FU7="NA",FV7="NA",FW7="NA",FX7="NA",FY7="NA"),"NA",SUM(FU7:FY7))))) -> 100 | GA7: =IF(OR(FZ7="",GC7=""),"",IF(FZ7="AB","",ROUNDUP(FZ7/GC7*100,0))) -> 100 | GB7: =IF(GA7="","",IF(GA7>85,"A",IF(GA7>70,"B",IF(GA7>50,"C",IF(GA7>30,"D","E"))))) -> A | GC7: =IF(OR($D7="TC",$D7="drop",$D7=""),"",FZ$6-GD7) -> 100 | GD7: =COUNTIF(FU7:FX7,"NA")*FU$6 -> 0 | GE7: =AI7 -> 200 | GF7: =AF7 -> 200 | GG7: =AH7 -> A | GH7: =BH7 -> 200 | GI7: =BE7 -> 200 | GJ7: =BG7 -> A | GK7: =CF7 -> 200 | GL7: =CC7 -> 200 | GM7: =CE7 -> A | GN7: =IF($BJ7="s",GM7,"") -> A | GO7: =IF($BJ7="u",GM7,"") | GP7: =IF($BJ7="g",GM7,"") | GQ7: =IF($BJ7="p",GM7,"") | GR7: =IF($BJ7="sd",GM7,"") | GS7: =DE7 -> 200 | GT7: =DB7 -> 200 | GU7: =DD7 -> A | GV7: =EB7 -> 200 | GW7: =DY7 -> 200 | GX7: =EA7 -> A | GY7: =EY7 -> 200 | GZ7: =EV7 -> 200 | HA7: =EX7 -> A | HB7: =FI7 -> 100 | HC7: =FF7 -> 100 | HD7: =FH7 -> A | HE7: =FS7 -> 100 | HF7: =FP7 -> 100 | HG7: =FR7 -> A | HH7: =GC7 -> 100 | HI7: =FZ7 -> 100 | HJ7: =GB7 -> A | HK7: =COUNTIF(GF7:HJ7,"AB") -> 0 | HL7: =COUNTIF(GF7:HJ7,"ML") -> 0 | HM7: =COUNTBLANK(GF7:HJ7) -> 4 | HN7: =COUNTIF(GF7:HJ7,"E") -> 0 | HO7: =IF(OR(D7=0,D7=""),"",IF(D7="TC","TRANSFERRED",IF(D7="DROP","DROP",IF(HK7>0,"ABSENT",IF(HL7>0,"LEAVE",IF(HM7>4,"",IF(AND(HN7>0,$C$3=8),"",IF(HN7>0,"PROMOTED","PASSED")))))))) -> PASSED | HP7: =IF(OR(GE7="",GH7="",GK7="",GS7="",GV7="",GY7=""),"",SUM(GE7,GH7,GK7,GS7,GV7,GY7)) -> 1200 | HQ7: =IF(OR(GF7="",GI7="",GL7="",GT7="",GW7="",GZ7=""),"",SUM(GF7,GI7,GL7,GT7,GW7,GZ7)) -> 1200 | HR7: =IF(OR(HQ7="",HP7=""),"",HQ7/HP7*100) -> 100 | HS7: =IF(HO7="PASSED",HR7,"") -> 100 | HT7: =IF(HS7="","",SUMPRODUCT((HS7<HS$7:HS$106)/COUNTIF(HS$7:HS$106,HS$7:HS$106))) -> 1 | HU7: =IF(OR(HR7="",HO7<>"PASSED"),"",IF(HR7>85,"A",IF(HR7>70,"B",IF(HR7>50,"C",IF(HR7>30,"D","E"))))) -> A | HV7: =details!EV7 -> 110 | HW7: =details!EW7 -> 98 | HX7: =IF(OR(HV7="",HW7=""),"",HW7/HV7*100) -> 89.090909 | HY7: =IF(details!CV7="","",details!CV7) | ID7: =HO107 -> TOTAL APPEARED | IE7: =GG107 -> 30 | IF7: =GH107 -> 30 | IG7: =GK107 -> 30 | IH7: =GN107 -> 30 | II7: =GO107 -> 0 | IJ7: =GP107 -> 0 | IK7: =GQ107 -> 0 | IL7: =GR107 -> 0 | IM7: =GS107 -> 30 | IN7: =GV107 -> 30 | IO7: =GY107 -> 30 | IP7: =HB107 -> 30 | IQ7: =HE107 -> 30 | IR7: =HH107 -> 30
