Workbook
Name _A100000: details!#REF!
Name _A100000: details!#REF!
Name _A200000: details!#REF!
Name _A200000: details!#REF!
Name _A200400: details!#REF!
Name _A200400: details!#REF!
Name _A200550: details!#REF!
Name _A200550: details!#REF!
Name _A210000: details!#REF!
Name _A210000: details!#REF!
Name _A280000: details!#REF!
Name _A280000: details!#REF!
Name _A300000: details!#REF!
Name _A300000: details!#REF!
Name CR: 'statement of marks'!#REF!
Name CR: 'statement of marks'!#REF!
Name IV: 'result aggregate'!#REF!
Name IV: #REF!

Sheet from the developer's desk
A1: This application has been designed for the Secondary and Higher Secondary schools of Rajasthan. All rights are reserved with the director of Secondary Education, Bikaner, Rajasthan.
A3: designed by D. Kavita Lecturer in English Govt. Girls' Hr. Sec. School, Nimbahera, Distt. Chittaurgarh, Rajasthan kavita.fadnavis@gmail.com
A7: In cooperation with
A8: Pushpendra Kumar Sharma Principal Govt. Hr. Sec. School, Veerpura Distt. Udaipur, Rajasthan | B8: Anil Kumar Somani Lecturer in Physics Govt. Hr. Sec. School, Nimbahera, Distt. Chittaurgarh, Rajasthan | C8: Arvind Kumar Sharma Sr.Teacher (Maths) Govt. Girls Sec. School Ramsar, Srinagar (Ajmer) Distt. Ajmer, Rajasthan
A12: Plz. Read all instructions given in this pages carefully before you proceed. For more help you can download the training videos from www.ctor.in
A14: This workbook can prepare results of 100 students of a class. According the the the departmental norms we can split the class into two sections as soon as the strength crosses 60 students, yet this workbooks supports result upto a strength of 100 students. Please limit your class strength not to exceed If there occur any errors in your result due to accidental deletion or feeding in wrong sheets, you can rectify all such errors by using a fresh workbook and just copying the 'details' of your old workbook into the new one. Password to enter details entries is 'shivira'. All sheets are protected. The password to unprotect sheets is 'dkf'. For any queries regarding the use of this application, drop a mail to kavita.fadnavis@gmail.com You may also contact the master trainers of your own district. D. Kavita
A21: Plz. Read the class promotion rules before you begin to work on this workbook. Use this workbook only if you find it as per rules. The cell pertaining to the result of a student of class 8th is deliberately left blank in case he/she sobtains grade 'e' in any of the subjects. Fill it using your own understanding of the rules.
A24: IN case of class 11 and 12, plz. note that you can put together theory and practical subjects in one place ( for example in the place of optional 1 or 2 or 3) but you can not put two practical subjects of different marking scheme together. It means you can put music, drawing and physical education together (30+70 scheme) scheme, physics, geography, homescience together (70+30 scheme), typing seperate and shorthand seperate. Plz. do not make any changes to row no. 6 in details sheet. Especially the cells containing the maximum marks in optional subjects.
A28: fjtYV odZcqd ds iz;ksx esa vkusokyh lkekU; leL;k,¡ o lek/kku
A29: CLICK HERE TO GO BACK TO DETAILS TO CONTINUE DATA ENTRY
A30: HOW TO MAKE ENTRIES?
A31: The current sheet, 'from the developer's desk' is only to read and undestand as to how to prepare result, do not try to unprotect it, you need not make any entries here.
A33: When you try to type in any cell for the first time, you are requested to enter the password. The password is 'shivira'
A35: Enter students' details and marks only in the sheet named 'details' and no where else.
A36: Enter the marks of after supplementary exam. in the sheet named 'Result Subject-wise'
A37: Print the report card from the sheet named 'Full Report'
... A105: vf/kd lg;ksx pkgus gsrq ohfM;ks ns[ksaA

Sheet details
A1: GOVT. HR. SEC. SCHOOL, _________________ | G1: SESSION | H1: 2024-25 | I1: SCHOOL DISE CODE | J1: 08291009401 | L1: HINDI | Y1: ENGLISH | AL1: SANSKRIT | AX1: MATHEMATICS | BK1: SCIENCE | BV1: SOCIAL STUDIES | CG1: WORK EXPERIENCE | CL1: ART EDUCATION | CQ1: PHYSICIAL EDUCATION | CV1: REMARKS | DA1: MONTHLY ATTENDANCE | EB1: TOTAL ATTENDANCE UPTO
J2: CSWN | K2: MR
A3: PANCHAYAT SAMITI AND DISTRICT | F3: NIMBAHERA | H3: CHITTAURGARH | I3: COUNTER SIGNATURE OF | J3: D.E.O. | K3: ELEMENTARY | L3: BHANWAR LAL THANNA | Y3: ASHOK KUMAR SHREEMALI | AL3: SAROJ PORWAL | AX3: BHAGGA LAL RAWAT | BK3: RADHE SHYAM DHAKER | BV3: SHREE RAM RAWAT | CG3: BHAGGA LAL RAWAT | CL3: BHAGGA LAL RAWAT | CQ3: SURAJ KUMAR MEENA | DA3: APRIL | DB3: APRIL | DC3: MAY+JUNE | DD3: MAY+JUNE | DE3: JULY | DF3: JULY | DG3: AUGUST | DH3: AUGUST | DI3: SEPTEMBER | DJ3: SEPTEMBER | DK3: OCTOBER | DL3: OCTOBER | DM3: NOVEMBER | DN3: NOVEMBER | DO3: DECEMBER | DP3: DECEMBER | DQ3: JANUARY | DR3: JANUARY | DS3: FEBRUARY | DT3: FEBRUARY | DU3: MARCH | DV3: MARCH | DW3: APRIL | DX3: APRIL | EB3: MAY | ED3: JULY | EF3: AUGUST | EH3: SEPTEMBER | EJ3: OCTOBER | EL3: NOVEMBER | EN3: DECEMBER | EP3: JANUARY | ER3: FEBURARY | ET3: MARCH | EV3: GRAND TOAL
A4: CLASS | B4: 6 | C4: SECTION | D4: A | E4: NAME OF THE PRINCIPAL | G4: D. KAVITA | H4: NAME OF THE CL. TEACHER | I4: Mr. BHAGGA LAL RAWAT | J4: DATE OF RESULT DECLARATION | K4: 45777 | L4: FIRST TEST | N4: SECOND TEST | P4: THIRD TEST | R4: VRUKSHAROPAN | S4: HALF YEARLY EXAM | V4: ANNUAL EXAM | Y4: FIRST TEST | AA4: SECOND TEST | AC4: THIRD TEST | AE4: VRUKSHAROPAN | AF4: HALF YEARLY EXAM | AI4: ANNUAL EXAM | AL4: SUBJECT CODE | AM4: FIRST TEST | AO4: SECOND TEST | AQ4: THIRD TEST | AS4: VRUKSHAROPAN | AT4: HALF YEARLY EXAM | AV4: ANNUAL EXAM | AX4: FIRST TEST | AZ4: SECOND TEST | BB4: THIRD TEST | BD4: VRUKSHAROPAN | BE4: HALF YEARLY EXAM | BH4: ANNUAL EXAM | BK4: FIRST TEST | BM4: SECOND TEST | BO4: THIRD TEST | BQ4: VRUKSHAROPAN | BR4: HALF YEARLY EXAM | BT4: ANNUAL EXAM | BV4: FIRST TEST | BX4: SECOND TEST | BZ4: THIRD TEST | CB4: VRUKSHAROPAN | CC4: HALF YEARLY EXAM | CE4: ANNUAL EXAM | CG4: FIRST EVALUATION | CH4: SECOND EVALUATION | CI4: THIRD EVALUATION | CJ4: FOURTH EVALUATION | CK4: FIFTH EVALUATION | CL4: FIRST EVALUATION | CM4: SECOND EVALUATION | CN4: THIRD EVALUATION | CO4: FOURTH EVALUATION | CP4: FIFTH EVALUATION | CQ4: FIRST EVALUATION | CR4: SECOND EVALUATION | CS4: THIRD EVALUATION | CT4: FOURTH EVALUATION | CU4: FIFTH EVALUATION
A5: S.NO. | B5: CATEGORY | C5: GENDER | D5: R. NO. LOCAL | E5: R. NO. BOARD | F5: S.R. NO. | G5: DATE OF BIRTH IN FIGURES | H5: DATE OF BIRTH IN WORDS | I5: NAME OF THE STUDENT | J5: FATHER'S NAME | K5: MOTHER'S NAME | L5: WRITTEN BY TEACHER | M5: ACTIVITY, ORAL, PROJECT, PRACTICAL BY TEACHER | N5: WRITTEN BY TEACHER | O5: ACTIVITY, ORAL, PROJECT, PRACTICAL BY TEACHER | P5: WRITTEN BY TEACHER | Q5: ACTIVITY, ORAL, PROJECT, PRACTICAL BY TEACHER | S5: WRITTEN BY TEACHER | T5: ACTIVITY, ORAL, PROJECT, PRACTICAL BY TEACHER | U5: Poorv Kaksha Dakshata Addharit Ankalan 1 | V5: WRITTEN BY TEACHER | W5: ACTIVITY, ORAL, PROJECT, PRACTICAL BY TEACHER | X5: Poorv Kaksha Dakshata Addharit Ankalan 2 | Y5: WRITTEN BY TEACHER | Z5: ACTIVITY, ORAL, PROJECT, PRACTICAL BY TEACHER | AA5: WRITTEN BY TEACHER | AB5: ACTIVITY, ORAL, PROJECT, PRACTICAL BY TEACHER | AC5: WRITTEN BY TEACHER | AD5: ACTIVITY, ORAL, PROJECT, PRACTICAL BY TEACHER | AF5: WRITTEN BY TEACHER | AG5: ACTIVITY, ORAL, PROJECT, PRACTICAL BY TEACHER | AH5: Poorv Kaksha Dakshata Addharit Ankalan 1 | AI5: WRITTEN BY TEACHER | AJ5: ACTIVITY, ORAL, PROJECT, PRACTICAL BY TEACHER | AK5: Poorv Kaksha Dakshata Addharit Ankalan 2 | AM5: WRITTEN BY TEACHER | AN5: ACTIVITY, ORAL, PROJECT, PRACTICAL BY TEACHER | AO5: WRITTEN BY TEACHER | AP5: ACTIVITY, ORAL, PROJECT, PRACTICAL BY TEACHER | AQ5: WRITTEN BY TEACHER | AR5: ACTIVITY, ORAL, PROJECT, PRACTICAL BY TEACHER | AT5: WRITTEN BY TEACHER | AU5: ACTIVITY, ORAL, PROJECT, PRACTICAL BY TEACHER | AV5: WRITTEN BY TEACHER | AW5: ACTIVITY, ORAL, PROJECT, PRACTICAL BY TEACHER | AX5: WRITTEN BY TEACHER | AY5: ACTIVITY, ORAL, PROJECT, PRACTICAL BY TEACHER | AZ5: WRITTEN BY TEACHER | BA5: ACTIVITY, ORAL, PROJECT, PRACTICAL BY TEACHER | BB5: WRITTEN BY TEACHER | BC5: ACTIVITY, ORAL, PROJECT, PRACTICAL BY TEACHER | BE5: WRITTEN BY TEACHER | BF5: ACTIVITY, ORAL, PROJECT, PRACTICAL BY TEACHER | BG5: Poorv Kaksha Dakshata Addharit Ankalan 1 | BH5: WRITTEN BY TEACHER | BI5: ACTIVITY, ORAL, PROJECT, PRACTICAL BY TEACHER | BJ5: Poorv Kaksha Dakshata Addharit Ankalan 2 | BK5: WRITTEN BY TEACHER | BL5: ACTIVITY, ORAL, PROJECT, PRACTICAL BY TEACHER | BM5: WRITTEN BY TEACHER | BN5: ACTIVITY, ORAL, PROJECT, PRACTICAL BY TEACHER | BO5: WRITTEN BY TEACHER | BP5: ACTIVITY, ORAL, PROJECT, PRACTICAL BY TEACHER | BR5: WRITTEN BY TEACHER | BS5: ACTIVITY, ORAL, PROJECT, PRACTICAL BY TEACHER | BT5: WRITTEN BY TEACHER | BU5: ACTIVITY, ORAL, PROJECT, PRACTICAL BY TEACHER | BV5: WRITTEN BY TEACHER | BW5: ACTIVITY, ORAL, PROJECT, PRACTICAL BY TEACHER | BX5: WRITTEN BY TEACHER | BY5: ACTIVITY, ORAL, PROJECT, PRACTICAL BY TEACHER | BZ5: WRITTEN BY TEACHER | CA5: ACTIVITY, ORAL, PROJECT, PRACTICAL BY TEACHER | CC5: WRITTEN BY TEACHER | CD5: ACTIVITY, ORAL, PROJECT, PRACTICAL BY TEACHER | CE5: WRITTEN BY TEACHER | CF5: ACTIVITY, ORAL, PROJECT, PRACTICAL BY TEACHER | DA5: MEETINGS | DB5: STUDENT ATTENDANCE | DC5: MEETINGS | DD5: STUDENT ATTENDANCE | DE5: MEETINGS | DF5: STUDENT ATTENDANCE | DG5: MEETINGS | DH5: STUDENT ATTENDANCE | DI5: MEETINGS | DJ5: STUDENT ATTENDANCE | DK5: MEETINGS | DL5: STUDENT ATTENDANCE | DM5: MEETINGS | DN5: STUDENT ATTENDANCE | DO5: MEETINGS | DP5: STUDENT ATTENDANCE | DQ5: MEETINGS | DR5: STUDENT ATTENDANCE | DS5: MEETINGS | DT5: STUDENT ATTENDANCE | DU5: MEETINGS | DV5: STUDENT ATTENDANCE | DW5: MEETINGS | DX5: STUDENT ATTENDANCE | EB5: MEETINGS | EC5: STUDENT ATTENDANCE | ED5: MEETINGS | EE5: STUDENT ATTENDANCE | EF5: MEETINGS | EG5: STUDENT ATTENDANCE | EH5: MEETINGS | EI5: STUDENT ATTENDANCE | EJ5: MEETINGS | EK5: STUDENT ATTENDANCE | EL5: MEETINGS | EM5: STUDENT ATTENDANCE | EN5: MEETINGS | EO5: STUDENT ATTENDANCE | EP5: MEETINGS | EQ5: STUDENT ATTENDANCE | ER5: MEETINGS | ES5: STUDENT ATTENDANCE | ET5: MEETINGS | EU5: STUDENT ATTENDANCE | EV5: MEETINGS | EW5: STUDENT ATTENDANCE
A6: CLICK HERE TO SELECT | B6: B.E.O. | C6: D.E.O. | F6: CLICK HERE TO SELECT | G6: ELEMENTARY | H6: SECONDARY | I6: CLICK HERE FOR HELP | L6: 5 | M6: 5 | N6: 5 | O6: 5 | P6: 5 | Q6: 4 | R6: 1 | S6: 40 | T6: 10 | U6: 20 | V6: 65 | W6: 15 | X6: 20 | Y6: 5 | Z6: 5 | AA6: 5 | AB6: 5 | AC6: 5 | AD6: 4 | AE6: 1 | AF6: 40 | AG6: 10 | AH6: 20 | AI6: 65 | AJ6: 15 | AK6: 20 | AL6: s | AM6: 5 | AN6: 5 | AO6: 5 | AP6: 5 | AQ6: 5 | AR6: 4 | AS6: 1 | AT6: 50 | AU6: 20 | AV6: 80 | AW6: 20 | AX6: 5 | AY6: 5 | AZ6: 5 | BA6: 5 | BB6: 5 | BC6: 4 | BD6: 1 | BE6: 40 | BF6: 10 | BG6: 20 | BH6: 65 | BI6: 15 | BJ6: 20 | BK6: 5 | BL6: 5 | BM6: 5 | BN6: 5 | BO6: 3 | BP6: 2 | BQ6: 5 | BR6: 50 | BS6: 20 | BT6: 80 | BU6: 20 | BV6: 5 | BW6: 5 | BX6: 5 | BY6: 5 | BZ6: 5 | CA6: 4 | CB6: 1 | CC6: 50 | CD6: 20 | CE6: 80 | CF6: 20 | CG6: 20 | CH6: 20 | CI6: 20 | CJ6: 20 | CK6: 20 | CL6: 20 | CM6: 20 | CN6: 20 | CO6: 20 | CP6: 20 | CQ6: 20 | CR6: 20 | CS6: 20 | CT6: 20 | CU6: 20 | CY6: monthly att. | DC6: 10 | DE6: 10 | DG6: 10 | DI6: 10 | DK6: 10 | DM6: 10 | DO6: 10 | DQ6: 10 | DS6: 10 | DU6: 10 | DW6: 10 | EB6: =IF(DC6="","",SUM(DA6,DC6)) -> 10 | EC6: =IF(DD6="","",SUM(DB6,DD6)) | ED6: =IF(DE6="","",SUM(EB6,DE6)) -> 20 | EE6: =IF(DF6="","",SUM(EC6,DF6)) | EF6: =IF(DG6="","",SUM(ED6,DG6)) -> 30 | EG6: =IF(DH6="","",SUM(EE6,DH6)) | EH6: =IF(DI6="","",SUM(EF6,DI6)) -> 40 | EI6: =IF(DJ6="","",SUM(EG6,DJ6)) | EJ6: =IF(DK6="","",SUM(EH6,DK6)) -> 50 | EK6: =IF(DL6="","",SUM(EI6,DL6)) | ... EW6: =IF(DX6="","",SUM(EU6,DX6))
A7: 1 | B7: SC | C7: B | D7: 801 | F7: 2491 | G7: 37466 | H7: =CW7 -> Twenty Nine July Two Thousand Two | I7: A1 | J7: B1 | K7: C1 | L7: 5 | M7: 5 | N7: 5 | O7: 5 | P7: 5 | Q7: 4 | R7: 1 | S7: 40 | T7: 10 | U7: 20 | V7: 65 | W7: 15 | X7: 20 | Y7: 5 | Z7: 5 | AA7: 5 | AB7: 5 | AC7: 5 | AD7: 4 | AE7: 1 | AF7: 40 | AG7: 10 | AH7: 20 | AI7: 65 | AJ7: 15 | AK7: 20 | AL7: s | AM7: 5 | AN7: 5 | AO7: 5 | AP7: 5 | AQ7: 5 | AR7: 4 | AS7: 1 | AT7: 50 | AU7: 20 | AV7: 80 | AW7: 20 | AX7: 5 | AY7: 5 | AZ7: 5 | BA7: 5 | BB7: 5 | BC7: 4 | BD7: 1 | BE7: 40 | BF7: 10 | BG7: 20 | BH7: 65 | BI7: 15 | BJ7: 20 | BK7: 5 | BL7: 5 | BM7: 5 | BN7: 5 | BO7: 3 | BP7: 2 | BQ7: 5 | BR7: 50 | BS7: 20 | BT7: 80 | BU7: 20 | BV7: 5 | BW7: 5 | BX7: 5 | BY7: 5 | BZ7: 5 | CA7: 4 | CB7: 1 | CC7: 50 | CD7: 20 | CE7: 80 | CF7: 20 | CG7: 20 | CH7: 20 | CI7: 20 | CJ7: 20 | CK7: 20 | CL7: 20 | CM7: 20 | CN7: 20 | CO7: 20 | CP7: 20 | CQ7: 20 | CR7: 20 | CS7: 20 | CT7: 20 | CU7: 20 | CW7: =IF(DOB!D7="","",DOB!D7) -> Twenty Nine July Two Thousand Two | DA7: =IF($D7="","",IF(DA$6="","",DA$6)) | DC7: =IF($D7="","",IF(DC$6="","",DC$6)) -> 10 | DD7: 9 | DE7: =IF($D7="","",IF(DE$6="","",DE$6)) -> 10 | DF7: 8 | DG7: =IF($D7="","",IF(DG$6="","",DG$6)) -> 10 | DH7: 9 | DI7: =IF(DI$6="","",DI$6) -> 10 | DJ7: 9 | DK7: =IF(DK$6="","",DK$6) -> 10 | DL7: 9 | DM7: =IF(DM$6="","",DM$6) -> 10 | DN7: 9 | DO7: =IF(DO$6="","",DO$6) -> 10 | DP7: 9 | DQ7: =IF(DQ$6="","",DQ$6) -> 10 | DR7: 9 | DS7: =IF(DS$6="","",DS$6) -> 10 | DT7: 9 | DU7: =IF(DU$6="","",DU$6) -> 10 | DV7: 9 | DW7: =IF(DW$6="","",DW$6) -> 10 | DX7: 9 | EB7: =IF(DC7="","",SUM(DA7,DC7)) -> 10 | EC7: =IF(DD7="","",SUM(DB7,DD7)) -> 9 | ED7: =IF(DE7="","",SUM(EB7,DE7)) -> 20 | EE7: =IF(DF7="","",SUM(EC7,DF7)) -> 17 | EF7: =IF(DG7="","",SUM(ED7,DG7)) -> 30 | EG7: =IF(DH7="","",SUM(EE7,DH7)) -> 26 | EH7: =IF(DI7="","",SUM(EF7,DI7)) -> 40 | EI7: =IF(DJ7="","",SUM(EG7,DJ7)) -> 35 | EJ7: =IF(DK7="","",SUM(EH7,DK7)) -> 50 | EK7: =IF(DL7="","",SUM(EI7,DL7)) -> 44 | ... EW7: =IF(DX7="","",SUM(EU7,DX7)) -> 98
A8: 2 | B8: SC | C8: B | D8: 802 | G8: 35887 | H8: =CW8 -> Two April Nineteen Hundred Ninety Eight | I8: A2 | J8: B2 | K8: C2 | L8: 5 | M8: 5 | N8: 5 | O8: 5 | P8: 5 | Q8: 4 | R8: 1 | S8: 40 | T8: 10 | U8: 20 | V8: 65 | W8: 15 | X8: 20 | Y8: 5 | Z8: 5 | AA8: 5 | AB8: 5 | AC8: 5 | AD8: 4 | AE8: 1 | AF8: 40 | AG8: 10 | AH8: 20 | AI8: 65 | AJ8: 15 | AK8: 20 | AL8: s | AM8: 5 | AN8: 5 | AO8: 5 | AP8: 5 | AQ8: 5 | AR8: 4 | AS8: 1 | AT8: 50 | AU8: 20 | AV8: 80 | AW8: 20 | AX8: 5 | AY8: 5 | AZ8: 5 | BA8: 5 | BB8: 5 | BC8: 4 | BD8: 1 | BE8: 40 | BF8: 10 | BG8: 20 | BH8: 65 | BI8: 15 | BJ8: 20 | BK8: 5 | BL8: 5 | BM8: 5 | BN8: 5 | BO8: 3 | BP8: 2 | BQ8: 5 | BR8: 50 | BS8: 20 | BT8: 80 | BU8: 20 | BV8: 5 | BW8: 5 | BX8: 5 | BY8: 5 | BZ8: 5 | CA8: 4 | CB8: 1 | CC8: 50 | CD8: 20 | CE8: 80 | CF8: 20 | CG8: 20 | CH8: 20 | CI8: 20 | CJ8: 20 | CK8: 20 | CL8: 20 | CM8: 20 | CN8: 20 | CO8: 20 | CP8: 20 | CQ8: 20 | CR8: 20 | CS8: 20 | CT8: 20 | CU8: 20 | CW8: =IF(DOB!D8="","",DOB!D8) -> Two April Nineteen Hundred Ninety Eight | DA8: =IF($D8="","",IF(DA$6="","",DA$6)) | DC8: =IF($D8="","",IF(DC$6="","",DC$6)) -> 10 | DE8: =IF($D8="","",IF(DE$6="","",DE$6)) -> 10 | DG8: =IF($D8="","",IF(DG$6="","",DG$6)) -> 10 | DI8: =IF(DI$6="","",DI$6) -> 10 | DK8: =IF(DK$6="","",DK$6) -> 10 | DM8: =IF(DM$6="","",DM$6) -> 10 | DO8: =IF(DO$6="","",DO$6) -> 10 | DQ8: =IF(DQ$6="","",DQ$6) -> 10 | DS8: =IF(DS$6="","",DS$6) -> 10 | DU8: =IF(DU$6="","",DU$6) -> 10 | DW8: =IF(DW$6="","",DW$6) -> 10 | EB8: =IF(DC8="","",SUM(DA8,DC8)) -> 10 | EC8: =IF(DD8="","",SUM(DB8,DD8)) | ED8: =IF(DE8="","",SUM(EB8,DE8)) -> 20 | EE8: =IF(DF8="","",SUM(EC8,DF8)) | EF8: =IF(DG8="","",SUM(ED8,DG8)) -> 30 | EG8: =IF(DH8="","",SUM(EE8,DH8)) | EH8: =IF(DI8="","",SUM(EF8,DI8)) -> 40 | EI8: =IF(DJ8="","",SUM(EG8,DJ8)) | EJ8: =IF(DK8="","",SUM(EH8,DK8)) -> 50 | EK8: =IF(DL8="","",SUM(EI8,DL8)) | ... EW8: =IF(DX8="","",SUM(EU8,DX8))
A9: 3 | B9: SC | C9: B | D9: 803 | H9: =CW9 | I9: A3 | J9: B3 | K9: C3 | L9: 5 | M9: 5 | N9: 5 | O9: 5 | P9: 5 | Q9: 4 | R9: 1 | S9: 40 | T9: 10 | U9: 20 | V9: 65 | W9: 15 | X9: 20 | Y9: 5 | Z9: 5 | AA9: 5 | AB9: 5 | AC9: 5 | AD9: 4 | AE9: 1 | AF9: 40 | AG9: 10 | AH9: 20 | AI9: 65 | AJ9: 15 | AK9: 20 | AL9: s | AM9: 5 | AN9: 5 | AO9: 5 | AP9: 5 | AQ9: 5 | AR9: 4 | AS9: 1 | AT9: 50 | AU9: 20 | AV9: 80 | AW9: 20 | AX9: 5 | AY9: 5 | AZ9: 5 | BA9: 5 | BB9: 5 | BC9: 4 | BD9: 1 | BE9: 40 | BF9: 10 | BG9: 20 | BH9: 65 | BI9: 15 | BJ9: 20 | BK9: 5 | BL9: 5 | BM9: 5 | BN9: 5 | BO9: 3 | BP9: 2 | BQ9: 5 | BR9: 50 | BS9: 20 | BT9: 80 | BU9: 20 | BV9: 5 | BW9: 5 | BX9: 5 | BY9: 5 | BZ9: 5 | CA9: 4 | CB9: 1 | CC9: 50 | CD9: 20 | CE9: 80 | CF9: 20 | CG9: 20 | CH9: 20 | CI9: 20 | CJ9: 20 | CK9: 20 | CL9: 20 | CM9: 20 | CN9: 20 | CO9: 20 | CP9: 20 | CQ9: 20 | CR9: 20 | CS9: 20 | CT9: 20 | CU9: 20 | CW9: =IF(DOB!D9="","",DOB!D9) | CX9: SC | DA9: 0 | DC9: =IF($D9="","",IF(DC$6="","",DC$6)) -> 10 | DE9: =IF($D9="","",IF(DE$6="","",DE$6)) -> 10 | DG9: =IF($D9="","",IF(DG$6="","",DG$6)) -> 10 | DI9: =IF(DI$6="","",DI$6) -> 10 | DK9: =IF(DK$6="","",DK$6) -> 10 | DM9: =IF(DM$6="","",DM$6) -> 10 | DO9: =IF(DO$6="","",DO$6) -> 10 | DQ9: =IF(DQ$6="","",DQ$6) -> 10 | DS9: =IF(DS$6="","",DS$6) -> 10 | DU9: =IF(DU$6="","",DU$6) -> 10 | DW9: =IF(DW$6="","",DW$6) -> 10 | EB9: =IF(DC9="","",SUM(DA9,DC9)) -> 10 | EC9: =IF(DD9="","",SUM(DB9,DD9)) | ED9: =IF(DE9="","",SUM(EB9,DE9)) -> 20 | EE9: =IF(DF9="","",SUM(EC9,DF9)) | EF9: =IF(DG9="","",SUM(ED9,DG9)) -> 30 | EG9: =IF(DH9="","",SUM(EE9,DH9)) | EH9: =IF(DI9="","",SUM(EF9,DI9)) -> 40 | EI9: =IF(DJ9="","",SUM(EG9,DJ9)) | EJ9: =IF(DK9="","",SUM(EH9,DK9)) -> 50 | EK9: =IF(DL9="","",SUM(EI9,DL9)) | ... EW9: =IF(DX9="","",SUM(EU9,DX9))
A10: 4 | D10: 804 | H10: =CW10 | I10: A4 | J10: B4 | K10: C4 | L10: 5 | M10: 5 | N10: 5 | O10: 5 | P10: 5 | Q10: 4 | R10: 1 | S10: 40 | T10: 10 | U10: 20 | V10: 65 | W10: 15 | X10: 20 | Y10: 5 | Z10: 5 | AA10: 5 | AB10: 5 | AC10: 5 | AD10: 4 | AE10: 1 | AF10: 40 | AG10: 10 | AH10: 20 | AI10: 65 | AJ10: 15 | AK10: 20 | AL10: s | AM10: 5 | AN10: 5 | AO10: 5 | AP10: 5 | AQ10: 5 | AR10: 4 | AS10: 1 | AT10: 50 | AU10: 20 | AV10: 80 | AW10: 20 | AX10: 5 | AY10: 5 | AZ10: 5 | BA10: 5 | BB10: 5 | BC10: 4 | BD10: 1 | BE10: 40 | BF10: 10 | BG10: 20 | BH10: 65 | BI10: 15 | BJ10: 20 | BK10: 5 | BL10: 5 | BM10: 5 | BN10: 5 | BO10: 3 | BP10: 2 | BQ10: 5 | BR10: 50 | BS10: 20 | BT10: 80 | BU10: 20 | BV10: 5 | BW10: 5 | BX10: 5 | BY10: 5 | BZ10: 5 | CA10: 4 | CB10: 1 | CC10: 50 | CD10: 20 | CE10: 80 | CF10: 20 | CG10: 20 | CH10: 20 | CI10: 20 | CJ10: 20 | CK10: 20 | CL10: 20 | CM10: 20 | CN10: 20 | CO10: 20 | CP10: 20 | CQ10: 20 | CR10: 20 | CS10: 20 | CT10: 20 | CU10: 20 | CW10: =IF(DOB!D10="","",DOB!D10) | CX10: ST | DA10: 0 | DC10: =IF($D10="","",IF(DC$6="","",DC$6)) -> 10 | DE10: =IF($D10="","",IF(DE$6="","",DE$6)) -> 10 | DG10: =IF($D10="","",IF(DG$6="","",DG$6)) -> 10 | DI10: =IF(DI$6="","",DI$6) -> 10 | DK10: =IF(DK$6="","",DK$6) -> 10 | DM10: =IF(DM$6="","",DM$6) -> 10 | DO10: =IF(DO$6="","",DO$6) -> 10 | DQ10: =IF(DQ$6="","",DQ$6) -> 10 | DS10: =IF(DS$6="","",DS$6) -> 10 | DU10: =IF(DU$6="","",DU$6) -> 10 | DW10: =IF(DW$6="","",DW$6) -> 10 | EB10: =IF(DC10="","",SUM(DA10,DC10)) -> 10 | EC10: =IF(DD10="","",SUM(DB10,DD10)) | ED10: =IF(DE10="","",SUM(EB10,DE10)) -> 20 | EE10: =IF(DF10="","",SUM(EC10,DF10)) | EF10: =IF(DG10="","",SUM(ED10,DG10)) -> 30 | EG10: =IF(DH10="","",SUM(EE10,DH10)) | EH10: =IF(DI10="","",SUM(EF10,DI10)) -> 40 | EI10: =IF(DJ10="","",SUM(EG10,DJ10)) | EJ10: =IF(DK10="","",SUM(EH10,DK10)) -> 50 | EK10: =IF(DL10="","",SUM(EI10,DL10)) | ... EW10: =IF(DX10="","",SUM(EU10,DX10))
A11: 5 | D11: 805 | H11: =CW11 | I11: A5 | J11: B5 | K11: C5 | L11: 5 | M11: 5 | N11: 5 | O11: 5 | P11: 5 | Q11: 4 | R11: 1 | S11: 40 | T11: 10 | U11: 20 | V11: 65 | W11: 15 | X11: 20 | Y11: 5 | Z11: 5 | AA11: 5 | AB11: 5 | AC11: 5 | AD11: 4 | AE11: 1 | AF11: 40 | AG11: 10 | AH11: 20 | AI11: 65 | AJ11: 15 | AK11: 20 | AL11: s | AM11: 5 | AN11: 5 | AO11: 5 | AP11: 5 | AQ11: 5 | AR11: 4 | AS11: 1 | AT11: 50 | AU11: 20 | AV11: 80 | AW11: 20 | AX11: 5 | AY11: 5 | AZ11: 5 | BA11: 5 | BB11: 5 | BC11: 4 | BD11: 1 | BE11: 40 | BF11: 10 | BG11: 20 | BH11: 65 | BI11: 15 | BJ11: 20 | BK11: 5 | BL11: 5 | BM11: 5 | BN11: 5 | BO11: 3 | BP11: 2 | BQ11: 5 | BR11: 50 | BS11: 20 | BT11: 80 | BU11: 20 | BV11: 5 | BW11: 5 | BX11: 5 | BY11: 5 | BZ11: 5 | CA11: 4 | CB11: 1 | CC11: 50 | CD11: 20 | CE11: 80 | CF11: 20 | CG11: 20 | CH11: 20 | CI11: 20 | CJ11: 20 | CK11: 20 | CL11: 20 | CM11: 20 | CN11: 20 | CO11: 20 | CP11: 20 | CQ11: 20 | CR11: 20 | CS11: 20 | CT11: 20 | CU11: 20 | CW11: =IF(DOB!D11="","",DOB!D11) | CX11: OBC | DA11: =IF($D11="","",IF(DA$6="","",DA$6)) | DC11: =IF($D11="","",IF(DC$6="","",DC$6)) -> 10 | DE11: =IF($D11="","",IF(DE$6="","",DE$6)) -> 10 | DG11: =IF($D11="","",IF(DG$6="","",DG$6)) -> 10 | DI11: =IF(DI$6="","",DI$6) -> 10 | DK11: =IF(DK$6="","",DK$6) -> 10 | DM11: =IF(DM$6="","",DM$6) -> 10 | DO11: =IF(DO$6="","",DO$6) -> 10 | DQ11: =IF(DQ$6="","",DQ$6) -> 10 | DS11: =IF(DS$6="","",DS$6) -> 10 | DU11: =IF(DU$6="","",DU$6) -> 10 | DW11: =IF(DW$6="","",DW$6) -> 10 | EB11: =IF(DC11="","",SUM(DA11,DC11)) -> 10 | EC11: =IF(DD11="","",SUM(DB11,DD11)) | ED11: =IF(DE11="","",SUM(EB11,DE11)) -> 20 | EE11: =IF(DF11="","",SUM(EC11,DF11)) | EF11: =IF(DG11="","",SUM(ED11,DG11)) -> 30 | EG11: =IF(DH11="","",SUM(EE11,DH11)) | EH11: =IF(DI11="","",SUM(EF11,DI11)) -> 40 | EI11: =IF(DJ11="","",SUM(EG11,DJ11)) | EJ11: =IF(DK11="","",SUM(EH11,DK11)) -> 50 | EK11: =IF(DL11="","",SUM(EI11,DL11)) | ... EW11: =IF(DX11="","",SUM(EU11,DX11))
A12: 6 | D12: 806 | H12: =CW12 | I12: A6 | J12: B6 | K12: C6 | L12: 5 | M12: 5 | N12: 5 | O12: 5 | P12: 5 | Q12: 4 | R12: 1 | S12: 40 | T12: 10 | U12: 20 | V12: 65 | W12: 15 | X12: 20 | Y12: 5 | Z12: 5 | AA12: 5 | AB12: 5 | AC12: 5 | AD12: 4 | AE12: 1 | AF12: 40 | AG12: 10 | AH12: 20 | AI12: 65 | AJ12: 15 | AK12: 20 | AL12: s | AM12: 5 | AN12: 5 | AO12: 5 | AP12: 5 | AQ12: 5 | AR12: 4 | AS12: 1 | AT12: 50 | AU12: 20 | AV12: 80 | AW12: 20 | AX12: 5 | AY12: 5 | AZ12: 5 | BA12: 5 | BB12: 5 | BC12: 4 | BD12: 1 | BE12: 40 | BF12: 10 | BG12: 20 | BH12: 65 | BI12: 15 | BJ12: 20 | BK12: 5 | BL12: 5 | BM12: 5 | BN12: 5 | BO12: 3 | BP12: 2 | BQ12: 5 | BR12: 50 | BS12: 20 | BT12: 80 | BU12: 20 | BV12: 5 | BW12: 5 | BX12: 5 | BY12: 5 | BZ12: 5 | CA12: 4 | CB12: 1 | CC12: 50 | CD12: 20 | CE12: 80 | CF12: 20 | CG12: 20 | CH12: 20 | CI12: 20 | CJ12: 20 | CK12: 20 | CL12: 20 | CM12: 20 | CN12: 20 | CO12: 20 | CP12: 20 | CQ12: 20 | CR12: 20 | CS12: 20 | CT12: 20 | CU12: 20 | CW12: =IF(DOB!D12="","",DOB!D12) | CX12: SBC | DA12: =IF($D12="","",IF(DA$6="","",DA$6)) | DC12: =IF($D12="","",IF(DC$6="","",DC$6)) -> 10 | DE12: =IF($D12="","",IF(DE$6="","",DE$6)) -> 10 | DG12: =IF($D12="","",IF(DG$6="","",DG$6)) -> 10 | DI12: =IF(DI$6="","",DI$6) -> 10 | DK12: =IF(DK$6="","",DK$6) -> 10 | DM12: =IF(DM$6="","",DM$6) -> 10 | DO12: =IF(DO$6="","",DO$6) -> 10 | DQ12: =IF(DQ$6="","",DQ$6) -> 10 | DS12: =IF(DS$6="","",DS$6) -> 10 | DU12: =IF(DU$6="","",DU$6) -> 10 | DW12: =IF(DW$6="","",DW$6) -> 10 | EB12: =IF(DC12="","",SUM(DA12,DC12)) -> 10 | EC12: =IF(DD12="","",SUM(DB12,DD12)) | ED12: =IF(DE12="","",SUM(EB12,DE12)) -> 20 | EE12: =IF(DF12="","",SUM(EC12,DF12)) | EF12: =IF(DG12="","",SUM(ED12,DG12)) -> 30 | EG12: =IF(DH12="","",SUM(EE12,DH12)) | EH12: =IF(DI12="","",SUM(EF12,DI12)) -> 40 | EI12: =IF(DJ12="","",SUM(EG12,DJ12)) | EJ12: =IF(DK12="","",SUM(EH12,DK12)) -> 50 | EK12: =IF(DL12="","",SUM(EI12,DL12)) | ... EW12: =IF(DX12="","",SUM(EU12,DX12))
A13: 7 | D13: 807 | H13: =CW13 | I13: A7 | J13: B7 | K13: C7 | L13: 5 | M13: 5 | N13: 5 | O13: 5 | P13: 5 | Q13: 4 | R13: 1 | S13: 40 | T13: 10 | U13: 20 | V13: 65 | W13: 15 | X13: 20 | Y13: 5 | Z13: 5 | AA13: 5 | AB13: 5 | AC13: 5 | AD13: 4 | AE13: 1 | AF13: 40 | AG13: 10 | AH13: 20 | AI13: 65 | AJ13: 15 | AK13: 20 | AL13: s | AM13: 5 | AN13: 5 | AO13: 5 | AP13: 5 | AQ13: 5 | AR13: 4 | AS13: 1 | AT13: 50 | AU13: 20 | AV13: 80 | AW13: 20 | AX13: 5 | AY13: 5 | AZ13: 5 | BA13: 5 | BB13: 5 | BC13: 4 | BD13: 1 | BE13: 40 | BF13: 10 | BG13: 20 | BH13: 65 | BI13: 15 | BJ13: 20 | BK13: 5 | BL13: 5 | BM13: 5 | BN13: 5 | BO13: 3 | BP13: 2 | BQ13: 5 | BR13: 50 | BS13: 20 | BT13: 80 | BU13: 20 | BV13: 5 | BW13: 5 | BX13: 5 | BY13: 5 | BZ13: 5 | CA13: 4 | CB13: 1 | CC13: 50 | CD13: 20 | CE13: 80 | CF13: 20 | CG13: 20 | CH13: 20 | CI13: 20 | CJ13: 20 | CK13: 20 | CL13: 20 | CM13: 20 | CN13: 20 | CO13: 20 | CP13: 20 | CQ13: 20 | CR13: 20 | CS13: 20 | CT13: 20 | CU13: 20 | CW13: =IF(DOB!D13="","",DOB!D13) | CX13: GEN | DA13: =IF($D13="","",IF(DA$6="","",DA$6)) | DC13: =IF($D13="","",IF(DC$6="","",DC$6)) -> 10 | DE13: =IF($D13="","",IF(DE$6="","",DE$6)) -> 10 | DG13: =IF($D13="","",IF(DG$6="","",DG$6)) -> 10 | DI13: =IF(DI$6="","",DI$6) -> 10 | DK13: =IF(DK$6="","",DK$6) -> 10 | DM13: =IF(DM$6="","",DM$6) -> 10 | DO13: =IF(DO$6="","",DO$6) -> 10 | DQ13: =IF(DQ$6="","",DQ$6) -> 10 | DS13: =IF(DS$6="","",DS$6) -> 10 | DU13: =IF(DU$6="","",DU$6) -> 10 | DW13: =IF(DW$6="","",DW$6) -> 10 | EB13: =IF(DC13="","",SUM(DA13,DC13)) -> 10 | EC13: =IF(DD13="","",SUM(DB13,DD13)) | ED13: =IF(DE13="","",SUM(EB13,DE13)) -> 20 | EE13: =IF(DF13="","",SUM(EC13,DF13)) | EF13: =IF(DG13="","",SUM(ED13,DG13)) -> 30 | EG13: =IF(DH13="","",SUM(EE13,DH13)) | EH13: =IF(DI13="","",SUM(EF13,DI13)) -> 40 | EI13: =IF(DJ13="","",SUM(EG13,DJ13)) | EJ13: =IF(DK13="","",SUM(EH13,DK13)) -> 50 | EK13: =IF(DL13="","",SUM(EI13,DL13)) | ... EW13: =IF(DX13="","",SUM(EU13,DX13))
A14: 8 | D14: 808 | H14: =CW14 | I14: A8 | J14: B8 | K14: C8 | L14: 5 | M14: 5 | N14: 5 | O14: 5 | P14: 5 | Q14: 4 | R14: 1 | S14: 40 | T14: 10 | U14: 20 | V14: 65 | W14: 15 | X14: 20 | Y14: 5 | Z14: 5 | AA14: 5 | AB14: 5 | AC14: 5 | AD14: 4 | AE14: 1 | AF14: 40 | AG14: 10 | AH14: 20 | AI14: 65 | AJ14: 15 | AK14: 20 | AL14: s | AM14: 5 | AN14: 5 | AO14: 5 | AP14: 5 | AQ14: 5 | AR14: 4 | AS14: 1 | AT14: 50 | AU14: 20 | AV14: 80 | AW14: 20 | AX14: 5 | AY14: 5 | AZ14: 5 | BA14: 5 | BB14: 5 | BC14: 4 | BD14: 1 | BE14: 40 | BF14: 10 | BG14: 20 | BH14: 65 | BI14: 15 | BJ14: 20 | BK14: 5 | BL14: 5 | BM14: 5 | BN14: 5 | BO14: 3 | BP14: 2 | BQ14: 5 | BR14: 50 | BS14: 20 | BT14: 80 | BU14: 20 | BV14: 5 | BW14: 5 | BX14: 5 | BY14: 5 | BZ14: 5 | CA14: 4 | CB14: 1 | CC14: 50 | CD14: 20 | CE14: 80 | CF14: 20 | CG14: 20 | CH14: 20 | CI14: 20 | CJ14: 20 | CK14: 20 | CL14: 20 | CM14: 20 | CN14: 20 | CO14: 20 | CP14: 20 | CQ14: 20 | CR14: 20 | CS14: 20 | CT14: 20 | CU14: 20 | CW14: =IF(DOB!D14="","",DOB!D14) | CX14: MIN | DA14: 0 | DC14: =IF($D14="","",IF(DC$6="","",DC$6)) -> 10 | DE14: =IF($D14="","",IF(DE$6="","",DE$6)) -> 10 | DG14: =IF($D14="","",IF(DG$6="","",DG$6)) -> 10 | DI14: =IF(DI$6="","",DI$6) -> 10 | DK14: =IF(DK$6="","",DK$6) -> 10 | DM14: =IF(DM$6="","",DM$6) -> 10 | DO14: =IF(DO$6="","",DO$6) -> 10 | DQ14: =IF(DQ$6="","",DQ$6) -> 10 | DS14: =IF(DS$6="","",DS$6) -> 10 | DU14: =IF(DU$6="","",DU$6) -> 10 | DW14: =IF(DW$6="","",DW$6) -> 10 | EB14: =IF(DC14="","",SUM(DA14,DC14)) -> 10 | EC14: =IF(DD14="","",SUM(DB14,DD14)) | ED14: =IF(DE14="","",SUM(EB14,DE14)) -> 20 | EE14: =IF(DF14="","",SUM(EC14,DF14)) | EF14: =IF(DG14="","",SUM(ED14,DG14)) -> 30 | EG14: =IF(DH14="","",SUM(EE14,DH14)) | EH14: =IF(DI14="","",SUM(EF14,DI14)) -> 40 | EI14: =IF(DJ14="","",SUM(EG14,DJ14)) | EJ14: =IF(DK14="","",SUM(EH14,DK14)) -> 50 | EK14: =IF(DL14="","",SUM(EI14,DL14)) | ... EW14: =IF(DX14="","",SUM(EU14,DX14))
A15: 9 | D15: 809 | H15: =CW15 | I15: A9 | J15: B9 | K15: C9 | L15: 5 | M15: 5 | N15: 5 | O15: 5 | P15: 5 | Q15: 4 | R15: 1 | S15: 40 | T15: 10 | U15: 20 | V15: 65 | W15: 15 | X15: 20 | Y15: 5 | Z15: 5 | AA15: 5 | AB15: 5 | AC15: 5 | AD15: 4 | AE15: 1 | AF15: 40 | AG15: 10 | AH15: 20 | AI15: 65 | AJ15: 15 | AK15: 20 | AL15: s | AM15: 5 | AN15: 5 | AO15: 5 | AP15: 5 | AQ15: 5 | AR15: 4 | AS15: 1 | AT15: 50 | AU15: 20 | AV15: 80 | AW15: 20 | AX15: 5 | AY15: 5 | AZ15: 5 | BA15: 5 | BB15: 5 | BC15: 4 | BD15: 1 | BE15: 40 | BF15: 10 | BG15: 20 | BH15: 65 | BI15: 15 | BJ15: 20 | BK15: 5 | BL15: 5 | BM15: 5 | BN15: 5 | BO15: 3 | BP15: 2 | BQ15: 5 | BR15: 50 | BS15: 20 | BT15: 80 | BU15: 20 | BV15: 5 | BW15: 5 | BX15: 5 | BY15: 5 | BZ15: 5 | CA15: 4 | CB15: 1 | CC15: 50 | CD15: 20 | CE15: 80 | CF15: 20 | CG15: 20 | CH15: 20 | CI15: 20 | CJ15: 20 | CK15: 20 | CL15: 20 | CM15: 20 | CN15: 20 | CO15: 20 | CP15: 20 | CQ15: 20 | CR15: 20 | CS15: 20 | CT15: 20 | CU15: 20 | CW15: =IF(DOB!D15="","",DOB!D15) | DA15: =IF($D15="","",IF(DA$6="","",DA$6)) | DC15: =IF($D15="","",IF(DC$6="","",DC$6)) -> 10 | DE15: =IF($D15="","",IF(DE$6="","",DE$6)) -> 10 | DG15: =IF($D15="","",IF(DG$6="","",DG$6)) -> 10 | DI15: =IF(DI$6="","",DI$6) -> 10 | DK15: =IF(DK$6="","",DK$6) -> 10 | DM15: =IF(DM$6="","",DM$6) -> 10 | DO15: =IF(DO$6="","",DO$6) -> 10 | DQ15: =IF(DQ$6="","",DQ$6) -> 10 | DS15: =IF(DS$6="","",DS$6) -> 10 | DU15: =IF(DU$6="","",DU$6) -> 10 | DW15: =IF(DW$6="","",DW$6) -> 10 | EB15: =IF(DC15="","",SUM(DA15,DC15)) -> 10 | EC15: =IF(DD15="","",SUM(DB15,DD15)) | ED15: =IF(DE15="","",SUM(EB15,DE15)) -> 20 | EE15: =IF(DF15="","",SUM(EC15,DF15)) | EF15: =IF(DG15="","",SUM(ED15,DG15)) -> 30 | EG15: =IF(DH15="","",SUM(EE15,DH15)) | EH15: =IF(DI15="","",SUM(EF15,DI15)) -> 40 | EI15: =IF(DJ15="","",SUM(EG15,DJ15)) | EJ15: =IF(DK15="","",SUM(EH15,DK15)) -> 50 | EK15: =IF(DL15="","",SUM(EI15,DL15)) | ... EW15: =IF(DX15="","",SUM(EU15,DX15))
A16: 10 | D16: 810 | H16: =CW16 | I16: A10 | J16: B10 | K16: C10 | L16: 5 | M16: 5 | N16: 5 | O16: 5 | P16: 5 | Q16: 4 | R16: 1 | S16: 40 | T16: 10 | U16: 20 | V16: 65 | W16: 15 | X16: 20 | Y16: 5 | Z16: 5 | AA16: 5 | AB16: 5 | AC16: 5 | AD16: 4 | AE16: 1 | AF16: 40 | AG16: 10 | AH16: 20 | AI16: 65 | AJ16: 15 | AK16: 20 | AL16: s | AM16: 5 | AN16: 5 | AO16: 5 | AP16: 5 | AQ16: 5 | AR16: 4 | AS16: 1 | AT16: 50 | AU16: 20 | AV16: 80 | AW16: 20 | AX16: 5 | AY16: 5 | AZ16: 5 | BA16: 5 | BB16: 5 | BC16: 4 | BD16: 1 | BE16: 40 | BF16: 10 | BG16: 20 | BH16: 65 | BI16: 15 | BJ16: 20 | BK16: 5 | BL16: 5 | BM16: 5 | BN16: 5 | BO16: 3 | BP16: 2 | BQ16: 5 | BR16: 50 | BS16: 20 | BT16: 80 | BU16: 20 | BV16: 5 | BW16: 5 | BX16: 5 | BY16: 5 | BZ16: 5 | CA16: 4 | CB16: 1 | CC16: 50 | CD16: 20 | CE16: 80 | CF16: 20 | CG16: 20 | CH16: 20 | CI16: 20 | CJ16: 20 | CK16: 20 | CL16: 20 | CM16: 20 | CN16: 20 | CO16: 20 | CP16: 20 | CQ16: 20 | CR16: 20 | CS16: 20 | CT16: 20 | CU16: 20 | CW16: =IF(DOB!D16="","",DOB!D16) | DA16: 0 | DC16: =IF($D16="","",IF(DC$6="","",DC$6)) -> 10 | DE16: =IF($D16="","",IF(DE$6="","",DE$6)) -> 10 | DG16: =IF($D16="","",IF(DG$6="","",DG$6)) -> 10 | DI16: =IF(DI$6="","",DI$6) -> 10 | DK16: =IF(DK$6="","",DK$6) -> 10 | DM16: =IF(DM$6="","",DM$6) -> 10 | DO16: =IF(DO$6="","",DO$6) -> 10 | DQ16: =IF(DQ$6="","",DQ$6) -> 10 | DS16: =IF(DS$6="","",DS$6) -> 10 | DU16: =IF(DU$6="","",DU$6) -> 10 | DW16: =IF(DW$6="","",DW$6) -> 10 | EB16: =IF(DC16="","",SUM(DA16,DC16)) -> 10 | EC16: =IF(DD16="","",SUM(DB16,DD16)) | ED16: =IF(DE16="","",SUM(EB16,DE16)) -> 20 | EE16: =IF(DF16="","",SUM(EC16,DF16)) | EF16: =IF(DG16="","",SUM(ED16,DG16)) -> 30 | EG16: =IF(DH16="","",SUM(EE16,DH16)) | EH16: =IF(DI16="","",SUM(EF16,DI16)) -> 40 | EI16: =IF(DJ16="","",SUM(EG16,DJ16)) | EJ16: =IF(DK16="","",SUM(EH16,DK16)) -> 50 | EK16: =IF(DL16="","",SUM(EI16,DL16)) | ... EW16: =IF(DX16="","",SUM(EU16,DX16))
A17: 11 | D17: 811 | H17: =CW17 | I17: A11 | J17: B11 | K17: C11 | L17: 5 | M17: 5 | N17: 5 | O17: 5 | P17: 5 | Q17: 4 | R17: 1 | S17: 40 | T17: 10 | U17: 20 | V17: 65 | W17: 15 | X17: 20 | Y17: 5 | Z17: 5 | AA17: 5 | AB17: 5 | AC17: 5 | AD17: 4 | AE17: 1 | AF17: 40 | AG17: 10 | AH17: 20 | AI17: 65 | AJ17: 15 | AK17: 20 | AL17: s | AM17: 5 | AN17: 5 | AO17: 5 | AP17: 5 | AQ17: 5 | AR17: 4 | AS17: 1 | AT17: 50 | AU17: 20 | AV17: 80 | AW17: 20 | AX17: 5 | AY17: 5 | AZ17: 5 | BA17: 5 | BB17: 5 | BC17: 4 | BD17: 1 | BE17: 40 | BF17: 10 | BG17: 20 | BH17: 65 | BI17: 15 | BJ17: 20 | BK17: 5 | BL17: 5 | BM17: 5 | BN17: 5 | BO17: 3 | BP17: 2 | BQ17: 5 | BR17: 50 | BS17: 20 | BT17: 80 | BU17: 20 | BV17: 5 | BW17: 5 | BX17: 5 | BY17: 5 | BZ17: 5 | CA17: 4 | CB17: 1 | CC17: 50 | CD17: 20 | CE17: 80 | CF17: 20 | CG17: 20 | CH17: 20 | CI17: 20 | CJ17: 20 | CK17: 20 | CL17: 20 | CM17: 20 | CN17: 20 | CO17: 20 | CP17: 20 | CQ17: 20 | CR17: 20 | CS17: 20 | CT17: 20 | CU17: 20 | CW17: =IF(DOB!D17="","",DOB!D17) | CX17: B | DA17: =IF($D17="","",IF(DA$6="","",DA$6)) | DC17: =IF($D17="","",IF(DC$6="","",DC$6)) -> 10 | DE17: =IF($D17="","",IF(DE$6="","",DE$6)) -> 10 | DG17: =IF($D17="","",IF(DG$6="","",DG$6)) -> 10 | DI17: =IF(DI$6="","",DI$6) -> 10 | DK17: =IF(DK$6="","",DK$6) -> 10 | DM17: =IF(DM$6="","",DM$6) -> 10 | DO17: =IF(DO$6="","",DO$6) -> 10 | DQ17: =IF(DQ$6="","",DQ$6) -> 10 | DS17: =IF(DS$6="","",DS$6) -> 10 | DU17: =IF(DU$6="","",DU$6) -> 10 | DW17: =IF(DW$6="","",DW$6) -> 10 | EB17: =IF(DC17="","",SUM(DA17,DC17)) -> 10 | EC17: =IF(DD17="","",SUM(DB17,DD17)) | ED17: =IF(DE17="","",SUM(EB17,DE17)) -> 20 | EE17: =IF(DF17="","",SUM(EC17,DF17)) | EF17: =IF(DG17="","",SUM(ED17,DG17)) -> 30 | EG17: =IF(DH17="","",SUM(EE17,DH17)) | EH17: =IF(DI17="","",SUM(EF17,DI17)) -> 40 | EI17: =IF(DJ17="","",SUM(EG17,DJ17)) | EJ17: =IF(DK17="","",SUM(EH17,DK17)) -> 50 | EK17: =IF(DL17="","",SUM(EI17,DL17)) | ... EW17: =IF(DX17="","",SUM(EU17,DX17))
A18: 12 | D18: 812 | H18: =CW18 | I18: A12 | J18: B12 | K18: C12 | L18: 5 | M18: 5 | N18: 5 | O18: 5 | P18: 5 | Q18: 4 | R18: 1 | S18: 40 | T18: 10 | U18: 20 | V18: 65 | W18: 15 | X18: 20 | Y18: 5 | Z18: 5 | AA18: 5 | AB18: 5 | AC18: 5 | AD18: 4 | AE18: 1 | AF18: 40 | AG18: 10 | AH18: 20 | AI18: 65 | AJ18: 15 | AK18: 20 | AL18: s | AM18: 5 | AN18: 5 | AO18: 5 | AP18: 5 | AQ18: 5 | AR18: 4 | AS18: 1 | AT18: 50 | AU18: 20 | AV18: 80 | AW18: 20 | AX18: 5 | AY18: 5 | AZ18: 5 | BA18: 5 | BB18: 5 | BC18: 4 | BD18: 1 | BE18: 40 | BF18: 10 | BG18: 20 | BH18: 65 | BI18: 15 | BJ18: 20 | BK18: 5 | BL18: 5 | BM18: 5 | BN18: 5 | BO18: 3 | BP18: 2 | BQ18: 5 | BR18: 50 | BS18: 20 | BT18: 80 | BU18: 20 | BV18: 5 | BW18: 5 | BX18: 5 | BY18: 5 | BZ18: 5 | CA18: 4 | CB18: 1 | CC18: 50 | CD18: 20 | CE18: 80 | CF18: 20 | CG18: 20 | CH18: 20 | CI18: 20 | CJ18: 20 | CK18: 20 | CL18: 20 | CM18: 20 | CN18: 20 | CO18: 20 | CP18: 20 | CQ18: 20 | CR18: 20 | CS18: 20 | CT18: 20 | CU18: 20 | CW18: =IF(DOB!D18="","",DOB!D18) | CX18: G | DA18: =IF($D18="","",IF(DA$6="","",DA$6)) | DC18: =IF($D18="","",IF(DC$6="","",DC$6)) -> 10 | DE18: =IF($D18="","",IF(DE$6="","",DE$6)) -> 10 | DG18: =IF($D18="","",IF(DG$6="","",DG$6)) -> 10 | DI18: =IF(DI$6="","",DI$6) -> 10 | DK18: =IF(DK$6="","",DK$6) -> 10 | DM18: =IF(DM$6="","",DM$6) -> 10 | DO18: =IF(DO$6="","",DO$6) -> 10 | DQ18: =IF(DQ$6="","",DQ$6) -> 10 | DS18: =IF(DS$6="","",DS$6) -> 10 | DU18: =IF(DU$6="","",DU$6) -> 10 | DW18: =IF(DW$6="","",DW$6) -> 10 | EB18: =IF(DC18="","",SUM(DA18,DC18)) -> 10 | EC18: =IF(DD18="","",SUM(DB18,DD18)) | ED18: =IF(DE18="","",SUM(EB18,DE18)) -> 20 | EE18: =IF(DF18="","",SUM(EC18,DF18)) | EF18: =IF(DG18="","",SUM(ED18,DG18)) -> 30 | EG18: =IF(DH18="","",SUM(EE18,DH18)) | EH18: =IF(DI18="","",SUM(EF18,DI18)) -> 40 | EI18: =IF(DJ18="","",SUM(EG18,DJ18)) | EJ18: =IF(DK18="","",SUM(EH18,DK18)) -> 50 | EK18: =IF(DL18="","",SUM(EI18,DL18)) | ... EW18: =IF(DX18="","",SUM(EU18,DX18))
A19: 13 | D19: 813 | H19: =CW19 | I19: A13 | J19: B13 | K19: C13 | L19: 5 | M19: 5 | N19: 5 | O19: 5 | P19: 5 | Q19: 4 | R19: 1 | S19: 40 | T19: 10 | U19: 20 | V19: 65 | W19: 15 | X19: 20 | Y19: 5 | Z19: 5 | AA19: 5 | AB19: 5 | AC19: 5 | AD19: 4 | AE19: 1 | AF19: 40 | AG19: 10 | AH19: 20 | AI19: 65 | AJ19: 15 | AK19: 20 | AL19: s | AM19: 5 | AN19: 5 | AO19: 5 | AP19: 5 | AQ19: 5 | AR19: 4 | AS19: 1 | AT19: 50 | AU19: 20 | AV19: 80 | AW19: 20 | AX19: 5 | AY19: 5 | AZ19: 5 | BA19: 5 | BB19: 5 | BC19: 4 | BD19: 1 | BE19: 40 | BF19: 10 | BG19: 20 | BH19: 65 | BI19: 15 | BJ19: 20 | BK19: 5 | BL19: 5 | BM19: 5 | BN19: 5 | BO19: 3 | BP19: 2 | BQ19: 5 | BR19: 50 | BS19: 20 | BT19: 80 | BU19: 20 | BV19: 5 | BW19: 5 | BX19: 5 | BY19: 5 | BZ19: 5 | CA19: 4 | CB19: 1 | CC19: 50 | CD19: 20 | CE19: 80 | CF19: 20 | CG19: 20 | CH19: 20 | CI19: 20 | CJ19: 20 | CK19: 20 | CL19: 20 | CM19: 20 | CN19: 20 | CO19: 20 | CP19: 20 | CQ19: 20 | CR19: 20 | CS19: 20 | CT19: 20 | CU19: 20 | CW19: =IF(DOB!D19="","",DOB!D19) | DA19: =IF($D19="","",IF(DA$6="","",DA$6)) | DC19: =IF($D19="","",IF(DC$6="","",DC$6)) -> 10 | DE19: =IF($D19="","",IF(DE$6="","",DE$6)) -> 10 | DG19: =IF($D19="","",IF(DG$6="","",DG$6)) -> 10 | DI19: =IF(DI$6="","",DI$6) -> 10 | DK19: =IF(DK$6="","",DK$6) -> 10 | DM19: =IF(DM$6="","",DM$6) -> 10 | DO19: =IF(DO$6="","",DO$6) -> 10 | DQ19: =IF(DQ$6="","",DQ$6) -> 10 | DS19: =IF(DS$6="","",DS$6) -> 10 | DU19: =IF(DU$6="","",DU$6) -> 10 | DW19: =IF(DW$6="","",DW$6) -> 10 | EB19: =IF(DC19="","",SUM(DA19,DC19)) -> 10 | EC19: =IF(DD19="","",SUM(DB19,DD19)) | ED19: =IF(DE19="","",SUM(EB19,DE19)) -> 20 | EE19: =IF(DF19="","",SUM(EC19,DF19)) | EF19: =IF(DG19="","",SUM(ED19,DG19)) -> 30 | EG19: =IF(DH19="","",SUM(EE19,DH19)) | EH19: =IF(DI19="","",SUM(EF19,DI19)) -> 40 | EI19: =IF(DJ19="","",SUM(EG19,DJ19)) | EJ19: =IF(DK19="","",SUM(EH19,DK19)) -> 50 | EK19: =IF(DL19="","",SUM(EI19,DL19)) | ... EW19: =IF(DX19="","",SUM(EU19,DX19))
A20: 14 | D20: 814 | H20: =CW20 | I20: A14 | J20: B14 | K20: C14 | L20: 5 | M20: 5 | N20: 5 | O20: 5 | P20: 5 | Q20: 4 | R20: 1 | S20: 40 | T20: 10 | U20: 20 | V20: 65 | W20: 15 | X20: 20 | Y20: 5 | Z20: 5 | AA20: 5 | AB20: 5 | AC20: 5 | AD20: 4 | AE20: 1 | AF20: 40 | AG20: 10 | AH20: 20 | AI20: 65 | AJ20: 15 | AK20: 20 | AL20: s | AM20: 5 | AN20: 5 | AO20: 5 | AP20: 5 | AQ20: 5 | AR20: 4 | AS20: 1 | AT20: 50 | AU20: 20 | AV20: 80 | AW20: 20 | AX20: 5 | AY20: 5 | AZ20: 5 | BA20: 5 | BB20: 5 | BC20: 4 | BD20: 1 | BE20: 40 | BF20: 10 | BG20: 20 | BH20: 65 | BI20: 15 | BJ20: 20 | BK20: 5 | BL20: 5 | BM20: 5 | BN20: 5 | BO20: 3 | BP20: 2 | BQ20: 5 | BR20: 50 | BS20: 20 | BT20: 80 | BU20: 20 | BV20: 5 | BW20: 5 | BX20: 5 | BY20: 5 | BZ20: 5 | CA20: 4 | CB20: 1 | CC20: 50 | CD20: 20 | CE20: 80 | CF20: 20 | CG20: 20 | CH20: 20 | CI20: 20 | CJ20: 20 | CK20: 20 | CL20: 20 | CM20: 20 | CN20: 20 | CO20: 20 | CP20: 20 | CQ20: 20 | CR20: 20 | CS20: 20 | CT20: 20 | CU20: 20 | CW20: =IF(DOB!D20="","",DOB!D20) | CX20: s | DA20: =IF($D20="","",IF(DA$6="","",DA$6)) | DC20: =IF($D20="","",IF(DC$6="","",DC$6)) -> 10 | DE20: =IF($D20="","",IF(DE$6="","",DE$6)) -> 10 | DG20: =IF($D20="","",IF(DG$6="","",DG$6)) -> 10 | DI20: =IF(DI$6="","",DI$6) -> 10 | DK20: =IF(DK$6="","",DK$6) -> 10 | DM20: =IF(DM$6="","",DM$6) -> 10 | DO20: =IF(DO$6="","",DO$6) -> 10 | DQ20: =IF(DQ$6="","",DQ$6) -> 10 | DS20: =IF(DS$6="","",DS$6) -> 10 | DU20: =IF(DU$6="","",DU$6) -> 10 | DW20: =IF(DW$6="","",DW$6) -> 10 | EB20: =IF(DC20="","",SUM(DA20,DC20)) -> 10 | EC20: =IF(DD20="","",SUM(DB20,DD20)) | ED20: =IF(DE20="","",SUM(EB20,DE20)) -> 20 | EE20: =IF(DF20="","",SUM(EC20,DF20)) | EF20: =IF(DG20="","",SUM(ED20,DG20)) -> 30 | EG20: =IF(DH20="","",SUM(EE20,DH20)) | EH20: =IF(DI20="","",SUM(EF20,DI20)) -> 40 | EI20: =IF(DJ20="","",SUM(EG20,DJ20)) | EJ20: =IF(DK20="","",SUM(EH20,DK20)) -> 50 | EK20: =IF(DL20="","",SUM(EI20,DL20)) | ... EW20: =IF(DX20="","",SUM(EU20,DX20))
A21: 15 | D21: 815 | H21: =CW21 | I21: A15 | J21: B15 | K21: C15 | L21: 5 | M21: 5 | N21: 5 | O21: 5 | P21: 5 | Q21: 4 | R21: 1 | S21: 40 | T21: 10 | U21: 20 | V21: 65 | W21: 15 | X21: 20 | Y21: 5 | Z21: 5 | AA21: 5 | AB21: 5 | AC21: 5 | AD21: 4 | AE21: 1 | AF21: 40 | AG21: 10 | AH21: 20 | AI21: 65 | AJ21: 15 | AK21: 20 | AL21: s | AM21: 5 | AN21: 5 | AO21: 5 | AP21: 5 | AQ21: 5 | AR21: 4 | AS21: 1 | AT21: 50 | AU21: 20 | AV21: 80 | AW21: 20 | AX21: 5 | AY21: 5 | AZ21: 5 | BA21: 5 | BB21: 5 | BC21: 4 | BD21: 1 | BE21: 40 | BF21: 10 | BG21: 20 | BH21: 65 | BI21: 15 | BJ21: 20 | BK21: 5 | BL21: 5 | BM21: 5 | BN21: 5 | BO21: 3 | BP21: 2 | BQ21: 5 | BR21: 50 | BS21: 20 | BT21: 80 | BU21: 20 | BV21: 5 | BW21: 5 | BX21: 5 | BY21: 5 | BZ21: 5 | CA21: 4 | CB21: 1 | CC21: 50 | CD21: 20 | CE21: 80 | CF21: 20 | CG21: 20 | CH21: 20 | CI21: 20 | CJ21: 20 | CK21: 20 | CL21: 20 | CM21: 20 | CN21: 20 | CO21: 20 | CP21: 20 | CQ21: 20 | CR21: 20 | CS21: 20 | CT21: 20 | CU21: 20 | CW21: =IF(DOB!D21="","",DOB!D21) | CX21: u | DA21: =IF($D21="","",IF(DA$6="","",DA$6)) | DC21: =IF($D21="","",IF(DC$6="","",DC$6)) -> 10 | DE21: =IF($D21="","",IF(DE$6="","",DE$6)) -> 10 | DG21: =IF($D21="","",IF(DG$6="","",DG$6)) -> 10 | DI21: =IF(DI$6="","",DI$6) -> 10 | DK21: =IF(DK$6="","",DK$6) -> 10 | DM21: =IF(DM$6="","",DM$6) -> 10 | DO21: =IF(DO$6="","",DO$6) -> 10 | DQ21: =IF(DQ$6="","",DQ$6) -> 10 | DS21: =IF(DS$6="","",DS$6) -> 10 | DU21: =IF(DU$6="","",DU$6) -> 10 | DW21: =IF(DW$6="","",DW$6) -> 10 | EB21: =IF(DC21="","",SUM(DA21,DC21)) -> 10 | EC21: =IF(DD21="","",SUM(DB21,DD21)) | ED21: =IF(DE21="","",SUM(EB21,DE21)) -> 20 | EE21: =IF(DF21="","",SUM(EC21,DF21)) | EF21: =IF(DG21="","",SUM(ED21,DG21)) -> 30 | EG21: =IF(DH21="","",SUM(EE21,DH21)) | EH21: =IF(DI21="","",SUM(EF21,DI21)) -> 40 | EI21: =IF(DJ21="","",SUM(EG21,DJ21)) | EJ21: =IF(DK21="","",SUM(EH21,DK21)) -> 50 | EK21: =IF(DL21="","",SUM(EI21,DL21)) | ... EW21: =IF(DX21="","",SUM(EU21,DX21))
A22: 16 | D22: 816 | H22: =CW22 | I22: A16 | J22: B16 | K22: C16 | L22: 5 | M22: 5 | N22: 5 | O22: 5 | P22: 5 | Q22: 4 | R22: 1 | S22: 40 | T22: 10 | U22: 20 | V22: 65 | W22: 15 | X22: 20 | Y22: 5 | Z22: 5 | AA22: 5 | AB22: 5 | AC22: 5 | AD22: 4 | AE22: 1 | AF22: 40 | AG22: 10 | AH22: 20 | AI22: 65 | AJ22: 15 | AK22: 20 | AL22: s | AM22: 5 | AN22: 5 | AO22: 5 | AP22: 5 | AQ22: 5 | AR22: 4 | AS22: 1 | AT22: 50 | AU22: 20 | AV22: 80 | AW22: 20 | AX22: 5 | AY22: 5 | AZ22: 5 | BA22: 5 | BB22: 5 | BC22: 4 | BD22: 1 | BE22: 40 | BF22: 10 | BG22: 20 | BH22: 65 | BI22: 15 | BJ22: 20 | BK22: 5 | BL22: 5 | BM22: 5 | BN22: 5 | BO22: 3 | BP22: 2 | BQ22: 5 | BR22: 50 | BS22: 20 | BT22: 80 | BU22: 20 | BV22: 5 | BW22: 5 | BX22: 5 | BY22: 5 | BZ22: 5 | CA22: 4 | CB22: 1 | CC22: 50 | CD22: 20 | CE22: 80 | CF22: 20 | CG22: 20 | CH22: 20 | CI22: 20 | CJ22: 20 | CK22: 20 | CL22: 20 | CM22: 20 | CN22: 20 | CO22: 20 | CP22: 20 | CQ22: 20 | CR22: 20 | CS22: 20 | CT22: 20 | CU22: 20 | CW22: =IF(DOB!D22="","",DOB!D22) | CX22: g | DA22: =IF($D22="","",IF(DA$6="","",DA$6)) | DC22: =IF($D22="","",IF(DC$6="","",DC$6)) -> 10 | DE22: =IF($D22="","",IF(DE$6="","",DE$6)) -> 10 | DG22: =IF($D22="","",IF(DG$6="","",DG$6)) -> 10 | DI22: =IF(DI$6="","",DI$6) -> 10 | DK22: =IF(DK$6="","",DK$6) -> 10 | DM22: =IF(DM$6="","",DM$6) -> 10 | DO22: =IF(DO$6="","",DO$6) -> 10 | DQ22: =IF(DQ$6="","",DQ$6) -> 10 | DS22: =IF(DS$6="","",DS$6) -> 10 | DU22: =IF(DU$6="","",DU$6) -> 10 | DW22: =IF(DW$6="","",DW$6) -> 10 | EB22: =IF(DC22="","",SUM(DA22,DC22)) -> 10 | EC22: =IF(DD22="","",SUM(DB22,DD22)) | ED22: =IF(DE22="","",SUM(EB22,DE22)) -> 20 | EE22: =IF(DF22="","",SUM(EC22,DF22)) | EF22: =IF(DG22="","",SUM(ED22,DG22)) -> 30 | EG22: =IF(DH22="","",SUM(EE22,DH22)) | EH22: =IF(DI22="","",SUM(EF22,DI22)) -> 40 | EI22: =IF(DJ22="","",SUM(EG22,DJ22)) | EJ22: =IF(DK22="","",SUM(EH22,DK22)) -> 50 | EK22: =IF(DL22="","",SUM(EI22,DL22)) | ... EW22: =IF(DX22="","",SUM(EU22,DX22))
A23: 17 | D23: 817 | H23: =CW23 | I23: A17 | J23: B17 | K23: C17 | L23: 5 | M23: 5 | N23: 5 | O23: 5 | P23: 5 | Q23: 4 | R23: 1 | S23: 40 | T23: 10 | U23: 20 | V23: 65 | W23: 15 | X23: 20 | Y23: 5 | Z23: 5 | AA23: 5 | AB23: 5 | AC23: 5 | AD23: 4 | AE23: 1 | AF23: 40 | AG23: 10 | AH23: 20 | AI23: 65 | AJ23: 15 | AK23: 20 | AL23: s | AM23: 5 | AN23: 5 | AO23: 5 | AP23: 5 | AQ23: 5 | AR23: 4 | AS23: 1 | AT23: 50 | AU23: 20 | AV23: 80 | AW23: 20 | AX23: 5 | AY23: 5 | AZ23: 5 | BA23: 5 | BB23: 5 | BC23: 4 | BD23: 1 | BE23: 40 | BF23: 10 | BG23: 20 | BH23: 65 | BI23: 15 | BJ23: 20 | BK23: 5 | BL23: 5 | BM23: 5 | BN23: 5 | BO23: 3 | BP23: 2 | BQ23: 5 | BR23: 50 | BS23: 20 | BT23: 80 | BU23: 20 | BV23: 5 | BW23: 5 | BX23: 5 | BY23: 5 | BZ23: 5 | CA23: 4 | CB23: 1 | CC23: 50 | CD23: 20 | CE23: 80 | CF23: 20 | CG23: 20 | CH23: 20 | CI23: 20 | CJ23: 20 | CK23: 20 | CL23: 20 | CM23: 20 | CN23: 20 | CO23: 20 | CP23: 20 | CQ23: 20 | CR23: 20 | CS23: 20 | CT23: 20 | CU23: 20 | CW23: =IF(DOB!D23="","",DOB!D23) | CX23: p | DA23: =IF($D23="","",IF(DA$6="","",DA$6)) | DC23: =IF($D23="","",IF(DC$6="","",DC$6)) -> 10 | DE23: =IF($D23="","",IF(DE$6="","",DE$6)) -> 10 | DG23: =IF($D23="","",IF(DG$6="","",DG$6)) -> 10 | DI23: =IF(DI$6="","",DI$6) -> 10 | DK23: =IF(DK$6="","",DK$6) -> 10 | DM23: =IF(DM$6="","",DM$6) -> 10 | DO23: =IF(DO$6="","",DO$6) -> 10 | DQ23: =IF(DQ$6="","",DQ$6) -> 10 | DS23: =IF(DS$6="","",DS$6) -> 10 | DU23: =IF(DU$6="","",DU$6) -> 10 | DW23: =IF(DW$6="","",DW$6) -> 10 | EB23: =IF(DC23="","",SUM(DA23,DC23)) -> 10 | EC23: =IF(DD23="","",SUM(DB23,DD23)) | ED23: =IF(DE23="","",SUM(EB23,DE23)) -> 20 | EE23: =IF(DF23="","",SUM(EC23,DF23)) | EF23: =IF(DG23="","",SUM(ED23,DG23)) -> 30 | EG23: =IF(DH23="","",SUM(EE23,DH23)) | EH23: =IF(DI23="","",SUM(EF23,DI23)) -> 40 | EI23: =IF(DJ23="","",SUM(EG23,DJ23)) | EJ23: =IF(DK23="","",SUM(EH23,DK23)) -> 50 | EK23: =IF(DL23="","",SUM(EI23,DL23)) | ... EW23: =IF(DX23="","",SUM(EU23,DX23))
A24: 18 | D24: 818 | H24: =CW24 | I24: A18 | J24: B18 | K24: C18 | L24: 5 | M24: 5 | N24: 5 | O24: 5 | P24: 5 | Q24: 4 | R24: 1 | S24: 40 | T24: 10 | U24: 20 | V24: 65 | W24: 15 | X24: 20 | Y24: 5 | Z24: 5 | AA24: 5 | AB24: 5 | AC24: 5 | AD24: 4 | AE24: 1 | AF24: 40 | AG24: 10 | AH24: 20 | AI24: 65 | AJ24: 15 | AK24: 20 | AL24: s | AM24: 5 | AN24: 5 | AO24: 5 | AP24: 5 | AQ24: 5 | AR24: 4 | AS24: 1 | AT24: 50 | AU24: 20 | AV24: 80 | AW24: 20 | AX24: 5 | AY24: 5 | AZ24: 5 | BA24: 5 | BB24: 5 | BC24: 4 | BD24: 1 | BE24: 40 | BF24: 10 | BG24: 20 | BH24: 65 | BI24: 15 | BJ24: 20 | BK24: 5 | BL24: 5 | BM24: 5 | BN24: 5 | BO24: 3 | BP24: 2 | BQ24: 5 | BR24: 50 | BS24: 20 | BT24: 80 | BU24: 20 | BV24: 5 | BW24: 5 | BX24: 5 | BY24: 5 | BZ24: 5 | CA24: 4 | CB24: 1 | CC24: 50 | CD24: 20 | CE24: 80 | CF24: 20 | CG24: 20 | CH24: 20 | CI24: 20 | CJ24: 20 | CK24: 20 | CL24: 20 | CM24: 20 | CN24: 20 | CO24: 20 | CP24: 20 | CQ24: 20 | CR24: 20 | CS24: 20 | CT24: 20 | CU24: 20 | CW24: =IF(DOB!D24="","",DOB!D24) | CX24: sd | DA24: =IF($D24="","",IF(DA$6="","",DA$6)) | DC24: =IF($D24="","",IF(DC$6="","",DC$6)) -> 10 | DE24: =IF($D24="","",IF(DE$6="","",DE$6)) -> 10 | DG24: =IF($D24="","",IF(DG$6="","",DG$6)) -> 10 | DI24: =IF(DI$6="","",DI$6) -> 10 | DK24: =IF(DK$6="","",DK$6) -> 10 | DM24: =IF(DM$6="","",DM$6) -> 10 | DO24: =IF(DO$6="","",DO$6) -> 10 | DQ24: =IF(DQ$6="","",DQ$6) -> 10 | DS24: =IF(DS$6="","",DS$6) -> 10 | DU24: =IF(DU$6="","",DU$6) -> 10 | DW24: =IF(DW$6="","",DW$6) -> 10 | EB24: =IF(DC24="","",SUM(DA24,DC24)) -> 10 | EC24: =IF(DD24="","",SUM(DB24,DD24)) | ED24: =IF(DE24="","",SUM(EB24,DE24)) -> 20 | EE24: =IF(DF24="","",SUM(EC24,DF24)) | EF24: =IF(DG24="","",SUM(ED24,DG24)) -> 30 | EG24: =IF(DH24="","",SUM(EE24,DH24)) | EH24: =IF(DI24="","",SUM(EF24,DI24)) -> 40 | EI24: =IF(DJ24="","",SUM(EG24,DJ24)) | EJ24: =IF(DK24="","",SUM(EH24,DK24)) -> 50 | EK24: =IF(DL24="","",SUM(EI24,DL24)) | ... EW24: =IF(DX24="","",SUM(EU24,DX24))
A25: 19 | D25: 819 | H25: =CW25 | I25: A19 | J25: B19 | K25: C19 | L25: 5 | M25: 5 | N25: 5 | O25: 5 | P25: 5 | Q25: 4 | R25: 1 | S25: 40 | T25: 10 | U25: 20 | V25: 65 | W25: 15 | X25: 20 | Y25: 5 | Z25: 5 | AA25: 5 | AB25: 5 | AC25: 5 | AD25: 4 | AE25: 1 | AF25: 40 | AG25: 10 | AH25: 20 | AI25: 65 | AJ25: 15 | AK25: 20 | AL25: s | AM25: 5 | AN25: 5 | AO25: 5 | AP25: 5 | AQ25: 5 | AR25: 4 | AS25: 1 | AT25: 50 | AU25: 20 | AV25: 80 | AW25: 20 | AX25: 5 | AY25: 5 | AZ25: 5 | BA25: 5 | BB25: 5 | BC25: 4 | BD25: 1 | BE25: 40 | BF25: 10 | BG25: 20 | BH25: 65 | BI25: 15 | BJ25: 20 | BK25: 5 | BL25: 5 | BM25: 5 | BN25: 5 | BO25: 3 | BP25: 2 | BQ25: 5 | BR25: 50 | BS25: 20 | BT25: 80 | BU25: 20 | BV25: 5 | BW25: 5 | BX25: 5 | BY25: 5 | BZ25: 5 | CA25: 4 | CB25: 1 | CC25: 50 | CD25: 20 | CE25: 80 | CF25: 20 | CG25: 20 | CH25: 20 | CI25: 20 | CJ25: 20 | CK25: 20 | CL25: 20 | CM25: 20 | CN25: 20 | CO25: 20 | CP25: 20 | CQ25: 20 | CR25: 20 | CS25: 20 | CT25: 20 | CU25: 20 | CW25: =IF(DOB!D25="","",DOB!D25) | DA25: =IF($D25="","",IF(DA$6="","",DA$6)) | DC25: =IF($D25="","",IF(DC$6="","",DC$6)) -> 10 | DE25: =IF($D25="","",IF(DE$6="","",DE$6)) -> 10 | DG25: =IF($D25="","",IF(DG$6="","",DG$6)) -> 10 | DI25: =IF(DI$6="","",DI$6) -> 10 | DK25: =IF(DK$6="","",DK$6) -> 10 | DM25: =IF(DM$6="","",DM$6) -> 10 | DO25: =IF(DO$6="","",DO$6) -> 10 | DQ25: =IF(DQ$6="","",DQ$6) -> 10 | DS25: =IF(DS$6="","",DS$6) -> 10 | DU25: =IF(DU$6="","",DU$6) -> 10 | DW25: =IF(DW$6="","",DW$6) -> 10 | EB25: =IF(DC25="","",SUM(DA25,DC25)) -> 10 | EC25: =IF(DD25="","",SUM(DB25,DD25)) | ED25: =IF(DE25="","",SUM(EB25,DE25)) -> 20 | EE25: =IF(DF25="","",SUM(EC25,DF25)) | EF25: =IF(DG25="","",SUM(ED25,DG25)) -> 30 | EG25: =IF(DH25="","",SUM(EE25,DH25)) | EH25: =IF(DI25="","",SUM(EF25,DI25)) -> 40 | EI25: =IF(DJ25="","",SUM(EG25,DJ25)) | EJ25: =IF(DK25="","",SUM(EH25,DK25)) -> 50 | EK25: =IF(DL25="","",SUM(EI25,DL25)) | ... EW25: =IF(DX25="","",SUM(EU25,DX25))
A26: 20 | D26: 820 | H26: =CW26 | I26: A20 | J26: B20 | K26: C20 | L26: 5 | M26: 5 | N26: 5 | O26: 5 | P26: 5 | Q26: 4 | R26: 1 | S26: 40 | T26: 10 | U26: 20 | V26: 65 | W26: 15 | X26: 20 | Y26: 5 | Z26: 5 | AA26: 5 | AB26: 5 | AC26: 5 | AD26: 4 | AE26: 1 | AF26: 40 | AG26: 10 | AH26: 20 | AI26: 65 | AJ26: 15 | AK26: 20 | AL26: s | AM26: 5 | AN26: 5 | AO26: 5 | AP26: 5 | AQ26: 5 | AR26: 4 | AS26: 1 | AT26: 50 | AU26: 20 | AV26: 80 | AW26: 20 | AX26: 5 | AY26: 5 | AZ26: 5 | BA26: 5 | BB26: 5 | BC26: 4 | BD26: 1 | BE26: 40 | BF26: 10 | BG26: 20 | BH26: 65 | BI26: 15 | BJ26: 20 | BK26: 5 | BL26: 5 | BM26: 5 | BN26: 5 | BO26: 3 | BP26: 2 | BQ26: 5 | BR26: 50 | BS26: 20 | BT26: 80 | BU26: 20 | BV26: 5 | BW26: 5 | BX26: 5 | BY26: 5 | BZ26: 5 | CA26: 4 | CB26: 1 | CC26: 50 | CD26: 20 | CE26: 80 | CF26: 20 | CG26: 20 | CH26: 20 | CI26: 20 | CJ26: 20 | CK26: 20 | CL26: 20 | CM26: 20 | CN26: 20 | CO26: 20 | CP26: 20 | CQ26: 20 | CR26: 20 | CS26: 20 | CT26: 20 | CU26: 20 | CW26: =IF(DOB!D26="","",DOB!D26) | DA26: =IF($D26="","",IF(DA$6="","",DA$6)) | DC26: =IF($D26="","",IF(DC$6="","",DC$6)) -> 10 | DE26: =IF($D26="","",IF(DE$6="","",DE$6)) -> 10 | DG26: =IF($D26="","",IF(DG$6="","",DG$6)) -> 10 | DI26: =IF(DI$6="","",DI$6) -> 10 | DK26: =IF(DK$6="","",DK$6) -> 10 | DM26: =IF(DM$6="","",DM$6) -> 10 | DO26: =IF(DO$6="","",DO$6) -> 10 | DQ26: =IF(DQ$6="","",DQ$6) -> 10 | DS26: =IF(DS$6="","",DS$6) -> 10 | DU26: =IF(DU$6="","",DU$6) -> 10 | DW26: =IF(DW$6="","",DW$6) -> 10 | EB26: =IF(DC26="","",SUM(DA26,DC26)) -> 10 | EC26: =IF(DD26="","",SUM(DB26,DD26)) | ED26: =IF(DE26="","",SUM(EB26,DE26)) -> 20 | EE26: =IF(DF26="","",SUM(EC26,DF26)) | EF26: =IF(DG26="","",SUM(ED26,DG26)) -> 30 | EG26: =IF(DH26="","",SUM(EE26,DH26)) | EH26: =IF(DI26="","",SUM(EF26,DI26)) -> 40 | EI26: =IF(DJ26="","",SUM(EG26,DJ26)) | EJ26: =IF(DK26="","",SUM(EH26,DK26)) -> 50 | EK26: =IF(DL26="","",SUM(EI26,DL26)) | ... EW26: =IF(DX26="","",SUM(EU26,DX26))
A27: 21 | D27: 821 | H27: =CW27 | I27: A21 | J27: B21 | K27: C21 | L27: 5 | M27: 5 | N27: 5 | O27: 5 | P27: 5 | Q27: 4 | R27: 1 | S27: 40 | T27: 10 | U27: 20 | V27: 65 | W27: 15 | X27: 20 | Y27: 5 | Z27: 5 | AA27: 5 | AB27: 5 | AC27: 5 | AD27: 4 | AE27: 1 | AF27: 40 | AG27: 10 | AH27: 20 | AI27: 65 | AJ27: 15 | AK27: 20 | AL27: s | AM27: 5 | AN27: 5 | AO27: 5 | AP27: 5 | AQ27: 5 | AR27: 4 | AS27: 1 | AT27: 50 | AU27: 20 | AV27: 80 | AW27: 20 | AX27: 5 | AY27: 5 | AZ27: 5 | BA27: 5 | BB27: 5 | BC27: 4 | BD27: 1 | BE27: 40 | BF27: 10 | BG27: 20 | BH27: 65 | BI27: 15 | BJ27: 20 | BK27: 5 | BL27: 5 | BM27: 5 | BN27: 5 | BO27: 3 | BP27: 2 | BQ27: 5 | BR27: 50 | BS27: 20 | BT27: 80 | BU27: 20 | BV27: 5 | BW27: 5 | BX27: 5 | BY27: 5 | BZ27: 5 | CA27: 4 | CB27: 1 | CC27: 50 | CD27: 20 | CE27: 80 | CF27: 20 | CG27: 20 | CH27: 20 | CI27: 20 | CJ27: 20 | CK27: 20 | CL27: 20 | CM27: 20 | CN27: 20 | CO27: 20 | CP27: 20 | CQ27: 20 | CR27: 20 | CS27: 20 | CT27: 20 | CU27: 20 | CW27: =IF(DOB!D27="","",DOB!D27) | CX27: 8 | DA27: =IF($D27="","",IF(DA$6="","",DA$6)) | DC27: =IF($D27="","",IF(DC$6="","",DC$6)) -> 10 | DE27: =IF($D27="","",IF(DE$6="","",DE$6)) -> 10 | DG27: =IF($D27="","",IF(DG$6="","",DG$6)) -> 10 | DI27: =IF(DI$6="","",DI$6) -> 10 | DK27: =IF(DK$6="","",DK$6) -> 10 | DM27: =IF(DM$6="","",DM$6) -> 10 | DO27: =IF(DO$6="","",DO$6) -> 10 | DQ27: =IF(DQ$6="","",DQ$6) -> 10 | DS27: =IF(DS$6="","",DS$6) -> 10 | DU27: =IF(DU$6="","",DU$6) -> 10 | DW27: =IF(DW$6="","",DW$6) -> 10 | EB27: =IF(DC27="","",SUM(DA27,DC27)) -> 10 | EC27: =IF(DD27="","",SUM(DB27,DD27)) | ED27: =IF(DE27="","",SUM(EB27,DE27)) -> 20 | EE27: =IF(DF27="","",SUM(EC27,DF27)) | EF27: =IF(DG27="","",SUM(ED27,DG27)) -> 30 | EG27: =IF(DH27="","",SUM(EE27,DH27)) | EH27: =IF(DI27="","",SUM(EF27,DI27)) -> 40 | EI27: =IF(DJ27="","",SUM(EG27,DJ27)) | EJ27: =IF(DK27="","",SUM(EH27,DK27)) -> 50 | EK27: =IF(DL27="","",SUM(EI27,DL27)) | ... EW27: =IF(DX27="","",SUM(EU27,DX27))
A28: 22 | D28: 822 | H28: =CW28 | I28: A22 | J28: B22 | K28: C22 | L28: 5 | M28: 5 | N28: 5 | O28: 5 | P28: 5 | Q28: 4 | R28: 1 | S28: 40 | T28: 10 | U28: 20 | V28: 65 | W28: 15 | X28: 20 | Y28: 5 | Z28: 5 | AA28: 5 | AB28: 5 | AC28: 5 | AD28: 4 | AE28: 1 | AF28: 40 | AG28: 10 | AH28: 20 | AI28: 65 | AJ28: 15 | AK28: 20 | AL28: s | AM28: 5 | AN28: 5 | AO28: 5 | AP28: 5 | AQ28: 5 | AR28: 4 | AS28: 1 | AT28: 50 | AU28: 20 | AV28: 80 | AW28: 20 | AX28: 5 | AY28: 5 | AZ28: 5 | BA28: 5 | BB28: 5 | BC28: 4 | BD28: 1 | BE28: 40 | BF28: 10 | BG28: 20 | BH28: 65 | BI28: 15 | BJ28: 20 | BK28: 5 | BL28: 5 | BM28: 5 | BN28: 5 | BO28: 3 | BP28: 2 | BQ28: 5 | BR28: 50 | BS28: 20 | BT28: 80 | BU28: 20 | BV28: 5 | BW28: 5 | BX28: 5 | BY28: 5 | BZ28: 5 | CA28: 4 | CB28: 1 | CC28: 50 | CD28: 20 | CE28: 80 | CF28: 20 | CG28: 20 | CH28: 20 | CI28: 20 | CJ28: 20 | CK28: 20 | CL28: 20 | CM28: 20 | CN28: 20 | CO28: 20 | CP28: 20 | CQ28: 20 | CR28: 20 | CS28: 20 | CT28: 20 | CU28: 20 | CW28: =IF(DOB!D28="","",DOB!D28) | CX28: 7 | DA28: =IF($D28="","",IF(DA$6="","",DA$6)) | DC28: =IF($D28="","",IF(DC$6="","",DC$6)) -> 10 | DE28: =IF($D28="","",IF(DE$6="","",DE$6)) -> 10 | DG28: =IF($D28="","",IF(DG$6="","",DG$6)) -> 10 | DI28: =IF(DI$6="","",DI$6) -> 10 | DK28: =IF(DK$6="","",DK$6) -> 10 | DM28: =IF(DM$6="","",DM$6) -> 10 | DO28: =IF(DO$6="","",DO$6) -> 10 | DQ28: =IF(DQ$6="","",DQ$6) -> 10 | DS28: =IF(DS$6="","",DS$6) -> 10 | DU28: =IF(DU$6="","",DU$6) -> 10 | DW28: =IF(DW$6="","",DW$6) -> 10 | EB28: =IF(DC28="","",SUM(DA28,DC28)) -> 10 | EC28: =IF(DD28="","",SUM(DB28,DD28)) | ED28: =IF(DE28="","",SUM(EB28,DE28)) -> 20 | EE28: =IF(DF28="","",SUM(EC28,DF28)) | EF28: =IF(DG28="","",SUM(ED28,DG28)) -> 30 | EG28: =IF(DH28="","",SUM(EE28,DH28)) | EH28: =IF(DI28="","",SUM(EF28,DI28)) -> 40 | EI28: =IF(DJ28="","",SUM(EG28,DJ28)) | EJ28: =IF(DK28="","",SUM(EH28,DK28)) -> 50 | EK28: =IF(DL28="","",SUM(EI28,DL28)) | ... EW28: =IF(DX28="","",SUM(EU28,DX28))
A29: 23 | D29: 823 | H29: =CW29 | I29: A23 | J29: B23 | K29: C23 | L29: 5 | M29: 5 | N29: 5 | O29: 5 | P29: 5 | Q29: 4 | R29: 1 | S29: 40 | T29: 10 | U29: 20 | V29: 65 | W29: 15 | X29: 20 | Y29: 5 | Z29: 5 | AA29: 5 | AB29: 5 | AC29: 5 | AD29: 4 | AE29: 1 | AF29: 40 | AG29: 10 | AH29: 20 | AI29: 65 | AJ29: 15 | AK29: 20 | AL29: s | AM29: 5 | AN29: 5 | AO29: 5 | AP29: 5 | AQ29: 5 | AR29: 4 | AS29: 1 | AT29: 50 | AU29: 20 | AV29: 80 | AW29: 20 | AX29: 5 | AY29: 5 | AZ29: 5 | BA29: 5 | BB29: 5 | BC29: 4 | BD29: 1 | BE29: 40 | BF29: 10 | BG29: 20 | BH29: 65 | BI29: 15 | BJ29: 20 | BK29: 5 | BL29: 5 | BM29: 5 | BN29: 5 | BO29: 3 | BP29: 2 | BQ29: 5 | BR29: 50 | BS29: 20 | BT29: 80 | BU29: 20 | BV29: 5 | BW29: 5 | BX29: 5 | BY29: 5 | BZ29: 5 | CA29: 4 | CB29: 1 | CC29: 50 | CD29: 20 | CE29: 80 | CF29: 20 | CG29: 20 | CH29: 20 | CI29: 20 | CJ29: 20 | CK29: 20 | CL29: 20 | CM29: 20 | CN29: 20 | CO29: 20 | CP29: 20 | CQ29: 20 | CR29: 20 | CS29: 20 | CT29: 20 | CU29: 20 | CW29: =IF(DOB!D29="","",DOB!D29) | CX29: 6 | DA29: =IF($D29="","",IF(DA$6="","",DA$6)) | DC29: =IF($D29="","",IF(DC$6="","",DC$6)) -> 10 | DE29: =IF($D29="","",IF(DE$6="","",DE$6)) -> 10 | DG29: =IF($D29="","",IF(DG$6="","",DG$6)) -> 10 | DI29: =IF(DI$6="","",DI$6) -> 10 | DK29: =IF(DK$6="","",DK$6) -> 10 | DM29: =IF(DM$6="","",DM$6) -> 10 | DO29: =IF(DO$6="","",DO$6) -> 10 | DQ29: =IF(DQ$6="","",DQ$6) -> 10 | DS29: =IF(DS$6="","",DS$6) -> 10 | DU29: =IF(DU$6="","",DU$6) -> 10 | DW29: =IF(DW$6="","",DW$6) -> 10 | EB29: =IF(DC29="","",SUM(DA29,DC29)) -> 10 | EC29: =IF(DD29="","",SUM(DB29,DD29)) | ED29: =IF(DE29="","",SUM(EB29,DE29)) -> 20 | EE29: =IF(DF29="","",SUM(EC29,DF29)) | EF29: =IF(DG29="","",SUM(ED29,DG29)) -> 30 | EG29: =IF(DH29="","",SUM(EE29,DH29)) | EH29: =IF(DI29="","",SUM(EF29,DI29)) -> 40 | EI29: =IF(DJ29="","",SUM(EG29,DJ29)) | EJ29: =IF(DK29="","",SUM(EH29,DK29)) -> 50 | EK29: =IF(DL29="","",SUM(EI29,DL29)) | ... EW29: =IF(DX29="","",SUM(EU29,DX29))
A30: 24 | D30: 824 | H30: =CW30 | I30: A24 | J30: B24 | K30: C24 | L30: 5 | M30: 5 | N30: 5 | O30: 5 | P30: 5 | Q30: 4 | R30: 1 | S30: 40 | T30: 10 | U30: 20 | V30: 65 | W30: 15 | X30: 20 | Y30: 5 | Z30: 5 | AA30: 5 | AB30: 5 | AC30: 5 | AD30: 4 | AE30: 1 | AF30: 40 | AG30: 10 | AH30: 20 | AI30: 65 | AJ30: 15 | AK30: 20 | AL30: s | AM30: 5 | AN30: 5 | AO30: 5 | AP30: 5 | AQ30: 5 | AR30: 4 | AS30: 1 | AT30: 50 | AU30: 20 | AV30: 80 | AW30: 20 | AX30: 5 | AY30: 5 | AZ30: 5 | BA30: 5 | BB30: 5 | BC30: 4 | BD30: 1 | BE30: 40 | BF30: 10 | BG30: 20 | BH30: 65 | BI30: 15 | BJ30: 20 | BK30: 5 | BL30: 5 | BM30: 5 | BN30: 5 | BO30: 3 | BP30: 2 | BQ30: 5 | BR30: 50 | BS30: 20 | BT30: 80 | BU30: 20 | BV30: 5 | BW30: 5 | BX30: 5 | BY30: 5 | BZ30: 5 | CA30: 4 | CB30: 1 | CC30: 50 | CD30: 20 | CE30: 80 | CF30: 20 | CG30: 20 | CH30: 20 | CI30: 20 | CJ30: 20 | CK30: 20 | CL30: 20 | CM30: 20 | CN30: 20 | CO30: 20 | CP30: 20 | CQ30: 20 | CR30: 20 | CS30: 20 | CT30: 20 | CU30: 20 | CW30: =IF(DOB!D30="","",DOB!D30) | DA30: =IF($D30="","",IF(DA$6="","",DA$6)) | DC30: =IF($D30="","",IF(DC$6="","",DC$6)) -> 10 | DE30: =IF($D30="","",IF(DE$6="","",DE$6)) -> 10 | DG30: =IF($D30="","",IF(DG$6="","",DG$6)) -> 10 | DI30: =IF(DI$6="","",DI$6) -> 10 | DK30: =IF(DK$6="","",DK$6) -> 10 | DM30: =IF(DM$6="","",DM$6) -> 10 | DO30: =IF(DO$6="","",DO$6) -> 10 | DQ30: =IF(DQ$6="","",DQ$6) -> 10 | DS30: =IF(DS$6="","",DS$6) -> 10 | DU30: =IF(DU$6="","",DU$6) -> 10 | DW30: =IF(DW$6="","",DW$6) -> 10 | EB30: =IF(DC30="","",SUM(DA30,DC30)) -> 10 | EC30: =IF(DD30="","",SUM(DB30,DD30)) | ED30: =IF(DE30="","",SUM(EB30,DE30)) -> 20 | EE30: =IF(DF30="","",SUM(EC30,DF30)) | EF30: =IF(DG30="","",SUM(ED30,DG30)) -> 30 | EG30: =IF(DH30="","",SUM(EE30,DH30)) | EH30: =IF(DI30="","",SUM(EF30,DI30)) -> 40 | EI30: =IF(DJ30="","",SUM(EG30,DJ30)) | EJ30: =IF(DK30="","",SUM(EH30,DK30)) -> 50 | EK30: =IF(DL30="","",SUM(EI30,DL30)) | ... EW30: =IF(DX30="","",SUM(EU30,DX30))
