Workbook

Sheet Help
B2: For Help | D2: Programer
B3: माध्यमिक शिक्षा बोर्ड राजस्थान, बीकानेर द्वारा जारी विवरणिका/निर्देशानुसार सभी प्रकार के विद्यालय (निजी/सरकारी) के कक्षा 12 में अध्ययनरत विद्यार्थियों के सत्र 2022-23 के आगामी चरण के लिए भेजे जाने वाले सत्रांक की गणना हेतु इस प्रोग्राम को तैयार किया गया है जिसमें आप केवल ""Marks Entry"" शीट में ही आवश्यक पूर्तियां करें. सर्वप्रथम सबसे उपर पीले रंग के सेल्स में विद्यालय से सम्बंधित विवरण तथा फिर इसके निचे विद्यार्थियों के सम्बन्ध में विवरण भरें तत्पश्चात आगे उचित विषय का चयन कर उस विषयाध्यापक का नाम लिखें इसके पश्चात इन विषयों के निचे सम्बंधित परख/परीक्षा/गतिविधि वाले कॉलम में अंक भरें. तत्पश्चात आगामी शीट्स में आवश्यक प्रिंट प्राप्त करें.
B4: For Help watch the video my Youtube Channel Link
B5: https://youtu.be/DwpZ2aKjUzE
B6: OR search the youtube channel "Learn with ummed tarad"
B7: For my latest and updated usefull program visit links given bellow
B8: https://rajteachers.net/ummed-tarad-excel-software | C8: https://rajsevak.com/ummed-tarad-excel-software/ | D8: UMMED TARAD
B9: https://www.ashwinisharma.com/p/ummed-tarad-excel-programs.html | C9: https://shalasugam.com/mr-ummed-tarad-excel-software/ | D9: (GSSS RAIMALWADA, JODHPUR)
B10: नोट:-हालाँकि यह प्रोग्राम पूर्णतया सावधानी के साथ बनाया गया है फिर भी किसी त्रुटि की स्थिति में आपके विवेक के साथ विभागीय नियम ही अंतिम रूप से मान्य होंगे, इसे अंतिम रूप देने से पहले अच्छी तरह से अवश्य जाँच लेवें | D10: Email Id-ummedtrdedu@gmail.com
A11: LAST UPDATE ON:-22-01-2026

Sheet Master
B2: t; fgUn | G2: oUns ekrje~ | N2: t; fgUn
B4: RESULT PREPARATION PROGRAM | Z4: 2019-20 | AA4: PRIMARY
K5: Subject Detail | M5: Staff Detail | Z5: 2019-21 | AA5: UPPER PRIMARY
B6: SESSION | D6: :- | E6: 2022-23 | K6: Sr. No. | L6: Subject's Name | M6: Sr. No. | N6: Teacher's Name | O6: Sr. No. | P6: Teacher's Name | Z6: 2019-22 | AA6: SECONDARY
K7: =IF(L7>1,1,0) -> 1 | L7: HINDI | M7: =IF(N7>1,1,0) -> 1 | N7: A | O7: =IF(P7>1,M20+1,0) -> 0 | Z7: 2019-21 | AA7: UPPER PRIMARY
B8: SCHOOL'S FULL NAME | D8: :- | E8: Govt. Sr. Secondary School Raimalwada | K8: =IF(L8>1,K7+1,0) -> 2 | L8: ENGLISH | M8: =IF(N8>1,M7+1,0) -> 2 | N8: B | O8: =IF(P8>1,O7+1,0) -> 0
K9: =IF(L9>1,K8+1,0) -> 3 | L9: SANSKRIT | M9: =IF(N9>1,M8+1,0) -> 3 | N9: C | O9: =IF(P9>1,O8+1,0) -> 0 | Z9: 2019-22 | AA9: SECONDARY
K10: =IF(L10>1,K9+1,0) -> 4 | L10: SCIENCE | M10: =IF(N10>1,M9+1,0) -> 4 | N10: D | O10: =IF(P10>1,O9+1,0) -> 0 | Z10: 2019-23 | AA10: SR. SECONDARY
B11: ADDRESS | D11: :- | E11: P.S.-Bapini (Jodhpur) | K11: =IF(L11>1,K10+1,0) -> 5 | L11: MATHEMATICS | M11: =IF(N11>1,M10+1,0) -> 5 | N11: E | O11: =IF(P11>1,O10+1,0) -> 0
K12: =IF(L12>1,K11+1,0) -> 6 | L12: SOCIAL SCIENCE | M12: =IF(N12>1,M11+1,0) -> 6 | N12: F | O12: =IF(P12>1,O11+1,0) -> 0 | R12: CREATOR:- | Z12: 2019-24
K13: =IF(L13>1,K12+1,0) -> 7 | L13: Work Exp. | M13: =IF(N13>1,M12+1,0) -> 7 | N13: G | O13: =IF(P13>1,O12+1,0) -> 0 | Z13: 2019-23 | AA13: SR. SECONDARY
B14: U-DISE CODE | D14: :- | E14: 8151106901 | K14: =IF(L14>1,K13+1,0) -> 8 | L14: Art Edu. | M14: =IF(N14>1,M13+1,0) -> 0 | O14: =IF(P14>1,O13+1,0) -> 0 | Z14: 2019-24
K15: =IF(L15>1,K14+1,0) -> 9 | L15: H&P Edu. | M15: =IF(N15>1,M14+1,0) -> 0 | O15: =IF(P15>1,O14+1,0) -> 0 | Z15: 2019-25
B16: NAME OF PRINCIPAL | D16: :- | K16: =IF(L16>1,K15+1,0) -> 0 | M16: =IF(N16>1,M15+1,0) -> 0 | O16: =IF(P16>1,O15+1,0) -> 0 | Z16: 2019-26
K17: =IF(L17>1,K16+1,0) -> 0 | M17: =IF(N17>1,M16+1,0) -> 0 | O17: =IF(P17>1,O16+1,0) -> 0
B18: SCHOOL TYPE | D18: :- | E18: ='Marks Entry'!K1 -> 0 | K18: =IF(L18>1,K17+1,0) -> 0 | M18: =IF(N18>1,M17+1,0) -> 0 | O18: =IF(P18>1,O17+1,0) -> 0
K19: =IF(L19>1,K18+1,0) -> 0 | M19: =IF(N19>1,M18+1,0) -> 0 | O19: =IF(P19>1,O18+1,0) -> 0 | Z19: 2019-25
K20: =IF(L20>1,K19+1,0) -> 0 | M20: =IF(N20>1,M19+1,0) -> 0 | O20: =IF(P20>1,O19+1,0) -> 0 | R20: EMAIL ID-ummedtrdedu@gmail.com | Z20: 2019-26
A21: Update On :-05-02-2023 | Z21: 2019-27

Sheet Data Paste From Shala Darpan
B1: Class | C1: Section | D1: SRNO | E1: DOA | F1: Name | G1: Late Status | H1: FatherName | I1: MotherName | J1: Gender | K1: Dob | L1: ClassRollNo | M1: ExamRollNumber | N1: School Total Working Days | O1: Student Total Attendence | P1: Category | Q1: Religion | R1: Previous Year Marks | S1: Name Of School | T1: School UDise Code | U1: Aadhar No of Student | V1: Bhamashash Card | W1: Mobile No Student(Father/Mother/Guardian | X1: Student Permanent Address | Y1: Annual Parental Income | Z1: CWSN Status | AA1: BPL Status | AB1: Minority Status | AC1: Age On Present(In Years) | AD1: Co-Curricular Activity | AE1: Distance From School
A2: 1 | B2: 12 | C2: A | D2: 1251 | E2: 42921 | F2: AASI | H2: JETHA RAM | I2: SANTOSH | J2: F | K2: 40940 | L2: 1201 | N2: 0 | P2: OBC | Q2: Hindu | S2: GOVT. SENIOR SECONDARY SCHOOL RAIMALWADA (220311) | T2: 8151106901 | U2: XXXX7233 | V2: VPXBSSX | W2: 9636639353 | X2: DANANIYO KI DHANI, RAIMALWADA,BAPINI,DANANIYO KI DHANI, RAIMALWADA,342312 | Y2: 60000 | Z2: N | AA2: N | AB2: No | AC2: 18 | AD2: None | AE2: 5
A3: 2 | B3: 12 | C3: A | D3: 1841 | E3: 44747 | F3: ANITA | H3: HEMA RAM | I3: JAITI | J3: F | K3: 41279
A4: 3 | B4: 12 | C4: A | D4: 1916 | E4: 44781 | F4: DEVI | H4: DUNGAR RAM | I4: RAJO DEVI | J4: F | K4: 40127
A5: 4 | B5: 12 | C5: A | D5: 1853 | E5: 44754 | F5: Ganpat Ram | H5: GUMANA RAM | I5: KAMLA | J5: M | K5: 40660
A6: 5 | B6: 12 | C6: A | D6: 1915 | E6: 44781 | F6: GOMTI | H6: DUNGAR RAM | I6: RAJO DEVI | J6: F | K6: 40715
A7: 6 | B7: 12 | C7: A | D7: 1863 | E7: 44755 | F7: GOMTI | H7: TIKU RAM | I7: Babi | J7: F | K7: 41122
A8: 7 | B8: 12 | C8: A | D8: 1331 | E8: 43083 | F8: HANUMAN | H8: CHUNA RAM | I8: JASODA | J8: M | K8: 40544
A9: 8 | B9: 12 | C9: A | D9: 1421 | E9: 43301 | F9: HUKMICHAND | H9: OMA RAM | I9: GANGA DEVI | J9: M | K9: 40975
A10: 9 | B10: 12 | C10: A | D10: 1707 | F10: Irfan | H10: Pappu Ram | I10: Shanti | J10: M | K10: 40461
A11: 10 | B11: 12 | C11: A | D11: 1882 | E11: 44755 | F11: JHANNU KANWAR | H11: PADAM SINGH | I11: BHANWAR KANWAR | J11: F | K11: 41054
A12: 11 | B12: 12 | C12: A | D12: 1249 | F12: JYOTI | H12: OMA RAM | I12: RADHA | J12: F | K12: 41015
A13: 12 | B13: 12 | C13: A | D13: 1899 | E13: 44758 | F13: KAUSHLYA | G13: Late | H13: SUNDAR RAM | I13: CHHOTI | J13: F | K13: 39925
A14: 13 | B14: 12 | C14: A | D14: 1248 | F14: KAVITA | H14: BHOJA RAM | I14: SITA | J14: F | K14: 41075
A15: 14
A16: 15
A17: 16
A18: 17
A19: 18
A20: 19
A21: 20
A22: 21
A23: 22
A24: 23
A25: 24
A26: 25
... A271: 270

Sheet Marks Entry
C1: School's Name:- | G1: Govt. Sr. Sec. School | Q1: =IF(Q3="","",VLOOKUP(Q3,$FR$3:$FS$41,2,0)) -> A | Y1: =IF(Y3="","",VLOOKUP(Y3,$FR$3:$FS$41,2,0)) -> A | AG1: =IF(AG3="","",VLOOKUP(AG3,$FR$3:$FS$41,2,0)) -> A | AO1: =IF(AO3="","",VLOOKUP(AO3,$FR$3:$FS$41,2,0)) -> A | AW1: =IF(AW3="","",VLOOKUP(AW3,$FR$3:$FS$41,2,0)) -> A | BE1: =IF(BE3="","",VLOOKUP(BE3,$FR$3:$FS$41,2,0)) -> B | BM1: =IF(BM3="","",VLOOKUP(BM3,$FR$3:$FS$41,2,0)) | BY1: =Q1 -> A | CK1: =Y1 -> A | CW1: =AG1 -> A | DI1: =AO1 -> A | DU1: =AW1 -> A | EG1: =BE1 -> B | ES1: =BM1
C3: School U-Dise Code :- | G3: 815000000 | I3: Session :- | J3: 2025-26 | L3: Attendance | O3: Marks Of Attendance | P3: Subjects® | Q3: Comp. Hindi-01 | Y3: Comp. English-02 | AG3: Pol. Science-11 | AO3: History-13 | AW3: Hindi Lit.-21 | BE3: Geology-43 | BU3: GLOR.INDIA AFTER IND.-II-79 | BW3: Social Ser. Plan-78 | BY3: =IF(Q3="","",Q3) -> Comp. Hindi-01 | CK3: =IF(Y3="","",Y3) -> Comp. English-02 | CW3: =IF(AG3="","",AG3) -> Pol. Science-11 | DI3: =IF(AO3="","",AO3) -> History-13 | DU3: =IF(AW3="","",AW3) -> Hindi Lit.-21 | EG3: =IF(BE3="","",BE3) -> Geology-43 | ES3: =IF(BM3="","",BM3) | FR3: Comp. Hindi-01 | FS3: A | FV3: A | FW3: 80+20 | FX3: 10 | FY3: 10 | FZ3: 10 | GA3: 70 | GB3: 10 | GC3: 5 | GD3: 3 | GE3: 2 | GF3: =SUM(GB3:GE3) -> 20
C4: Class - | G4: 12 | I4: Saction :- | J4: ARTS | L4: Total Attendance | M4: Student's Attendance | N4: Attandance % | P4: Sub.Teacher® | Q4: HGHV | BY4: =Q5 -> First Test | BZ4: =R5 -> Second Test | CA4: =S5 -> Third Test | CB4: =T5 -> Half Yearly | CC4: Total | CD4: =IF(CD6=20,"20% Up to Half Yearly","10% Up to Half Yearly") -> 10% Up to Half Yearly | CE4: =U5 -> Project | CF4: =V5 -> Attendance | CG4: =W5 -> Plantation | CH4: =X5 -> Behaviour | CI4: Total | CJ4: Sessional Marks | CK4: First Test | CL4: Second Test | CM4: Third Test | CN4: Half Yearly | CO4: Total | CP4: =IF(CP6=20,"20% Up to Half Yearly","10% Up to Half Yearly") -> 10% Up to Half Yearly | CQ4: Project | CR4: Attendance | CS4: Plantation | CT4: Behaviour | CU4: Total | CV4: Sessional Marks | CW4: First Test | CX4: Second Test | CY4: Third Test | CZ4: Half Yearly | DA4: Total | DB4: =IF(DB6=20,"20% Up to Half Yearly","10% Up to Half Yearly") -> 10% Up to Half Yearly | DC4: Project | DD4: Attendance | DE4: Plantation | DF4: Behaviour | DG4: Total | DH4: Sessional Marks | DI4: First Test | DJ4: Second Test | DK4: Third Test | DL4: Half Yearly | DM4: Total | DN4: =IF(DN6=20,"20% Up to Half Yearly","10% Up to Half Yearly") -> 10% Up to Half Yearly | DO4: Project | DP4: Attendance | DQ4: Plantation | DR4: Behaviour | DS4: Total | DT4: Sessional Marks | DU4: First Test | DV4: Second Test | DW4: Third Test | DX4: Half Yearly | DY4: =IF(AND(Master!$E$18="cce",OR(DU3="hindi",DU3="english",DU3="Mathematics")),"80% Up to H.Y.","Total") -> Total | DZ4: =IF(DZ6=20,"20% Up to Half Yearly","10% Up to Half Yearly") -> 10% Up to Half Yearly | EA4: Project | EB4: Attendance | EC4: Plantation | ED4: Behaviour | EE4: Total | EF4: Sessional Marks | EG4: First Test | EH4: Second Test | EI4: Third Test | EJ4: Half Yearly | EK4: =IF(AND(Master!$E$18="cce",OR(EG3="hindi",EG3="english",EG3="Mathematics")),"80% Up to H.Y.","Total") -> Total | EL4: =IF(EL6=20,"20% Up to Half Yearly","10% Up to Half Yearly") -> 10% Up to Half Yearly | EM4: Project | EN4: Attendance | EO4: Plantation | EP4: Behaviour | EQ4: Total | ER4: Sessional Marks | ES4: First Test | ET4: Second Test | EU4: Third Test | EV4: Half Yearly | EW4: =IF(AND(Master!$E$18="cce",OR(ES3="hindi",ES3="english",ES3="Mathematics")),"80% Up to H.Y.","Total") -> Total | EX4: =IF(EX6=20,"20% Up to Half Yearly","10% Up to Half Yearly") -> 10% Up to Half Yearly | EY4: Project | EZ4: Attendance | FA4: Plantation | FB4: Behaviour | FC4: Total | FD4: Sessional Marks | FR4: Comp. English-02 | FS4: A | FV4: B | FW4: 56+14+30 | FX4: 10 | FY4: 10 | FZ4: 10 | GA4: 40 | GB4: 7 | GC4: 3 | GD4: 3 | GE4: 1 | GF4: =SUM(GB4:GE4) -> 14
C5: Student Related Basic Details | Q5: =IF(Q7="","","First Test") -> First Test | R5: =IF(R7="","","Second Test") -> Second Test | S5: =IF(S7="","","Third Test") -> Third Test | T5: =IF(T7="","","Half Yearly") -> Half Yearly | U5: =IF(U7="","","Project") -> Project | V5: =IF(V7="","","Attendance") -> Attendance | W5: =IF(W7="","","Plantation") -> Plantation | X5: =IF(X7="","","Behaviour") -> Behaviour | Y5: =IF(Y7="","","First Test") -> First Test | Z5: =IF(Z7="","","Second Test") -> Second Test | AA5: =IF(AA7="","","Third Test") -> Third Test | AB5: =IF(AB7="","","Half Yearly") -> Half Yearly | AC5: =IF(AC7="","","Project") -> Project | AD5: =IF(AD7="","","Attendance") -> Attendance | AE5: =IF(AE7="","","Plantation") -> Plantation | AF5: =IF(AF7="","","Behaviour") -> Behaviour | AG5: =IF(AG7="","","First Test") -> First Test | AH5: =IF(AH7="","","Second Test") -> Second Test | AI5: =IF(AI7="","","Third Test") -> Third Test | AJ5: =IF(AJ7="","","Half Yearly") -> Half Yearly | AK5: =IF(AK7="","","Project") -> Project | AL5: =IF(AL7="","","Attendance") -> Attendance | AM5: =IF(AM7="","","Plantation") -> Plantation | AN5: =IF(AN7="","","Behaviour") -> Behaviour | AO5: =IF(AO7="","","First Test") -> First Test | AP5: =IF(AP7="","","Second Test") -> Second Test | AQ5: =IF(AQ7="","","Third Test") -> Third Test | AR5: =IF(AR7="","","Half Yearly") -> Half Yearly | AS5: =IF(AS7="","","Project") -> Project | AT5: =IF(AT7="","","Attendance") -> Attendance | AU5: =IF(AU7="","","Plantation") -> Plantation | AV5: =IF(AV7="","","Behaviour") -> Behaviour | AW5: =IF(AW7="","","First Test") -> First Test | AX5: =IF(AX7="","","Second Test") -> Second Test | AY5: =IF(AY7="","","Third Test") -> Third Test | AZ5: =IF(AZ7="","","Half Yearly") -> Half Yearly | BA5: =IF(BA7="","","Project") -> Project | BB5: =IF(BB7="","","Attendance") -> Attendance | BC5: =IF(BC7="","","Plantation") -> Plantation | BD5: =IF(BD7="","","Behaviour") -> Behaviour | BE5: =IF(BE7="","","First Test") -> First Test | BF5: =IF(BF7="","","Second Test") -> Second Test | BG5: =IF(BG7="","","Third Test") -> Third Test | BH5: =IF(BH7="","","Half Yearly") -> Half Yearly | BI5: =IF(BI7="","","Project") -> Project | BJ5: =IF(BJ7="","","Attendance") -> Attendance | BK5: =IF(BK7="","","Plantation") -> Plantation | BL5: =IF(BL7="","","Behaviour") -> Behaviour | BM5: =IF(BM7="","","First Test") | BN5: =IF(BN7="","","Second Test") | BO5: =IF(BO7="","","Third Test") | BP5: =IF(BP7="","","Half Yearly") | BQ5: =IF(BQ7="","","Project") | BR5: =IF(BR7="","","Attendance") | BS5: =IF(BS7="","","Plantation") | BT5: =IF(BT7="","","Behaviour") | BU5: Theory | BV5: Project | BW5: Total Marks | BX5: Grade | FR5: GLOR.INDIA AFTER IND.-II-79 | FV5: C | FW5: 24+6+70 | FX5: 5 | FY5: 5 | FZ5: 5 | GA5: 15 | GB5: 3 | GC5: 0 | GD5: 1.5 | GE5: 1.5 | GF5: =SUM(GB5:GE5) -> 6
C6: Sr. No. | D6: Class | E6: Scholar Number | F6: Board Roll No. | G6: School Roll Number | H6: Student's Name | I6: Father's Name | J6: Mother's Name | K6: Date Of Birth | CD6: =IF(AND(BY1="d",CC7=50),20,10) -> 10 | CP6: =IF(AND(CK1="d",CO7=50),20,10) -> 10 | DB6: =IF(AND(CW1="d",DA7=50),20,10) -> 10 | DN6: =IF(AND(DI1="d",DM7=50),20,10) -> 10 | DZ6: =IF(AND(DU1="d",DY7=50),20,10) -> 10 | EL6: =IF(AND(EG1="d",EK7=50),20,10) -> 10 | EX6: =IF(AND(ES1="d",EW7=50),20,10) -> 10 | FR6: Social Ser. Plan-78 | FV6: D | FW6: 30+20+50 | FX6: 10 | FY6: 10 | FZ6: 10 | GA6: 20 | GB6: 10 | GC6: 5 | GD6: 3 | GE6: 2 | GF6: =SUM(GB6:GE6) -> 20
L7: 280 | Q7: =IF(OR(Q1="",Q3=""),"",IF(Q1="c",5,10)) -> 10 | R7: =IF(OR(Q1="",Q3=""),"",IF(Q1="c",5,10)) -> 10 | S7: =IF(OR(Q1="",Q3=""),"",IF(Q1="c",5,10)) -> 10 | T7: =IF(OR(Q1="",Q3=""),"",IF(Q1="b",40,IF(Q1="c",15,IF(Q1="a",70,20)))) -> 70 | U7: =IF(OR(Q1="",Q3=""),"",IF(OR(Q3=$FR3,Q3=$FR4),4,IF(Q1="b",3,IF(OR(Q1="c",Q1="e"),"",5)))) -> 4 | V7: =IF(OR(Q1="",Q3=""),"",IF(Q1="c",1.5,3)) -> 3 | W7: =IF(OR(Q1="",Q3=""),"",IF(Q1="b",1,IF(Q1="c",1.5,6-U7))) -> 2 | X7: 1 | Y7: =IF(OR(Y1="",Y3=""),"",IF(Y1="c",5,10)) -> 10 | Z7: =IF(OR(Y1="",Y3=""),"",IF(Y1="c",5,10)) -> 10 | AA7: =IF(OR(Y1="",Y3=""),"",IF(Y1="c",5,10)) -> 10 | AB7: =IF(OR(Y1="",Y3=""),"",IF(Y1="b",40,IF(Y1="c",15,IF(Y1="a",70,20)))) -> 70 | AC7: =IF(OR(Y1="",Y3=""),"",IF(OR(Y3=$FR3,Y3=$FR4),4,IF(Y1="b",3,IF(OR(Y1="c",Y1="e"),"",5)))) -> 4 | AD7: =IF(OR(Y1="",Y3=""),"",IF(Y1="c",1.5,3)) -> 3 | AE7: =IF(OR(Y1="",Y3=""),"",IF(Y1="b",1,IF(Y1="c",1.5,6-AC7))) -> 2 | AF7: 1 | AG7: =IF(OR(AG1="",AG3=""),"",IF(AG1="c",5,10)) -> 10 | AH7: =IF(OR(AG1="",AG3=""),"",IF(AG1="c",5,10)) -> 10 | AI7: =IF(OR(AG1="",AG3=""),"",IF(AG1="c",5,10)) -> 10 | AJ7: =IF(OR(AG1="",AG3=""),"",IF(AG1="b",40,IF(AG1="c",15,IF(AG1="a",70,20)))) -> 70 | AK7: =IF(OR(AG1="",AG3=""),"",IF(AG1="b",3,IF(OR(AG1="c",AG1="e"),"",5))) -> 5 | AL7: =IF(OR(AG1="",AG3=""),"",IF(AG1="c",1.5,3)) -> 3 | AM7: =IF(OR(AG1="",AG3=""),"",IF(AG1="b",1,IF(AG1="c",1.5,1))) -> 1 | AN7: 1 | AO7: =IF(OR(AO1="",AO3=""),"",IF(AO1="c",5,10)) -> 10 | AP7: =IF(OR(AO1="",AO3=""),"",IF(AO1="c",5,10)) -> 10 | AQ7: =IF(OR(AO1="",AO3=""),"",IF(AO1="c",5,10)) -> 10 | AR7: =IF(OR(AO1="",AO3=""),"",IF(AO1="b",40,IF(AO1="c",15,IF(AO1="a",70,20)))) -> 70 | AS7: =IF(OR(AO1="",AO3=""),"",IF(AO1="b",3,IF(OR(AO1="c",AO1="e"),"",5))) -> 5 | AT7: =IF(OR(AO1="",AO3=""),"",IF(AO1="c",1.5,3)) -> 3 | AU7: =IF(OR(AO1="",AO3=""),"",IF(AO1="b",1,IF(AO1="c",1.5,1))) -> 1 | AV7: 1 | AW7: =IF(OR(AW1="",AW3=""),"",IF(AW1="c",5,10)) -> 10 | AX7: =IF(OR(AW1="",AW3=""),"",IF(AW1="c",5,10)) -> 10 | AY7: =IF(OR(AW1="",AW3=""),"",IF(AW1="c",5,10)) -> 10 | AZ7: =IF(OR(AW1="",AW3=""),"",IF(AW1="b",40,IF(AW1="c",15,IF(AW1="a",70,20)))) -> 70 | BA7: =IF(OR(AW1="",AW3=""),"",IF(AW1="b",3,IF(OR(AW1="c",AW1="e"),"",5))) -> 5 | BB7: =IF(OR(AW1="",AW3=""),"",IF(AW1="c",1.5,3)) -> 3 | BC7: =IF(OR(AW1="",AW3=""),"",IF(AW1="b",1,IF(AW1="c",1.5,1))) -> 1 | BD7: 1 | BE7: =IF(OR(BE1="",BE3=""),"",IF(BE1="c",5,10)) -> 10 | BF7: =IF(OR(BE1="",BE3=""),"",IF(BE1="c",5,10)) -> 10 | BG7: =IF(OR(BE1="",BE3=""),"",IF(BE1="c",5,10)) -> 10 | BH7: =IF(OR(BE1="",BE3=""),"",IF(BE1="b",40,IF(BE1="c",15,IF(BE1="a",70,20)))) -> 40 | BI7: =IF(OR(BE1="",BE3=""),"",IF(BE1="b",3,IF(OR(BE1="c",BE1="e"),"",5))) -> 3 | BJ7: =IF(OR(BE1="",BE3=""),"",IF(BE1="c",1.5,3)) -> 3 | BK7: =IF(OR(BE1="",BE3=""),"",IF(BE1="b",1,IF(BE1="c",1.5,1))) -> 1 | BL7: =IF(OR(BE1="",BE3=""),"",IF(BE1="b",1,IF(BE1="c",1.5,1))) -> 1 | BM7: =IF(OR(BM1="",BM3=""),"",IF(BM1="c",5,10)) | BN7: =IF(OR(BM1="",BM3=""),"",IF(BM1="c",5,10)) | BO7: =IF(OR(BM1="",BM3=""),"",IF(BM1="c",5,10)) | BP7: =IF(OR(BM1="",BM3=""),"",IF(BM1="b",40,IF(BM1="c",15,IF(BM1="a",70,20)))) | BQ7: =IF(OR(BM1="",BM3=""),"",IF(BM1="b",3,IF(OR(BM1="c",BM1="e"),"",5))) | BR7: =IF(OR(BM1="",BM3=""),"",IF(BM1="c",1.5,3)) | BS7: =IF(OR(BM1="",BM3=""),"",IF(BM1="b",1,IF(BM1="c",1.5,1))) | BT7: =IF(OR(BM1="",BM3=""),"",IF(BM1="b",1,IF(BM1="c",1.5,1))) | BU7: 80 | BV7: 20 | BW7: 100 | BX7: A/B/C/D | BY7: =Q7 -> 10 | BZ7: =R7 -> 10 | CA7: =S7 -> 10 | CB7: =T7 -> 70 | CC7: =SUM(BY7:CB7) -> 100 | CD7: =ROUND(CC7*CD6/100,0) -> 10 | CE7: =U7 -> 4 | CF7: =V7 -> 3 | CG7: =W7 -> 2 | CH7: =X7 -> 1 | CI7: =SUM(CE7:CH7) -> 10 | CJ7: =SUM(CD7,CI7) -> 20 | CK7: =Y7 -> 10 | CL7: =Z7 -> 10 | CM7: =AA7 -> 10 | CN7: =AB7 -> 70 | CO7: =SUM(CK7:CN7) -> 100 | CP7: =ROUND(CO7*CP6/100,0) -> 10 | CQ7: =AC7 -> 4 | CR7: =AD7 -> 3 | CS7: =AE7 -> 2 | CT7: =AF7 -> 1 | CU7: =SUM(CQ7:CT7) -> 10 | CV7: =SUM(CP7,CU7) -> 20 | CW7: =AG7 -> 10 | CX7: =AH7 -> 10 | CY7: =AI7 -> 10 | CZ7: =AJ7 -> 70 | DA7: =SUM(CW7:CZ7) -> 100 | DB7: =ROUND(DA7*DB6/100,0) -> 10 | DC7: =AK7 -> 5 | DD7: =AL7 -> 3 | DE7: =AM7 -> 1 | DF7: =AN7 -> 1 | DG7: =SUM(DC7:DF7) -> 10 | DH7: =SUM(DB7,DG7) -> 20 | DI7: =AO7 -> 10 | DJ7: =AP7 -> 10 | DK7: =AQ7 -> 10 | DL7: =AR7 -> 70 | DM7: =SUM(DI7:DL7) -> 100 | DN7: =ROUND(DM7*DN6/100,0) -> 10 | DO7: =AS7 -> 5 | DP7: =AT7 -> 3 | DQ7: =AU7 -> 1 | DR7: =AV7 -> 1 | DS7: =SUM(DO7:DR7) -> 10 | DT7: =SUM(DN7,DS7) -> 20 | DU7: =AW7 -> 10 | DV7: =AX7 -> 10 | DW7: =AY7 -> 10 | DX7: =AZ7 -> 70 | DY7: =SUM(DU7:DX7) -> 100 | DZ7: =ROUND(DY7*DZ6/100,0) -> 10 | EA7: =BA7 -> 5 | EB7: =BB7 -> 3 | EC7: =BC7 -> 1 | ED7: =BD7 -> 1 | EE7: =SUM(EA7:ED7) -> 10 | EF7: =SUM(DZ7,EE7) -> 20 | EG7: =BE7 -> 10 | EH7: =BF7 -> 10 | EI7: =BG7 -> 10 | EJ7: =BH7 -> 40 | EK7: =SUM(EG7:EJ7) -> 70 | EL7: =ROUND(EK7*EL6/100,0) -> 7 | EM7: =BI7 -> 3 | EN7: =BJ7 -> 3 | EO7: =BK7 -> 1 | EP7: =BL7 -> 1 | EQ7: =SUM(EM7:EP7) -> 8 | ER7: =SUM(EL7,EQ7) -> 15 | ES7: =BM7 | ET7: =BN7 | EU7: =BO7 | EV7: =BP7 | EW7: =SUM(ES7:EV7) -> 0 | EX7: =ROUND(EW7*EX6/100,0) -> 0 | EY7: =BQ7 | EZ7: =BR7 | FA7: =BS7 | FB7: =BT7 | FC7: =SUM(EY7:FB7) -> 0 | FD7: =SUM(EX7,FC7) -> 0 | FR7: Economics-10 | FS7: A | FV7: E | FW7: 40+10+50 | FX7: 10 | FY7: 10 | FZ7: 10 | GA7: 20 | GB7: 5 | GC7: 0 | GD7: 3 | GE7: 2 | GF7: =SUM(GB7:GE7) -> 10
C8: 0 | D8: 0 | E8: 0 | F8: 0 | H8: 0 | I8: 0 | J8: 0 | K8: 0 | L8: 0 | M8: 0 | N8: 0 | T8: 0 | U8: =SUM(#REF!,#REF!) -> #REF! | X8: 0 | AB8: 0 | AC8: =SUM(#REF!,#REF!) -> #REF! | AF8: 0 | AJ8: 0 | AK8: =SUM(#REF!,#REF!) -> #REF! | AN8: 0 | AR8: 0 | AS8: =SUM(#REF!,#REF!) -> #REF! | AV8: 0 | AZ8: 0 | BA8: =SUM(#REF!,#REF!) -> #REF! | BD8: 0 | BH8: 0 | BI8: =SUM(#REF!,#REF!) -> #REF! | BL8: 0 | BP8: 0 | BQ8: =SUM(#REF!,#REF!) -> #REF! | BT8: 0 | BU8: 0 | BV8: 0 | BW8: 0 | BX8: 0 | BY8: 0 | BZ8: 0 | CA8: 0 | CB8: =IF(AND(CA8>=60,CD8="Pass"),"First",IF(AND(CA8>=60,CD8="Pass With G"),"First",IF(AND(CA8>=48,CD8="Pass"),"Second;",IF(AND(CA8>=48,CD8="Pass With G"),"Second",IF(OR(CD8="Pass",CD8="Pass With G"),"Third",CD8))))) -> #REF! | CD8: =IF($G8="NSO","NSO",IF(OR($G8="",$G8=0,T8="",#REF!="",#REF!="",#REF!="",#REF!="",#REF!=""),"",IF(OR(#REF!>0,(#REF!+#REF!+#REF!)>2),"FAIL",IF(OR(#REF!>0,#REF!>1),"SUPP.",IF(AND(#REF!>0,#REF!>0),"SUPP.",IF((#REF!+#REF!),"PASS With G","PASS")))))) -> #REF! | CK8: 0 | CL8: 0 | CM8: 0 | CN8: =IF(AND(CM8>=60,CP8="Pass"),"First",IF(AND(CM8>=60,CP8="Pass With G"),"First",IF(AND(CM8>=48,CP8="Pass"),"Second;",IF(AND(CM8>=48,CP8="Pass With G"),"Second",IF(OR(CP8="Pass",CP8="Pass With G"),"Third",CP8))))) -> #REF! | CP8: =IF($G8="NSO","NSO",IF(OR($G8="",$G8=0,AF8="",#REF!="",#REF!="",#REF!="",#REF!="",#REF!=""),"",IF(OR(#REF!>0,(#REF!+#REF!+#REF!)>2),"FAIL",IF(OR(#REF!>0,#REF!>1),"SUPP.",IF(AND(#REF!>0,#REF!>0),"SUPP.",IF((#REF!+#REF!),"PASS With G","PASS")))))) -> #REF! | CW8: 0 | CX8: 0 | CY8: 0 | CZ8: =IF(AND(CY8>=60,DB8="Pass"),"First",IF(AND(CY8>=60,DB8="Pass With G"),"First",IF(AND(CY8>=48,DB8="Pass"),"Second;",IF(AND(CY8>=48,DB8="Pass With G"),"Second",IF(OR(DB8="Pass",DB8="Pass With G"),"Third",DB8))))) -> #REF! | DB8: =IF($G8="NSO","NSO",IF(OR($G8="",$G8=0,AR8="",#REF!="",#REF!="",#REF!="",#REF!="",#REF!=""),"",IF(OR(#REF!>0,(#REF!+#REF!+#REF!)>2),"FAIL",IF(OR(#REF!>0,#REF!>1),"SUPP.",IF(AND(#REF!>0,#REF!>0),"SUPP.",IF((#REF!+#REF!),"PASS With G","PASS")))))) -> #REF! | DI8: 0 | DJ8: 0 | DK8: 0 | DL8: =IF(AND(DK8>=60,DN8="Pass"),"First",IF(AND(DK8>=60,DN8="Pass With G"),"First",IF(AND(DK8>=48,DN8="Pass"),"Second;",IF(AND(DK8>=48,DN8="Pass With G"),"Second",IF(OR(DN8="Pass",DN8="Pass With G"),"Third",DN8))))) -> #REF! | DN8: =IF($G8="NSO","NSO",IF(OR($G8="",$G8=0,BA8="",#REF!="",#REF!="",#REF!="",#REF!="",#REF!=""),"",IF(OR(#REF!>0,(#REF!+#REF!+#REF!)>2),"FAIL",IF(OR(#REF!>0,#REF!>1),"SUPP.",IF(AND(#REF!>0,#REF!>0),"SUPP.",IF((#REF!+#REF!),"PASS With G","PASS")))))) -> #REF! | DU8: 0 | DV8: 0 | DW8: 0 | DX8: =IF(AND(DW8>=60,DZ8="Pass"),"First",IF(AND(DW8>=60,DZ8="Pass With G"),"First",IF(AND(DW8>=48,DZ8="Pass"),"Second;",IF(AND(DW8>=48,DZ8="Pass With G"),"Second",IF(OR(DZ8="Pass",DZ8="Pass With G"),"Third",DZ8))))) -> #REF! | DZ8: =IF($G8="NSO","NSO",IF(OR($G8="",$G8=0,#REF!="",#REF!="",#REF!="",#REF!="",#REF!="",#REF!=""),"",IF(OR(#REF!>0,(#REF!+#REF!+#REF!)>2),"FAIL",IF(OR(#REF!>0,#REF!>1),"SUPP.",IF(AND(#REF!>0,#REF!>0),"SUPP.",IF((#REF!+#REF!),"PASS With G","PASS")))))) -> #REF! | EG8: 0 | EH8: 0 | EI8: 0 | EJ8: =IF(AND(EI8>=60,EL8="Pass"),"First",IF(AND(EI8>=60,EL8="Pass With G"),"First",IF(AND(EI8>=48,EL8="Pass"),"Second;",IF(AND(EI8>=48,EL8="Pass With G"),"Second",IF(OR(EL8="Pass",EL8="Pass With G"),"Third",EL8))))) -> #REF! | EL8: =IF($G8="NSO","NSO",IF(OR($G8="",$G8=0,#REF!="",#REF!="",#REF!="",#REF!="",#REF!="",#REF!=""),"",IF(OR(#REF!>0,(#REF!+#REF!+#REF!)>2),"FAIL",IF(OR(#REF!>0,#REF!>1),"SUPP.",IF(AND(#REF!>0,#REF!>0),"SUPP.",IF((#REF!+#REF!),"PASS With G","PASS")))))) -> #REF! | ES8: 0 | ET8: 0 | EU8: 0 | EV8: =IF(AND(EU8>=60,EX8="Pass"),"First",IF(AND(EU8>=60,EX8="Pass With G"),"First",IF(AND(EU8>=48,EX8="Pass"),"Second;",IF(AND(EU8>=48,EX8="Pass With G"),"Second",IF(OR(EX8="Pass",EX8="Pass With G"),"Third",EX8))))) -> #REF! | EX8: =IF($G8="NSO","NSO",IF(OR($G8="",$G8=0,CE8="",#REF!="",#REF!="",#REF!="",#REF!="",#REF!=""),"",IF(OR(#REF!>0,(#REF!+#REF!+#REF!)>2),"FAIL",IF(OR(#REF!>0,#REF!>1),"SUPP.",IF(AND(#REF!>0,#REF!>0),"SUPP.",IF((#REF!+#REF!),"PASS With G","PASS")))))) -> #REF!
A9: =G9 -> 1201 | B9: 1 | C9: 1 | D9: =IF(E9>0,$G$4,0) -> 12 | E9: ='Data Paste From Shala Darpan'!D2 -> 1251 | G9: ='Data Paste From Shala Darpan'!L2 -> 1201 | H9: ='Data Paste From Shala Darpan'!F2 -> AASI | I9: ='Data Paste From Shala Darpan'!H2 -> JETHA RAM | J9: ='Data Paste From Shala Darpan'!I2 -> SANTOSH | K9: ='Data Paste From Shala Darpan'!K2 -> 40940 | L9: =IF(G9=0,"",$L$7) -> 280 | M9: 274 | N9: =IF(OR(L9=0,M9=0,L9="",M9=""),"",M9/L9*100) -> 97.857143 | O9: =IF(N9="",0,IF(N9>=86,3,IF(N9>=81,2,IF(N9>=75,1,0)))) -> 3 | Q9: 5 | R9: 7 | S9: 8 | T9: 55 | U9: 5 | V9: =IF(OR($Q$3="",$G9=""),"",IF($Q$1="c",$O9/2,$O9)) -> 3 | X9: 1 | Y9: 7 | Z9: 7 | AA9: 7 | AB9: 50 | AC9: 5 | AD9: =IF(OR($Y$3="",$G9=""),"",IF($Y$1="c",$O9/2,$O9)) -> 3 | AF9: 2 | AG9: 8 | AH9: 8 | AI9: 8 | AJ9: 35 | AK9: 2 | AL9: =IF(OR($AG$3="",$G9=""),"",IF($AG$1="c",$O9/2,$O9)) -> 3 | AN9: 2 | AO9: 5 | AP9: 5 | AQ9: 5 | AR9: 15 | AT9: =IF(OR($AO$3="",$G9=""),"",IF($AO$1="c",$O9/2,$O9)) -> 3 | AV9: 1 | AW9: 4 | AX9: 4 | AY9: 4 | AZ9: 12 | BB9: =IF(OR($AW$3="",$G9=""),"",IF($AW$1="c",$O9/2,$O9)) -> 3 | BD9: 1 | BE9: 4 | BF9: 4 | BG9: 4 | BH9: 18 | BI9: 5 | BJ9: =IF(OR($BE$3="",$G9=""),"",IF($BE$1="c",$O9/2,$O9)) -> 3 | BL9: 2 | BR9: =IF(OR($BM$3="",$G9=""),"",IF($BM$1="c",$O9/2,$O9)) | BU9: 60 | BV9: 20 | BW9: 75 | BX9: =IF(BW9>=80,"A",IF(BW9>=60,"B",IF(BW9>=50,"C","D"))) -> B | BY9: =Q9 -> 5 | BZ9: =R9 -> 7 | CA9: =S9 -> 8 | CB9: =T9 -> 55 | CC9: =SUM(BY9:CB9) -> 75 | CD9: =ROUNDUP(CC9*$CD$6/100,0) -> 8 | CE9: =U9 -> 5 | CF9: =V9 -> 3 | CG9: =W9 -> 0 | CH9: =X9 -> 1 | CI9: =SUM(CE9:CH9) -> 9 | CJ9: =SUM(CI9,CD9) -> 17 | CK9: =Y9 -> 7 | CL9: =Z9 -> 7 | CM9: =AA9 -> 7 | CN9: =AB9 -> 50 | CO9: =SUM(CK9:CN9) -> 71 | CP9: =ROUNDUP(CO9*$CP$6/100,0) -> 8 | CQ9: =AC9 -> 5 | CR9: =AD9 -> 3 | CS9: =AE9 -> 0 | CT9: =AF9 -> 2 | CU9: =SUM(CQ9:CT9) -> 10 | CV9: =SUM(CU9,CP9) -> 18 | CW9: =AG9 -> 8 | CX9: =AH9 -> 8 | CY9: =AI9 -> 8 | CZ9: =AJ9 -> 35 | DA9: =SUM(CW9:CZ9) -> 59 | DB9: =ROUNDUP(DA9*$DB$6/100,0) -> 6 | DC9: =AK9 -> 2 | DD9: =AL9 -> 3 | DE9: =AM9 -> 0 | DF9: =AN9 -> 2 | DG9: =SUM(DC9:DF9) -> 7 | DH9: =SUM(DG9,DB9) -> 13 | DI9: =AO9 -> 5 | DJ9: =AP9 -> 5 | DK9: =AQ9 -> 5 | DL9: =AR9 -> 15 | DM9: =SUM(DI9:DL9) -> 30 | DN9: =ROUNDUP(DM9*$DN$6/100,0) -> 3 | DO9: =AS9 -> 0 | DP9: =AT9 -> 3 | DQ9: =AU9 -> 0 | DR9: =AV9 -> 1 | DS9: =SUM(DO9:DR9) -> 4 | DT9: =SUM(DS9,DN9) -> 7 | DU9: =AW9 -> 4 | DV9: =AX9 -> 4 | DW9: =AY9 -> 4 | DX9: =AZ9 -> 12 | DY9: =SUM(DU9:DX9) -> 24 | DZ9: =ROUNDUP(DY9*$DZ$6/100,0) -> 3 | EA9: =BA9 -> 0 | EB9: =BB9 -> 3 | EC9: =BC9 -> 0 | ED9: =BD9 -> 1 | EE9: =SUM(EA9:ED9) -> 4 | EF9: =SUM(EE9,DZ9) -> 7 | EG9: =BE9 -> 4 | EH9: =BF9 -> 4 | EI9: =BG9 -> 4 | EJ9: =BH9 -> 18 | EK9: =SUM(EG9:EJ9) -> 30 | EL9: =ROUNDUP(EK9*$EL$6/100,0) -> 3 | EM9: =BI9 -> 5 | EN9: =BJ9 -> 3 | EO9: =BK9 -> 0 | EP9: =BL9 -> 2 | EQ9: =SUM(EM9:EP9) -> 10 | ER9: =SUM(EL9,EQ9) -> 13 | ES9: =BM9 -> 0 | ET9: =BN9 -> 0 | EU9: =BO9 -> 0 | EV9: =BP9 -> 0 | EW9: =SUM(ES9:EV9) -> 0 | EX9: =ROUNDUP(EW9*$EX$6/100,0) -> 0 | EY9: =BQ9 -> 0 | EZ9: =BR9 | FA9: =BS9 -> 0 | FB9: =BT9 -> 0 | FC9: =SUM(EY9:FB9) -> 0 | FD9: =SUM(EX9,FC9) -> 0 | FR9: Pol. Science-11 | FS9: A
A10: =G10 -> 0 | B10: 2 | C10: 2 | D10: =IF(E10>0,$G$4,0) -> 12 | E10: ='Data Paste From Shala Darpan'!D3 -> 1841 | F10: =IF(OR(E9="",F9=""),"",F9+1) | G10: ='Data Paste From Shala Darpan'!L3 -> 0 | H10: ='Data Paste From Shala Darpan'!F3 -> ANITA | I10: ='Data Paste From Shala Darpan'!H3 -> HEMA RAM | J10: ='Data Paste From Shala Darpan'!I3 -> JAITI | K10: ='Data Paste From Shala Darpan'!K3 -> 41279 | L10: =IF(G10=0,"",$L$7) | M10: 0 | N10: =IF(OR(L10=0,M10=0,L10="",M10=""),"",M10/L10*100) | O10: =IF(N10="",0,IF(N10>=86,3,IF(N10>=81,2,IF(N10>=75,1,0)))) -> 0 | V10: =IF(OR($Q$3="",$G10=""),"",IF($Q$1="c",$O10/2,$O10)) -> 0 | AD10: =IF(OR($Y$3="",$G10=""),"",IF($Y$1="c",$O10/2,$O10)) -> 0 | AL10: =IF(OR($AG$3="",$G10=""),"",IF($AG$1="c",$O10/2,$O10)) -> 0 | AT10: =IF(OR($AO$3="",$G10=""),"",IF($AO$1="c",$O10/2,$O10)) -> 0 | BB10: =IF(OR($AW$3="",$G10=""),"",IF($AW$1="c",$O10/2,$O10)) -> 0 | BJ10: =IF(OR($BE$3="",$G10=""),"",IF($BE$1="c",$O10/2,$O10)) -> 0 | BR10: =IF(OR($BM$3="",$G10=""),"",IF($BM$1="c",$O10/2,$O10)) | BU10: 10 | BV10: 10 | BW10: 10 | BX10: =IF(BW10>=80,"A",IF(BW10>=60,"B",IF(BW10>=50,"C","D"))) -> D | BY10: =Q10 -> 0 | BZ10: =R10 -> 0 | CA10: =S10 -> 0 | CB10: =T10 -> 0 | CC10: =SUM(BY10:CB10) -> 0 | CD10: =ROUNDUP(CC10*$CD$6/100,0) -> 0 | CE10: =U10 -> 0 | CF10: =V10 -> 0 | CG10: =W10 -> 0 | CH10: =X10 -> 0 | CI10: =SUM(CE10:CH10) -> 0 | CJ10: =SUM(CI10,CD10) -> 0 | CK10: =Y10 -> 0 | CL10: =Z10 -> 0 | CM10: =AA10 -> 0 | CN10: =AB10 -> 0 | CO10: =SUM(CK10:CN10) -> 0 | CP10: =ROUNDUP(CO10*$CP$6/100,0) -> 0 | CQ10: =AC10 -> 0 | CR10: =AD10 -> 0 | CS10: =AE10 -> 0 | CT10: =AF10 -> 0 | CU10: =SUM(CQ10:CT10) -> 0 | CV10: =SUM(CU10,CP10) -> 0 | CW10: =AG10 -> 0 | CX10: =AH10 -> 0 | CY10: =AI10 -> 0 | CZ10: =AJ10 -> 0 | DA10: =SUM(CW10:CZ10) -> 0 | DB10: =ROUNDUP(DA10*$DB$6/100,0) -> 0 | DC10: =AK10 -> 0 | DD10: =AL10 -> 0 | DE10: =AM10 -> 0 | DF10: =AN10 -> 0 | DG10: =SUM(DC10:DF10) -> 0 | DH10: =SUM(DG10,DB10) -> 0 | DI10: =AO10 -> 0 | DJ10: =AP10 -> 0 | DK10: =AQ10 -> 0 | DL10: =AR10 -> 0 | DM10: =SUM(DI10:DL10) -> 0 | DN10: =ROUNDUP(DM10*$DN$6/100,0) -> 0 | DO10: =AS10 -> 0 | DP10: =AT10 -> 0 | DQ10: =AU10 -> 0 | DR10: =AV10 -> 0 | DS10: =SUM(DO10:DR10) -> 0 | DT10: =SUM(DS10,DN10) -> 0 | DU10: =AW10 -> 0 | DV10: =AX10 -> 0 | DW10: =AY10 -> 0 | DX10: =AZ10 -> 0 | DY10: =SUM(DU10:DX10) -> 0 | DZ10: =ROUNDUP(DY10*$DZ$6/100,0) -> 0 | EA10: =BA10 -> 0 | EB10: =BB10 -> 0 | EC10: =BC10 -> 0 | ED10: =BD10 -> 0 | EE10: =SUM(EA10:ED10) -> 0 | EF10: =SUM(EE10,DZ10) -> 0 | EG10: =BE10 -> 0 | EH10: =BF10 -> 0 | EI10: =BG10 -> 0 | EJ10: =BH10 -> 0 | EK10: =SUM(EG10:EJ10) -> 0 | EL10: =ROUNDUP(EK10*$EL$6/100,0) -> 0 | EM10: =BI10 -> 0 | EN10: =BJ10 -> 0 | EO10: =BK10 -> 0 | EP10: =BL10 -> 0 | EQ10: =SUM(EM10:EP10) -> 0 | ER10: =SUM(EL10,EQ10) -> 0 | ES10: =BM10 -> 0 | ET10: =BN10 -> 0 | EU10: =BO10 -> 0 | EV10: =BP10 -> 0 | EW10: =SUM(ES10:EV10) -> 0 | EX10: =ROUNDUP(EW10*$EX$6/100,0) -> 0 | EY10: =BQ10 -> 0 | EZ10: =BR10 | FA10: =BS10 -> 0 | FB10: =BT10 -> 0 | FC10: =SUM(EY10:FB10) -> 0 | FD10: =SUM(EX10,FC10) -> 0 | FR10: Sanskrit Lit.-12 | FS10: A
A11: =G11 -> 0 | B11: 3 | C11: 3 | D11: =IF(E11>0,$G$4,0) -> 12 | E11: ='Data Paste From Shala Darpan'!D4 -> 1916 | F11: =IF(OR(E10="",F10=""),"",F10+1) | G11: ='Data Paste From Shala Darpan'!L4 -> 0 | H11: ='Data Paste From Shala Darpan'!F4 -> DEVI | I11: ='Data Paste From Shala Darpan'!H4 -> DUNGAR RAM | J11: ='Data Paste From Shala Darpan'!I4 -> RAJO DEVI | K11: ='Data Paste From Shala Darpan'!K4 -> 40127 | L11: =IF(G11=0,"",$L$7) | M11: 0 | N11: =IF(OR(L11=0,M11=0,L11="",M11=""),"",M11/L11*100) | O11: =IF(N11="",0,IF(N11>=86,3,IF(N11>=81,2,IF(N11>=75,1,0)))) -> 0 | V11: =IF(OR($Q$3="",$G11=""),"",IF($Q$1="c",$O11/2,$O11)) -> 0 | AD11: =IF(OR($Y$3="",$G11=""),"",IF($Y$1="c",$O11/2,$O11)) -> 0 | AL11: =IF(OR($AG$3="",$G11=""),"",IF($AG$1="c",$O11/2,$O11)) -> 0 | AT11: =IF(OR($AO$3="",$G11=""),"",IF($AO$1="c",$O11/2,$O11)) -> 0 | BB11: =IF(OR($AW$3="",$G11=""),"",IF($AW$1="c",$O11/2,$O11)) -> 0 | BJ11: =IF(OR($BE$3="",$G11=""),"",IF($BE$1="c",$O11/2,$O11)) -> 0 | BR11: =IF(OR($BM$3="",$G11=""),"",IF($BM$1="c",$O11/2,$O11)) | BU11: 0 | BV11: 0 | BW11: 0 | BX11: =IF(BW11>=80,"A",IF(BW11>=60,"B",IF(BW11>=50,"C","D"))) -> D | BY11: =Q11 -> 0 | BZ11: =R11 -> 0 | CA11: =S11 -> 0 | CB11: =T11 -> 0 | CC11: =SUM(BY11:CB11) -> 0 | CD11: =ROUNDUP(CC11*$CD$6/100,0) -> 0 | CE11: =U11 -> 0 | CF11: =V11 -> 0 | CG11: =W11 -> 0 | CH11: =X11 -> 0 | CI11: =SUM(CE11:CH11) -> 0 | CJ11: =SUM(CI11,CD11) -> 0 | CK11: =Y11 -> 0 | CL11: =Z11 -> 0 | CM11: =AA11 -> 0 | CN11: =AB11 -> 0 | CO11: =SUM(CK11:CN11) -> 0 | CP11: =ROUNDUP(CO11*$CP$6/100,0) -> 0 | CQ11: =AC11 -> 0 | CR11: =AD11 -> 0 | CS11: =AE11 -> 0 | CT11: =AF11 -> 0 | CU11: =SUM(CQ11:CT11) -> 0 | CV11: =SUM(CU11,CP11) -> 0 | CW11: =AG11 -> 0 | CX11: =AH11 -> 0 | CY11: =AI11 -> 0 | CZ11: =AJ11 -> 0 | DA11: =SUM(CW11:CZ11) -> 0 | DB11: =ROUNDUP(DA11*$DB$6/100,0) -> 0 | DC11: =AK11 -> 0 | DD11: =AL11 -> 0 | DE11: =AM11 -> 0 | DF11: =AN11 -> 0 | DG11: =SUM(DC11:DF11) -> 0 | DH11: =SUM(DG11,DB11) -> 0 | DI11: =AO11 -> 0 | DJ11: =AP11 -> 0 | DK11: =AQ11 -> 0 | DL11: =AR11 -> 0 | DM11: =SUM(DI11:DL11) -> 0 | DN11: =ROUNDUP(DM11*$DN$6/100,0) -> 0 | DO11: =AS11 -> 0 | DP11: =AT11 -> 0 | DQ11: =AU11 -> 0 | DR11: =AV11 -> 0 | DS11: =SUM(DO11:DR11) -> 0 | DT11: =SUM(DS11,DN11) -> 0 | DU11: =AW11 -> 0 | DV11: =AX11 -> 0 | DW11: =AY11 -> 0 | DX11: =AZ11 -> 0 | DY11: =SUM(DU11:DX11) -> 0 | DZ11: =ROUNDUP(DY11*$DZ$6/100,0) -> 0 | EA11: =BA11 -> 0 | EB11: =BB11 -> 0 | EC11: =BC11 -> 0 | ED11: =BD11 -> 0 | EE11: =SUM(EA11:ED11) -> 0 | EF11: =SUM(EE11,DZ11) -> 0 | EG11: =BE11 -> 0 | EH11: =BF11 -> 0 | EI11: =BG11 -> 0 | EJ11: =BH11 -> 0 | EK11: =SUM(EG11:EJ11) -> 0 | EL11: =ROUNDUP(EK11*$EL$6/100,0) -> 0 | EM11: =BI11 -> 0 | EN11: =BJ11 -> 0 | EO11: =BK11 -> 0 | EP11: =BL11 -> 0 | EQ11: =SUM(EM11:EP11) -> 0 | ER11: =SUM(EL11,EQ11) -> 0 | ES11: =BM11 -> 0 | ET11: =BN11 -> 0 | EU11: =BO11 -> 0 | EV11: =BP11 -> 0 | EW11: =SUM(ES11:EV11) -> 0 | EX11: =ROUNDUP(EW11*$EX$6/100,0) -> 0 | EY11: =BQ11 -> 0 | EZ11: =BR11 | FA11: =BS11 -> 0 | FB11: =BT11 -> 0 | FC11: =SUM(EY11:FB11) -> 0 | FD11: =SUM(EX11,FC11) -> 0 | FR11: History-13 | FS11: A
A12: =G12 -> 0 | B12: 4 | C12: 4 | D12: =IF(E12>0,$G$4,0) -> 12 | E12: ='Data Paste From Shala Darpan'!D5 -> 1853 | F12: =IF(OR(E11="",F11=""),"",F11+1) | G12: ='Data Paste From Shala Darpan'!L5 -> 0 | H12: ='Data Paste From Shala Darpan'!F5 -> Ganpat Ram | I12: ='Data Paste From Shala Darpan'!H5 -> GUMANA RAM | J12: ='Data Paste From Shala Darpan'!I5 -> KAMLA | K12: ='Data Paste From Shala Darpan'!K5 -> 40660 | L12: =IF(G12=0,"",$L$7) | N12: =IF(OR(L12=0,M12=0,L12="",M12=""),"",M12/L12*100) | O12: =IF(N12="",0,IF(N12>=86,3,IF(N12>=81,2,IF(N12>=75,1,0)))) -> 0 | V12: =IF(OR($Q$3="",$G12=""),"",IF($Q$1="c",$O12/2,$O12)) -> 0 | AD12: =IF(OR($Y$3="",$G12=""),"",IF($Y$1="c",$O12/2,$O12)) -> 0 | AL12: =IF(OR($AG$3="",$G12=""),"",IF($AG$1="c",$O12/2,$O12)) -> 0 | AT12: =IF(OR($AO$3="",$G12=""),"",IF($AO$1="c",$O12/2,$O12)) -> 0 | BB12: =IF(OR($AW$3="",$G12=""),"",IF($AW$1="c",$O12/2,$O12)) -> 0 | BJ12: =IF(OR($BE$3="",$G12=""),"",IF($BE$1="c",$O12/2,$O12)) -> 0 | BR12: =IF(OR($BM$3="",$G12=""),"",IF($BM$1="c",$O12/2,$O12)) | BU12: 0 | BV12: 0 | BW12: 0 | BX12: =IF(BW12>=80,"A",IF(BW12>=60,"B",IF(BW12>=50,"C","D"))) -> D | BY12: =Q12 -> 0 | BZ12: =R12 -> 0 | CA12: =S12 -> 0 | CB12: =T12 -> 0 | CC12: =SUM(BY12:CB12) -> 0 | CD12: =ROUNDUP(CC12*$CD$6/100,0) -> 0 | CE12: =U12 -> 0 | CF12: =V12 -> 0 | CG12: =W12 -> 0 | CH12: =X12 -> 0 | CI12: =SUM(CE12:CH12) -> 0 | CJ12: =SUM(CI12,CD12) -> 0 | CK12: =Y12 -> 0 | CL12: =Z12 -> 0 | CM12: =AA12 -> 0 | CN12: =AB12 -> 0 | CO12: =SUM(CK12:CN12) -> 0 | CP12: =ROUNDUP(CO12*$CP$6/100,0) -> 0 | CQ12: =AC12 -> 0 | CR12: =AD12 -> 0 | CS12: =AE12 -> 0 | CT12: =AF12 -> 0 | CU12: =SUM(CQ12:CT12) -> 0 | CV12: =SUM(CU12,CP12) -> 0 | CW12: =AG12 -> 0 | CX12: =AH12 -> 0 | CY12: =AI12 -> 0 | CZ12: =AJ12 -> 0 | DA12: =SUM(CW12:CZ12) -> 0 | DB12: =ROUNDUP(DA12*$DB$6/100,0) -> 0 | DC12: =AK12 -> 0 | DD12: =AL12 -> 0 | DE12: =AM12 -> 0 | DF12: =AN12 -> 0 | DG12: =SUM(DC12:DF12) -> 0 | DH12: =SUM(DG12,DB12) -> 0 | DI12: =AO12 -> 0 | DJ12: =AP12 -> 0 | DK12: =AQ12 -> 0 | DL12: =AR12 -> 0 | DM12: =SUM(DI12:DL12) -> 0 | DN12: =ROUNDUP(DM12*$DN$6/100,0) -> 0 | DO12: =AS12 -> 0 | DP12: =AT12 -> 0 | DQ12: =AU12 -> 0 | DR12: =AV12 -> 0 | DS12: =SUM(DO12:DR12) -> 0 | DT12: =SUM(DS12,DN12) -> 0 | DU12: =AW12 -> 0 | DV12: =AX12 -> 0 | DW12: =AY12 -> 0 | DX12: =AZ12 -> 0 | DY12: =SUM(DU12:DX12) -> 0 | DZ12: =ROUNDUP(DY12*$DZ$6/100,0) -> 0 | EA12: =BA12 -> 0 | EB12: =BB12 -> 0 | EC12: =BC12 -> 0 | ED12: =BD12 -> 0 | EE12: =SUM(EA12:ED12) -> 0 | EF12: =SUM(EE12,DZ12) -> 0 | EG12: =BE12 -> 0 | EH12: =BF12 -> 0 | EI12: =BG12 -> 0 | EJ12: =BH12 -> 0 | EK12: =SUM(EG12:EJ12) -> 0 | EL12: =ROUNDUP(EK12*$EL$6/100,0) -> 0 | EM12: =BI12 -> 0 | EN12: =BJ12 -> 0 | EO12: =BK12 -> 0 | EP12: =BL12 -> 0 | EQ12: =SUM(EM12:EP12) -> 0 | ER12: =SUM(EL12,EQ12) -> 0 | ES12: =BM12 -> 0 | ET12: =BN12 -> 0 | EU12: =BO12 -> 0 | EV12: =BP12 -> 0 | EW12: =SUM(ES12:EV12) -> 0 | EX12: =ROUNDUP(EW12*$EX$6/100,0) -> 0 | EY12: =BQ12 -> 0 | EZ12: =BR12 | FA12: =BS12 -> 0 | FB12: =BT12 -> 0 | FC12: =SUM(EY12:FB12) -> 0 | FD12: =SUM(EX12,FC12) -> 0 | FR12: Geography-14 | FS12: B
A13: =G13 -> 0 | B13: 5 | C13: 5 | D13: =IF(E13>0,$G$4,0) -> 12 | E13: ='Data Paste From Shala Darpan'!D6 -> 1915 | F13: =IF(OR(E12="",F12=""),"",F12+1) | G13: ='Data Paste From Shala Darpan'!L6 -> 0 | H13: ='Data Paste From Shala Darpan'!F6 -> GOMTI | I13: ='Data Paste From Shala Darpan'!H6 -> DUNGAR RAM | J13: ='Data Paste From Shala Darpan'!I6 -> RAJO DEVI | K13: ='Data Paste From Shala Darpan'!K6 -> 40715 | L13: =IF(G13=0,"",$L$7) | N13: =IF(OR(L13=0,M13=0,L13="",M13=""),"",M13/L13*100) | O13: =IF(N13="",0,IF(N13>=86,3,IF(N13>=81,2,IF(N13>=75,1,0)))) -> 0 | V13: =IF(OR($Q$3="",$G13=""),"",IF($Q$1="c",$O13/2,$O13)) -> 0 | AD13: =IF(OR($Y$3="",$G13=""),"",IF($Y$1="c",$O13/2,$O13)) -> 0 | AL13: =IF(OR($AG$3="",$G13=""),"",IF($AG$1="c",$O13/2,$O13)) -> 0 | AT13: =IF(OR($AO$3="",$G13=""),"",IF($AO$1="c",$O13/2,$O13)) -> 0 | BB13: =IF(OR($AW$3="",$G13=""),"",IF($AW$1="c",$O13/2,$O13)) -> 0 | BJ13: =IF(OR($BE$3="",$G13=""),"",IF($BE$1="c",$O13/2,$O13)) -> 0 | BR13: =IF(OR($BM$3="",$G13=""),"",IF($BM$1="c",$O13/2,$O13)) | BU13: 0 | BV13: 0 | BW13: 0 | BX13: =IF(BW13>=80,"A",IF(BW13>=60,"B",IF(BW13>=50,"C","D"))) -> D | BY13: =Q13 -> 0 | BZ13: =R13 -> 0 | CA13: =S13 -> 0 | CB13: =T13 -> 0 | CC13: =SUM(BY13:CB13) -> 0 | CD13: =ROUNDUP(CC13*$CD$6/100,0) -> 0 | CE13: =U13 -> 0 | CF13: =V13 -> 0 | CG13: =W13 -> 0 | CH13: =X13 -> 0 | CI13: =SUM(CE13:CH13) -> 0 | CJ13: =SUM(CI13,CD13) -> 0 | CK13: =Y13 -> 0 | CL13: =Z13 -> 0 | CM13: =AA13 -> 0 | CN13: =AB13 -> 0 | CO13: =SUM(CK13:CN13) -> 0 | CP13: =ROUNDUP(CO13*$CP$6/100,0) -> 0 | CQ13: =AC13 -> 0 | CR13: =AD13 -> 0 | CS13: =AE13 -> 0 | CT13: =AF13 -> 0 | CU13: =SUM(CQ13:CT13) -> 0 | CV13: =SUM(CU13,CP13) -> 0 | CW13: =AG13 -> 0 | CX13: =AH13 -> 0 | CY13: =AI13 -> 0 | CZ13: =AJ13 -> 0 | DA13: =SUM(CW13:CZ13) -> 0 | DB13: =ROUNDUP(DA13*$DB$6/100,0) -> 0 | DC13: =AK13 -> 0 | DD13: =AL13 -> 0 | DE13: =AM13 -> 0 | DF13: =AN13 -> 0 | DG13: =SUM(DC13:DF13) -> 0 | DH13: =SUM(DG13,DB13) -> 0 | DI13: =AO13 -> 0 | DJ13: =AP13 -> 0 | DK13: =AQ13 -> 0 | DL13: =AR13 -> 0 | DM13: =SUM(DI13:DL13) -> 0 | DN13: =ROUNDUP(DM13*$DN$6/100,0) -> 0 | DO13: =AS13 -> 0 | DP13: =AT13 -> 0 | DQ13: =AU13 -> 0 | DR13: =AV13 -> 0 | DS13: =SUM(DO13:DR13) -> 0 | DT13: =SUM(DS13,DN13) -> 0 | DU13: =AW13 -> 0 | DV13: =AX13 -> 0 | DW13: =AY13 -> 0 | DX13: =AZ13 -> 0 | DY13: =SUM(DU13:DX13) -> 0 | DZ13: =ROUNDUP(DY13*$DZ$6/100,0) -> 0 | EA13: =BA13 -> 0 | EB13: =BB13 -> 0 | EC13: =BC13 -> 0 | ED13: =BD13 -> 0 | EE13: =SUM(EA13:ED13) -> 0 | EF13: =SUM(EE13,DZ13) -> 0 | EG13: =BE13 -> 0 | EH13: =BF13 -> 0 | EI13: =BG13 -> 0 | EJ13: =BH13 -> 0 | EK13: =SUM(EG13:EJ13) -> 0 | EL13: =ROUNDUP(EK13*$EL$6/100,0) -> 0 | EM13: =BI13 -> 0 | EN13: =BJ13 -> 0 | EO13: =BK13 -> 0 | EP13: =BL13 -> 0 | EQ13: =SUM(EM13:EP13) -> 0 | ER13: =SUM(EL13,EQ13) -> 0 | ES13: =BM13 -> 0 | ET13: =BN13 -> 0 | EU13: =BO13 -> 0 | EV13: =BP13 -> 0 | EW13: =SUM(ES13:EV13) -> 0 | EX13: =ROUNDUP(EW13*$EX$6/100,0) -> 0 | EY13: =BQ13 -> 0 | EZ13: =BR13 | FA13: =BS13 -> 0 | FB13: =BT13 -> 0 | FC13: =SUM(EY13:FB13) -> 0 | FD13: =SUM(EX13,FC13) -> 0 | FR13: Mathematics-15 | FS13: A
A14: =G14 -> 0 | B14: 6 | C14: 6 | D14: =IF(E14>0,$G$4,0) -> 12 | E14: ='Data Paste From Shala Darpan'!D7 -> 1863 | F14: =IF(OR(E13="",F13=""),"",F13+1) | G14: ='Data Paste From Shala Darpan'!L7 -> 0 | H14: ='Data Paste From Shala Darpan'!F7 -> GOMTI | I14: ='Data Paste From Shala Darpan'!H7 -> TIKU RAM | J14: ='Data Paste From Shala Darpan'!I7 -> Babi | K14: ='Data Paste From Shala Darpan'!K7 -> 41122 | L14: =IF(G14=0,"",$L$7) | N14: =IF(OR(L14=0,M14=0,L14="",M14=""),"",M14/L14*100) | O14: =IF(N14="",0,IF(N14>=86,3,IF(N14>=81,2,IF(N14>=75,1,0)))) -> 0 | V14: =IF(OR($Q$3="",$G14=""),"",IF($Q$1="c",$O14/2,$O14)) -> 0 | AD14: =IF(OR($Y$3="",$G14=""),"",IF($Y$1="c",$O14/2,$O14)) -> 0 | AL14: =IF(OR($AG$3="",$G14=""),"",IF($AG$1="c",$O14/2,$O14)) -> 0 | AT14: =IF(OR($AO$3="",$G14=""),"",IF($AO$1="c",$O14/2,$O14)) -> 0 | BB14: =IF(OR($AW$3="",$G14=""),"",IF($AW$1="c",$O14/2,$O14)) -> 0 | BJ14: =IF(OR($BE$3="",$G14=""),"",IF($BE$1="c",$O14/2,$O14)) -> 0 | BR14: =IF(OR($BM$3="",$G14=""),"",IF($BM$1="c",$O14/2,$O14)) | BU14: 0 | BV14: 0 | BW14: 0 | BX14: =IF(BW14>=80,"A",IF(BW14>=60,"B",IF(BW14>=50,"C","D"))) -> D | BY14: =Q14 -> 0 | BZ14: =R14 -> 0 | CA14: =S14 -> 0 | CB14: =T14 -> 0 | CC14: =SUM(BY14:CB14) -> 0 | CD14: =ROUNDUP(CC14*$CD$6/100,0) -> 0 | CE14: =U14 -> 0 | CF14: =V14 -> 0 | CG14: =W14 -> 0 | CH14: =X14 -> 0 | CI14: =SUM(CE14:CH14) -> 0 | CJ14: =SUM(CI14,CD14) -> 0 | CK14: =Y14 -> 0 | CL14: =Z14 -> 0 | CM14: =AA14 -> 0 | CN14: =AB14 -> 0 | CO14: =SUM(CK14:CN14) -> 0 | CP14: =ROUNDUP(CO14*$CP$6/100,0) -> 0 | CQ14: =AC14 -> 0 | CR14: =AD14 -> 0 | CS14: =AE14 -> 0 | CT14: =AF14 -> 0 | CU14: =SUM(CQ14:CT14) -> 0 | CV14: =SUM(CU14,CP14) -> 0 | CW14: =AG14 -> 0 | CX14: =AH14 -> 0 | CY14: =AI14 -> 0 | CZ14: =AJ14 -> 0 | DA14: =SUM(CW14:CZ14) -> 0 | DB14: =ROUNDUP(DA14*$DB$6/100,0) -> 0 | DC14: =AK14 -> 0 | DD14: =AL14 -> 0 | DE14: =AM14 -> 0 | DF14: =AN14 -> 0 | DG14: =SUM(DC14:DF14) -> 0 | DH14: =SUM(DG14,DB14) -> 0 | DI14: =AO14 -> 0 | DJ14: =AP14 -> 0 | DK14: =AQ14 -> 0 | DL14: =AR14 -> 0 | DM14: =SUM(DI14:DL14) -> 0 | DN14: =ROUNDUP(DM14*$DN$6/100,0) -> 0 | DO14: =AS14 -> 0 | DP14: =AT14 -> 0 | DQ14: =AU14 -> 0 | DR14: =AV14 -> 0 | DS14: =SUM(DO14:DR14) -> 0 | DT14: =SUM(DS14,DN14) -> 0 | DU14: =AW14 -> 0 | DV14: =AX14 -> 0 | DW14: =AY14 -> 0 | DX14: =AZ14 -> 0 | DY14: =SUM(DU14:DX14) -> 0 | DZ14: =ROUNDUP(DY14*$DZ$6/100,0) -> 0 | EA14: =BA14 -> 0 | EB14: =BB14 -> 0 | EC14: =BC14 -> 0 | ED14: =BD14 -> 0 | EE14: =SUM(EA14:ED14) -> 0 | EF14: =SUM(EE14,DZ14) -> 0 | EG14: =BE14 -> 0 | EH14: =BF14 -> 0 | EI14: =BG14 -> 0 | EJ14: =BH14 -> 0 | EK14: =SUM(EG14:EJ14) -> 0 | EL14: =ROUNDUP(EK14*$EL$6/100,0) -> 0 | EM14: =BI14 -> 0 | EN14: =BJ14 -> 0 | EO14: =BK14 -> 0 | EP14: =BL14 -> 0 | EQ14: =SUM(EM14:EP14) -> 0 | ER14: =SUM(EL14,EQ14) -> 0 | ES14: =BM14 -> 0 | ET14: =BN14 -> 0 | EU14: =BO14 -> 0 | EV14: =BP14 -> 0 | EW14: =SUM(ES14:EV14) -> 0 | EX14: =ROUNDUP(EW14*$EX$6/100,0) -> 0 | EY14: =BQ14 -> 0 | EZ14: =BR14 | FA14: =BS14 -> 0 | FB14: =BT14 -> 0 | FC14: =SUM(EY14:FB14) -> 0 | FD14: =SUM(EX14,FC14) -> 0 | FR14: English Lit.-20 | FS14: A
A15: =G15 -> 0 | B15: 7 | C15: 7 | D15: =IF(E15>0,$G$4,0) -> 12 | E15: ='Data Paste From Shala Darpan'!D8 -> 1331 | F15: =IF(OR(E14="",F14=""),"",F14+1) | G15: ='Data Paste From Shala Darpan'!L8 -> 0 | H15: ='Data Paste From Shala Darpan'!F8 -> HANUMAN | I15: ='Data Paste From Shala Darpan'!H8 -> CHUNA RAM | J15: ='Data Paste From Shala Darpan'!I8 -> JASODA | K15: ='Data Paste From Shala Darpan'!K8 -> 40544 | L15: =IF(G15=0,"",$L$7) | N15: =IF(OR(L15=0,M15=0,L15="",M15=""),"",M15/L15*100) | O15: =IF(N15="",0,IF(N15>=86,3,IF(N15>=81,2,IF(N15>=75,1,0)))) -> 0 | V15: =IF(OR($Q$3="",$G15=""),"",IF($Q$1="c",$O15/2,$O15)) -> 0 | AD15: =IF(OR($Y$3="",$G15=""),"",IF($Y$1="c",$O15/2,$O15)) -> 0 | AL15: =IF(OR($AG$3="",$G15=""),"",IF($AG$1="c",$O15/2,$O15)) -> 0 | AT15: =IF(OR($AO$3="",$G15=""),"",IF($AO$1="c",$O15/2,$O15)) -> 0 | BB15: =IF(OR($AW$3="",$G15=""),"",IF($AW$1="c",$O15/2,$O15)) -> 0 | BJ15: =IF(OR($BE$3="",$G15=""),"",IF($BE$1="c",$O15/2,$O15)) -> 0 | BR15: =IF(OR($BM$3="",$G15=""),"",IF($BM$1="c",$O15/2,$O15)) | BU15: 0 | BV15: 0 | BW15: 0 | BX15: =IF(BW15>=80,"A",IF(BW15>=60,"B",IF(BW15>=50,"C","D"))) -> D | BY15: =Q15 -> 0 | BZ15: =R15 -> 0 | CA15: =S15 -> 0 | CB15: =T15 -> 0 | CC15: =SUM(BY15:CB15) -> 0 | CD15: =ROUNDUP(CC15*$CD$6/100,0) -> 0 | CE15: =U15 -> 0 | CF15: =V15 -> 0 | CG15: =W15 -> 0 | CH15: =X15 -> 0 | CI15: =SUM(CE15:CH15) -> 0 | CJ15: =SUM(CI15,CD15) -> 0 | CK15: =Y15 -> 0 | CL15: =Z15 -> 0 | CM15: =AA15 -> 0 | CN15: =AB15 -> 0 | CO15: =SUM(CK15:CN15) -> 0 | CP15: =ROUNDUP(CO15*$CP$6/100,0) -> 0 | CQ15: =AC15 -> 0 | CR15: =AD15 -> 0 | CS15: =AE15 -> 0 | CT15: =AF15 -> 0 | CU15: =SUM(CQ15:CT15) -> 0 | CV15: =SUM(CU15,CP15) -> 0 | CW15: =AG15 -> 0 | CX15: =AH15 -> 0 | CY15: =AI15 -> 0 | CZ15: =AJ15 -> 0 | DA15: =SUM(CW15:CZ15) -> 0 | DB15: =ROUNDUP(DA15*$DB$6/100,0) -> 0 | DC15: =AK15 -> 0 | DD15: =AL15 -> 0 | DE15: =AM15 -> 0 | DF15: =AN15 -> 0 | DG15: =SUM(DC15:DF15) -> 0 | DH15: =SUM(DG15,DB15) -> 0 | DI15: =AO15 -> 0 | DJ15: =AP15 -> 0 | DK15: =AQ15 -> 0 | DL15: =AR15 -> 0 | DM15: =SUM(DI15:DL15) -> 0 | DN15: =ROUNDUP(DM15*$DN$6/100,0) -> 0 | DO15: =AS15 -> 0 | DP15: =AT15 -> 0 | DQ15: =AU15 -> 0 | DR15: =AV15 -> 0 | DS15: =SUM(DO15:DR15) -> 0 | DT15: =SUM(DS15,DN15) -> 0 | DU15: =AW15 -> 0 | DV15: =AX15 -> 0 | DW15: =AY15 -> 0 | DX15: =AZ15 -> 0 | DY15: =SUM(DU15:DX15) -> 0 | DZ15: =ROUNDUP(DY15*$DZ$6/100,0) -> 0 | EA15: =BA15 -> 0 | EB15: =BB15 -> 0 | EC15: =BC15 -> 0 | ED15: =BD15 -> 0 | EE15: =SUM(EA15:ED15) -> 0 | EF15: =SUM(EE15,DZ15) -> 0 | EG15: =BE15 -> 0 | EH15: =BF15 -> 0 | EI15: =BG15 -> 0 | EJ15: =BH15 -> 0 | EK15: =SUM(EG15:EJ15) -> 0 | EL15: =ROUNDUP(EK15*$EL$6/100,0) -> 0 | EM15: =BI15 -> 0 | EN15: =BJ15 -> 0 | EO15: =BK15 -> 0 | EP15: =BL15 -> 0 | EQ15: =SUM(EM15:EP15) -> 0 | ER15: =SUM(EL15,EQ15) -> 0 | ES15: =BM15 -> 0 | ET15: =BN15 -> 0 | EU15: =BO15 -> 0 | EV15: =BP15 -> 0 | EW15: =SUM(ES15:EV15) -> 0 | EX15: =ROUNDUP(EW15*$EX$6/100,0) -> 0 | EY15: =BQ15 -> 0 | EZ15: =BR15 | FA15: =BS15 -> 0 | FB15: =BT15 -> 0 | FC15: =SUM(EY15:FB15) -> 0 | FD15: =SUM(EX15,FC15) -> 0 | FR15: Hindi Lit.-21 | FS15: A
A16: =G16 -> 0 | B16: 8 | C16: 8 | D16: =IF(E16>0,$G$4,0) -> 12 | E16: ='Data Paste From Shala Darpan'!D9 -> 1421 | F16: =IF(OR(E15="",F15=""),"",F15+1) | G16: ='Data Paste From Shala Darpan'!L9 -> 0 | H16: ='Data Paste From Shala Darpan'!F9 -> HUKMICHAND | I16: ='Data Paste From Shala Darpan'!H9 -> OMA RAM | J16: ='Data Paste From Shala Darpan'!I9 -> GANGA DEVI | K16: ='Data Paste From Shala Darpan'!K9 -> 40975 | L16: =IF(G16=0,"",$L$7) | N16: =IF(OR(L16=0,M16=0,L16="",M16=""),"",M16/L16*100) | O16: =IF(N16="",0,IF(N16>=86,3,IF(N16>=81,2,IF(N16>=75,1,0)))) -> 0 | V16: =IF(OR($Q$3="",$G16=""),"",IF($Q$1="c",$O16/2,$O16)) -> 0 | AD16: =IF(OR($Y$3="",$G16=""),"",IF($Y$1="c",$O16/2,$O16)) -> 0 | AL16: =IF(OR($AG$3="",$G16=""),"",IF($AG$1="c",$O16/2,$O16)) -> 0 | AT16: =IF(OR($AO$3="",$G16=""),"",IF($AO$1="c",$O16/2,$O16)) -> 0 | BB16: =IF(OR($AW$3="",$G16=""),"",IF($AW$1="c",$O16/2,$O16)) -> 0 | BJ16: =IF(OR($BE$3="",$G16=""),"",IF($BE$1="c",$O16/2,$O16)) -> 0 | BR16: =IF(OR($BM$3="",$G16=""),"",IF($BM$1="c",$O16/2,$O16)) | BU16: 0 | BV16: 0 | BW16: 0 | BX16: =IF(BW16>=80,"A",IF(BW16>=60,"B",IF(BW16>=50,"C","D"))) -> D | BY16: =Q16 -> 0 | BZ16: =R16 -> 0 | CA16: =S16 -> 0 | CB16: =T16 -> 0 | CC16: =SUM(BY16:CB16) -> 0 | CD16: =ROUNDUP(CC16*$CD$6/100,0) -> 0 | CE16: =U16 -> 0 | CF16: =V16 -> 0 | CG16: =W16 -> 0 | CH16: =X16 -> 0 | CI16: =SUM(CE16:CH16) -> 0 | CJ16: =SUM(CI16,CD16) -> 0 | CK16: =Y16 -> 0 | CL16: =Z16 -> 0 | CM16: =AA16 -> 0 | CN16: =AB16 -> 0 | CO16: =SUM(CK16:CN16) -> 0 | CP16: =ROUNDUP(CO16*$CP$6/100,0) -> 0 | CQ16: =AC16 -> 0 | CR16: =AD16 -> 0 | CS16: =AE16 -> 0 | CT16: =AF16 -> 0 | CU16: =SUM(CQ16:CT16) -> 0 | CV16: =SUM(CU16,CP16) -> 0 | CW16: =AG16 -> 0 | CX16: =AH16 -> 0 | CY16: =AI16 -> 0 | CZ16: =AJ16 -> 0 | DA16: =SUM(CW16:CZ16) -> 0 | DB16: =ROUNDUP(DA16*$DB$6/100,0) -> 0 | DC16: =AK16 -> 0 | DD16: =AL16 -> 0 | DE16: =AM16 -> 0 | DF16: =AN16 -> 0 | DG16: =SUM(DC16:DF16) -> 0 | DH16: =SUM(DG16,DB16) -> 0 | DI16: =AO16 -> 0 | DJ16: =AP16 -> 0 | DK16: =AQ16 -> 0 | DL16: =AR16 -> 0 | DM16: =SUM(DI16:DL16) -> 0 | DN16: =ROUNDUP(DM16*$DN$6/100,0) -> 0 | DO16: =AS16 -> 0 | DP16: =AT16 -> 0 | DQ16: =AU16 -> 0 | DR16: =AV16 -> 0 | DS16: =SUM(DO16:DR16) -> 0 | DT16: =SUM(DS16,DN16) -> 0 | DU16: =AW16 -> 0 | DV16: =AX16 -> 0 | DW16: =AY16 -> 0 | DX16: =AZ16 -> 0 | DY16: =SUM(DU16:DX16) -> 0 | DZ16: =ROUNDUP(DY16*$DZ$6/100,0) -> 0 | EA16: =BA16 -> 0 | EB16: =BB16 -> 0 | EC16: =BC16 -> 0 | ED16: =BD16 -> 0 | EE16: =SUM(EA16:ED16) -> 0 | EF16: =SUM(EE16,DZ16) -> 0 | EG16: =BE16 -> 0 | EH16: =BF16 -> 0 | EI16: =BG16 -> 0 | EJ16: =BH16 -> 0 | EK16: =SUM(EG16:EJ16) -> 0 | EL16: =ROUNDUP(EK16*$EL$6/100,0) -> 0 | EM16: =BI16 -> 0 | EN16: =BJ16 -> 0 | EO16: =BK16 -> 0 | EP16: =BL16 -> 0 | EQ16: =SUM(EM16:EP16) -> 0 | ER16: =SUM(EL16,EQ16) -> 0 | ES16: =BM16 -> 0 | ET16: =BN16 -> 0 | EU16: =BO16 -> 0 | EV16: =BP16 -> 0 | EW16: =SUM(ES16:EV16) -> 0 | EX16: =ROUNDUP(EW16*$EX$6/100,0) -> 0 | EY16: =BQ16 -> 0 | EZ16: =BR16 | FA16: =BS16 -> 0 | FB16: =BT16 -> 0 | FC16: =SUM(EY16:FB16) -> 0 | FD16: =SUM(EX16,FC16) -> 0 | FR16: Urdu Lit.-22 | FS16: A
A17: =G17 -> 0 | B17: 9 | C17: 9 | D17: =IF(E17>0,$G$4,0) -> 12 | E17: ='Data Paste From Shala Darpan'!D10 -> 1707 | F17: =IF(OR(E16="",F16=""),"",F16+1) | G17: ='Data Paste From Shala Darpan'!L10 -> 0 | H17: ='Data Paste From Shala Darpan'!F10 -> Irfan | I17: ='Data Paste From Shala Darpan'!H10 -> Pappu Ram | J17: ='Data Paste From Shala Darpan'!I10 -> Shanti | K17: ='Data Paste From Shala Darpan'!K10 -> 40461 | L17: =IF(G17=0,"",$L$7) | N17: =IF(OR(L17=0,M17=0,L17="",M17=""),"",M17/L17*100) | O17: =IF(N17="",0,IF(N17>=86,3,IF(N17>=81,2,IF(N17>=75,1,0)))) -> 0 | V17: =IF(OR($Q$3="",$G17=""),"",IF($Q$1="c",$O17/2,$O17)) -> 0 | AD17: =IF(OR($Y$3="",$G17=""),"",IF($Y$1="c",$O17/2,$O17)) -> 0 | AL17: =IF(OR($AG$3="",$G17=""),"",IF($AG$1="c",$O17/2,$O17)) -> 0 | AT17: =IF(OR($AO$3="",$G17=""),"",IF($AO$1="c",$O17/2,$O17)) -> 0 | BB17: =IF(OR($AW$3="",$G17=""),"",IF($AW$1="c",$O17/2,$O17)) -> 0 | BJ17: =IF(OR($BE$3="",$G17=""),"",IF($BE$1="c",$O17/2,$O17)) -> 0 | BR17: =IF(OR($BM$3="",$G17=""),"",IF($BM$1="c",$O17/2,$O17)) | BU17: 0 | BV17: 0 | BW17: 0 | BX17: =IF(BW17>=80,"A",IF(BW17>=60,"B",IF(BW17>=50,"C","D"))) -> D | BY17: =Q17 -> 0 | BZ17: =R17 -> 0 | CA17: =S17 -> 0 | CB17: =T17 -> 0 | CC17: =SUM(BY17:CB17) -> 0 | CD17: =ROUNDUP(CC17*$CD$6/100,0) -> 0 | CE17: =U17 -> 0 | CF17: =V17 -> 0 | CG17: =W17 -> 0 | CH17: =X17 -> 0 | CI17: =SUM(CE17:CH17) -> 0 | CJ17: =SUM(CI17,CD17) -> 0 | CK17: =Y17 -> 0 | CL17: =Z17 -> 0 | CM17: =AA17 -> 0 | CN17: =AB17 -> 0 | CO17: =SUM(CK17:CN17) -> 0 | CP17: =ROUNDUP(CO17*$CP$6/100,0) -> 0 | CQ17: =AC17 -> 0 | CR17: =AD17 -> 0 | CS17: =AE17 -> 0 | CT17: =AF17 -> 0 | CU17: =SUM(CQ17:CT17) -> 0 | CV17: =SUM(CU17,CP17) -> 0 | CW17: =AG17 -> 0 | CX17: =AH17 -> 0 | CY17: =AI17 -> 0 | CZ17: =AJ17 -> 0 | DA17: =SUM(CW17:CZ17) -> 0 | DB17: =ROUNDUP(DA17*$DB$6/100,0) -> 0 | DC17: =AK17 -> 0 | DD17: =AL17 -> 0 | DE17: =AM17 -> 0 | DF17: =AN17 -> 0 | DG17: =SUM(DC17:DF17) -> 0 | DH17: =SUM(DG17,DB17) -> 0 | DI17: =AO17 -> 0 | DJ17: =AP17 -> 0 | DK17: =AQ17 -> 0 | DL17: =AR17 -> 0 | DM17: =SUM(DI17:DL17) -> 0 | DN17: =ROUNDUP(DM17*$DN$6/100,0) -> 0 | DO17: =AS17 -> 0 | DP17: =AT17 -> 0 | DQ17: =AU17 -> 0 | DR17: =AV17 -> 0 | DS17: =SUM(DO17:DR17) -> 0 | DT17: =SUM(DS17,DN17) -> 0 | DU17: =AW17 -> 0 | DV17: =AX17 -> 0 | DW17: =AY17 -> 0 | DX17: =AZ17 -> 0 | DY17: =SUM(DU17:DX17) -> 0 | DZ17: =ROUNDUP(DY17*$DZ$6/100,0) -> 0 | EA17: =BA17 -> 0 | EB17: =BB17 -> 0 | EC17: =BC17 -> 0 | ED17: =BD17 -> 0 | EE17: =SUM(EA17:ED17) -> 0 | EF17: =SUM(EE17,DZ17) -> 0 | EG17: =BE17 -> 0 | EH17: =BF17 -> 0 | EI17: =BG17 -> 0 | EJ17: =BH17 -> 0 | EK17: =SUM(EG17:EJ17) -> 0 | EL17: =ROUNDUP(EK17*$EL$6/100,0) -> 0 | EM17: =BI17 -> 0 | EN17: =BJ17 -> 0 | EO17: =BK17 -> 0 | EP17: =BL17 -> 0 | EQ17: =SUM(EM17:EP17) -> 0 | ER17: =SUM(EL17,EQ17) -> 0 | ES17: =BM17 -> 0 | ET17: =BN17 -> 0 | EU17: =BO17 -> 0 | EV17: =BP17 -> 0 | EW17: =SUM(ES17:EV17) -> 0 | EX17: =ROUNDUP(EW17*$EX$6/100,0) -> 0 | EY17: =BQ17 -> 0 | EZ17: =BR17 | FA17: =BS17 -> 0 | FB17: =BT17 -> 0 | FC17: =SUM(EY17:FB17) -> 0 | FD17: =SUM(EX17,FC17) -> 0 | FR17: Punjabi Lit.-25 | FS17: A
A18: =G18 -> 0 | B18: 10 | C18: 10 | D18: =IF(E18>0,$G$4,0) -> 12 | E18: ='Data Paste From Shala Darpan'!D11 -> 1882 | F18: =IF(OR(E17="",F17=""),"",F17+1) | G18: ='Data Paste From Shala Darpan'!L11 -> 0 | H18: ='Data Paste From Shala Darpan'!F11 -> JHANNU KANWAR | I18: ='Data Paste From Shala Darpan'!H11 -> PADAM SINGH | J18: ='Data Paste From Shala Darpan'!I11 -> BHANWAR KANWAR | K18: ='Data Paste From Shala Darpan'!K11 -> 41054 | L18: =IF(G18=0,"",$L$7) | N18: =IF(OR(L18=0,M18=0,L18="",M18=""),"",M18/L18*100) | O18: =IF(N18="",0,IF(N18>=86,3,IF(N18>=81,2,IF(N18>=75,1,0)))) -> 0 | V18: =IF(OR($Q$3="",$G18=""),"",IF($Q$1="c",$O18/2,$O18)) -> 0 | AD18: =IF(OR($Y$3="",$G18=""),"",IF($Y$1="c",$O18/2,$O18)) -> 0 | AL18: =IF(OR($AG$3="",$G18=""),"",IF($AG$1="c",$O18/2,$O18)) -> 0 | AT18: =IF(OR($AO$3="",$G18=""),"",IF($AO$1="c",$O18/2,$O18)) -> 0 | BB18: =IF(OR($AW$3="",$G18=""),"",IF($AW$1="c",$O18/2,$O18)) -> 0 | BJ18: =IF(OR($BE$3="",$G18=""),"",IF($BE$1="c",$O18/2,$O18)) -> 0 | BR18: =IF(OR($BM$3="",$G18=""),"",IF($BM$1="c",$O18/2,$O18)) | BU18: 0 | BV18: 0 | BW18: 0 | BX18: =IF(BW18>=80,"A",IF(BW18>=60,"B",IF(BW18>=50,"C","D"))) -> D | BY18: =Q18 -> 0 | BZ18: =R18 -> 0 | CA18: =S18 -> 0 | CB18: =T18 -> 0 | CC18: =SUM(BY18:CB18) -> 0 | CD18: =ROUNDUP(CC18*$CD$6/100,0) -> 0 | CE18: =U18 -> 0 | CF18: =V18 -> 0 | CG18: =W18 -> 0 | CH18: =X18 -> 0 | CI18: =SUM(CE18:CH18) -> 0 | CJ18: =SUM(CI18,CD18) -> 0 | CK18: =Y18 -> 0 | CL18: =Z18 -> 0 | CM18: =AA18 -> 0 | CN18: =AB18 -> 0 | CO18: =SUM(CK18:CN18) -> 0 | CP18: =ROUNDUP(CO18*$CP$6/100,0) -> 0 | CQ18: =AC18 -> 0 | CR18: =AD18 -> 0 | CS18: =AE18 -> 0 | CT18: =AF18 -> 0 | CU18: =SUM(CQ18:CT18) -> 0 | CV18: =SUM(CU18,CP18) -> 0 | CW18: =AG18 -> 0 | CX18: =AH18 -> 0 | CY18: =AI18 -> 0 | CZ18: =AJ18 -> 0 | DA18: =SUM(CW18:CZ18) -> 0 | DB18: =ROUNDUP(DA18*$DB$6/100,0) -> 0 | DC18: =AK18 -> 0 | DD18: =AL18 -> 0 | DE18: =AM18 -> 0 | DF18: =AN18 -> 0 | DG18: =SUM(DC18:DF18) -> 0 | DH18: =SUM(DG18,DB18) -> 0 | DI18: =AO18 -> 0 | DJ18: =AP18 -> 0 | DK18: =AQ18 -> 0 | DL18: =AR18 -> 0 | DM18: =SUM(DI18:DL18) -> 0 | DN18: =ROUNDUP(DM18*$DN$6/100,0) -> 0 | DO18: =AS18 -> 0 | DP18: =AT18 -> 0 | DQ18: =AU18 -> 0 | DR18: =AV18 -> 0 | DS18: =SUM(DO18:DR18) -> 0 | DT18: =SUM(DS18,DN18) -> 0 | DU18: =AW18 -> 0 | DV18: =AX18 -> 0 | DW18: =AY18 -> 0 | DX18: =AZ18 -> 0 | DY18: =SUM(DU18:DX18) -> 0 | DZ18: =ROUNDUP(DY18*$DZ$6/100,0) -> 0 | EA18: =BA18 -> 0 | EB18: =BB18 -> 0 | EC18: =BC18 -> 0 | ED18: =BD18 -> 0 | EE18: =SUM(EA18:ED18) -> 0 | EF18: =SUM(EE18,DZ18) -> 0 | EG18: =BE18 -> 0 | EH18: =BF18 -> 0 | EI18: =BG18 -> 0 | EJ18: =BH18 -> 0 | EK18: =SUM(EG18:EJ18) -> 0 | EL18: =ROUNDUP(EK18*$EL$6/100,0) -> 0 | EM18: =BI18 -> 0 | EN18: =BJ18 -> 0 | EO18: =BK18 -> 0 | EP18: =BL18 -> 0 | EQ18: =SUM(EM18:EP18) -> 0 | ER18: =SUM(EL18,EQ18) -> 0 | ES18: =BM18 -> 0 | ET18: =BN18 -> 0 | EU18: =BO18 -> 0 | EV18: =BP18 -> 0 | EW18: =SUM(ES18:EV18) -> 0 | EX18: =ROUNDUP(EW18*$EX$6/100,0) -> 0 | EY18: =BQ18 -> 0 | EZ18: =BR18 | FA18: =BS18 -> 0 | FB18: =BT18 -> 0 | FC18: =SUM(EY18:FB18) -> 0 | FD18: =SUM(EX18,FC18) -> 0 | FR18: Music Vocals-16 | FS18: C
A19: =G19 -> 0 | B19: 11 | C19: 11 | D19: =IF(E19>0,$G$4,0) -> 12 | E19: ='Data Paste From Shala Darpan'!D12 -> 1249 | F19: =IF(OR(E18="",F18=""),"",F18+1) | G19: ='Data Paste From Shala Darpan'!L12 -> 0 | H19: ='Data Paste From Shala Darpan'!F12 -> JYOTI | I19: ='Data Paste From Shala Darpan'!H12 -> OMA RAM | J19: ='Data Paste From Shala Darpan'!I12 -> RADHA | K19: ='Data Paste From Shala Darpan'!K12 -> 41015 | L19: =IF(G19=0,"",$L$7) | N19: =IF(OR(L19=0,M19=0,L19="",M19=""),"",M19/L19*100) | O19: =IF(N19="",0,IF(N19>=86,3,IF(N19>=81,2,IF(N19>=75,1,0)))) -> 0 | V19: =IF(OR($Q$3="",$G19=""),"",IF($Q$1="c",$O19/2,$O19)) -> 0 | AD19: =IF(OR($Y$3="",$G19=""),"",IF($Y$1="c",$O19/2,$O19)) -> 0 | AL19: =IF(OR($AG$3="",$G19=""),"",IF($AG$1="c",$O19/2,$O19)) -> 0 | AT19: =IF(OR($AO$3="",$G19=""),"",IF($AO$1="c",$O19/2,$O19)) -> 0 | BB19: =IF(OR($AW$3="",$G19=""),"",IF($AW$1="c",$O19/2,$O19)) -> 0 | BJ19: =IF(OR($BE$3="",$G19=""),"",IF($BE$1="c",$O19/2,$O19)) -> 0 | BR19: =IF(OR($BM$3="",$G19=""),"",IF($BM$1="c",$O19/2,$O19)) | BU19: 0 | BV19: 0 | BW19: 0 | BX19: =IF(BW19>=80,"A",IF(BW19>=60,"B",IF(BW19>=50,"C","D"))) -> D | BY19: =Q19 -> 0 | BZ19: =R19 -> 0 | CA19: =S19 -> 0 | CB19: =T19 -> 0 | CC19: =SUM(BY19:CB19) -> 0 | CD19: =ROUNDUP(CC19*$CD$6/100,0) -> 0 | CE19: =U19 -> 0 | CF19: =V19 -> 0 | CG19: =W19 -> 0 | CH19: =X19 -> 0 | CI19: =SUM(CE19:CH19) -> 0 | CJ19: =SUM(CI19,CD19) -> 0 | CK19: =Y19 -> 0 | CL19: =Z19 -> 0 | CM19: =AA19 -> 0 | CN19: =AB19 -> 0 | CO19: =SUM(CK19:CN19) -> 0 | CP19: =ROUNDUP(CO19*$CP$6/100,0) -> 0 | CQ19: =AC19 -> 0 | CR19: =AD19 -> 0 | CS19: =AE19 -> 0 | CT19: =AF19 -> 0 | CU19: =SUM(CQ19:CT19) -> 0 | CV19: =SUM(CU19,CP19) -> 0 | CW19: =AG19 -> 0 | CX19: =AH19 -> 0 | CY19: =AI19 -> 0 | CZ19: =AJ19 -> 0 | DA19: =SUM(CW19:CZ19) -> 0 | DB19: =ROUNDUP(DA19*$DB$6/100,0) -> 0 | DC19: =AK19 -> 0 | DD19: =AL19 -> 0 | DE19: =AM19 -> 0 | DF19: =AN19 -> 0 | DG19: =SUM(DC19:DF19) -> 0 | DH19: =SUM(DG19,DB19) -> 0 | DI19: =AO19 -> 0 | DJ19: =AP19 -> 0 | DK19: =AQ19 -> 0 | DL19: =AR19 -> 0 | DM19: =SUM(DI19:DL19) -> 0 | DN19: =ROUNDUP(DM19*$DN$6/100,0) -> 0 | DO19: =AS19 -> 0 | DP19: =AT19 -> 0 | DQ19: =AU19 -> 0 | DR19: =AV19 -> 0 | DS19: =SUM(DO19:DR19) -> 0 | DT19: =SUM(DS19,DN19) -> 0 | DU19: =AW19 -> 0 | DV19: =AX19 -> 0 | DW19: =AY19 -> 0 | DX19: =AZ19 -> 0 | DY19: =SUM(DU19:DX19) -> 0 | DZ19: =ROUNDUP(DY19*$DZ$6/100,0) -> 0 | EA19: =BA19 -> 0 | EB19: =BB19 -> 0 | EC19: =BC19 -> 0 | ED19: =BD19 -> 0 | EE19: =SUM(EA19:ED19) -> 0 | EF19: =SUM(EE19,DZ19) -> 0 | EG19: =BE19 -> 0 | EH19: =BF19 -> 0 | EI19: =BG19 -> 0 | EJ19: =BH19 -> 0 | EK19: =SUM(EG19:EJ19) -> 0 | EL19: =ROUNDUP(EK19*$EL$6/100,0) -> 0 | EM19: =BI19 -> 0 | EN19: =BJ19 -> 0 | EO19: =BK19 -> 0 | EP19: =BL19 -> 0 | EQ19: =SUM(EM19:EP19) -> 0 | ER19: =SUM(EL19,EQ19) -> 0 | ES19: =BM19 -> 0 | ET19: =BN19 -> 0 | EU19: =BO19 -> 0 | EV19: =BP19 -> 0 | EW19: =SUM(ES19:EV19) -> 0 | EX19: =ROUNDUP(EW19*$EX$6/100,0) -> 0 | EY19: =BQ19 -> 0 | EZ19: =BR19 | FA19: =BS19 -> 0 | FB19: =BT19 -> 0 | FC19: =SUM(EY19:FB19) -> 0 | FD19: =SUM(EX19,FC19) -> 0 | FR19: Drwaing-17 | FS19: C
