Workbook

Sheet Help
B2: For Help | D2: Programer
B3: माध्यमिक शिक्षा बोर्ड राजस्थान, बीकानेर द्वारा जारी विवरणिका/निर्देशानुसार सभी प्रकार के विद्यालय (निजी/सरकारी) के कक्षा 12 में अध्ययनरत विद्यार्थियों के सत्र 2022-23 के आगामी चरण के लिए भेजे जाने वाले सत्रांक की गणना हेतु इस प्रोग्राम को तैयार किया गया है जिसमें आप केवल ""Marks Entry"" शीट में ही आवश्यक पूर्तियां करें. सर्वप्रथम सबसे उपर पीले रंग के सेल्स में विद्यालय से सम्बंधित विवरण तथा फिर इसके निचे विद्यार्थियों के सम्बन्ध में विवरण भरें तत्पश्चात आगे उचित विषय का चयन कर उस विषयाध्यापक का नाम लिखें इसके पश्चात इन विषयों के निचे सम्बंधित परख/परीक्षा/गतिविधि वाले कॉलम में अंक भरें. तत्पश्चात आगामी शीट्स में आवश्यक प्रिंट प्राप्त करें.
B4: For Help watch the video my Youtube Channel Link
B5: https://youtu.be/DwpZ2aKjUzE
B6: OR search the youtube channel "Learn with ummed tarad"
B7: For my latest and updated usefull program visit links given bellow
B8: https://rajteachers.net/ummed-tarad-excel-software | C8: https://rajsevak.com/ummed-tarad-excel-software/ | D8: UMMED TARAD
B9: https://www.ashwinisharma.com/p/ummed-tarad-excel-programs.html | C9: https://shalasugam.com/mr-ummed-tarad-excel-software/ | D9: (GSSS RAIMALWADA, JODHPUR)
B10: नोट:-हालाँकि यह प्रोग्राम पूर्णतया सावधानी के साथ बनाया गया है फिर भी किसी त्रुटि की स्थिति में आपके विवेक के साथ विभागीय नियम ही अंतिम रूप से मान्य होंगे, इसे अंतिम रूप देने से पहले अच्छी तरह से अवश्य जाँच लेवें | D10: Email Id-ummedtrdedu@gmail.com
A11: LAST UPDATE ON:-22-01-2026

Sheet Master
B2: t; fgUn | G2: oUns ekrje~ | N2: t; fgUn
B4: RESULT PREPARATION PROGRAM | Z4: 2019-20 | AA4: PRIMARY
K5: Subject Detail | M5: Staff Detail | Z5: 2019-21 | AA5: UPPER PRIMARY
B6: SESSION | D6: :- | E6: 2022-23 | K6: Sr. No. | L6: Subject's Name | M6: Sr. No. | N6: Teacher's Name | O6: Sr. No. | P6: Teacher's Name | Z6: 2019-22 | AA6: SECONDARY
K7: =IF(L7>1,1,0) -> 1 | L7: HINDI | M7: =IF(N7>1,1,0) -> 1 | N7: A | O7: =IF(P7>1,M20+1,0) -> 0 | Z7: 2019-21 | AA7: UPPER PRIMARY
B8: SCHOOL'S FULL NAME | D8: :- | E8: Govt. Sr. Secondary School Raimalwada | K8: =IF(L8>1,K7+1,0) -> 2 | L8: ENGLISH | M8: =IF(N8>1,M7+1,0) -> 2 | N8: B | O8: =IF(P8>1,O7+1,0) -> 0
K9: =IF(L9>1,K8+1,0) -> 3 | L9: SANSKRIT | M9: =IF(N9>1,M8+1,0) -> 3 | N9: C | O9: =IF(P9>1,O8+1,0) -> 0 | Z9: 2019-22 | AA9: SECONDARY
K10: =IF(L10>1,K9+1,0) -> 4 | L10: SCIENCE | M10: =IF(N10>1,M9+1,0) -> 4 | N10: D | O10: =IF(P10>1,O9+1,0) -> 0 | Z10: 2019-23 | AA10: SR. SECONDARY
B11: ADDRESS | D11: :- | E11: P.S.-Bapini (Jodhpur) | K11: =IF(L11>1,K10+1,0) -> 5 | L11: MATHEMATICS | M11: =IF(N11>1,M10+1,0) -> 5 | N11: E | O11: =IF(P11>1,O10+1,0) -> 0
K12: =IF(L12>1,K11+1,0) -> 6 | L12: SOCIAL SCIENCE | M12: =IF(N12>1,M11+1,0) -> 6 | N12: F | O12: =IF(P12>1,O11+1,0) -> 0 | R12: CREATOR:- | Z12: 2019-24
K13: =IF(L13>1,K12+1,0) -> 7 | L13: Work Exp. | M13: =IF(N13>1,M12+1,0) -> 7 | N13: G | O13: =IF(P13>1,O12+1,0) -> 0 | Z13: 2019-23 | AA13: SR. SECONDARY
B14: U-DISE CODE | D14: :- | E14: 8151106901 | K14: =IF(L14>1,K13+1,0) -> 8 | L14: Art Edu. | M14: =IF(N14>1,M13+1,0) -> 0 | O14: =IF(P14>1,O13+1,0) -> 0 | Z14: 2019-24
K15: =IF(L15>1,K14+1,0) -> 9 | L15: H&P Edu. | M15: =IF(N15>1,M14+1,0) -> 0 | O15: =IF(P15>1,O14+1,0) -> 0 | Z15: 2019-25
B16: NAME OF PRINCIPAL | D16: :- | K16: =IF(L16>1,K15+1,0) -> 0 | M16: =IF(N16>1,M15+1,0) -> 0 | O16: =IF(P16>1,O15+1,0) -> 0 | Z16: 2019-26
K17: =IF(L17>1,K16+1,0) -> 0 | M17: =IF(N17>1,M16+1,0) -> 0 | O17: =IF(P17>1,O16+1,0) -> 0
B18: SCHOOL TYPE | D18: :- | E18: ='Marks Entry'!K1 -> 0 | K18: =IF(L18>1,K17+1,0) -> 0 | M18: =IF(N18>1,M17+1,0) -> 0 | O18: =IF(P18>1,O17+1,0) -> 0
K19: =IF(L19>1,K18+1,0) -> 0 | M19: =IF(N19>1,M18+1,0) -> 0 | O19: =IF(P19>1,O18+1,0) -> 0 | Z19: 2019-25
K20: =IF(L20>1,K19+1,0) -> 0 | M20: =IF(N20>1,M19+1,0) -> 0 | O20: =IF(P20>1,O19+1,0) -> 0 | R20: EMAIL ID-ummedtrdedu@gmail.com | Z20: 2019-26
A21: Update On :-05-02-2023 | Z21: 2019-27

Sheet Data Paste From Shala Darpan
B1: Class | C1: Section | D1: SRNO | E1: DOA | F1: Name | G1: Late Status | H1: FatherName | I1: MotherName | J1: Gender | K1: Dob | L1: ClassRollNo | M1: ExamRollNumber | N1: School Total Working Days | O1: Student Total Attendence | P1: Category | Q1: Religion | R1: Previous Year Marks | S1: Name Of School | T1: School UDise Code | U1: Aadhar No of Student | V1: Bhamashash Card | W1: Mobile No Student(Father/Mother/Guardian | X1: Student Permanent Address | Y1: Annual Parental Income | Z1: CWSN Status | AA1: BPL Status | AB1: Minority Status | AC1: Age On Present(In Years) | AD1: Co-Curricular Activity | AE1: Distance From School
A2: 1 | B2: 12 | C2: A | D2: 1251 | E2: 42921 | F2: AASI | H2: JETHA RAM | I2: SANTOSH | J2: F | K2: 40940 | L2: 1201 | N2: 0 | P2: OBC | Q2: Hindu | S2: GOVT. SENIOR SECONDARY SCHOOL RAIMALWADA (220311) | T2: 8151106901 | U2: XXXX7233 | V2: VPXBSSX | W2: 9636639353 | X2: DANANIYO KI DHANI, RAIMALWADA,BAPINI,DANANIYO KI DHANI, RAIMALWADA,342312 | Y2: 60000 | Z2: N | AA2: N | AB2: No | AC2: 18 | AD2: None | AE2: 5
A3: 2 | B3: 12 | C3: A | D3: 1841 | E3: 44747 | F3: ANITA | H3: HEMA RAM | I3: JAITI | J3: F | K3: 41279
A4: 3 | B4: 12 | C4: A | D4: 1916 | E4: 44781 | F4: DEVI | H4: DUNGAR RAM | I4: RAJO DEVI | J4: F | K4: 40127
A5: 4 | B5: 12 | C5: A | D5: 1853 | E5: 44754 | F5: Ganpat Ram | H5: GUMANA RAM | I5: KAMLA | J5: M | K5: 40660
A6: 5 | B6: 12 | C6: A | D6: 1915 | E6: 44781 | F6: GOMTI | H6: DUNGAR RAM | I6: RAJO DEVI | J6: F | K6: 40715
A7: 6 | B7: 12 | C7: A | D7: 1863 | E7: 44755 | F7: GOMTI | H7: TIKU RAM | I7: Babi | J7: F | K7: 41122
A8: 7 | B8: 12 | C8: A | D8: 1331 | E8: 43083 | F8: HANUMAN | H8: CHUNA RAM | I8: JASODA | J8: M | K8: 40544
A9: 8 | B9: 12 | C9: A | D9: 1421 | E9: 43301 | F9: HUKMICHAND | H9: OMA RAM | I9: GANGA DEVI | J9: M | K9: 40975
A10: 9 | B10: 12 | C10: A | D10: 1707 | F10: Irfan | H10: Pappu Ram | I10: Shanti | J10: M | K10: 40461
A11: 10 | B11: 12 | C11: A | D11: 1882 | E11: 44755 | F11: JHANNU KANWAR | H11: PADAM SINGH | I11: BHANWAR KANWAR | J11: F | K11: 41054
A12: 11 | B12: 12 | C12: A | D12: 1249 | F12: JYOTI | H12: OMA RAM | I12: RADHA | J12: F | K12: 41015
A13: 12 | B13: 12 | C13: A | D13: 1899 | E13: 44758 | F13: KAUSHLYA | G13: Late | H13: SUNDAR RAM | I13: CHHOTI | J13: F | K13: 39925
A14: 13 | B14: 12 | C14: A | D14: 1248 | F14: KAVITA | H14: BHOJA RAM | I14: SITA | J14: F | K14: 41075
A15: 14
A16: 15
A17: 16
A18: 17
A19: 18
A20: 19
A21: 20
A22: 21
A23: 22
A24: 23
A25: 24
A26: 25
... A271: 270

Sheet Marks Entry
C1: School's Name:- | G1: Govt. Sr. Sec. School | Q1: =IF(Q3="","",VLOOKUP(Q3,$FR$3:$FS$41,2,0)) -> A | Y1: =IF(Y3="","",VLOOKUP(Y3,$FR$3:$FS$41,2,0)) -> A | AG1: =IF(AG3="","",VLOOKUP(AG3,$FR$3:$FS$41,2,0)) -> A | AO1: =IF(AO3="","",VLOOKUP(AO3,$FR$3:$FS$41,2,0)) -> A | AW1: =IF(AW3="","",VLOOKUP(AW3,$FR$3:$FS$41,2,0)) -> A | BE1: =IF(BE3="","",VLOOKUP(BE3,$FR$3:$FS$41,2,0)) -> B | BM1: =IF(BM3="","",VLOOKUP(BM3,$FR$3:$FS$41,2,0)) | BY1: =Q1 -> A | CK1: =Y1 -> A | CW1: =AG1 -> A | DI1: =AO1 -> A | DU1: =AW1 -> A | EG1: =BE1 -> B | ES1: =BM1
C3: School U-Dise Code :- | G3: 815000000 | I3: Session :- | J3: 2025-26 | L3: Attendance | O3: Marks Of Attendance | P3: Subjects® | Q3: Comp. Hindi-01 | Y3: Comp. English-02 | AG3: Pol. Science-11 | AO3: History-13 | AW3: Hindi Lit.-21 | BE3: Geology-43 | BU3: GLOR.INDIA AFTER IND.-II-79 | BW3: Social Ser. Plan-78 | BY3: =IF(Q3="","",Q3) -> Comp. Hindi-01 | CK3: =IF(Y3="","",Y3) -> Comp. English-02 | CW3: =IF(AG3="","",AG3) -> Pol. Science-11 | DI3: =IF(AO3="","",AO3) -> History-13 | DU3: =IF(AW3="","",AW3) -> Hindi Lit.-21 | EG3: =IF(BE3="","",BE3) -> Geology-43 | ES3: =IF(BM3="","",BM3) | FR3: Comp. Hindi-01 | FS3: A | FV3: A | FW3: 80+20 | FX3: 10 | FY3: 10 | FZ3: 10 | GA3: 70 | GB3: 10 | GC3: 5 | GD3: 3 | GE3: 2 | GF3: =SUM(GB3:GE3) -> 20
C4: Class - | G4: 12 | I4: Saction :- | J4: ARTS | L4: Total Attendance | M4: Student's Attendance | N4: Attandance % | P4: Sub.Teacher® | Q4: HGHV | BY4: =Q5 -> First Test | BZ4: =R5 -> Second Test | CA4: =S5 -> Third Test | CB4: =T5 -> Half Yearly | CC4: Total | CD4: =IF(CD6=20,"20% Up to Half Yearly","10% Up to Half Yearly") -> 10% Up to Half Yearly | CE4: =U5 -> Project | CF4: =V5 -> Attendance | CG4: =W5 -> Plantation | CH4: =X5 -> Behaviour | CI4: Total | CJ4: Sessional Marks | CK4: First Test | CL4: Second Test | CM4: Third Test | CN4: Half Yearly | CO4: Total | CP4: =IF(CP6=20,"20% Up to Half Yearly","10% Up to Half Yearly") -> 10% Up to Half Yearly | CQ4: Project | CR4: Attendance | CS4: Plantation | CT4: Behaviour | CU4: Total | CV4: Sessional Marks | CW4: First Test | CX4: Second Test | CY4: Third Test | CZ4: Half Yearly | DA4: Total | DB4: =IF(DB6=20,"20% Up to Half Yearly","10% Up to Half Yearly") -> 10% Up to Half Yearly | DC4: Project | DD4: Attendance | DE4: Plantation | DF4: Behaviour | DG4: Total | DH4: Sessional Marks | DI4: First Test | DJ4: Second Test | DK4: Third Test | DL4: Half Yearly | DM4: Total | DN4: =IF(DN6=20,"20% Up to Half Yearly","10% Up to Half Yearly") -> 10% Up to Half Yearly | DO4: Project | DP4: Attendance | DQ4: Plantation | DR4: Behaviour | DS4: Total | DT4: Sessional Marks | DU4: First Test | DV4: Second Test | DW4: Third Test | DX4: Half Yearly | DY4: =IF(AND(Master!$E$18="cce",OR(DU3="hindi",DU3="english",DU3="Mathematics")),"80% Up to H.Y.","Total") -> Total | DZ4: =IF(DZ6=20,"20% Up to Half Yearly","10% Up to Half Yearly") -> 10% Up to Half Yearly | EA4: Project | EB4: Attendance | EC4: Plantation | ED4: Behaviour | EE4: Total | EF4: Sessional Marks | EG4: First Test | EH4: Second Test | EI4: Third Test | EJ4: Half Yearly | EK4: =IF(AND(Master!$E$18="cce",OR(EG3="hindi",EG3="english",EG3="Mathematics")),"80% Up to H.Y.","Total") -> Total | EL4: =IF(EL6=20,"20% Up to Half Yearly","10% Up to Half Yearly") -> 10% Up to Half Yearly | EM4: Project | EN4: Attendance | EO4: Plantation | EP4: Behaviour | EQ4: Total | ER4: Sessional Marks | ES4: First Test | ET4: Second Test | EU4: Third Test | EV4: Half Yearly | EW4: =IF(AND(Master!$E$18="cce",OR(ES3="hindi",ES3="english",ES3="Mathematics")),"80% Up to H.Y.","Total") -> Total | EX4: =IF(EX6=20,"20% Up to Half Yearly","10% Up to Half Yearly") -> 10% Up to Half Yearly | EY4: Project | EZ4: Attendance | FA4: Plantation | FB4: Behaviour | FC4: Total | FD4: Sessional Marks | FR4: Comp. English-02 | FS4: A | FV4: B | FW4: 56+14+30 | FX4: 10 | FY4: 10 | FZ4: 10 | GA4: 40 | GB4: 7 | GC4: 3 | GD4: 3 | GE4: 1 | GF4: =SUM(GB4:GE4) -> 14
C5: Student Related Basic Details | Q5: =IF(Q7="","","First Test") -> First Test | R5: =IF(R7="","","Second Test") -> Second Test | S5: =IF(S7="","","Third Test") -> Third Test | T5: =IF(T7="","","Half Yearly") -> Half Yearly | U5: =IF(U7="","","Project") -> Project | V5: =IF(V7="","","Attendance") -> Attendance | W5: =IF(W7="","","Plantation") -> Plantation | X5: =IF(X7="","","Behaviour") -> Behaviour | Y5: =IF(Y7="","","First Test") -> First Test | Z5: =IF(Z7="","","Second Test") -> Second Test | AA5: =IF(AA7="","","Third Test") -> Third Test | AB5: =IF(AB7="","","Half Yearly") -> Half Yearly | AC5: =IF(AC7="","","Project") -> Project | AD5: =IF(AD7="","","Attendance") -> Attendance | AE5: =IF(AE7="","","Plantation") -> Plantation | AF5: =IF(AF7="","","Behaviour") -> Behaviour | AG5: =IF(AG7="","","First Test") -> First Test | AH5: =IF(AH7="","","Second Test") -> Second Test | AI5: =IF(AI7="","","Third Test") -> Third Test | AJ5: =IF(AJ7="","","Half Yearly") -> Half Yearly | AK5: =IF(AK7="","","Project") -> Project | AL5: =IF(AL7="","","Attendance") -> Attendance | AM5: =IF(AM7="","","Plantation") -> Plantation | AN5: =IF(AN7="","","Behaviour") -> Behaviour | AO5: =IF(AO7="","","First Test") -> First Test | AP5: =IF(AP7="","","Second Test") -> Second Test | AQ5: =IF(AQ7="","","Third Test") -> Third Test | AR5: =IF(AR7="","","Half Yearly") -> Half Yearly | AS5: =IF(AS7="","","Project") -> Project | AT5: =IF(AT7="","","Attendance") -> Attendance | AU5: =IF(AU7="","","Plantation") -> Plantation | AV5: =IF(AV7="","","Behaviour") -> Behaviour | AW5: =IF(AW7="","","First Test") -> First Test | AX5: =IF(AX7="","","Second Test") -> Second Test | AY5: =IF(AY7="","","Third Test") -> Third Test | AZ5: =IF(AZ7="","","Half Yearly") -> Half Yearly | BA5: =IF(BA7="","","Project") -> Project | BB5: =IF(BB7="","","Attendance") -> Attendance | BC5: =IF(BC7="","","Plantation") -> Plantation | BD5: =IF(BD7="","","Behaviour") -> Behaviour | BE5: =IF(BE7="","","First Test") -> First Test | BF5: =IF(BF7="","","Second Test") -> Second Test | BG5: =IF(BG7="","","Third Test") -> Third Test | BH5: =IF(BH7="","","Half Yearly") -> Half Yearly | BI5: =IF(BI7="","","Project") -> Project | BJ5: =IF(BJ7="","","Attendance") -> Attendance | BK5: =IF(BK7="","","Plantation") -> Plantation | BL5: =IF(BL7="","","Behaviour") -> Behaviour | BM5: =IF(BM7="","","First Test") | BN5: =IF(BN7="","","Second Test") | BO5: =IF(BO7="","","Third Test") | BP5: =IF(BP7="","","Half Yearly") | BQ5: =IF(BQ7="","","Project") | BR5: =IF(BR7="","","Attendance") | BS5: =IF(BS7="","","Plantation") | BT5: =IF(BT7="","","Behaviour") | BU5: Theory | BV5: Project | BW5: Total Marks | BX5: Grade | FR5: GLOR.INDIA AFTER IND.-II-79 | FV5: C | FW5: 24+6+70 | FX5: 5 | FY5: 5 | FZ5: 5 | GA5: 15 | GB5: 3 | GC5: 0 | GD5: 1.5 | GE5: 1.5 | GF5: =SUM(GB5:GE5) -> 6
C6: Sr. No. | D6: Class | E6: Scholar Number | F6: Board Roll No. | G6: School Roll Number | H6: Student's Name | I6: Father's Name | J6: Mother's Name | K6: Date Of Birth | CD6: =IF(AND(BY1="d",CC7=50),20,10) -> 10 | CP6: =IF(AND(CK1="d",CO7=50),20,10) -> 10 | DB6: =IF(AND(CW1="d",DA7=50),20,10) -> 10 | DN6: =IF(AND(DI1="d",DM7=50),20,10) -> 10 | DZ6: =IF(AND(DU1="d",DY7=50),20,10) -> 10 | EL6: =IF(AND(EG1="d",EK7=50),20,10) -> 10 | EX6: =IF(AND(ES1="d",EW7=50),20,10) -> 10 | FR6: Social Ser. Plan-78 | FV6: D | FW6: 30+20+50 | FX6: 10 | FY6: 10 | FZ6: 10 | GA6: 20 | GB6: 10 | GC6: 5 | GD6: 3 | GE6: 2 | GF6: =SUM(GB6:GE6) -> 20
L7: 280 | Q7: =IF(OR(Q1="",Q3=""),"",IF(Q1="c",5,10)) -> 10 | R7: =IF(OR(Q1="",Q3=""),"",IF(Q1="c",5,10)) -> 10 | S7: =IF(OR(Q1="",Q3=""),"",IF(Q1="c",5,10)) -> 10 | T7: =IF(OR(Q1="",Q3=""),"",IF(Q1="b",40,IF(Q1="c",15,IF(Q1="a",70,20)))) -> 70 | U7: =IF(OR(Q1="",Q3=""),"",IF(OR(Q3=$FR3,Q3=$FR4),4,IF(Q1="b",3,IF(OR(Q1="c",Q1="e"),"",5)))) -> 4 | V7: =IF(OR(Q1="",Q3=""),"",IF(Q1="c",1.5,3)) -> 3 | W7: =IF(OR(Q1="",Q3=""),"",IF(Q1="b",1,IF(Q1="c",1.5,6-U7))) -> 2 | X7: 1 | Y7: =IF(OR(Y1="",Y3=""),"",IF(Y1="c",5,10)) -> 10 | Z7: =IF(OR(Y1="",Y3=""),"",IF(Y1="c",5,10)) -> 10 | AA7: =IF(OR(Y1="",Y3=""),"",IF(Y1="c",5,10)) -> 10 | AB7: =IF(OR(Y1="",Y3=""),"",IF(Y1="b",40,IF(Y1="c",15,IF(Y1="a",70,20)))) -> 70 | AC7: =IF(OR(Y1="",Y3=""),"",IF(OR(Y3=$FR3,Y3=$FR4),4,IF(Y1="b",3,IF(OR(Y1="c",Y1="e"),"",5)))) -> 4 | AD7: =IF(OR(Y1="",Y3=""),"",IF(Y1="c",1.5,3)) -> 3 | AE7: =IF(OR(Y1="",Y3=""),"",IF(Y1="b",1,IF(Y1="c",1.5,6-AC7))) -> 2 | AF7: 1 | AG7: =IF(OR(AG1="",AG3=""),"",IF(AG1="c",5,10)) -> 10 | AH7: =IF(OR(AG1="",AG3=""),"",IF(AG1="c",5,10)) -> 10 | AI7: =IF(OR(AG1="",AG3=""),"",IF(AG1="c",5,10)) -> 10 | AJ7: =IF(OR(AG1="",AG3=""),"",IF(AG1="b",40,IF(AG1="c",15,IF(AG1="a",70,20)))) -> 70 | AK7: =IF(OR(AG1="",AG3=""),"",IF(AG1="b",3,IF(OR(AG1="c",AG1="e"),"",5))) -> 5 | AL7: =IF(OR(AG1="",AG3=""),"",IF(AG1="c",1.5,3)) -> 3 | AM7: =IF(OR(AG1="",AG3=""),"",IF(AG1="b",1,IF(AG1="c",1.5,1))) -> 1 | AN7: 1 | AO7: =IF(OR(AO1="",AO3=""),"",IF(AO1="c",5,10)) -> 10 | AP7: =IF(OR(AO1="",AO3=""),"",IF(AO1="c",5,10)) -> 10 | AQ7: =IF(OR(AO1="",AO3=""),"",IF(AO1="c",5,10)) -> 10 | AR7: =IF(OR(AO1="",AO3=""),"",IF(AO1="b",40,IF(AO1="c",15,IF(AO1="a",70,20)))) -> 70 | AS7: =IF(OR(AO1="",AO3=""),"",IF(AO1="b",3,IF(OR(AO1="c",AO1="e"),"",5))) -> 5 | AT7: =IF(OR(AO1="",AO3=""),"",IF(AO1="c",1.5,3)) -> 3 | AU7: =IF(OR(AO1="",AO3=""),"",IF(AO1="b",1,IF(AO1="c",1.5,1))) -> 1 | AV7: 1 | AW7: =IF(OR(AW1="",AW3=""),"",IF(AW1="c",5,10)) -> 10 | AX7: =IF(OR(AW1="",AW3=""),"",IF(AW1="c",5,10)) -> 10 | AY7: =IF(OR(AW1="",AW3=""),"",IF(AW1="c",5,10)) -> 10 | AZ7: =IF(OR(AW1="",AW3=""),"",IF(AW1="b",40,IF(AW1="c",15,IF(AW1="a",70,20)))) -> 70 | BA7: =IF(OR(AW1="",AW3=""),"",IF(AW1="b",3,IF(OR(AW1="c",AW1="e"),"",5))) -> 5 | BB7: =IF(OR(AW1="",AW3=""),"",IF(AW1="c",1.5,3)) -> 3 | BC7: =IF(OR(AW1="",AW3=""),"",IF(AW1="b",1,IF(AW1="c",1.5,1))) -> 1 | BD7: 1 | BE7: =IF(OR(BE1="",BE3=""),"",IF(BE1="c",5,10)) -> 10 | BF7: =IF(OR(BE1="",BE3=""),"",IF(BE1="c",5,10)) -> 10 | BG7: =IF(OR(BE1="",BE3=""),"",IF(BE1="c",5,10)) -> 10 | BH7: =IF(OR(BE1="",BE3=""),"",IF(BE1="b",40,IF(BE1="c",15,IF(BE1="a",70,20)))) -> 40 | BI7: =IF(OR(BE1="",BE3=""),"",IF(BE1="b",3,IF(OR(BE1="c",BE1="e"),"",5))) -> 3 | BJ7: =IF(OR(BE1="",BE3=""),"",IF(BE1="c",1.5,3)) -> 3 | BK7: =IF(OR(BE1="",BE3=""),"",IF(BE1="b",1,IF(BE1="c",1.5,1))) -> 1 | BL7: =IF(OR(BE1="",BE3=""),"",IF(BE1="b",1,IF(BE1="c",1.5,1))) -> 1 | BM7: =IF(OR(BM1="",BM3=""),"",IF(BM1="c",5,10)) | BN7: =IF(OR(BM1="",BM3=""),"",IF(BM1="c",5,10)) | BO7: =IF(OR(BM1="",BM3=""),"",IF(BM1="c",5,10)) | BP7: =IF(OR(BM1="",BM3=""),"",IF(BM1="b",40,IF(BM1="c",15,IF(BM1="a",70,20)))) | BQ7: =IF(OR(BM1="",BM3=""),"",IF(BM1="b",3,IF(OR(BM1="c",BM1="e"),"",5))) | BR7: =IF(OR(BM1="",BM3=""),"",IF(BM1="c",1.5,3)) | BS7: =IF(OR(BM1="",BM3=""),"",IF(BM1="b",1,IF(BM1="c",1.5,1))) | BT7: =IF(OR(BM1="",BM3=""),"",IF(BM1="b",1,IF(BM1="c",1.5,1))) | BU7: 80 | BV7: 20 | BW7: 100 | BX7: A/B/C/D | BY7: =Q7 -> 10 | BZ7: =R7 -> 10 | CA7: =S7 -> 10 | CB7: =T7 -> 70 | CC7: =SUM(BY7:CB7) -> 100 | CD7: =ROUND(CC7*CD6/100,0) -> 10 | CE7: =U7 -> 4 | CF7: =V7 -> 3 | CG7: =W7 -> 2 | CH7: =X7 -> 1 | CI7: =SUM(CE7:CH7) -> 10 | CJ7: =SUM(CD7,CI7) -> 20 | CK7: =Y7 -> 10 | CL7: =Z7 -> 10 | CM7: =AA7 -> 10 | CN7: =AB7 -> 70 | CO7: =SUM(CK7:CN7) -> 100 | CP7: =ROUND(CO7*CP6/100,0) -> 10 | CQ7: =AC7 -> 4 | CR7: =AD7 -> 3 | CS7: =AE7 -> 2 | CT7: =AF7 -> 1 | CU7: =SUM(CQ7:CT7) -> 10 | CV7: =SUM(CP7,CU7) -> 20 | CW7: =AG7 -> 10 | CX7: =AH7 -> 10 | CY7: =AI7 -> 10 | CZ7: =AJ7 -> 70 | DA7: =SUM(CW7:CZ7) -> 100 | DB7: =ROUND(DA7*DB6/100,0) -> 10 | DC7: =AK7 -> 5 | DD7: =AL7 -> 3 | DE7: =AM7 -> 1 | DF7: =AN7 -> 1 | DG7: =SUM(DC7:DF7) -> 10 | DH7: =SUM(DB7,DG7) -> 20 | DI7: =AO7 -> 10 | DJ7: =AP7 -> 10 | DK7: =AQ7 -> 10 | DL7: =AR7 -> 70 | DM7: =SUM(DI7:DL7) -> 100 | DN7: =ROUND(DM7*DN6/100,0) -> 10 | DO7: =AS7 -> 5 | DP7: =AT7 -> 3 | DQ7: =AU7 -> 1 | DR7: =AV7 -> 1 | DS7: =SUM(DO7:DR7) -> 10 | DT7: =SUM(DN7,DS7) -> 20 | DU7: =AW7 -> 10 | DV7: =AX7 -> 10 | DW7: =AY7 -> 10 | DX7: =AZ7 -> 70 | DY7: =SUM(DU7:DX7) -> 100 | DZ7: =ROUND(DY7*DZ6/100,0) -> 10 | EA7: =BA7 -> 5 | EB7: =BB7 -> 3 | EC7: =BC7 -> 1 | ED7: =BD7 -> 1 | EE7: =SUM(EA7:ED7) -> 10 | EF7: =SUM(DZ7,EE7) -> 20 | EG7: =BE7 -> 10 | EH7: =BF7 -> 10 | EI7: =BG7 -> 10 | EJ7: =BH7 -> 40 | EK7: =SUM(EG7:EJ7) -> 70 | EL7: =ROUND(EK7*EL6/100,0) -> 7 | EM7: =BI7 -> 3 | EN7: =BJ7 -> 3 | EO7: =BK7 -> 1 | EP7: =BL7 -> 1 | EQ7: =SUM(EM7:EP7) -> 8 | ER7: =SUM(EL7,EQ7) -> 15 | ES7: =BM7 | ET7: =BN7 | EU7: =BO7 | EV7: =BP7 | EW7: =SUM(ES7:EV7) -> 0 | EX7: =ROUND(EW7*EX6/100,0) -> 0 | EY7: =BQ7 | EZ7: =BR7 | FA7: =BS7 | FB7: =BT7 | FC7: =SUM(EY7:FB7) -> 0 | FD7: =SUM(EX7,FC7) -> 0 | FR7: Economics-10 | FS7: A | FV7: E | FW7: 40+10+50 | FX7: 10 | FY7: 10 | FZ7: 10 | GA7: 20 | GB7: 5 | GC7: 0 | GD7: 3 | GE7: 2 | GF7: =SUM(GB7:GE7) -> 10
C8: 0 | D8: 0 | E8: 0 | F8: 0 | H8: 0 | I8: 0 | J8: 0 | K8: 0 | L8: 0 | M8: 0 | N8: 0 | T8: 0 | U8: =SUM(#REF!,#REF!) -> #REF! | X8: 0 | AB8: 0 | AC8: =SUM(#REF!,#REF!) -> #REF! | AF8: 0 | AJ8: 0 | AK8: =SUM(#REF!,#REF!) -> #REF! | AN8: 0 | AR8: 0 | AS8: =SUM(#REF!,#REF!) -> #REF! | AV8: 0 | AZ8: 0 | BA8: =SUM(#REF!,#REF!) -> #REF! | BD8: 0 | BH8: 0 | BI8: =SUM(#REF!,#REF!) -> #REF! | BL8: 0 | BP8: 0 | BQ8: =SUM(#REF!,#REF!) -> #REF! | BT8: 0 | BU8: 0 | BV8: 0 | BW8: 0 | BX8: 0 | BY8: 0 | BZ8: 0 | CA8: 0 | CB8: =IF(AND(CA8>=60,CD8="Pass"),"First",IF(AND(CA8>=60,CD8="Pass With G"),"First",IF(AND(CA8>=48,CD8="Pass"),"Second;",IF(AND(CA8>=48,CD8="Pass With G"),"Second",IF(OR(CD8="Pass",CD8="Pass With G"),"Third",CD8))))) -> #REF! | CD8: =IF($G8="NSO","NSO",IF(OR($G8="",$G8=0,T8="",#REF!="",#REF!="",#REF!="",#REF!="",#REF!=""),"",IF(OR(#REF!>0,(#REF!+#REF!+#REF!)>2),"FAIL",IF(OR(#REF!>0,#REF!>1),"SUPP.",IF(AND(#REF!>0,#REF!>0),"SUPP.",IF((#REF!+#REF!),"PASS With G","PASS")))))) -> #REF! | CK8: 0 | CL8: 0 | CM8: 0 | CN8: =IF(AND(CM8>=60,CP8="Pass"),"First",IF(AND(CM8>=60,CP8="Pass With G"),"First",IF(AND(CM8>=48,CP8="Pass"),"Second;",IF(AND(CM8>=48,CP8="Pass With G"),"Second",IF(OR(CP8="Pass",CP8="Pass With G"),"Third",CP8))))) -> #REF! | CP8: =IF($G8="NSO","NSO",IF(OR($G8="",$G8=0,AF8="",#REF!="",#REF!="",#REF!="",#REF!="",#REF!=""),"",IF(OR(#REF!>0,(#REF!+#REF!+#REF!)>2),"FAIL",IF(OR(#REF!>0,#REF!>1),"SUPP.",IF(AND(#REF!>0,#REF!>0),"SUPP.",IF((#REF!+#REF!),"PASS With G","PASS")))))) -> #REF! | CW8: 0 | CX8: 0 | CY8: 0 | CZ8: =IF(AND(CY8>=60,DB8="Pass"),"First",IF(AND(CY8>=60,DB8="Pass With G"),"First",IF(AND(CY8>=48,DB8="Pass"),"Second;",IF(AND(CY8>=48,DB8="Pass With G"),"Second",IF(OR(DB8="Pass",DB8="Pass With G"),"Third",DB8))))) -> #REF! | DB8: =IF($G8="NSO","NSO",IF(OR($G8="",$G8=0,AR8="",#REF!="",#REF!="",#REF!="",#REF!="",#REF!=""),"",IF(OR(#REF!>0,(#REF!+#REF!+#REF!)>2),"FAIL",IF(OR(#REF!>0,#REF!>1),"SUPP.",IF(AND(#REF!>0,#REF!>0),"SUPP.",IF((#REF!+#REF!),"PASS With G","PASS")))))) -> #REF! | DI8: 0 | DJ8: 0 | DK8: 0 | DL8: =IF(AND(DK8>=60,DN8="Pass"),"First",IF(AND(DK8>=60,DN8="Pass With G"),"First",IF(AND(DK8>=48,DN8="Pass"),"Second;",IF(AND(DK8>=48,DN8="Pass With G"),"Second",IF(OR(DN8="Pass",DN8="Pass With G"),"Third",DN8))))) -> #REF! | DN8: =IF($G8="NSO","NSO",IF(OR($G8="",$G8=0,BA8="",#REF!="",#REF!="",#REF!="",#REF!="",#REF!=""),"",IF(OR(#REF!>0,(#REF!+#REF!+#REF!)>2),"FAIL",IF(OR(#REF!>0,#REF!>1),"SUPP.",IF(AND(#REF!>0,#REF!>0),"SUPP.",IF((#REF!+#REF!),"PASS With G","PASS")))))) -> #REF! | DU8: 0 | DV8: 0 | DW8: 0 | DX8: =IF(AND(DW8>=60,DZ8="Pass"),"First",IF(AND(DW8>=60,DZ8="Pass With G"),"First",IF(AND(DW8>=48,DZ8="Pass"),"Second;",IF(AND(DW8>=48,DZ8="Pass With G"),"Second",IF(OR(DZ8="Pass",DZ8="Pass With G"),"Third",DZ8))))) -> #REF! | DZ8: =IF($G8="NSO","NSO",IF(OR($G8="",$G8=0,#REF!="",#REF!="",#REF!="",#REF!="",#REF!="",#REF!=""),"",IF(OR(#REF!>0,(#REF!+#REF!+#REF!)>2),"FAIL",IF(OR(#REF!>0,#REF!>1),"SUPP.",IF(AND(#REF!>0,#REF!>0),"SUPP.",IF((#REF!+#REF!),"PASS With G","PASS")))))) -> #REF! | EG8: 0 | EH8: 0 | EI8: 0 | EJ8: =IF(AND(EI8>=60,EL8="Pass"),"First",IF(AND(EI8>=60,EL8="Pass With G"),"First",IF(AND(EI8>=48,EL8="Pass"),"Second;",IF(AND(EI8>=48,EL8="Pass With G"),"Second",IF(OR(EL8="Pass",EL8="Pass With G"),"Third",EL8))))) -> #REF! | EL8: =IF($G8="NSO","NSO",IF(OR($G8="",$G8=0,#REF!="",#REF!="",#REF!="",#REF!="",#REF!="",#REF!=""),"",IF(OR(#REF!>0,(#REF!+#REF!+#REF!)>2),"FAIL",IF(OR(#REF!>0,#REF!>1),"SUPP.",IF(AND(#REF!>0,#REF!>0),"SUPP.",IF((#REF!+#REF!),"PASS With G","PASS")))))) -> #REF! | ES8: 0 | ET8: 0 | EU8: 0 | EV8: =IF(AND(EU8>=60,EX8="Pass"),"First",IF(AND(EU8>=60,EX8="Pass With G"),"First",IF(AND(EU8>=48,EX8="Pass"),"Second;",IF(AND(EU8>=48,EX8="Pass With G"),"Second",IF(OR(EX8="Pass",EX8="Pass With G"),"Third",EX8))))) -> #REF! | EX8: =IF($G8="NSO","NSO",IF(OR($G8="",$G8=0,CE8="",#REF!="",#REF!="",#REF!="",#REF!="",#REF!=""),"",IF(OR(#REF!>0,(#REF!+#REF!+#REF!)>2),"FAIL",IF(OR(#REF!>0,#REF!>1),"SUPP.",IF(AND(#REF!>0,#REF!>0),"SUPP.",IF((#REF!+#REF!),"PASS With G","PASS")))))) -> #REF!
A9: =G9 -> 1201 | B9: 1 | C9: 1 | D9: =IF(E9>0,$G$4,0) -> 12 | E9: ='Data Paste From Shala Darpan'!D2 -> 1251 | G9: ='Data Paste From Shala Darpan'!L2 -> 1201 | H9: ='Data Paste From Shala Darpan'!F2 -> AASI | I9: ='Data Paste From Shala Darpan'!H2 -> JETHA RAM | J9: ='Data Paste From Shala Darpan'!I2 -> SANTOSH | K9: ='Data Paste From Shala Darpan'!K2 -> 40940 | L9: =IF(G9=0,"",$L$7) -> 280 | M9: 274 | N9: =IF(OR(L9=0,M9=0,L9="",M9=""),"",M9/L9*100) -> 97.857143 | O9: =IF(N9="",0,IF(N9>=86,3,IF(N9>=81,2,IF(N9>=75,1,0)))) -> 3 | Q9: 5 | R9: 7 | S9: 8 | T9: 55 | U9: 5 | V9: =IF(OR($Q$3="",$G9=""),"",IF($Q$1="c",$O9/2,$O9)) -> 3 | X9: 1 | Y9: 7 | Z9: 7 | AA9: 7 | AB9: 50 | AC9: 5 | AD9: =IF(OR($Y$3="",$G9=""),"",IF($Y$1="c",$O9/2,$O9)) -> 3 | AF9: 2 | AG9: 8 | AH9: 8 | AI9: 8 | AJ9: 35 | AK9: 2 | AL9: =IF(OR($AG$3="",$G9=""),"",IF($AG$1="c",$O9/2,$O9)) -> 3 | AN9: 2 | AO9: 5 | AP9: 5 | AQ9: 5 | AR9: 15 | AT9: =IF(OR($AO$3="",$G9=""),"",IF($AO$1="c",$O9/2,$O9)) -> 3 | AV9: 1 | AW9: 4 | AX9: 4 | AY9: 4 | AZ9: 12 | BB9: =IF(OR($AW$3="",$G9=""),"",IF($AW$1="c",$O9/2,$O9)) -> 3 | BD9: 1 | BE9: 4 | BF9: 4 | BG9: 4 | BH9: 18 | BI9: 5 | BJ9: =IF(OR($BE$3="",$G9=""),"",IF($BE$1="c",$O9/2,$O9)) -> 3 | BL9: 2 | BR9: =IF(OR($BM$3="",$G9=""),"",IF($BM$1="c",$O9/2,$O9)) | BU9: 60 | BV9: 20 | BW9: 75 | BX9: =IF(BW9>=80,"A",IF(BW9>=60,"B",IF(BW9>=50,"C","D"))) -> B | BY9: =Q9 -> 5 | BZ9: =R9 -> 7 | CA9: =S9 -> 8 | CB9: =T9 -> 55 | CC9: =SUM(BY9:CB9) -> 75 | CD9: =ROUNDUP(CC9*$CD$6/100,0) -> 8 | CE9: =U9 -> 5 | CF9: =V9 -> 3 | CG9: =W9 -> 0 | CH9: =X9 -> 1 | CI9: =SUM(CE9:CH9) -> 9 | CJ9: =SUM(CI9,CD9) -> 17 | CK9: =Y9 -> 7 | CL9: =Z9 -> 7 | CM9: =AA9 -> 7 | CN9: =AB9 -> 50 | CO9: =SUM(CK9:CN9) -> 71 | CP9: =ROUNDUP(CO9*$CP$6/100,0) -> 8 | CQ9: =AC9 -> 5 | CR9: =AD9 -> 3 | CS9: =AE9 -> 0 | CT9: =AF9 -> 2 | CU9: =SUM(CQ9:CT9) -> 10 | CV9: =SUM(CU9,CP9) -> 18 | CW9: =AG9 -> 8 | CX9: =AH9 -> 8 | CY9: =AI9 -> 8 | CZ9: =AJ9 -> 35 | DA9: =SUM(CW9:CZ9) -> 59 | DB9: =ROUNDUP(DA9*$DB$6/100,0) -> 6 | DC9: =AK9 -> 2 | DD9: =AL9 -> 3 | DE9: =AM9 -> 0 | DF9: =AN9 -> 2 | DG9: =SUM(DC9:DF9) -> 7 | DH9: =SUM(DG9,DB9) -> 13 | DI9: =AO9 -> 5 | DJ9: =AP9 -> 5 | DK9: =AQ9 -> 5 | DL9: =AR9 -> 15 | DM9: =SUM(DI9:DL9) -> 30 | DN9: =ROUNDUP(DM9*$DN$6/100,0) -> 3 | DO9: =AS9 -> 0 | DP9: =AT9 -> 3 | DQ9: =AU9 -> 0 | DR9: =AV9 -> 1 | DS9: =SUM(DO9:DR9) -> 4 | DT9: =SUM(DS9,DN9) -> 7 | DU9: =AW9 -> 4 | DV9: =AX9 -> 4 | DW9: =AY9 -> 4 | DX9: =AZ9 -> 12 | DY9: =SUM(DU9:DX9) -> 24 | DZ9: =ROUNDUP(DY9*$DZ$6/100,0) -> 3 | EA9: =BA9 -> 0 | EB9: =BB9 -> 3 | EC9: =BC9 -> 0 | ED9: =BD9 -> 1 | EE9: =SUM(EA9:ED9) -> 4 | EF9: =SUM(EE9,DZ9) -> 7 | EG9: =BE9 -> 4 | EH9: =BF9 -> 4 | EI9: =BG9 -> 4 | EJ9: =BH9 -> 18 | EK9: =SUM(EG9:EJ9) -> 30 | EL9: =ROUNDUP(EK9*$EL$6/100,0) -> 3 | EM9: =BI9 -> 5 | EN9: =BJ9 -> 3 | EO9: =BK9 -> 0 | EP9: =BL9 -> 2 | EQ9: =SUM(EM9:EP9) -> 10 | ER9: =SUM(EL9,EQ9) -> 13 | ES9: =BM9 -> 0 | ET9: =BN9 -> 0 | EU9: =BO9 -> 0 | EV9: =BP9 -> 0 | EW9: =SUM(ES9:EV9) -> 0 | EX9: =ROUNDUP(EW9*$EX$6/100,0) -> 0 | EY9: =BQ9 -> 0 | EZ9: =BR9 | FA9: =BS9 -> 0 | FB9: =BT9 -> 0 | FC9: =SUM(EY9:FB9) -> 0 | FD9: =SUM(EX9,FC9) -> 0 | FR9: Pol. Science-11 | FS9: A
A10: =G10 -> 0 | B10: 2 | C10: 2 | D10: =IF(E10>0,$G$4,0) -> 12 | E10: ='Data Paste From Shala Darpan'!D3 -> 1841 | F10: =IF(OR(E9="",F9=""),"",F9+1) | G10: ='Data Paste From Shala Darpan'!L3 -> 0 | H10: ='Data Paste From Shala Darpan'!F3 -> ANITA | I10: ='Data Paste From Shala Darpan'!H3 -> HEMA RAM | J10: ='Data Paste From Shala Darpan'!I3 -> JAITI | K10: ='Data Paste From Shala Darpan'!K3 -> 41279 | L10: =IF(G10=0,"",$L$7) | M10: 0 | N10: =IF(OR(L10=0,M10=0,L10="",M10=""),"",M10/L10*100) | O10: =IF(N10="",0,IF(N10>=86,3,IF(N10>=81,2,IF(N10>=75,1,0)))) -> 0 | V10: =IF(OR($Q$3="",$G10=""),"",IF($Q$1="c",$O10/2,$O10)) -> 0 | AD10: =IF(OR($Y$3="",$G10=""),"",IF($Y$1="c",$O10/2,$O10)) -> 0 | AL10: =IF(OR($AG$3="",$G10=""),"",IF($AG$1="c",$O10/2,$O10)) -> 0 | AT10: =IF(OR($AO$3="",$G10=""),"",IF($AO$1="c",$O10/2,$O10)) -> 0 | BB10: =IF(OR($AW$3="",$G10=""),"",IF($AW$1="c",$O10/2,$O10)) -> 0 | BJ10: =IF(OR($BE$3="",$G10=""),"",IF($BE$1="c",$O10/2,$O10)) -> 0 | BR10: =IF(OR($BM$3="",$G10=""),"",IF($BM$1="c",$O10/2,$O10)) | BU10: 10 | BV10: 10 | BW10: 10 | BX10: =IF(BW10>=80,"A",IF(BW10>=60,"B",IF(BW10>=50,"C","D"))) -> D | BY10: =Q10 -> 0 | BZ10: =R10 -> 0 | CA10: =S10 -> 0 | CB10: =T10 -> 0 | CC10: =SUM(BY10:CB10) -> 0 | CD10: =ROUNDUP(CC10*$CD$6/100,0) -> 0 | CE10: =U10 -> 0 | CF10: =V10 -> 0 | CG10: =W10 -> 0 | CH10: =X10 -> 0 | CI10: =SUM(CE10:CH10) -> 0 | CJ10: =SUM(CI10,CD10) -> 0 | CK10: =Y10 -> 0 | CL10: =Z10 -> 0 | CM10: =AA10 -> 0 | CN10: =AB10 -> 0 | CO10: =SUM(CK10:CN10) -> 0 | CP10: =ROUNDUP(CO10*$CP$6/100,0) -> 0 | CQ10: =AC10 -> 0 | CR10: =AD10 -> 0 | CS10: =AE10 -> 0 | CT10: =AF10 -> 0 | CU10: =SUM(CQ10:CT10) -> 0 | CV10: =SUM(CU10,CP10) -> 0 | CW10: =AG10 -> 0 | CX10: =AH10 -> 0 | CY10: =AI10 -> 0 | CZ10: =AJ10 -> 0 | DA10: =SUM(CW10:CZ10) -> 0 | DB10: =ROUNDUP(DA10*$DB$6/100,0) -> 0 | DC10: =AK10 -> 0 | DD10: =AL10 -> 0 | DE10: =AM10 -> 0 | DF10: =AN10 -> 0 | DG10: =SUM(DC10:DF10) -> 0 | DH10: =SUM(DG10,DB10) -> 0 | DI10: =AO10 -> 0 | DJ10: =AP10 -> 0 | DK10: =AQ10 -> 0 | DL10: =AR10 -> 0 | DM10: =SUM(DI10:DL10) -> 0 | DN10: =ROUNDUP(DM10*$DN$6/100,0) -> 0 | DO10: =AS10 -> 0 | DP10: =AT10 -> 0 | DQ10: =AU10 -> 0 | DR10: =AV10 -> 0 | DS10: =SUM(DO10:DR10) -> 0 | DT10: =SUM(DS10,DN10) -> 0 | DU10: =AW10 -> 0 | DV10: =AX10 -> 0 | DW10: =AY10 -> 0 | DX10: =AZ10 -> 0 | DY10: =SUM(DU10:DX10) -> 0 | DZ10: =ROUNDUP(DY10*$DZ$6/100,0) -> 0 | EA10: =BA10 -> 0 | EB10: =BB10 -> 0 | EC10: =BC10 -> 0 | ED10: =BD10 -> 0 | EE10: =SUM(EA10:ED10) -> 0 | EF10: =SUM(EE10,DZ10) -> 0 | EG10: =BE10 -> 0 | EH10: =BF10 -> 0 | EI10: =BG10 -> 0 | EJ10: =BH10 -> 0 | EK10: =SUM(EG10:EJ10) -> 0 | EL10: =ROUNDUP(EK10*$EL$6/100,0) -> 0 | EM10: =BI10 -> 0 | EN10: =BJ10 -> 0 | EO10: =BK10 -> 0 | EP10: =BL10 -> 0 | EQ10: =SUM(EM10:EP10) -> 0 | ER10: =SUM(EL10,EQ10) -> 0 | ES10: =BM10 -> 0 | ET10: =BN10 -> 0 | EU10: =BO10 -> 0 | EV10: =BP10 -> 0 | EW10: =SUM(ES10:EV10) -> 0 | EX10: =ROUNDUP(EW10*$EX$6/100,0) -> 0 | EY10: =BQ10 -> 0 | EZ10: =BR10 | FA10: =BS10 -> 0 | FB10: =BT10 -> 0 | FC10: =SUM(EY10:FB10) -> 0 | FD10: =SUM(EX10,FC10) -> 0 | FR10: Sanskrit Lit.-12 | FS10: A
A11: =G11 -> 0 | B11: 3 | C11: 3 | D11: =IF(E11>0,$G$4,0) -> 12 | E11: ='Data Paste From Shala Darpan'!D4 -> 1916 | F11: =IF(OR(E10="",F10=""),"",F10+1) | G11: ='Data Paste From Shala Darpan'!L4 -> 0 | H11: ='Data Paste From Shala Darpan'!F4 -> DEVI | I11: ='Data Paste From Shala Darpan'!H4 -> DUNGAR RAM | J11: ='Data Paste From Shala Darpan'!I4 -> RAJO DEVI | K11: ='Data Paste From Shala Darpan'!K4 -> 40127 | L11: =IF(G11=0,"",$L$7) | M11: 0 | N11: =IF(OR(L11=0,M11=0,L11="",M11=""),"",M11/L11*100) | O11: =IF(N11="",0,IF(N11>=86,3,IF(N11>=81,2,IF(N11>=75,1,0)))) -> 0 | V11: =IF(OR($Q$3="",$G11=""),"",IF($Q$1="c",$O11/2,$O11)) -> 0 | AD11: =IF(OR($Y$3="",$G11=""),"",IF($Y$1="c",$O11/2,$O11)) -> 0 | AL11: =IF(OR($AG$3="",$G11=""),"",IF($AG$1="c",$O11/2,$O11)) -> 0 | AT11: =IF(OR($AO$3="",$G11=""),"",IF($AO$1="c",$O11/2,$O11)) -> 0 | BB11: =IF(OR($AW$3="",$G11=""),"",IF($AW$1="c",$O11/2,$O11)) -> 0 | BJ11: =IF(OR($BE$3="",$G11=""),"",IF($BE$1="c",$O11/2,$O11)) -> 0 | BR11: =IF(OR($BM$3="",$G11=""),"",IF($BM$1="c",$O11/2,$O11)) | BU11: 0 | BV11: 0 | BW11: 0 | BX11: =IF(BW11>=80,"A",IF(BW11>=60,"B",IF(BW11>=50,"C","D"))) -> D | BY11: =Q11 -> 0 | BZ11: =R11 -> 0 | CA11: =S11 -> 0 | CB11: =T11 -> 0 | CC11: =SUM(BY11:CB11) -> 0 | CD11: =ROUNDUP(CC11*$CD$6/100,0) -> 0 | CE11: =U11 -> 0 | CF11: =V11 -> 0 | CG11: =W11 -> 0 | CH11: =X11 -> 0 | CI11: =SUM(CE11:CH11) -> 0 | CJ11: =SUM(CI11,CD11) -> 0 | CK11: =Y11 -> 0 | CL11: =Z11 -> 0 | CM11: =AA11 -> 0 | CN11: =AB11 -> 0 | CO11: =SUM(CK11:CN11) -> 0 | CP11: =ROUNDUP(CO11*$CP$6/100,0) -> 0 | CQ11: =AC11 -> 0 | CR11: =AD11 -> 0 | CS11: =AE11 -> 0 | CT11: =AF11 -> 0 | CU11: =SUM(CQ11:CT11) -> 0 | CV11: =SUM(CU11,CP11) -> 0 | CW11: =AG11 -> 0 | CX11: =AH11 -> 0 | CY11: =AI11 -> 0 | CZ11: =AJ11 -> 0 | DA11: =SUM(CW11:CZ11) -> 0 | DB11: =ROUNDUP(DA11*$DB$6/100,0) -> 0 | DC11: =AK11 -> 0 | DD11: =AL11 -> 0 | DE11: =AM11 -> 0 | DF11: =AN11 -> 0 | DG11: =SUM(DC11:DF11) -> 0 | DH11: =SUM(DG11,DB11) -> 0 | DI11: =AO11 -> 0 | DJ11: =AP11 -> 0 | DK11: =AQ11 -> 0 | DL11: =AR11 -> 0 | DM11: =SUM(DI11:DL11) -> 0 | DN11: =ROUNDUP(DM11*$DN$6/100,0) -> 0 | DO11: =AS11 -> 0 | DP11: =AT11 -> 0 | DQ11: =AU11 -> 0 | DR11: =AV11 -> 0 | DS11: =SUM(DO11:DR11) -> 0 | DT11: =SUM(DS11,DN11) -> 0 | DU11: =AW11 -> 0 | DV11: =AX11 -> 0 | DW11: =AY11 -> 0 | DX11: =AZ11 -> 0 | DY11: =SUM(DU11:DX11) -> 0 | DZ11: =ROUNDUP(DY11*$DZ$6/100,0) -> 0 | EA11: =BA11 -> 0 | EB11: =BB11 -> 0 | EC11: =BC11 -> 0 | ED11: =BD11 -> 0 | EE11: =SUM(EA11:ED11) -> 0 | EF11: =SUM(EE11,DZ11) -> 0 | EG11: =BE11 -> 0 | EH11: =BF11 -> 0 | EI11: =BG11 -> 0 | EJ11: =BH11 -> 0 | EK11: =SUM(EG11:EJ11) -> 0 | EL11: =ROUNDUP(EK11*$EL$6/100,0) -> 0 | EM11: =BI11 -> 0 | EN11: =BJ11 -> 0 | EO11: =BK11 -> 0 | EP11: =BL11 -> 0 | EQ11: =SUM(EM11:EP11) -> 0 | ER11: =SUM(EL11,EQ11) -> 0 | ES11: =BM11 -> 0 | ET11: =BN11 -> 0 | EU11: =BO11 -> 0 | EV11: =BP11 -> 0 | EW11: =SUM(ES11:EV11) -> 0 | EX11: =ROUNDUP(EW11*$EX$6/100,0) -> 0 | EY11: =BQ11 -> 0 | EZ11: =BR11 | FA11: =BS11 -> 0 | FB11: =BT11 -> 0 | FC11: =SUM(EY11:FB11) -> 0 | FD11: =SUM(EX11,FC11) -> 0 | FR11: History-13 | FS11: A
A12: =G12 -> 0 | B12: 4 | C12: 4 | D12: =IF(E12>0,$G$4,0) -> 12 | E12: ='Data Paste From Shala Darpan'!D5 -> 1853 | F12: =IF(OR(E11="",F11=""),"",F11+1) | G12: ='Data Paste From Shala Darpan'!L5 -> 0 | H12: ='Data Paste From Shala Darpan'!F5 -> Ganpat Ram | I12: ='Data Paste From Shala Darpan'!H5 -> GUMANA RAM | J12: ='Data Paste From Shala Darpan'!I5 -> KAMLA | K12: ='Data Paste From Shala Darpan'!K5 -> 40660 | L12: =IF(G12=0,"",$L$7) | N12: =IF(OR(L12=0,M12=0,L12="",M12=""),"",M12/L12*100) | O12: =IF(N12="",0,IF(N12>=86,3,IF(N12>=81,2,IF(N12>=75,1,0)))) -> 0 | V12: =IF(OR($Q$3="",$G12=""),"",IF($Q$1="c",$O12/2,$O12)) -> 0 | AD12: =IF(OR($Y$3="",$G12=""),"",IF($Y$1="c",$O12/2,$O12)) -> 0 | AL12: =IF(OR($AG$3="",$G12=""),"",IF($AG$1="c",$O12/2,$O12)) -> 0 | AT12: =IF(OR($AO$3="",$G12=""),"",IF($AO$1="c",$O12/2,$O12)) -> 0 | BB12: =IF(OR($AW$3="",$G12=""),"",IF($AW$1="c",$O12/2,$O12)) -> 0 | BJ12: =IF(OR($BE$3="",$G12=""),"",IF($BE$1="c",$O12/2,$O12)) -> 0 | BR12: =IF(OR($BM$3="",$G12=""),"",IF($BM$1="c",$O12/2,$O12)) | BU12: 0 | BV12: 0 | BW12: 0 | BX12: =IF(BW12>=80,"A",IF(BW12>=60,"B",IF(BW12>=50,"C","D"))) -> D | BY12: =Q12 -> 0 | BZ12: =R12 -> 0 | CA12: =S12 -> 0 | CB12: =T12 -> 0 | CC12: =SUM(BY12:CB12) -> 0 | CD12: =ROUNDUP(CC12*$CD$6/100,0) -> 0 | CE12: =U12 -> 0 | CF12: =V12 -> 0 | CG12: =W12 -> 0 | CH12: =X12 -> 0 | CI12: =SUM(CE12:CH12) -> 0 | CJ12: =SUM(CI12,CD12) -> 0 | CK12: =Y12 -> 0 | CL12: =Z12 -> 0 | CM12: =AA12 -> 0 | CN12: =AB12 -> 0 | CO12: =SUM(CK12:CN12) -> 0 | CP12: =ROUNDUP(CO12*$CP$6/100,0) -> 0 | CQ12: =AC12 -> 0 | CR12: =AD12 -> 0 | CS12: =AE12 -> 0 | CT12: =AF12 -> 0 | CU12: =SUM(CQ12:CT12) -> 0 | CV12: =SUM(CU12,CP12) -> 0 | CW12: =AG12 -> 0 | CX12: =AH12 -> 0 | CY12: =AI12 -> 0 | CZ12: =AJ12 -> 0 | DA12: =SUM(CW12:CZ12) -> 0 | DB12: =ROUNDUP(DA12*$DB$6/100,0) -> 0 | DC12: =AK12 -> 0 | DD12: =AL12 -> 0 | DE12: =AM12 -> 0 | DF12: =AN12 -> 0 | DG12: =SUM(DC12:DF12) -> 0 | DH12: =SUM(DG12,DB12) -> 0 | DI12: =AO12 -> 0 | DJ12: =AP12 -> 0 | DK12: =AQ12 -> 0 | DL12: =AR12 -> 0 | DM12: =SUM(DI12:DL12) -> 0 | DN12: =ROUNDUP(DM12*$DN$6/100,0) -> 0 | DO12: =AS12 -> 0 | DP12: =AT12 -> 0 | DQ12: =AU12 -> 0 | DR12: =AV12 -> 0 | DS12: =SUM(DO12:DR12) -> 0 | DT12: =SUM(DS12,DN12) -> 0 | DU12: =AW12 -> 0 | DV12: =AX12 -> 0 | DW12: =AY12 -> 0 | DX12: =AZ12 -> 0 | DY12: =SUM(DU12:DX12) -> 0 | DZ12: =ROUNDUP(DY12*$DZ$6/100,0) -> 0 | EA12: =BA12 -> 0 | EB12: =BB12 -> 0 | EC12: =BC12 -> 0 | ED12: =BD12 -> 0 | EE12: =SUM(EA12:ED12) -> 0 | EF12: =SUM(EE12,DZ12) -> 0 | EG12: =BE12 -> 0 | EH12: =BF12 -> 0 | EI12: =BG12 -> 0 | EJ12: =BH12 -> 0 | EK12: =SUM(EG12:EJ12) -> 0 | EL12: =ROUNDUP(EK12*$EL$6/100,0) -> 0 | EM12: =BI12 -> 0 | EN12: =BJ12 -> 0 | EO12: =BK12 -> 0 | EP12: =BL12 -> 0 | EQ12: =SUM(EM12:EP12) -> 0 | ER12: =SUM(EL12,EQ12) -> 0 | ES12: =BM12 -> 0 | ET12: =BN12 -> 0 | EU12: =BO12 -> 0 | EV12: =BP12 -> 0 | EW12: =SUM(ES12:EV12) -> 0 | EX12: =ROUNDUP(EW12*$EX$6/100,0) -> 0 | EY12: =BQ12 -> 0 | EZ12: =BR12 | FA12: =BS12 -> 0 | FB12: =BT12 -> 0 | FC12: =SUM(EY12:FB12) -> 0 | FD12: =SUM(EX12,FC12) -> 0 | FR12: Geography-14 | FS12: B
A13: =G13 -> 0 | B13: 5 | C13: 5 | D13: =IF(E13>0,$G$4,0) -> 12 | E13: ='Data Paste From Shala Darpan'!D6 -> 1915 | F13: =IF(OR(E12="",F12=""),"",F12+1) | G13: ='Data Paste From Shala Darpan'!L6 -> 0 | H13: ='Data Paste From Shala Darpan'!F6 -> GOMTI | I13: ='Data Paste From Shala Darpan'!H6 -> DUNGAR RAM | J13: ='Data Paste From Shala Darpan'!I6 -> RAJO DEVI | K13: ='Data Paste From Shala Darpan'!K6 -> 40715 | L13: =IF(G13=0,"",$L$7) | N13: =IF(OR(L13=0,M13=0,L13="",M13=""),"",M13/L13*100) | O13: =IF(N13="",0,IF(N13>=86,3,IF(N13>=81,2,IF(N13>=75,1,0)))) -> 0 | V13: =IF(OR($Q$3="",$G13=""),"",IF($Q$1="c",$O13/2,$O13)) -> 0 | AD13: =IF(OR($Y$3="",$G13=""),"",IF($Y$1="c",$O13/2,$O13)) -> 0 | AL13: =IF(OR($AG$3="",$G13=""),"",IF($AG$1="c",$O13/2,$O13)) -> 0 | AT13: =IF(OR($AO$3="",$G13=""),"",IF($AO$1="c",$O13/2,$O13)) -> 0 | BB13: =IF(OR($AW$3="",$G13=""),"",IF($AW$1="c",$O13/2,$O13)) -> 0 | BJ13: =IF(OR($BE$3="",$G13=""),"",IF($BE$1="c",$O13/2,$O13)) -> 0 | BR13: =IF(OR($BM$3="",$G13=""),"",IF($BM$1="c",$O13/2,$O13)) | BU13: 0 | BV13: 0 | BW13: 0 | BX13: =IF(BW13>=80,"A",IF(BW13>=60,"B",IF(BW13>=50,"C","D"))) -> D | BY13: =Q13 -> 0 | BZ13: =R13 -> 0 | CA13: =S13 -> 0 | CB13: =T13 -> 0 | CC13: =SUM(BY13:CB13) -> 0 | CD13: =ROUNDUP(CC13*$CD$6/100,0) -> 0 | CE13: =U13 -> 0 | CF13: =V13 -> 0 | CG13: =W13 -> 0 | CH13: =X13 -> 0 | CI13: =SUM(CE13:CH13) -> 0 | CJ13: =SUM(CI13,CD13) -> 0 | CK13: =Y13 -> 0 | CL13: =Z13 -> 0 | CM13: =AA13 -> 0 | CN13: =AB13 -> 0 | CO13: =SUM(CK13:CN13) -> 0 | CP13: =ROUNDUP(CO13*$CP$6/100,0) -> 0 | CQ13: =AC13 -> 0 | CR13: =AD13 -> 0 | CS13: =AE13 -> 0 | CT13: =AF13 -> 0 | CU13: =SUM(CQ13:CT13) -> 0 | CV13: =SUM(CU13,CP13) -> 0 | CW13: =AG13 -> 0 | CX13: =AH13 -> 0 | CY13: =AI13 -> 0 | CZ13: =AJ13 -> 0 | DA13: =SUM(CW13:CZ13) -> 0 | DB13: =ROUNDUP(DA13*$DB$6/100,0) -> 0 | DC13: =AK13 -> 0 | DD13: =AL13 -> 0 | DE13: =AM13 -> 0 | DF13: =AN13 -> 0 | DG13: =SUM(DC13:DF13) -> 0 | DH13: =SUM(DG13,DB13) -> 0 | DI13: =AO13 -> 0 | DJ13: =AP13 -> 0 | DK13: =AQ13 -> 0 | DL13: =AR13 -> 0 | DM13: =SUM(DI13:DL13) -> 0 | DN13: =ROUNDUP(DM13*$DN$6/100,0) -> 0 | DO13: =AS13 -> 0 | DP13: =AT13 -> 0 | DQ13: =AU13 -> 0 | DR13: =AV13 -> 0 | DS13: =SUM(DO13:DR13) -> 0 | DT13: =SUM(DS13,DN13) -> 0 | DU13: =AW13 -> 0 | DV13: =AX13 -> 0 | DW13: =AY13 -> 0 | DX13: =AZ13 -> 0 | DY13: =SUM(DU13:DX13) -> 0 | DZ13: =ROUNDUP(DY13*$DZ$6/100,0) -> 0 | EA13: =BA13 -> 0 | EB13: =BB13 -> 0 | EC13: =BC13 -> 0 | ED13: =BD13 -> 0 | EE13: =SUM(EA13:ED13) -> 0 | EF13: =SUM(EE13,DZ13) -> 0 | EG13: =BE13 -> 0 | EH13: =BF13 -> 0 | EI13: =BG13 -> 0 | EJ13: =BH13 -> 0 | EK13: =SUM(EG13:EJ13) -> 0 | EL13: =ROUNDUP(EK13*$EL$6/100,0) -> 0 | EM13: =BI13 -> 0 | EN13: =BJ13 -> 0 | EO13: =BK13 -> 0 | EP13: =BL13 -> 0 | EQ13: =SUM(EM13:EP13) -> 0 | ER13: =SUM(EL13,EQ13) -> 0 | ES13: =BM13 -> 0 | ET13: =BN13 -> 0 | EU13: =BO13 -> 0 | EV13: =BP13 -> 0 | EW13: =SUM(ES13:EV13) -> 0 | EX13: =ROUNDUP(EW13*$EX$6/100,0) -> 0 | EY13: =BQ13 -> 0 | EZ13: =BR13 | FA13: =BS13 -> 0 | FB13: =BT13 -> 0 | FC13: =SUM(EY13:FB13) -> 0 | FD13: =SUM(EX13,FC13) -> 0 | FR13: Mathematics-15 | FS13: A
A14: =G14 -> 0 | B14: 6 | C14: 6 | D14: =IF(E14>0,$G$4,0) -> 12 | E14: ='Data Paste From Shala Darpan'!D7 -> 1863 | F14: =IF(OR(E13="",F13=""),"",F13+1) | G14: ='Data Paste From Shala Darpan'!L7 -> 0 | H14: ='Data Paste From Shala Darpan'!F7 -> GOMTI | I14: ='Data Paste From Shala Darpan'!H7 -> TIKU RAM | J14: ='Data Paste From Shala Darpan'!I7 -> Babi | K14: ='Data Paste From Shala Darpan'!K7 -> 41122 | L14: =IF(G14=0,"",$L$7) | N14: =IF(OR(L14=0,M14=0,L14="",M14=""),"",M14/L14*100) | O14: =IF(N14="",0,IF(N14>=86,3,IF(N14>=81,2,IF(N14>=75,1,0)))) -> 0 | V14: =IF(OR($Q$3="",$G14=""),"",IF($Q$1="c",$O14/2,$O14)) -> 0 | AD14: =IF(OR($Y$3="",$G14=""),"",IF($Y$1="c",$O14/2,$O14)) -> 0 | AL14: =IF(OR($AG$3="",$G14=""),"",IF($AG$1="c",$O14/2,$O14)) -> 0 | AT14: =IF(OR($AO$3="",$G14=""),"",IF($AO$1="c",$O14/2,$O14)) -> 0 | BB14: =IF(OR($AW$3="",$G14=""),"",IF($AW$1="c",$O14/2,$O14)) -> 0 | BJ14: =IF(OR($BE$3="",$G14=""),"",IF($BE$1="c",$O14/2,$O14)) -> 0 | BR14: =IF(OR($BM$3="",$G14=""),"",IF($BM$1="c",$O14/2,$O14)) | BU14: 0 | BV14: 0 | BW14: 0 | BX14: =IF(BW14>=80,"A",IF(BW14>=60,"B",IF(BW14>=50,"C","D"))) -> D | BY14: =Q14 -> 0 | BZ14: =R14 -> 0 | CA14: =S14 -> 0 | CB14: =T14 -> 0 | CC14: =SUM(BY14:CB14) -> 0 | CD14: =ROUNDUP(CC14*$CD$6/100,0) -> 0 | CE14: =U14 -> 0 | CF14: =V14 -> 0 | CG14: =W14 -> 0 | CH14: =X14 -> 0 | CI14: =SUM(CE14:CH14) -> 0 | CJ14: =SUM(CI14,CD14) -> 0 | CK14: =Y14 -> 0 | CL14: =Z14 -> 0 | CM14: =AA14 -> 0 | CN14: =AB14 -> 0 | CO14: =SUM(CK14:CN14) -> 0 | CP14: =ROUNDUP(CO14*$CP$6/100,0) -> 0 | CQ14: =AC14 -> 0 | CR14: =AD14 -> 0 | CS14: =AE14 -> 0 | CT14: =AF14 -> 0 | CU14: =SUM(CQ14:CT14) -> 0 | CV14: =SUM(CU14,CP14) -> 0 | CW14: =AG14 -> 0 | CX14: =AH14 -> 0 | CY14: =AI14 -> 0 | CZ14: =AJ14 -> 0 | DA14: =SUM(CW14:CZ14) -> 0 | DB14: =ROUNDUP(DA14*$DB$6/100,0) -> 0 | DC14: =AK14 -> 0 | DD14: =AL14 -> 0 | DE14: =AM14 -> 0 | DF14: =AN14 -> 0 | DG14: =SUM(DC14:DF14) -> 0 | DH14: =SUM(DG14,DB14) -> 0 | DI14: =AO14 -> 0 | DJ14: =AP14 -> 0 | DK14: =AQ14 -> 0 | DL14: =AR14 -> 0 | DM14: =SUM(DI14:DL14) -> 0 | DN14: =ROUNDUP(DM14*$DN$6/100,0) -> 0 | DO14: =AS14 -> 0 | DP14: =AT14 -> 0 | DQ14: =AU14 -> 0 | DR14: =AV14 -> 0 | DS14: =SUM(DO14:DR14) -> 0 | DT14: =SUM(DS14,DN14) -> 0 | DU14: =AW14 -> 0 | DV14: =AX14 -> 0 | DW14: =AY14 -> 0 | DX14: =AZ14 -> 0 | DY14: =SUM(DU14:DX14) -> 0 | DZ14: =ROUNDUP(DY14*$DZ$6/100,0) -> 0 | EA14: =BA14 -> 0 | EB14: =BB14 -> 0 | EC14: =BC14 -> 0 | ED14: =BD14 -> 0 | EE14: =SUM(EA14:ED14) -> 0 | EF14: =SUM(EE14,DZ14) -> 0 | EG14: =BE14 -> 0 | EH14: =BF14 -> 0 | EI14: =BG14 -> 0 | EJ14: =BH14 -> 0 | EK14: =SUM(EG14:EJ14) -> 0 | EL14: =ROUNDUP(EK14*$EL$6/100,0) -> 0 | EM14: =BI14 -> 0 | EN14: =BJ14 -> 0 | EO14: =BK14 -> 0 | EP14: =BL14 -> 0 | EQ14: =SUM(EM14:EP14) -> 0 | ER14: =SUM(EL14,EQ14) -> 0 | ES14: =BM14 -> 0 | ET14: =BN14 -> 0 | EU14: =BO14 -> 0 | EV14: =BP14 -> 0 | EW14: =SUM(ES14:EV14) -> 0 | EX14: =ROUNDUP(EW14*$EX$6/100,0) -> 0 | EY14: =BQ14 -> 0 | EZ14: =BR14 | FA14: =BS14 -> 0 | FB14: =BT14 -> 0 | FC14: =SUM(EY14:FB14) -> 0 | FD14: =SUM(EX14,FC14) -> 0 | FR14: English Lit.-20 | FS14: A
A15: =G15 -> 0 | B15: 7 | C15: 7 | D15: =IF(E15>0,$G$4,0) -> 12 | E15: ='Data Paste From Shala Darpan'!D8 -> 1331 | F15: =IF(OR(E14="",F14=""),"",F14+1) | G15: ='Data Paste From Shala Darpan'!L8 -> 0 | H15: ='Data Paste From Shala Darpan'!F8 -> HANUMAN | I15: ='Data Paste From Shala Darpan'!H8 -> CHUNA RAM | J15: ='Data Paste From Shala Darpan'!I8 -> JASODA | K15: ='Data Paste From Shala Darpan'!K8 -> 40544 | L15: =IF(G15=0,"",$L$7) | N15: =IF(OR(L15=0,M15=0,L15="",M15=""),"",M15/L15*100) | O15: =IF(N15="",0,IF(N15>=86,3,IF(N15>=81,2,IF(N15>=75,1,0)))) -> 0 | V15: =IF(OR($Q$3="",$G15=""),"",IF($Q$1="c",$O15/2,$O15)) -> 0 | AD15: =IF(OR($Y$3="",$G15=""),"",IF($Y$1="c",$O15/2,$O15)) -> 0 | AL15: =IF(OR($AG$3="",$G15=""),"",IF($AG$1="c",$O15/2,$O15)) -> 0 | AT15: =IF(OR($AO$3="",$G15=""),"",IF($AO$1="c",$O15/2,$O15)) -> 0 | BB15: =IF(OR($AW$3="",$G15=""),"",IF($AW$1="c",$O15/2,$O15)) -> 0 | BJ15: =IF(OR($BE$3="",$G15=""),"",IF($BE$1="c",$O15/2,$O15)) -> 0 | BR15: =IF(OR($BM$3="",$G15=""),"",IF($BM$1="c",$O15/2,$O15)) | BU15: 0 | BV15: 0 | BW15: 0 | BX15: =IF(BW15>=80,"A",IF(BW15>=60,"B",IF(BW15>=50,"C","D"))) -> D | BY15: =Q15 -> 0 | BZ15: =R15 -> 0 | CA15: =S15 -> 0 | CB15: =T15 -> 0 | CC15: =SUM(BY15:CB15) -> 0 | CD15: =ROUNDUP(CC15*$CD$6/100,0) -> 0 | CE15: =U15 -> 0 | CF15: =V15 -> 0 | CG15: =W15 -> 0 | CH15: =X15 -> 0 | CI15: =SUM(CE15:CH15) -> 0 | CJ15: =SUM(CI15,CD15) -> 0 | CK15: =Y15 -> 0 | CL15: =Z15 -> 0 | CM15: =AA15 -> 0 | CN15: =AB15 -> 0 | CO15: =SUM(CK15:CN15) -> 0 | CP15: =ROUNDUP(CO15*$CP$6/100,0) -> 0 | CQ15: =AC15 -> 0 | CR15: =AD15 -> 0 | CS15: =AE15 -> 0 | CT15: =AF15 -> 0 | CU15: =SUM(CQ15:CT15) -> 0 | CV15: =SUM(CU15,CP15) -> 0 | CW15: =AG15 -> 0 | CX15: =AH15 -> 0 | CY15: =AI15 -> 0 | CZ15: =AJ15 -> 0 | DA15: =SUM(CW15:CZ15) -> 0 | DB15: =ROUNDUP(DA15*$DB$6/100,0) -> 0 | DC15: =AK15 -> 0 | DD15: =AL15 -> 0 | DE15: =AM15 -> 0 | DF15: =AN15 -> 0 | DG15: =SUM(DC15:DF15) -> 0 | DH15: =SUM(DG15,DB15) -> 0 | DI15: =AO15 -> 0 | DJ15: =AP15 -> 0 | DK15: =AQ15 -> 0 | DL15: =AR15 -> 0 | DM15: =SUM(DI15:DL15) -> 0 | DN15: =ROUNDUP(DM15*$DN$6/100,0) -> 0 | DO15: =AS15 -> 0 | DP15: =AT15 -> 0 | DQ15: =AU15 -> 0 | DR15: =AV15 -> 0 | DS15: =SUM(DO15:DR15) -> 0 | DT15: =SUM(DS15,DN15) -> 0 | DU15: =AW15 -> 0 | DV15: =AX15 -> 0 | DW15: =AY15 -> 0 | DX15: =AZ15 -> 0 | DY15: =SUM(DU15:DX15) -> 0 | DZ15: =ROUNDUP(DY15*$DZ$6/100,0) -> 0 | EA15: =BA15 -> 0 | EB15: =BB15 -> 0 | EC15: =BC15 -> 0 | ED15: =BD15 -> 0 | EE15: =SUM(EA15:ED15) -> 0 | EF15: =SUM(EE15,DZ15) -> 0 | EG15: =BE15 -> 0 | EH15: =BF15 -> 0 | EI15: =BG15 -> 0 | EJ15: =BH15 -> 0 | EK15: =SUM(EG15:EJ15) -> 0 | EL15: =ROUNDUP(EK15*$EL$6/100,0) -> 0 | EM15: =BI15 -> 0 | EN15: =BJ15 -> 0 | EO15: =BK15 -> 0 | EP15: =BL15 -> 0 | EQ15: =SUM(EM15:EP15) -> 0 | ER15: =SUM(EL15,EQ15) -> 0 | ES15: =BM15 -> 0 | ET15: =BN15 -> 0 | EU15: =BO15 -> 0 | EV15: =BP15 -> 0 | EW15: =SUM(ES15:EV15) -> 0 | EX15: =ROUNDUP(EW15*$EX$6/100,0) -> 0 | EY15: =BQ15 -> 0 | EZ15: =BR15 | FA15: =BS15 -> 0 | FB15: =BT15 -> 0 | FC15: =SUM(EY15:FB15) -> 0 | FD15: =SUM(EX15,FC15) -> 0 | FR15: Hindi Lit.-21 | FS15: A
A16: =G16 -> 0 | B16: 8 | C16: 8 | D16: =IF(E16>0,$G$4,0) -> 12 | E16: ='Data Paste From Shala Darpan'!D9 -> 1421 | F16: =IF(OR(E15="",F15=""),"",F15+1) | G16: ='Data Paste From Shala Darpan'!L9 -> 0 | H16: ='Data Paste From Shala Darpan'!F9 -> HUKMICHAND | I16: ='Data Paste From Shala Darpan'!H9 -> OMA RAM | J16: ='Data Paste From Shala Darpan'!I9 -> GANGA DEVI | K16: ='Data Paste From Shala Darpan'!K9 -> 40975 | L16: =IF(G16=0,"",$L$7) | N16: =IF(OR(L16=0,M16=0,L16="",M16=""),"",M16/L16*100) | O16: =IF(N16="",0,IF(N16>=86,3,IF(N16>=81,2,IF(N16>=75,1,0)))) -> 0 | V16: =IF(OR($Q$3="",$G16=""),"",IF($Q$1="c",$O16/2,$O16)) -> 0 | AD16: =IF(OR($Y$3="",$G16=""),"",IF($Y$1="c",$O16/2,$O16)) -> 0 | AL16: =IF(OR($AG$3="",$G16=""),"",IF($AG$1="c",$O16/2,$O16)) -> 0 | AT16: =IF(OR($AO$3="",$G16=""),"",IF($AO$1="c",$O16/2,$O16)) -> 0 | BB16: =IF(OR($AW$3="",$G16=""),"",IF($AW$1="c",$O16/2,$O16)) -> 0 | BJ16: =IF(OR($BE$3="",$G16=""),"",IF($BE$1="c",$O16/2,$O16)) -> 0 | BR16: =IF(OR($BM$3="",$G16=""),"",IF($BM$1="c",$O16/2,$O16)) | BU16: 0 | BV16: 0 | BW16: 0 | BX16: =IF(BW16>=80,"A",IF(BW16>=60,"B",IF(BW16>=50,"C","D"))) -> D | BY16: =Q16 -> 0 | BZ16: =R16 -> 0 | CA16: =S16 -> 0 | CB16: =T16 -> 0 | CC16: =SUM(BY16:CB16) -> 0 | CD16: =ROUNDUP(CC16*$CD$6/100,0) -> 0 | CE16: =U16 -> 0 | CF16: =V16 -> 0 | CG16: =W16 -> 0 | CH16: =X16 -> 0 | CI16: =SUM(CE16:CH16) -> 0 | CJ16: =SUM(CI16,CD16) -> 0 | CK16: =Y16 -> 0 | CL16: =Z16 -> 0 | CM16: =AA16 -> 0 | CN16: =AB16 -> 0 | CO16: =SUM(CK16:CN16) -> 0 | CP16: =ROUNDUP(CO16*$CP$6/100,0) -> 0 | CQ16: =AC16 -> 0 | CR16: =AD16 -> 0 | CS16: =AE16 -> 0 | CT16: =AF16 -> 0 | CU16: =SUM(CQ16:CT16) -> 0 | CV16: =SUM(CU16,CP16) -> 0 | CW16: =AG16 -> 0 | CX16: =AH16 -> 0 | CY16: =AI16 -> 0 | CZ16: =AJ16 -> 0 | DA16: =SUM(CW16:CZ16) -> 0 | DB16: =ROUNDUP(DA16*$DB$6/100,0) -> 0 | DC16: =AK16 -> 0 | DD16: =AL16 -> 0 | DE16: =AM16 -> 0 | DF16: =AN16 -> 0 | DG16: =SUM(DC16:DF16) -> 0 | DH16: =SUM(DG16,DB16) -> 0 | DI16: =AO16 -> 0 | DJ16: =AP16 -> 0 | DK16: =AQ16 -> 0 | DL16: =AR16 -> 0 | DM16: =SUM(DI16:DL16) -> 0 | DN16: =ROUNDUP(DM16*$DN$6/100,0) -> 0 | DO16: =AS16 -> 0 | DP16: =AT16 -> 0 | DQ16: =AU16 -> 0 | DR16: =AV16 -> 0 | DS16: =SUM(DO16:DR16) -> 0 | DT16: =SUM(DS16,DN16) -> 0 | DU16: =AW16 -> 0 | DV16: =AX16 -> 0 | DW16: =AY16 -> 0 | DX16: =AZ16 -> 0 | DY16: =SUM(DU16:DX16) -> 0 | DZ16: =ROUNDUP(DY16*$DZ$6/100,0) -> 0 | EA16: =BA16 -> 0 | EB16: =BB16 -> 0 | EC16: =BC16 -> 0 | ED16: =BD16 -> 0 | EE16: =SUM(EA16:ED16) -> 0 | EF16: =SUM(EE16,DZ16) -> 0 | EG16: =BE16 -> 0 | EH16: =BF16 -> 0 | EI16: =BG16 -> 0 | EJ16: =BH16 -> 0 | EK16: =SUM(EG16:EJ16) -> 0 | EL16: =ROUNDUP(EK16*$EL$6/100,0) -> 0 | EM16: =BI16 -> 0 | EN16: =BJ16 -> 0 | EO16: =BK16 -> 0 | EP16: =BL16 -> 0 | EQ16: =SUM(EM16:EP16) -> 0 | ER16: =SUM(EL16,EQ16) -> 0 | ES16: =BM16 -> 0 | ET16: =BN16 -> 0 | EU16: =BO16 -> 0 | EV16: =BP16 -> 0 | EW16: =SUM(ES16:EV16) -> 0 | EX16: =ROUNDUP(EW16*$EX$6/100,0) -> 0 | EY16: =BQ16 -> 0 | EZ16: =BR16 | FA16: =BS16 -> 0 | FB16: =BT16 -> 0 | FC16: =SUM(EY16:FB16) -> 0 | FD16: =SUM(EX16,FC16) -> 0 | FR16: Urdu Lit.-22 | FS16: A
A17: =G17 -> 0 | B17: 9 | C17: 9 | D17: =IF(E17>0,$G$4,0) -> 12 | E17: ='Data Paste From Shala Darpan'!D10 -> 1707 | F17: =IF(OR(E16="",F16=""),"",F16+1) | G17: ='Data Paste From Shala Darpan'!L10 -> 0 | H17: ='Data Paste From Shala Darpan'!F10 -> Irfan | I17: ='Data Paste From Shala Darpan'!H10 -> Pappu Ram | J17: ='Data Paste From Shala Darpan'!I10 -> Shanti | K17: ='Data Paste From Shala Darpan'!K10 -> 40461 | L17: =IF(G17=0,"",$L$7) | N17: =IF(OR(L17=0,M17=0,L17="",M17=""),"",M17/L17*100) | O17: =IF(N17="",0,IF(N17>=86,3,IF(N17>=81,2,IF(N17>=75,1,0)))) -> 0 | V17: =IF(OR($Q$3="",$G17=""),"",IF($Q$1="c",$O17/2,$O17)) -> 0 | AD17: =IF(OR($Y$3="",$G17=""),"",IF($Y$1="c",$O17/2,$O17)) -> 0 | AL17: =IF(OR($AG$3="",$G17=""),"",IF($AG$1="c",$O17/2,$O17)) -> 0 | AT17: =IF(OR($AO$3="",$G17=""),"",IF($AO$1="c",$O17/2,$O17)) -> 0 | BB17: =IF(OR($AW$3="",$G17=""),"",IF($AW$1="c",$O17/2,$O17)) -> 0 | BJ17: =IF(OR($BE$3="",$G17=""),"",IF($BE$1="c",$O17/2,$O17)) -> 0 | BR17: =IF(OR($BM$3="",$G17=""),"",IF($BM$1="c",$O17/2,$O17)) | BU17: 0 | BV17: 0 | BW17: 0 | BX17: =IF(BW17>=80,"A",IF(BW17>=60,"B",IF(BW17>=50,"C","D"))) -> D | BY17: =Q17 -> 0 | BZ17: =R17 -> 0 | CA17: =S17 -> 0 | CB17: =T17 -> 0 | CC17: =SUM(BY17:CB17) -> 0 | CD17: =ROUNDUP(CC17*$CD$6/100,0) -> 0 | CE17: =U17 -> 0 | CF17: =V17 -> 0 | CG17: =W17 -> 0 | CH17: =X17 -> 0 | CI17: =SUM(CE17:CH17) -> 0 | CJ17: =SUM(CI17,CD17) -> 0 | CK17: =Y17 -> 0 | CL17: =Z17 -> 0 | CM17: =AA17 -> 0 | CN17: =AB17 -> 0 | CO17: =SUM(CK17:CN17) -> 0 | CP17: =ROUNDUP(CO17*$CP$6/100,0) -> 0 | CQ17: =AC17 -> 0 | CR17: =AD17 -> 0 | CS17: =AE17 -> 0 | CT17: =AF17 -> 0 | CU17: =SUM(CQ17:CT17) -> 0 | CV17: =SUM(CU17,CP17) -> 0 | CW17: =AG17 -> 0 | CX17: =AH17 -> 0 | CY17: =AI17 -> 0 | CZ17: =AJ17 -> 0 | DA17: =SUM(CW17:CZ17) -> 0 | DB17: =ROUNDUP(DA17*$DB$6/100,0) -> 0 | DC17: =AK17 -> 0 | DD17: =AL17 -> 0 | DE17: =AM17 -> 0 | DF17: =AN17 -> 0 | DG17: =SUM(DC17:DF17) -> 0 | DH17: =SUM(DG17,DB17) -> 0 | DI17: =AO17 -> 0 | DJ17: =AP17 -> 0 | DK17: =AQ17 -> 0 | DL17: =AR17 -> 0 | DM17: =SUM(DI17:DL17) -> 0 | DN17: =ROUNDUP(DM17*$DN$6/100,0) -> 0 | DO17: =AS17 -> 0 | DP17: =AT17 -> 0 | DQ17: =AU17 -> 0 | DR17: =AV17 -> 0 | DS17: =SUM(DO17:DR17) -> 0 | DT17: =SUM(DS17,DN17) -> 0 | DU17: =AW17 -> 0 | DV17: =AX17 -> 0 | DW17: =AY17 -> 0 | DX17: =AZ17 -> 0 | DY17: =SUM(DU17:DX17) -> 0 | DZ17: =ROUNDUP(DY17*$DZ$6/100,0) -> 0 | EA17: =BA17 -> 0 | EB17: =BB17 -> 0 | EC17: =BC17 -> 0 | ED17: =BD17 -> 0 | EE17: =SUM(EA17:ED17) -> 0 | EF17: =SUM(EE17,DZ17) -> 0 | EG17: =BE17 -> 0 | EH17: =BF17 -> 0 | EI17: =BG17 -> 0 | EJ17: =BH17 -> 0 | EK17: =SUM(EG17:EJ17) -> 0 | EL17: =ROUNDUP(EK17*$EL$6/100,0) -> 0 | EM17: =BI17 -> 0 | EN17: =BJ17 -> 0 | EO17: =BK17 -> 0 | EP17: =BL17 -> 0 | EQ17: =SUM(EM17:EP17) -> 0 | ER17: =SUM(EL17,EQ17) -> 0 | ES17: =BM17 -> 0 | ET17: =BN17 -> 0 | EU17: =BO17 -> 0 | EV17: =BP17 -> 0 | EW17: =SUM(ES17:EV17) -> 0 | EX17: =ROUNDUP(EW17*$EX$6/100,0) -> 0 | EY17: =BQ17 -> 0 | EZ17: =BR17 | FA17: =BS17 -> 0 | FB17: =BT17 -> 0 | FC17: =SUM(EY17:FB17) -> 0 | FD17: =SUM(EX17,FC17) -> 0 | FR17: Punjabi Lit.-25 | FS17: A
A18: =G18 -> 0 | B18: 10 | C18: 10 | D18: =IF(E18>0,$G$4,0) -> 12 | E18: ='Data Paste From Shala Darpan'!D11 -> 1882 | F18: =IF(OR(E17="",F17=""),"",F17+1) | G18: ='Data Paste From Shala Darpan'!L11 -> 0 | H18: ='Data Paste From Shala Darpan'!F11 -> JHANNU KANWAR | I18: ='Data Paste From Shala Darpan'!H11 -> PADAM SINGH | J18: ='Data Paste From Shala Darpan'!I11 -> BHANWAR KANWAR | K18: ='Data Paste From Shala Darpan'!K11 -> 41054 | L18: =IF(G18=0,"",$L$7) | N18: =IF(OR(L18=0,M18=0,L18="",M18=""),"",M18/L18*100) | O18: =IF(N18="",0,IF(N18>=86,3,IF(N18>=81,2,IF(N18>=75,1,0)))) -> 0 | V18: =IF(OR($Q$3="",$G18=""),"",IF($Q$1="c",$O18/2,$O18)) -> 0 | AD18: =IF(OR($Y$3="",$G18=""),"",IF($Y$1="c",$O18/2,$O18)) -> 0 | AL18: =IF(OR($AG$3="",$G18=""),"",IF($AG$1="c",$O18/2,$O18)) -> 0 | AT18: =IF(OR($AO$3="",$G18=""),"",IF($AO$1="c",$O18/2,$O18)) -> 0 | BB18: =IF(OR($AW$3="",$G18=""),"",IF($AW$1="c",$O18/2,$O18)) -> 0 | BJ18: =IF(OR($BE$3="",$G18=""),"",IF($BE$1="c",$O18/2,$O18)) -> 0 | BR18: =IF(OR($BM$3="",$G18=""),"",IF($BM$1="c",$O18/2,$O18)) | BU18: 0 | BV18: 0 | BW18: 0 | BX18: =IF(BW18>=80,"A",IF(BW18>=60,"B",IF(BW18>=50,"C","D"))) -> D | BY18: =Q18 -> 0 | BZ18: =R18 -> 0 | CA18: =S18 -> 0 | CB18: =T18 -> 0 | CC18: =SUM(BY18:CB18) -> 0 | CD18: =ROUNDUP(CC18*$CD$6/100,0) -> 0 | CE18: =U18 -> 0 | CF18: =V18 -> 0 | CG18: =W18 -> 0 | CH18: =X18 -> 0 | CI18: =SUM(CE18:CH18) -> 0 | CJ18: =SUM(CI18,CD18) -> 0 | CK18: =Y18 -> 0 | CL18: =Z18 -> 0 | CM18: =AA18 -> 0 | CN18: =AB18 -> 0 | CO18: =SUM(CK18:CN18) -> 0 | CP18: =ROUNDUP(CO18*$CP$6/100,0) -> 0 | CQ18: =AC18 -> 0 | CR18: =AD18 -> 0 | CS18: =AE18 -> 0 | CT18: =AF18 -> 0 | CU18: =SUM(CQ18:CT18) -> 0 | CV18: =SUM(CU18,CP18) -> 0 | CW18: =AG18 -> 0 | CX18: =AH18 -> 0 | CY18: =AI18 -> 0 | CZ18: =AJ18 -> 0 | DA18: =SUM(CW18:CZ18) -> 0 | DB18: =ROUNDUP(DA18*$DB$6/100,0) -> 0 | DC18: =AK18 -> 0 | DD18: =AL18 -> 0 | DE18: =AM18 -> 0 | DF18: =AN18 -> 0 | DG18: =SUM(DC18:DF18) -> 0 | DH18: =SUM(DG18,DB18) -> 0 | DI18: =AO18 -> 0 | DJ18: =AP18 -> 0 | DK18: =AQ18 -> 0 | DL18: =AR18 -> 0 | DM18: =SUM(DI18:DL18) -> 0 | DN18: =ROUNDUP(DM18*$DN$6/100,0) -> 0 | DO18: =AS18 -> 0 | DP18: =AT18 -> 0 | DQ18: =AU18 -> 0 | DR18: =AV18 -> 0 | DS18: =SUM(DO18:DR18) -> 0 | DT18: =SUM(DS18,DN18) -> 0 | DU18: =AW18 -> 0 | DV18: =AX18 -> 0 | DW18: =AY18 -> 0 | DX18: =AZ18 -> 0 | DY18: =SUM(DU18:DX18) -> 0 | DZ18: =ROUNDUP(DY18*$DZ$6/100,0) -> 0 | EA18: =BA18 -> 0 | EB18: =BB18 -> 0 | EC18: =BC18 -> 0 | ED18: =BD18 -> 0 | EE18: =SUM(EA18:ED18) -> 0 | EF18: =SUM(EE18,DZ18) -> 0 | EG18: =BE18 -> 0 | EH18: =BF18 -> 0 | EI18: =BG18 -> 0 | EJ18: =BH18 -> 0 | EK18: =SUM(EG18:EJ18) -> 0 | EL18: =ROUNDUP(EK18*$EL$6/100,0) -> 0 | EM18: =BI18 -> 0 | EN18: =BJ18 -> 0 | EO18: =BK18 -> 0 | EP18: =BL18 -> 0 | EQ18: =SUM(EM18:EP18) -> 0 | ER18: =SUM(EL18,EQ18) -> 0 | ES18: =BM18 -> 0 | ET18: =BN18 -> 0 | EU18: =BO18 -> 0 | EV18: =BP18 -> 0 | EW18: =SUM(ES18:EV18) -> 0 | EX18: =ROUNDUP(EW18*$EX$6/100,0) -> 0 | EY18: =BQ18 -> 0 | EZ18: =BR18 | FA18: =BS18 -> 0 | FB18: =BT18 -> 0 | FC18: =SUM(EY18:FB18) -> 0 | FD18: =SUM(EX18,FC18) -> 0 | FR18: Music Vocals-16 | FS18: C
A19: =G19 -> 0 | B19: 11 | C19: 11 | D19: =IF(E19>0,$G$4,0) -> 12 | E19: ='Data Paste From Shala Darpan'!D12 -> 1249 | F19: =IF(OR(E18="",F18=""),"",F18+1) | G19: ='Data Paste From Shala Darpan'!L12 -> 0 | H19: ='Data Paste From Shala Darpan'!F12 -> JYOTI | I19: ='Data Paste From Shala Darpan'!H12 -> OMA RAM | J19: ='Data Paste From Shala Darpan'!I12 -> RADHA | K19: ='Data Paste From Shala Darpan'!K12 -> 41015 | L19: =IF(G19=0,"",$L$7) | N19: =IF(OR(L19=0,M19=0,L19="",M19=""),"",M19/L19*100) | O19: =IF(N19="",0,IF(N19>=86,3,IF(N19>=81,2,IF(N19>=75,1,0)))) -> 0 | V19: =IF(OR($Q$3="",$G19=""),"",IF($Q$1="c",$O19/2,$O19)) -> 0 | AD19: =IF(OR($Y$3="",$G19=""),"",IF($Y$1="c",$O19/2,$O19)) -> 0 | AL19: =IF(OR($AG$3="",$G19=""),"",IF($AG$1="c",$O19/2,$O19)) -> 0 | AT19: =IF(OR($AO$3="",$G19=""),"",IF($AO$1="c",$O19/2,$O19)) -> 0 | BB19: =IF(OR($AW$3="",$G19=""),"",IF($AW$1="c",$O19/2,$O19)) -> 0 | BJ19: =IF(OR($BE$3="",$G19=""),"",IF($BE$1="c",$O19/2,$O19)) -> 0 | BR19: =IF(OR($BM$3="",$G19=""),"",IF($BM$1="c",$O19/2,$O19)) | BU19: 0 | BV19: 0 | BW19: 0 | BX19: =IF(BW19>=80,"A",IF(BW19>=60,"B",IF(BW19>=50,"C","D"))) -> D | BY19: =Q19 -> 0 | BZ19: =R19 -> 0 | CA19: =S19 -> 0 | CB19: =T19 -> 0 | CC19: =SUM(BY19:CB19) -> 0 | CD19: =ROUNDUP(CC19*$CD$6/100,0) -> 0 | CE19: =U19 -> 0 | CF19: =V19 -> 0 | CG19: =W19 -> 0 | CH19: =X19 -> 0 | CI19: =SUM(CE19:CH19) -> 0 | CJ19: =SUM(CI19,CD19) -> 0 | CK19: =Y19 -> 0 | CL19: =Z19 -> 0 | CM19: =AA19 -> 0 | CN19: =AB19 -> 0 | CO19: =SUM(CK19:CN19) -> 0 | CP19: =ROUNDUP(CO19*$CP$6/100,0) -> 0 | CQ19: =AC19 -> 0 | CR19: =AD19 -> 0 | CS19: =AE19 -> 0 | CT19: =AF19 -> 0 | CU19: =SUM(CQ19:CT19) -> 0 | CV19: =SUM(CU19,CP19) -> 0 | CW19: =AG19 -> 0 | CX19: =AH19 -> 0 | CY19: =AI19 -> 0 | CZ19: =AJ19 -> 0 | DA19: =SUM(CW19:CZ19) -> 0 | DB19: =ROUNDUP(DA19*$DB$6/100,0) -> 0 | DC19: =AK19 -> 0 | DD19: =AL19 -> 0 | DE19: =AM19 -> 0 | DF19: =AN19 -> 0 | DG19: =SUM(DC19:DF19) -> 0 | DH19: =SUM(DG19,DB19) -> 0 | DI19: =AO19 -> 0 | DJ19: =AP19 -> 0 | DK19: =AQ19 -> 0 | DL19: =AR19 -> 0 | DM19: =SUM(DI19:DL19) -> 0 | DN19: =ROUNDUP(DM19*$DN$6/100,0) -> 0 | DO19: =AS19 -> 0 | DP19: =AT19 -> 0 | DQ19: =AU19 -> 0 | DR19: =AV19 -> 0 | DS19: =SUM(DO19:DR19) -> 0 | DT19: =SUM(DS19,DN19) -> 0 | DU19: =AW19 -> 0 | DV19: =AX19 -> 0 | DW19: =AY19 -> 0 | DX19: =AZ19 -> 0 | DY19: =SUM(DU19:DX19) -> 0 | DZ19: =ROUNDUP(DY19*$DZ$6/100,0) -> 0 | EA19: =BA19 -> 0 | EB19: =BB19 -> 0 | EC19: =BC19 -> 0 | ED19: =BD19 -> 0 | EE19: =SUM(EA19:ED19) -> 0 | EF19: =SUM(EE19,DZ19) -> 0 | EG19: =BE19 -> 0 | EH19: =BF19 -> 0 | EI19: =BG19 -> 0 | EJ19: =BH19 -> 0 | EK19: =SUM(EG19:EJ19) -> 0 | EL19: =ROUNDUP(EK19*$EL$6/100,0) -> 0 | EM19: =BI19 -> 0 | EN19: =BJ19 -> 0 | EO19: =BK19 -> 0 | EP19: =BL19 -> 0 | EQ19: =SUM(EM19:EP19) -> 0 | ER19: =SUM(EL19,EQ19) -> 0 | ES19: =BM19 -> 0 | ET19: =BN19 -> 0 | EU19: =BO19 -> 0 | EV19: =BP19 -> 0 | EW19: =SUM(ES19:EV19) -> 0 | EX19: =ROUNDUP(EW19*$EX$6/100,0) -> 0 | EY19: =BQ19 -> 0 | EZ19: =BR19 | FA19: =BS19 -> 0 | FB19: =BT19 -> 0 | FC19: =SUM(EY19:FB19) -> 0 | FD19: =SUM(EX19,FC19) -> 0 | FR19: Drwaing-17 | FS19: C
A20: =G20 -> 0 | B20: 12 | C20: 12 | D20: =IF(E20>0,$G$4,0) -> 12 | E20: ='Data Paste From Shala Darpan'!D13 -> 1899 | F20: =IF(OR(E19="",F19=""),"",F19+1) | G20: ='Data Paste From Shala Darpan'!L13 -> 0 | H20: ='Data Paste From Shala Darpan'!F13 -> KAUSHLYA | I20: ='Data Paste From Shala Darpan'!H13 -> SUNDAR RAM | J20: ='Data Paste From Shala Darpan'!I13 -> CHHOTI | K20: ='Data Paste From Shala Darpan'!K13 -> 39925 | L20: =IF(G20=0,"",$L$7) | N20: =IF(OR(L20=0,M20=0,L20="",M20=""),"",M20/L20*100) | O20: =IF(N20="",0,IF(N20>=86,3,IF(N20>=81,2,IF(N20>=75,1,0)))) -> 0 | V20: =IF(OR($Q$3="",$G20=""),"",IF($Q$1="c",$O20/2,$O20)) -> 0 | AD20: =IF(OR($Y$3="",$G20=""),"",IF($Y$1="c",$O20/2,$O20)) -> 0 | AL20: =IF(OR($AG$3="",$G20=""),"",IF($AG$1="c",$O20/2,$O20)) -> 0 | AT20: =IF(OR($AO$3="",$G20=""),"",IF($AO$1="c",$O20/2,$O20)) -> 0 | BB20: =IF(OR($AW$3="",$G20=""),"",IF($AW$1="c",$O20/2,$O20)) -> 0 | BJ20: =IF(OR($BE$3="",$G20=""),"",IF($BE$1="c",$O20/2,$O20)) -> 0 | BR20: =IF(OR($BM$3="",$G20=""),"",IF($BM$1="c",$O20/2,$O20)) | BU20: 0 | BV20: 0 | BW20: 0 | BX20: =IF(BW20>=80,"A",IF(BW20>=60,"B",IF(BW20>=50,"C","D"))) -> D | BY20: =Q20 -> 0 | BZ20: =R20 -> 0 | CA20: =S20 -> 0 | CB20: =T20 -> 0 | CC20: =SUM(BY20:CB20) -> 0 | CD20: =ROUNDUP(CC20*$CD$6/100,0) -> 0 | CE20: =U20 -> 0 | CF20: =V20 -> 0 | CG20: =W20 -> 0 | CH20: =X20 -> 0 | CI20: =SUM(CE20:CH20) -> 0 | CJ20: =SUM(CI20,CD20) -> 0 | CK20: =Y20 -> 0 | CL20: =Z20 -> 0 | CM20: =AA20 -> 0 | CN20: =AB20 -> 0 | CO20: =SUM(CK20:CN20) -> 0 | CP20: =ROUNDUP(CO20*$CP$6/100,0) -> 0 | CQ20: =AC20 -> 0 | CR20: =AD20 -> 0 | CS20: =AE20 -> 0 | CT20: =AF20 -> 0 | CU20: =SUM(CQ20:CT20) -> 0 | CV20: =SUM(CU20,CP20) -> 0 | CW20: =AG20 -> 0 | CX20: =AH20 -> 0 | CY20: =AI20 -> 0 | CZ20: =AJ20 -> 0 | DA20: =SUM(CW20:CZ20) -> 0 | DB20: =ROUNDUP(DA20*$DB$6/100,0) -> 0 | DC20: =AK20 -> 0 | DD20: =AL20 -> 0 | DE20: =AM20 -> 0 | DF20: =AN20 -> 0 | DG20: =SUM(DC20:DF20) -> 0 | DH20: =SUM(DG20,DB20) -> 0 | DI20: =AO20 -> 0 | DJ20: =AP20 -> 0 | DK20: =AQ20 -> 0 | DL20: =AR20 -> 0 | DM20: =SUM(DI20:DL20) -> 0 | DN20: =ROUNDUP(DM20*$DN$6/100,0) -> 0 | DO20: =AS20 -> 0 | DP20: =AT20 -> 0 | DQ20: =AU20 -> 0 | DR20: =AV20 -> 0 | DS20: =SUM(DO20:DR20) -> 0 | DT20: =SUM(DS20,DN20) -> 0 | DU20: =AW20 -> 0 | DV20: =AX20 -> 0 | DW20: =AY20 -> 0 | DX20: =AZ20 -> 0 | DY20: =SUM(DU20:DX20) -> 0 | DZ20: =ROUNDUP(DY20*$DZ$6/100,0) -> 0 | EA20: =BA20 -> 0 | EB20: =BB20 -> 0 | EC20: =BC20 -> 0 | ED20: =BD20 -> 0 | EE20: =SUM(EA20:ED20) -> 0 | EF20: =SUM(EE20,DZ20) -> 0 | EG20: =BE20 -> 0 | EH20: =BF20 -> 0 | EI20: =BG20 -> 0 | EJ20: =BH20 -> 0 | EK20: =SUM(EG20:EJ20) -> 0 | EL20: =ROUNDUP(EK20*$EL$6/100,0) -> 0 | EM20: =BI20 -> 0 | EN20: =BJ20 -> 0 | EO20: =BK20 -> 0 | EP20: =BL20 -> 0 | EQ20: =SUM(EM20:EP20) -> 0 | ER20: =SUM(EL20,EQ20) -> 0 | ES20: =BM20 -> 0 | ET20: =BN20 -> 0 | EU20: =BO20 -> 0 | EV20: =BP20 -> 0 | EW20: =SUM(ES20:EV20) -> 0 | EX20: =ROUNDUP(EW20*$EX$6/100,0) -> 0 | EY20: =BQ20 -> 0 | EZ20: =BR20 | FA20: =BS20 -> 0 | FB20: =BT20 -> 0 | FC20: =SUM(EY20:FB20) -> 0 | FD20: =SUM(EX20,FC20) -> 0 | FR20: Home Science-18 | FS20: B
A21: =G21 -> 0 | B21: 13 | C21: 13 | D21: =IF(E21>0,$G$4,0) -> 12 | E21: ='Data Paste From Shala Darpan'!D14 -> 1248 | F21: =IF(OR(E20="",F20=""),"",F20+1) | G21: ='Data Paste From Shala Darpan'!L14 -> 0 | H21: ='Data Paste From Shala Darpan'!F14 -> KAVITA | I21: ='Data Paste From Shala Darpan'!H14 -> BHOJA RAM | J21: ='Data Paste From Shala Darpan'!I14 -> SITA | K21: ='Data Paste From Shala Darpan'!K14 -> 41075 | L21: =IF(G21=0,"",$L$7) | N21: =IF(OR(L21=0,M21=0,L21="",M21=""),"",M21/L21*100) | O21: =IF(N21="",0,IF(N21>=86,3,IF(N21>=81,2,IF(N21>=75,1,0)))) -> 0 | V21: =IF(OR($Q$3="",$G21=""),"",IF($Q$1="c",$O21/2,$O21)) -> 0 | AD21: =IF(OR($Y$3="",$G21=""),"",IF($Y$1="c",$O21/2,$O21)) -> 0 | AL21: =IF(OR($AG$3="",$G21=""),"",IF($AG$1="c",$O21/2,$O21)) -> 0 | AT21: =IF(OR($AO$3="",$G21=""),"",IF($AO$1="c",$O21/2,$O21)) -> 0 | BB21: =IF(OR($AW$3="",$G21=""),"",IF($AW$1="c",$O21/2,$O21)) -> 0 | BJ21: =IF(OR($BE$3="",$G21=""),"",IF($BE$1="c",$O21/2,$O21)) -> 0 | BR21: =IF(OR($BM$3="",$G21=""),"",IF($BM$1="c",$O21/2,$O21)) | BU21: 0 | BV21: 0 | BW21: 0 | BX21: =IF(BW21>=80,"A",IF(BW21>=60,"B",IF(BW21>=50,"C","D"))) -> D | BY21: =Q21 -> 0 | BZ21: =R21 -> 0 | CA21: =S21 -> 0 | CB21: =T21 -> 0 | CC21: =SUM(BY21:CB21) -> 0 | CD21: =ROUNDUP(CC21*$CD$6/100,0) -> 0 | CE21: =U21 -> 0 | CF21: =V21 -> 0 | CG21: =W21 -> 0 | CH21: =X21 -> 0 | CI21: =SUM(CE21:CH21) -> 0 | CJ21: =SUM(CI21,CD21) -> 0 | CK21: =Y21 -> 0 | CL21: =Z21 -> 0 | CM21: =AA21 -> 0 | CN21: =AB21 -> 0 | CO21: =SUM(CK21:CN21) -> 0 | CP21: =ROUNDUP(CO21*$CP$6/100,0) -> 0 | CQ21: =AC21 -> 0 | CR21: =AD21 -> 0 | CS21: =AE21 -> 0 | CT21: =AF21 -> 0 | CU21: =SUM(CQ21:CT21) -> 0 | CV21: =SUM(CU21,CP21) -> 0 | CW21: =AG21 -> 0 | CX21: =AH21 -> 0 | CY21: =AI21 -> 0 | CZ21: =AJ21 -> 0 | DA21: =SUM(CW21:CZ21) -> 0 | DB21: =ROUNDUP(DA21*$DB$6/100,0) -> 0 | DC21: =AK21 -> 0 | DD21: =AL21 -> 0 | DE21: =AM21 -> 0 | DF21: =AN21 -> 0 | DG21: =SUM(DC21:DF21) -> 0 | DH21: =SUM(DG21,DB21) -> 0 | DI21: =AO21 -> 0 | DJ21: =AP21 -> 0 | DK21: =AQ21 -> 0 | DL21: =AR21 -> 0 | DM21: =SUM(DI21:DL21) -> 0 | DN21: =ROUNDUP(DM21*$DN$6/100,0) -> 0 | DO21: =AS21 -> 0 | DP21: =AT21 -> 0 | DQ21: =AU21 -> 0 | DR21: =AV21 -> 0 | DS21: =SUM(DO21:DR21) -> 0 | DT21: =SUM(DS21,DN21) -> 0 | DU21: =AW21 -> 0 | DV21: =AX21 -> 0 | DW21: =AY21 -> 0 | DX21: =AZ21 -> 0 | DY21: =SUM(DU21:DX21) -> 0 | DZ21: =ROUNDUP(DY21*$DZ$6/100,0) -> 0 | EA21: =BA21 -> 0 | EB21: =BB21 -> 0 | EC21: =BC21 -> 0 | ED21: =BD21 -> 0 | EE21: =SUM(EA21:ED21) -> 0 | EF21: =SUM(EE21,DZ21) -> 0 | EG21: =BE21 -> 0 | EH21: =BF21 -> 0 | EI21: =BG21 -> 0 | EJ21: =BH21 -> 0 | EK21: =SUM(EG21:EJ21) -> 0 | EL21: =ROUNDUP(EK21*$EL$6/100,0) -> 0 | EM21: =BI21 -> 0 | EN21: =BJ21 -> 0 | EO21: =BK21 -> 0 | EP21: =BL21 -> 0 | EQ21: =SUM(EM21:EP21) -> 0 | ER21: =SUM(EL21,EQ21) -> 0 | ES21: =BM21 -> 0 | ET21: =BN21 -> 0 | EU21: =BO21 -> 0 | EV21: =BP21 -> 0 | EW21: =SUM(ES21:EV21) -> 0 | EX21: =ROUNDUP(EW21*$EX$6/100,0) -> 0 | EY21: =BQ21 -> 0 | EZ21: =BR21 | FA21: =BS21 -> 0 | FB21: =BT21 -> 0 | FC21: =SUM(EY21:FB21) -> 0 | FD21: =SUM(EX21,FC21) -> 0 | FR21: Sociology-29 | FS21: A
A22: =G22 -> 0 | B22: 14 | C22: 14 | D22: =IF(E22>0,$G$4,0) -> 0 | F22: =IF(OR(E21="",F21=""),"",F21+1) | G22: ='Data Paste From Shala Darpan'!L15 -> 0 | H22: ='Data Paste From Shala Darpan'!F15 -> 0 | I22: ='Data Paste From Shala Darpan'!H15 -> 0 | J22: ='Data Paste From Shala Darpan'!I15 -> 0 | K22: ='Data Paste From Shala Darpan'!K15 -> 0 | L22: =IF(G22=0,"",$L$7) | N22: =IF(OR(L22=0,M22=0,L22="",M22=""),"",M22/L22*100) | O22: =IF(N22="",0,IF(N22>=86,3,IF(N22>=81,2,IF(N22>=75,1,0)))) -> 0 | V22: =IF(OR($Q$3="",$G22=""),"",IF($Q$1="c",$O22/2,$O22)) -> 0 | AD22: =IF(OR($Y$3="",$G22=""),"",IF($Y$1="c",$O22/2,$O22)) -> 0 | AL22: =IF(OR($AG$3="",$G22=""),"",IF($AG$1="c",$O22/2,$O22)) -> 0 | AT22: =IF(OR($AO$3="",$G22=""),"",IF($AO$1="c",$O22/2,$O22)) -> 0 | BB22: =IF(OR($AW$3="",$G22=""),"",IF($AW$1="c",$O22/2,$O22)) -> 0 | BJ22: =IF(OR($BE$3="",$G22=""),"",IF($BE$1="c",$O22/2,$O22)) -> 0 | BR22: =IF(OR($BM$3="",$G22=""),"",IF($BM$1="c",$O22/2,$O22)) | BU22: 0 | BV22: 0 | BW22: 0 | BX22: =IF(BW22>=80,"A",IF(BW22>=60,"B",IF(BW22>=50,"C","D"))) -> D | BY22: =Q22 -> 0 | BZ22: =R22 -> 0 | CA22: =S22 -> 0 | CB22: =T22 -> 0 | CC22: =SUM(BY22:CB22) -> 0 | CD22: =ROUNDUP(CC22*$CD$6/100,0) -> 0 | CE22: =U22 -> 0 | CF22: =V22 -> 0 | CG22: =W22 -> 0 | CH22: =X22 -> 0 | CI22: =SUM(CE22:CH22) -> 0 | CJ22: =SUM(CI22,CD22) -> 0 | CK22: =Y22 -> 0 | CL22: =Z22 -> 0 | CM22: =AA22 -> 0 | CN22: =AB22 -> 0 | CO22: =SUM(CK22:CN22) -> 0 | CP22: =ROUNDUP(CO22*$CP$6/100,0) -> 0 | CQ22: =AC22 -> 0 | CR22: =AD22 -> 0 | CS22: =AE22 -> 0 | CT22: =AF22 -> 0 | CU22: =SUM(CQ22:CT22) -> 0 | CV22: =SUM(CU22,CP22) -> 0 | CW22: =AG22 -> 0 | CX22: =AH22 -> 0 | CY22: =AI22 -> 0 | CZ22: =AJ22 -> 0 | DA22: =SUM(CW22:CZ22) -> 0 | DB22: =ROUNDUP(DA22*$DB$6/100,0) -> 0 | DC22: =AK22 -> 0 | DD22: =AL22 -> 0 | DE22: =AM22 -> 0 | DF22: =AN22 -> 0 | DG22: =SUM(DC22:DF22) -> 0 | DH22: =SUM(DG22,DB22) -> 0 | DI22: =AO22 -> 0 | DJ22: =AP22 -> 0 | DK22: =AQ22 -> 0 | DL22: =AR22 -> 0 | DM22: =SUM(DI22:DL22) -> 0 | DN22: =ROUNDUP(DM22*$DN$6/100,0) -> 0 | DO22: =AS22 -> 0 | DP22: =AT22 -> 0 | DQ22: =AU22 -> 0 | DR22: =AV22 -> 0 | DS22: =SUM(DO22:DR22) -> 0 | DT22: =SUM(DS22,DN22) -> 0 | DU22: =AW22 -> 0 | DV22: =AX22 -> 0 | DW22: =AY22 -> 0 | DX22: =AZ22 -> 0 | DY22: =SUM(DU22:DX22) -> 0 | DZ22: =ROUNDUP(DY22*$DZ$6/100,0) -> 0 | EA22: =BA22 -> 0 | EB22: =BB22 -> 0 | EC22: =BC22 -> 0 | ED22: =BD22 -> 0 | EE22: =SUM(EA22:ED22) -> 0 | EF22: =SUM(EE22,DZ22) -> 0 | EG22: =BE22 -> 0 | EH22: =BF22 -> 0 | EI22: =BG22 -> 0 | EJ22: =BH22 -> 0 | EK22: =SUM(EG22:EJ22) -> 0 | EL22: =ROUNDUP(EK22*$EL$6/100,0) -> 0 | EM22: =BI22 -> 0 | EN22: =BJ22 -> 0 | EO22: =BK22 -> 0 | EP22: =BL22 -> 0 | EQ22: =SUM(EM22:EP22) -> 0 | ER22: =SUM(EL22,EQ22) -> 0 | ES22: =BM22 -> 0 | ET22: =BN22 -> 0 | EU22: =BO22 -> 0 | EV22: =BP22 -> 0 | EW22: =SUM(ES22:EV22) -> 0 | EX22: =ROUNDUP(EW22*$EX$6/100,0) -> 0 | EY22: =BQ22 -> 0 | EZ22: =BR22 | FA22: =BS22 -> 0 | FB22: =BT22 -> 0 | FC22: =SUM(EY22:FB22) -> 0 | FD22: =SUM(EX22,FC22) -> 0 | FR22: Philosophy-85 | FS22: B
A23: =G23 -> 0 | B23: 15 | C23: 15 | D23: =IF(E23>0,$G$4,0) -> 0 | F23: =IF(OR(E22="",F22=""),"",F22+1) | G23: ='Data Paste From Shala Darpan'!L16 -> 0 | H23: ='Data Paste From Shala Darpan'!F16 -> 0 | I23: ='Data Paste From Shala Darpan'!H16 -> 0 | J23: ='Data Paste From Shala Darpan'!I16 -> 0 | K23: ='Data Paste From Shala Darpan'!K16 -> 0 | L23: =IF(G23=0,"",$L$7) | N23: =IF(OR(L23=0,M23=0,L23="",M23=""),"",M23/L23*100) | O23: =IF(N23="",0,IF(N23>=86,3,IF(N23>=81,2,IF(N23>=75,1,0)))) -> 0 | V23: =IF(OR($Q$3="",$G23=""),"",IF($Q$1="c",$O23/2,$O23)) -> 0 | AD23: =IF(OR($Y$3="",$G23=""),"",IF($Y$1="c",$O23/2,$O23)) -> 0 | AL23: =IF(OR($AG$3="",$G23=""),"",IF($AG$1="c",$O23/2,$O23)) -> 0 | AT23: =IF(OR($AO$3="",$G23=""),"",IF($AO$1="c",$O23/2,$O23)) -> 0 | BB23: =IF(OR($AW$3="",$G23=""),"",IF($AW$1="c",$O23/2,$O23)) -> 0 | BJ23: =IF(OR($BE$3="",$G23=""),"",IF($BE$1="c",$O23/2,$O23)) -> 0 | BR23: =IF(OR($BM$3="",$G23=""),"",IF($BM$1="c",$O23/2,$O23)) | BU23: 0 | BV23: 0 | BW23: 0 | BX23: =IF(BW23>=80,"A",IF(BW23>=60,"B",IF(BW23>=50,"C","D"))) -> D | BY23: =Q23 -> 0 | BZ23: =R23 -> 0 | CA23: =S23 -> 0 | CB23: =T23 -> 0 | CC23: =SUM(BY23:CB23) -> 0 | CD23: =ROUNDUP(CC23*$CD$6/100,0) -> 0 | CE23: =U23 -> 0 | CF23: =V23 -> 0 | CG23: =W23 -> 0 | CH23: =X23 -> 0 | CI23: =SUM(CE23:CH23) -> 0 | CJ23: =SUM(CI23,CD23) -> 0 | CK23: =Y23 -> 0 | CL23: =Z23 -> 0 | CM23: =AA23 -> 0 | CN23: =AB23 -> 0 | CO23: =SUM(CK23:CN23) -> 0 | CP23: =ROUNDUP(CO23*$CP$6/100,0) -> 0 | CQ23: =AC23 -> 0 | CR23: =AD23 -> 0 | CS23: =AE23 -> 0 | CT23: =AF23 -> 0 | CU23: =SUM(CQ23:CT23) -> 0 | CV23: =SUM(CU23,CP23) -> 0 | CW23: =AG23 -> 0 | CX23: =AH23 -> 0 | CY23: =AI23 -> 0 | CZ23: =AJ23 -> 0 | DA23: =SUM(CW23:CZ23) -> 0 | DB23: =ROUNDUP(DA23*$DB$6/100,0) -> 0 | DC23: =AK23 -> 0 | DD23: =AL23 -> 0 | DE23: =AM23 -> 0 | DF23: =AN23 -> 0 | DG23: =SUM(DC23:DF23) -> 0 | DH23: =SUM(DG23,DB23) -> 0 | DI23: =AO23 -> 0 | DJ23: =AP23 -> 0 | DK23: =AQ23 -> 0 | DL23: =AR23 -> 0 | DM23: =SUM(DI23:DL23) -> 0 | DN23: =ROUNDUP(DM23*$DN$6/100,0) -> 0 | DO23: =AS23 -> 0 | DP23: =AT23 -> 0 | DQ23: =AU23 -> 0 | DR23: =AV23 -> 0 | DS23: =SUM(DO23:DR23) -> 0 | DT23: =SUM(DS23,DN23) -> 0 | DU23: =AW23 -> 0 | DV23: =AX23 -> 0 | DW23: =AY23 -> 0 | DX23: =AZ23 -> 0 | DY23: =SUM(DU23:DX23) -> 0 | DZ23: =ROUNDUP(DY23*$DZ$6/100,0) -> 0 | EA23: =BA23 -> 0 | EB23: =BB23 -> 0 | EC23: =BC23 -> 0 | ED23: =BD23 -> 0 | EE23: =SUM(EA23:ED23) -> 0 | EF23: =SUM(EE23,DZ23) -> 0 | EG23: =BE23 -> 0 | EH23: =BF23 -> 0 | EI23: =BG23 -> 0 | EJ23: =BH23 -> 0 | EK23: =SUM(EG23:EJ23) -> 0 | EL23: =ROUNDUP(EK23*$EL$6/100,0) -> 0 | EM23: =BI23 -> 0 | EN23: =BJ23 -> 0 | EO23: =BK23 -> 0 | EP23: =BL23 -> 0 | EQ23: =SUM(EM23:EP23) -> 0 | ER23: =SUM(EL23,EQ23) -> 0 | ES23: =BM23 -> 0 | ET23: =BN23 -> 0 | EU23: =BO23 -> 0 | EV23: =BP23 -> 0 | EW23: =SUM(ES23:EV23) -> 0 | EX23: =ROUNDUP(EW23*$EX$6/100,0) -> 0 | EY23: =BQ23 -> 0 | EZ23: =BR23 | FA23: =BS23 -> 0 | FB23: =BT23 -> 0 | FC23: =SUM(EY23:FB23) -> 0 | FD23: =SUM(EX23,FC23) -> 0 | FR23: Psychology-19 | FS23: B
A24: =G24 -> 0 | B24: 16 | C24: 16 | D24: =IF(E24>0,$G$4,0) -> 0 | F24: =IF(OR(E23="",F23=""),"",F23+1) | G24: ='Data Paste From Shala Darpan'!L17 -> 0 | H24: ='Data Paste From Shala Darpan'!F17 -> 0 | I24: ='Data Paste From Shala Darpan'!H17 -> 0 | J24: ='Data Paste From Shala Darpan'!I17 -> 0 | K24: ='Data Paste From Shala Darpan'!K17 -> 0 | L24: =IF(G24=0,"",$L$7) | N24: =IF(OR(L24=0,M24=0,L24="",M24=""),"",M24/L24*100) | O24: =IF(N24="",0,IF(N24>=86,3,IF(N24>=81,2,IF(N24>=75,1,0)))) -> 0 | V24: =IF(OR($Q$3="",$G24=""),"",IF($Q$1="c",$O24/2,$O24)) -> 0 | AD24: =IF(OR($Y$3="",$G24=""),"",IF($Y$1="c",$O24/2,$O24)) -> 0 | AL24: =IF(OR($AG$3="",$G24=""),"",IF($AG$1="c",$O24/2,$O24)) -> 0 | AT24: =IF(OR($AO$3="",$G24=""),"",IF($AO$1="c",$O24/2,$O24)) -> 0 | BB24: =IF(OR($AW$3="",$G24=""),"",IF($AW$1="c",$O24/2,$O24)) -> 0 | BJ24: =IF(OR($BE$3="",$G24=""),"",IF($BE$1="c",$O24/2,$O24)) -> 0 | BR24: =IF(OR($BM$3="",$G24=""),"",IF($BM$1="c",$O24/2,$O24)) | BU24: 0 | BV24: 0 | BW24: 0 | BX24: =IF(BW24>=80,"A",IF(BW24>=60,"B",IF(BW24>=50,"C","D"))) -> D | BY24: =Q24 -> 0 | BZ24: =R24 -> 0 | CA24: =S24 -> 0 | CB24: =T24 -> 0 | CC24: =SUM(BY24:CB24) -> 0 | CD24: =ROUNDUP(CC24*$CD$6/100,0) -> 0 | CE24: =U24 -> 0 | CF24: =V24 -> 0 | CG24: =W24 -> 0 | CH24: =X24 -> 0 | CI24: =SUM(CE24:CH24) -> 0 | CJ24: =SUM(CI24,CD24) -> 0 | CK24: =Y24 -> 0 | CL24: =Z24 -> 0 | CM24: =AA24 -> 0 | CN24: =AB24 -> 0 | CO24: =SUM(CK24:CN24) -> 0 | CP24: =ROUNDUP(CO24*$CP$6/100,0) -> 0 | CQ24: =AC24 -> 0 | CR24: =AD24 -> 0 | CS24: =AE24 -> 0 | CT24: =AF24 -> 0 | CU24: =SUM(CQ24:CT24) -> 0 | CV24: =SUM(CU24,CP24) -> 0 | CW24: =AG24 -> 0 | CX24: =AH24 -> 0 | CY24: =AI24 -> 0 | CZ24: =AJ24 -> 0 | DA24: =SUM(CW24:CZ24) -> 0 | DB24: =ROUNDUP(DA24*$DB$6/100,0) -> 0 | DC24: =AK24 -> 0 | DD24: =AL24 -> 0 | DE24: =AM24 -> 0 | DF24: =AN24 -> 0 | DG24: =SUM(DC24:DF24) -> 0 | DH24: =SUM(DG24,DB24) -> 0 | DI24: =AO24 -> 0 | DJ24: =AP24 -> 0 | DK24: =AQ24 -> 0 | DL24: =AR24 -> 0 | DM24: =SUM(DI24:DL24) -> 0 | DN24: =ROUNDUP(DM24*$DN$6/100,0) -> 0 | DO24: =AS24 -> 0 | DP24: =AT24 -> 0 | DQ24: =AU24 -> 0 | DR24: =AV24 -> 0 | DS24: =SUM(DO24:DR24) -> 0 | DT24: =SUM(DS24,DN24) -> 0 | DU24: =AW24 -> 0 | DV24: =AX24 -> 0 | DW24: =AY24 -> 0 | DX24: =AZ24 -> 0 | DY24: =SUM(DU24:DX24) -> 0 | DZ24: =ROUNDUP(DY24*$DZ$6/100,0) -> 0 | EA24: =BA24 -> 0 | EB24: =BB24 -> 0 | EC24: =BC24 -> 0 | ED24: =BD24 -> 0 | EE24: =SUM(EA24:ED24) -> 0 | EF24: =SUM(EE24,DZ24) -> 0 | EG24: =BE24 -> 0 | EH24: =BF24 -> 0 | EI24: =BG24 -> 0 | EJ24: =BH24 -> 0 | EK24: =SUM(EG24:EJ24) -> 0 | EL24: =ROUNDUP(EK24*$EL$6/100,0) -> 0 | EM24: =BI24 -> 0 | EN24: =BJ24 -> 0 | EO24: =BK24 -> 0 | EP24: =BL24 -> 0 | EQ24: =SUM(EM24:EP24) -> 0 | ER24: =SUM(EL24,EQ24) -> 0 | ES24: =BM24 -> 0 | ET24: =BN24 -> 0 | EU24: =BO24 -> 0 | EV24: =BP24 -> 0 | EW24: =SUM(ES24:EV24) -> 0 | EX24: =ROUNDUP(EW24*$EX$6/100,0) -> 0 | EY24: =BQ24 -> 0 | EZ24: =BR24 | FA24: =BS24 -> 0 | FB24: =BT24 -> 0 | FC24: =SUM(EY24:FB24) -> 0 | FD24: =SUM(EX24,FC24) -> 0 | FR24: Health Edu.-60 | FS24: B
A25: =G25 -> 0 | B25: 17 | C25: 17 | D25: =IF(E25>0,$G$4,0) -> 0 | F25: =IF(OR(E24="",F24=""),"",F24+1) | G25: ='Data Paste From Shala Darpan'!L18 -> 0 | H25: ='Data Paste From Shala Darpan'!F18 -> 0 | I25: ='Data Paste From Shala Darpan'!H18 -> 0 | J25: ='Data Paste From Shala Darpan'!I18 -> 0 | K25: ='Data Paste From Shala Darpan'!K18 -> 0 | L25: =IF(G25=0,"",$L$7) | N25: =IF(OR(L25=0,M25=0,L25="",M25=""),"",M25/L25*100) | O25: =IF(N25="",0,IF(N25>=86,3,IF(N25>=81,2,IF(N25>=75,1,0)))) -> 0 | V25: =IF(OR($Q$3="",$G25=""),"",IF($Q$1="c",$O25/2,$O25)) -> 0 | AD25: =IF(OR($Y$3="",$G25=""),"",IF($Y$1="c",$O25/2,$O25)) -> 0 | AL25: =IF(OR($AG$3="",$G25=""),"",IF($AG$1="c",$O25/2,$O25)) -> 0 | AT25: =IF(OR($AO$3="",$G25=""),"",IF($AO$1="c",$O25/2,$O25)) -> 0 | BB25: =IF(OR($AW$3="",$G25=""),"",IF($AW$1="c",$O25/2,$O25)) -> 0 | BJ25: =IF(OR($BE$3="",$G25=""),"",IF($BE$1="c",$O25/2,$O25)) -> 0 | BR25: =IF(OR($BM$3="",$G25=""),"",IF($BM$1="c",$O25/2,$O25)) | BU25: 0 | BV25: 0 | BW25: 0 | BX25: =IF(BW25>=80,"A",IF(BW25>=60,"B",IF(BW25>=50,"C","D"))) -> D | BY25: =Q25 -> 0 | BZ25: =R25 -> 0 | CA25: =S25 -> 0 | CB25: =T25 -> 0 | CC25: =SUM(BY25:CB25) -> 0 | CD25: =ROUNDUP(CC25*$CD$6/100,0) -> 0 | CE25: =U25 -> 0 | CF25: =V25 -> 0 | CG25: =W25 -> 0 | CH25: =X25 -> 0 | CI25: =SUM(CE25:CH25) -> 0 | CJ25: =SUM(CI25,CD25) -> 0 | CK25: =Y25 -> 0 | CL25: =Z25 -> 0 | CM25: =AA25 -> 0 | CN25: =AB25 -> 0 | CO25: =SUM(CK25:CN25) -> 0 | CP25: =ROUNDUP(CO25*$CP$6/100,0) -> 0 | CQ25: =AC25 -> 0 | CR25: =AD25 -> 0 | CS25: =AE25 -> 0 | CT25: =AF25 -> 0 | CU25: =SUM(CQ25:CT25) -> 0 | CV25: =SUM(CU25,CP25) -> 0 | CW25: =AG25 -> 0 | CX25: =AH25 -> 0 | CY25: =AI25 -> 0 | CZ25: =AJ25 -> 0 | DA25: =SUM(CW25:CZ25) -> 0 | DB25: =ROUNDUP(DA25*$DB$6/100,0) -> 0 | DC25: =AK25 -> 0 | DD25: =AL25 -> 0 | DE25: =AM25 -> 0 | DF25: =AN25 -> 0 | DG25: =SUM(DC25:DF25) -> 0 | DH25: =SUM(DG25,DB25) -> 0 | DI25: =AO25 -> 0 | DJ25: =AP25 -> 0 | DK25: =AQ25 -> 0 | DL25: =AR25 -> 0 | DM25: =SUM(DI25:DL25) -> 0 | DN25: =ROUNDUP(DM25*$DN$6/100,0) -> 0 | DO25: =AS25 -> 0 | DP25: =AT25 -> 0 | DQ25: =AU25 -> 0 | DR25: =AV25 -> 0 | DS25: =SUM(DO25:DR25) -> 0 | DT25: =SUM(DS25,DN25) -> 0 | DU25: =AW25 -> 0 | DV25: =AX25 -> 0 | DW25: =AY25 -> 0 | DX25: =AZ25 -> 0 | DY25: =SUM(DU25:DX25) -> 0 | DZ25: =ROUNDUP(DY25*$DZ$6/100,0) -> 0 | EA25: =BA25 -> 0 | EB25: =BB25 -> 0 | EC25: =BC25 -> 0 | ED25: =BD25 -> 0 | EE25: =SUM(EA25:ED25) -> 0 | EF25: =SUM(EE25,DZ25) -> 0 | EG25: =BE25 -> 0 | EH25: =BF25 -> 0 | EI25: =BG25 -> 0 | EJ25: =BH25 -> 0 | EK25: =SUM(EG25:EJ25) -> 0 | EL25: =ROUNDUP(EK25*$EL$6/100,0) -> 0 | EM25: =BI25 -> 0 | EN25: =BJ25 -> 0 | EO25: =BK25 -> 0 | EP25: =BL25 -> 0 | EQ25: =SUM(EM25:EP25) -> 0 | ER25: =SUM(EL25,EQ25) -> 0 | ES25: =BM25 -> 0 | ET25: =BN25 -> 0 | EU25: =BO25 -> 0 | EV25: =BP25 -> 0 | EW25: =SUM(ES25:EV25) -> 0 | EX25: =ROUNDUP(EW25*$EX$6/100,0) -> 0 | EY25: =BQ25 -> 0 | EZ25: =BR25 | FA25: =BS25 -> 0 | FB25: =BT25 -> 0 | FC25: =SUM(EY25:FB25) -> 0 | FD25: =SUM(EX25,FC25) -> 0 | FR25: Public Adm.-06 | FS25: A
A26: =G26 -> 0 | B26: 18 | C26: 18 | D26: =IF(E26>0,$G$4,0) -> 0 | F26: =IF(OR(E25="",F25=""),"",F25+1) | G26: ='Data Paste From Shala Darpan'!L19 -> 0 | H26: ='Data Paste From Shala Darpan'!F19 -> 0 | I26: ='Data Paste From Shala Darpan'!H19 -> 0 | J26: ='Data Paste From Shala Darpan'!I19 -> 0 | K26: ='Data Paste From Shala Darpan'!K19 -> 0 | L26: =IF(G26=0,"",$L$7) | N26: =IF(OR(L26=0,M26=0,L26="",M26=""),"",M26/L26*100) | O26: =IF(N26="",0,IF(N26>=86,3,IF(N26>=81,2,IF(N26>=75,1,0)))) -> 0 | V26: =IF(OR($Q$3="",$G26=""),"",IF($Q$1="c",$O26/2,$O26)) -> 0 | AD26: =IF(OR($Y$3="",$G26=""),"",IF($Y$1="c",$O26/2,$O26)) -> 0 | AL26: =IF(OR($AG$3="",$G26=""),"",IF($AG$1="c",$O26/2,$O26)) -> 0 | AT26: =IF(OR($AO$3="",$G26=""),"",IF($AO$1="c",$O26/2,$O26)) -> 0 | BB26: =IF(OR($AW$3="",$G26=""),"",IF($AW$1="c",$O26/2,$O26)) -> 0 | BJ26: =IF(OR($BE$3="",$G26=""),"",IF($BE$1="c",$O26/2,$O26)) -> 0 | BR26: =IF(OR($BM$3="",$G26=""),"",IF($BM$1="c",$O26/2,$O26)) | BU26: 0 | BV26: 0 | BW26: 0 | BX26: =IF(BW26>=80,"A",IF(BW26>=60,"B",IF(BW26>=50,"C","D"))) -> D | BY26: =Q26 -> 0 | BZ26: =R26 -> 0 | CA26: =S26 -> 0 | CB26: =T26 -> 0 | CC26: =SUM(BY26:CB26) -> 0 | CD26: =ROUNDUP(CC26*$CD$6/100,0) -> 0 | CE26: =U26 -> 0 | CF26: =V26 -> 0 | CG26: =W26 -> 0 | CH26: =X26 -> 0 | CI26: =SUM(CE26:CH26) -> 0 | CJ26: =SUM(CI26,CD26) -> 0 | CK26: =Y26 -> 0 | CL26: =Z26 -> 0 | CM26: =AA26 -> 0 | CN26: =AB26 -> 0 | CO26: =SUM(CK26:CN26) -> 0 | CP26: =ROUNDUP(CO26*$CP$6/100,0) -> 0 | CQ26: =AC26 -> 0 | CR26: =AD26 -> 0 | CS26: =AE26 -> 0 | CT26: =AF26 -> 0 | CU26: =SUM(CQ26:CT26) -> 0 | CV26: =SUM(CU26,CP26) -> 0 | CW26: =AG26 -> 0 | CX26: =AH26 -> 0 | CY26: =AI26 -> 0 | CZ26: =AJ26 -> 0 | DA26: =SUM(CW26:CZ26) -> 0 | DB26: =ROUNDUP(DA26*$DB$6/100,0) -> 0 | DC26: =AK26 -> 0 | DD26: =AL26 -> 0 | DE26: =AM26 -> 0 | DF26: =AN26 -> 0 | DG26: =SUM(DC26:DF26) -> 0 | DH26: =SUM(DG26,DB26) -> 0 | DI26: =AO26 -> 0 | DJ26: =AP26 -> 0 | DK26: =AQ26 -> 0 | DL26: =AR26 -> 0 | DM26: =SUM(DI26:DL26) -> 0 | DN26: =ROUNDUP(DM26*$DN$6/100,0) -> 0 | DO26: =AS26 -> 0 | DP26: =AT26 -> 0 | DQ26: =AU26 -> 0 | DR26: =AV26 -> 0 | DS26: =SUM(DO26:DR26) -> 0 | DT26: =SUM(DS26,DN26) -> 0 | DU26: =AW26 -> 0 | DV26: =AX26 -> 0 | DW26: =AY26 -> 0 | DX26: =AZ26 -> 0 | DY26: =SUM(DU26:DX26) -> 0 | DZ26: =ROUNDUP(DY26*$DZ$6/100,0) -> 0 | EA26: =BA26 -> 0 | EB26: =BB26 -> 0 | EC26: =BC26 -> 0 | ED26: =BD26 -> 0 | EE26: =SUM(EA26:ED26) -> 0 | EF26: =SUM(EE26,DZ26) -> 0 | EG26: =BE26 -> 0 | EH26: =BF26 -> 0 | EI26: =BG26 -> 0 | EJ26: =BH26 -> 0 | EK26: =SUM(EG26:EJ26) -> 0 | EL26: =ROUNDUP(EK26*$EL$6/100,0) -> 0 | EM26: =BI26 -> 0 | EN26: =BJ26 -> 0 | EO26: =BK26 -> 0 | EP26: =BL26 -> 0 | EQ26: =SUM(EM26:EP26) -> 0 | ER26: =SUM(EL26,EQ26) -> 0 | ES26: =BM26 -> 0 | ET26: =BN26 -> 0 | EU26: =BO26 -> 0 | EV26: =BP26 -> 0 | EW26: =SUM(ES26:EV26) -> 0 | EX26: =ROUNDUP(EW26*$EX$6/100,0) -> 0 | EY26: =BQ26 -> 0 | EZ26: =BR26 | FA26: =BS26 -> 0 | FB26: =BT26 -> 0 | FC26: =SUM(EY26:FB26) -> 0 | FD26: =SUM(EX26,FC26) -> 0 | FR26: Computer Sc. (03)/Info. Practice-04 | FS26: B
A27: =G27 -> 0 | B27: 19 | C27: 19 | D27: =IF(E27>0,$G$4,0) -> 0 | F27: =IF(OR(E26="",F26=""),"",F26+1) | G27: ='Data Paste From Shala Darpan'!L20 -> 0 | H27: ='Data Paste From Shala Darpan'!F20 -> 0 | I27: ='Data Paste From Shala Darpan'!H20 -> 0 | J27: ='Data Paste From Shala Darpan'!I20 -> 0 | K27: ='Data Paste From Shala Darpan'!K20 -> 0 | L27: =IF(G27=0,"",$L$7) | N27: =IF(OR(L27=0,M27=0,L27="",M27=""),"",M27/L27*100) | O27: =IF(N27="",0,IF(N27>=86,3,IF(N27>=81,2,IF(N27>=75,1,0)))) -> 0 | V27: =IF(OR($Q$3="",$G27=""),"",IF($Q$1="c",$O27/2,$O27)) -> 0 | AD27: =IF(OR($Y$3="",$G27=""),"",IF($Y$1="c",$O27/2,$O27)) -> 0 | AL27: =IF(OR($AG$3="",$G27=""),"",IF($AG$1="c",$O27/2,$O27)) -> 0 | AT27: =IF(OR($AO$3="",$G27=""),"",IF($AO$1="c",$O27/2,$O27)) -> 0 | BB27: =IF(OR($AW$3="",$G27=""),"",IF($AW$1="c",$O27/2,$O27)) -> 0 | BJ27: =IF(OR($BE$3="",$G27=""),"",IF($BE$1="c",$O27/2,$O27)) -> 0 | BR27: =IF(OR($BM$3="",$G27=""),"",IF($BM$1="c",$O27/2,$O27)) | BU27: 0 | BV27: 0 | BW27: 0 | BX27: =IF(BW27>=80,"A",IF(BW27>=60,"B",IF(BW27>=50,"C","D"))) -> D | BY27: =Q27 -> 0 | BZ27: =R27 -> 0 | CA27: =S27 -> 0 | CB27: =T27 -> 0 | CC27: =SUM(BY27:CB27) -> 0 | CD27: =ROUNDUP(CC27*$CD$6/100,0) -> 0 | CE27: =U27 -> 0 | CF27: =V27 -> 0 | CG27: =W27 -> 0 | CH27: =X27 -> 0 | CI27: =SUM(CE27:CH27) -> 0 | CJ27: =SUM(CI27,CD27) -> 0 | CK27: =Y27 -> 0 | CL27: =Z27 -> 0 | CM27: =AA27 -> 0 | CN27: =AB27 -> 0 | CO27: =SUM(CK27:CN27) -> 0 | CP27: =ROUNDUP(CO27*$CP$6/100,0) -> 0 | CQ27: =AC27 -> 0 | CR27: =AD27 -> 0 | CS27: =AE27 -> 0 | CT27: =AF27 -> 0 | CU27: =SUM(CQ27:CT27) -> 0 | CV27: =SUM(CU27,CP27) -> 0 | CW27: =AG27 -> 0 | CX27: =AH27 -> 0 | CY27: =AI27 -> 0 | CZ27: =AJ27 -> 0 | DA27: =SUM(CW27:CZ27) -> 0 | DB27: =ROUNDUP(DA27*$DB$6/100,0) -> 0 | DC27: =AK27 -> 0 | DD27: =AL27 -> 0 | DE27: =AM27 -> 0 | DF27: =AN27 -> 0 | DG27: =SUM(DC27:DF27) -> 0 | DH27: =SUM(DG27,DB27) -> 0 | DI27: =AO27 -> 0 | DJ27: =AP27 -> 0 | DK27: =AQ27 -> 0 | DL27: =AR27 -> 0 | DM27: =SUM(DI27:DL27) -> 0 | DN27: =ROUNDUP(DM27*$DN$6/100,0) -> 0 | DO27: =AS27 -> 0 | DP27: =AT27 -> 0 | DQ27: =AU27 -> 0 | DR27: =AV27 -> 0 | DS27: =SUM(DO27:DR27) -> 0 | DT27: =SUM(DS27,DN27) -> 0 | DU27: =AW27 -> 0 | DV27: =AX27 -> 0 | DW27: =AY27 -> 0 | DX27: =AZ27 -> 0 | DY27: =SUM(DU27:DX27) -> 0 | DZ27: =ROUNDUP(DY27*$DZ$6/100,0) -> 0 | EA27: =BA27 -> 0 | EB27: =BB27 -> 0 | EC27: =BC27 -> 0 | ED27: =BD27 -> 0 | EE27: =SUM(EA27:ED27) -> 0 | EF27: =SUM(EE27,DZ27) -> 0 | EG27: =BE27 -> 0 | EH27: =BF27 -> 0 | EI27: =BG27 -> 0 | EJ27: =BH27 -> 0 | EK27: =SUM(EG27:EJ27) -> 0 | EL27: =ROUNDUP(EK27*$EL$6/100,0) -> 0 | EM27: =BI27 -> 0 | EN27: =BJ27 -> 0 | EO27: =BK27 -> 0 | EP27: =BL27 -> 0 | EQ27: =SUM(EM27:EP27) -> 0 | ER27: =SUM(EL27,EQ27) -> 0 | ES27: =BM27 -> 0 | ET27: =BN27 -> 0 | EU27: =BO27 -> 0 | EV27: =BP27 -> 0 | EW27: =SUM(ES27:EV27) -> 0 | EX27: =ROUNDUP(EW27*$EX$6/100,0) -> 0 | EY27: =BQ27 -> 0 | EZ27: =BR27 | FA27: =BS27 -> 0 | FB27: =BT27 -> 0 | FC27: =SUM(EY27:FB27) -> 0 | FD27: =SUM(EX27,FC27) -> 0 | FR27: Environment Science-61 | FS27: B
A28: =G28 -> 0 | B28: 20 | C28: 20 | D28: =IF(E28>0,$G$4,0) -> 0 | F28: =IF(OR(E27="",F27=""),"",F27+1) | G28: ='Data Paste From Shala Darpan'!L21 -> 0 | H28: ='Data Paste From Shala Darpan'!F21 -> 0 | I28: ='Data Paste From Shala Darpan'!H21 -> 0 | J28: ='Data Paste From Shala Darpan'!I21 -> 0 | K28: ='Data Paste From Shala Darpan'!K21 -> 0 | L28: =IF(G28=0,"",$L$7) | N28: =IF(OR(L28=0,M28=0,L28="",M28=""),"",M28/L28*100) | O28: =IF(N28="",0,IF(N28>=86,3,IF(N28>=81,2,IF(N28>=75,1,0)))) -> 0 | V28: =IF(OR($Q$3="",$G28=""),"",IF($Q$1="c",$O28/2,$O28)) -> 0 | AD28: =IF(OR($Y$3="",$G28=""),"",IF($Y$1="c",$O28/2,$O28)) -> 0 | AL28: =IF(OR($AG$3="",$G28=""),"",IF($AG$1="c",$O28/2,$O28)) -> 0 | AT28: =IF(OR($AO$3="",$G28=""),"",IF($AO$1="c",$O28/2,$O28)) -> 0 | BB28: =IF(OR($AW$3="",$G28=""),"",IF($AW$1="c",$O28/2,$O28)) -> 0 | BJ28: =IF(OR($BE$3="",$G28=""),"",IF($BE$1="c",$O28/2,$O28)) -> 0 | BR28: =IF(OR($BM$3="",$G28=""),"",IF($BM$1="c",$O28/2,$O28)) | BU28: 0 | BV28: 0 | BW28: 0 | BX28: =IF(BW28>=80,"A",IF(BW28>=60,"B",IF(BW28>=50,"C","D"))) -> D | BY28: =Q28 -> 0 | BZ28: =R28 -> 0 | CA28: =S28 -> 0 | CB28: =T28 -> 0 | CC28: =SUM(BY28:CB28) -> 0 | CD28: =ROUNDUP(CC28*$CD$6/100,0) -> 0 | CE28: =U28 -> 0 | CF28: =V28 -> 0 | CG28: =W28 -> 0 | CH28: =X28 -> 0 | CI28: =SUM(CE28:CH28) -> 0 | CJ28: =SUM(CI28,CD28) -> 0 | CK28: =Y28 -> 0 | CL28: =Z28 -> 0 | CM28: =AA28 -> 0 | CN28: =AB28 -> 0 | CO28: =SUM(CK28:CN28) -> 0 | CP28: =ROUNDUP(CO28*$CP$6/100,0) -> 0 | CQ28: =AC28 -> 0 | CR28: =AD28 -> 0 | CS28: =AE28 -> 0 | CT28: =AF28 -> 0 | CU28: =SUM(CQ28:CT28) -> 0 | CV28: =SUM(CU28,CP28) -> 0 | CW28: =AG28 -> 0 | CX28: =AH28 -> 0 | CY28: =AI28 -> 0 | CZ28: =AJ28 -> 0 | DA28: =SUM(CW28:CZ28) -> 0 | DB28: =ROUNDUP(DA28*$DB$6/100,0) -> 0 | DC28: =AK28 -> 0 | DD28: =AL28 -> 0 | DE28: =AM28 -> 0 | DF28: =AN28 -> 0 | DG28: =SUM(DC28:DF28) -> 0 | DH28: =SUM(DG28,DB28) -> 0 | DI28: =AO28 -> 0 | DJ28: =AP28 -> 0 | DK28: =AQ28 -> 0 | DL28: =AR28 -> 0 | DM28: =SUM(DI28:DL28) -> 0 | DN28: =ROUNDUP(DM28*$DN$6/100,0) -> 0 | DO28: =AS28 -> 0 | DP28: =AT28 -> 0 | DQ28: =AU28 -> 0 | DR28: =AV28 -> 0 | DS28: =SUM(DO28:DR28) -> 0 | DT28: =SUM(DS28,DN28) -> 0 | DU28: =AW28 -> 0 | DV28: =AX28 -> 0 | DW28: =AY28 -> 0 | DX28: =AZ28 -> 0 | DY28: =SUM(DU28:DX28) -> 0 | DZ28: =ROUNDUP(DY28*$DZ$6/100,0) -> 0 | EA28: =BA28 -> 0 | EB28: =BB28 -> 0 | EC28: =BC28 -> 0 | ED28: =BD28 -> 0 | EE28: =SUM(EA28:ED28) -> 0 | EF28: =SUM(EE28,DZ28) -> 0 | EG28: =BE28 -> 0 | EH28: =BF28 -> 0 | EI28: =BG28 -> 0 | EJ28: =BH28 -> 0 | EK28: =SUM(EG28:EJ28) -> 0 | EL28: =ROUNDUP(EK28*$EL$6/100,0) -> 0 | EM28: =BI28 -> 0 | EN28: =BJ28 -> 0 | EO28: =BK28 -> 0 | EP28: =BL28 -> 0 | EQ28: =SUM(EM28:EP28) -> 0 | ER28: =SUM(EL28,EQ28) -> 0 | ES28: =BM28 -> 0 | ET28: =BN28 -> 0 | EU28: =BO28 -> 0 | EV28: =BP28 -> 0 | EW28: =SUM(ES28:EV28) -> 0 | EX28: =ROUNDUP(EW28*$EX$6/100,0) -> 0 | EY28: =BQ28 -> 0 | EZ28: =BR28 | FA28: =BS28 -> 0 | FB28: =BT28 -> 0 | FC28: =SUM(EY28:FB28) -> 0 | FD28: =SUM(EX28,FC28) -> 0 | FR28: Commercial Trade | FS28: D
A29: =G29 -> 0 | B29: 21 | C29: 21 | D29: =IF(E29>0,$G$4,0) -> 0 | F29: =IF(OR(E28="",F28=""),"",F28+1) | G29: ='Data Paste From Shala Darpan'!L22 -> 0 | H29: ='Data Paste From Shala Darpan'!F22 -> 0 | I29: ='Data Paste From Shala Darpan'!H22 -> 0 | J29: ='Data Paste From Shala Darpan'!I22 -> 0 | K29: ='Data Paste From Shala Darpan'!K22 -> 0 | L29: =IF(G29=0,"",$L$7) | N29: =IF(OR(L29=0,M29=0,L29="",M29=""),"",M29/L29*100) | O29: =IF(N29="",0,IF(N29>=86,3,IF(N29>=81,2,IF(N29>=75,1,0)))) -> 0 | V29: =IF(OR($Q$3="",$G29=""),"",IF($Q$1="c",$O29/2,$O29)) -> 0 | AD29: =IF(OR($Y$3="",$G29=""),"",IF($Y$1="c",$O29/2,$O29)) -> 0 | AL29: =IF(OR($AG$3="",$G29=""),"",IF($AG$1="c",$O29/2,$O29)) -> 0 | AT29: =IF(OR($AO$3="",$G29=""),"",IF($AO$1="c",$O29/2,$O29)) -> 0 | BB29: =IF(OR($AW$3="",$G29=""),"",IF($AW$1="c",$O29/2,$O29)) -> 0 | BJ29: =IF(OR($BE$3="",$G29=""),"",IF($BE$1="c",$O29/2,$O29)) -> 0 | BR29: =IF(OR($BM$3="",$G29=""),"",IF($BM$1="c",$O29/2,$O29)) | BU29: 0 | BV29: 0 | BW29: 0 | BX29: =IF(BW29>=80,"A",IF(BW29>=60,"B",IF(BW29>=50,"C","D"))) -> D | BY29: =Q29 -> 0 | BZ29: =R29 -> 0 | CA29: =S29 -> 0 | CB29: =T29 -> 0 | CC29: =SUM(BY29:CB29) -> 0 | CD29: =ROUNDUP(CC29*$CD$6/100,0) -> 0 | CE29: =U29 -> 0 | CF29: =V29 -> 0 | CG29: =W29 -> 0 | CH29: =X29 -> 0 | CI29: =SUM(CE29:CH29) -> 0 | CJ29: =SUM(CI29,CD29) -> 0 | CK29: =Y29 -> 0 | CL29: =Z29 -> 0 | CM29: =AA29 -> 0 | CN29: =AB29 -> 0 | CO29: =SUM(CK29:CN29) -> 0 | CP29: =ROUNDUP(CO29*$CP$6/100,0) -> 0 | CQ29: =AC29 -> 0 | CR29: =AD29 -> 0 | CS29: =AE29 -> 0 | CT29: =AF29 -> 0 | CU29: =SUM(CQ29:CT29) -> 0 | CV29: =SUM(CU29,CP29) -> 0 | CW29: =AG29 -> 0 | CX29: =AH29 -> 0 | CY29: =AI29 -> 0 | CZ29: =AJ29 -> 0 | DA29: =SUM(CW29:CZ29) -> 0 | DB29: =ROUNDUP(DA29*$DB$6/100,0) -> 0 | DC29: =AK29 -> 0 | DD29: =AL29 -> 0 | DE29: =AM29 -> 0 | DF29: =AN29 -> 0 | DG29: =SUM(DC29:DF29) -> 0 | DH29: =SUM(DG29,DB29) -> 0 | DI29: =AO29 -> 0 | DJ29: =AP29 -> 0 | DK29: =AQ29 -> 0 | DL29: =AR29 -> 0 | DM29: =SUM(DI29:DL29) -> 0 | DN29: =ROUNDUP(DM29*$DN$6/100,0) -> 0 | DO29: =AS29 -> 0 | DP29: =AT29 -> 0 | DQ29: =AU29 -> 0 | DR29: =AV29 -> 0 | DS29: =SUM(DO29:DR29) -> 0 | DT29: =SUM(DS29,DN29) -> 0 | DU29: =AW29 -> 0 | DV29: =AX29 -> 0 | DW29: =AY29 -> 0 | DX29: =AZ29 -> 0 | DY29: =SUM(DU29:DX29) -> 0 | DZ29: =ROUNDUP(DY29*$DZ$6/100,0) -> 0 | EA29: =BA29 -> 0 | EB29: =BB29 -> 0 | EC29: =BC29 -> 0 | ED29: =BD29 -> 0 | EE29: =SUM(EA29:ED29) -> 0 | EF29: =SUM(EE29,DZ29) -> 0 | EG29: =BE29 -> 0 | EH29: =BF29 -> 0 | EI29: =BG29 -> 0 | EJ29: =BH29 -> 0 | EK29: =SUM(EG29:EJ29) -> 0 | EL29: =ROUNDUP(EK29*$EL$6/100,0) -> 0 | EM29: =BI29 -> 0 | EN29: =BJ29 -> 0 | EO29: =BK29 -> 0 | EP29: =BL29 -> 0 | EQ29: =SUM(EM29:EP29) -> 0 | ER29: =SUM(EL29,EQ29) -> 0 | ES29: =BM29 -> 0 | ET29: =BN29 -> 0 | EU29: =BO29 -> 0 | EV29: =BP29 -> 0 | EW29: =SUM(ES29:EV29) -> 0 | EX29: =ROUNDUP(EW29*$EX$6/100,0) -> 0 | EY29: =BQ29 -> 0 | EZ29: =BR29 | FA29: =BS29 -> 0 | FB29: =BT29 -> 0 | FC29: =SUM(EY29:FB29) -> 0 | FD29: =SUM(EX29,FC29) -> 0 | FR29: Acounting-30 | FS29: A
A30: =G30 -> 0 | B30: 22 | C30: 22 | D30: =IF(E30>0,$G$4,0) -> 0 | F30: =IF(OR(E29="",F29=""),"",F29+1) | G30: ='Data Paste From Shala Darpan'!L23 -> 0 | H30: ='Data Paste From Shala Darpan'!F23 -> 0 | I30: ='Data Paste From Shala Darpan'!H23 -> 0 | J30: ='Data Paste From Shala Darpan'!I23 -> 0 | K30: ='Data Paste From Shala Darpan'!K23 -> 0 | L30: =IF(G30=0,"",$L$7) | N30: =IF(OR(L30=0,M30=0,L30="",M30=""),"",M30/L30*100) | O30: =IF(N30="",0,IF(N30>=86,3,IF(N30>=81,2,IF(N30>=75,1,0)))) -> 0 | V30: =IF(OR($Q$3="",$G30=""),"",IF($Q$1="c",$O30/2,$O30)) -> 0 | AD30: =IF(OR($Y$3="",$G30=""),"",IF($Y$1="c",$O30/2,$O30)) -> 0 | AL30: =IF(OR($AG$3="",$G30=""),"",IF($AG$1="c",$O30/2,$O30)) -> 0 | AT30: =IF(OR($AO$3="",$G30=""),"",IF($AO$1="c",$O30/2,$O30)) -> 0 | BB30: =IF(OR($AW$3="",$G30=""),"",IF($AW$1="c",$O30/2,$O30)) -> 0 | BJ30: =IF(OR($BE$3="",$G30=""),"",IF($BE$1="c",$O30/2,$O30)) -> 0 | BR30: =IF(OR($BM$3="",$G30=""),"",IF($BM$1="c",$O30/2,$O30)) | BU30: 0 | BV30: 0 | BW30: 0 | BX30: =IF(BW30>=80,"A",IF(BW30>=60,"B",IF(BW30>=50,"C","D"))) -> D | BY30: =Q30 -> 0 | BZ30: =R30 -> 0 | CA30: =S30 -> 0 | CB30: =T30 -> 0 | CC30: =SUM(BY30:CB30) -> 0 | CD30: =ROUNDUP(CC30*$CD$6/100,0) -> 0 | CE30: =U30 -> 0 | CF30: =V30 -> 0 | CG30: =W30 -> 0 | CH30: =X30 -> 0 | CI30: =SUM(CE30:CH30) -> 0 | CJ30: =SUM(CI30,CD30) -> 0 | CK30: =Y30 -> 0 | CL30: =Z30 -> 0 | CM30: =AA30 -> 0 | CN30: =AB30 -> 0 | CO30: =SUM(CK30:CN30) -> 0 | CP30: =ROUNDUP(CO30*$CP$6/100,0) -> 0 | CQ30: =AC30 -> 0 | CR30: =AD30 -> 0 | CS30: =AE30 -> 0 | CT30: =AF30 -> 0 | CU30: =SUM(CQ30:CT30) -> 0 | CV30: =SUM(CU30,CP30) -> 0 | CW30: =AG30 -> 0 | CX30: =AH30 -> 0 | CY30: =AI30 -> 0 | CZ30: =AJ30 -> 0 | DA30: =SUM(CW30:CZ30) -> 0 | DB30: =ROUNDUP(DA30*$DB$6/100,0) -> 0 | DC30: =AK30 -> 0 | DD30: =AL30 -> 0 | DE30: =AM30 -> 0 | DF30: =AN30 -> 0 | DG30: =SUM(DC30:DF30) -> 0 | DH30: =SUM(DG30,DB30) -> 0 | DI30: =AO30 -> 0 | DJ30: =AP30 -> 0 | DK30: =AQ30 -> 0 | DL30: =AR30 -> 0 | DM30: =SUM(DI30:DL30) -> 0 | DN30: =ROUNDUP(DM30*$DN$6/100,0) -> 0 | DO30: =AS30 -> 0 | DP30: =AT30 -> 0 | DQ30: =AU30 -> 0 | DR30: =AV30 -> 0 | DS30: =SUM(DO30:DR30) -> 0 | DT30: =SUM(DS30,DN30) -> 0 | DU30: =AW30 -> 0 | DV30: =AX30 -> 0 | DW30: =AY30 -> 0 | DX30: =AZ30 -> 0 | DY30: =SUM(DU30:DX30) -> 0 | DZ30: =ROUNDUP(DY30*$DZ$6/100,0) -> 0 | EA30: =BA30 -> 0 | EB30: =BB30 -> 0 | EC30: =BC30 -> 0 | ED30: =BD30 -> 0 | EE30: =SUM(EA30:ED30) -> 0 | EF30: =SUM(EE30,DZ30) -> 0 | EG30: =BE30 -> 0 | EH30: =BF30 -> 0 | EI30: =BG30 -> 0 | EJ30: =BH30 -> 0 | EK30: =SUM(EG30:EJ30) -> 0 | EL30: =ROUNDUP(EK30*$EL$6/100,0) -> 0 | EM30: =BI30 -> 0 | EN30: =BJ30 -> 0 | EO30: =BK30 -> 0 | EP30: =BL30 -> 0 | EQ30: =SUM(EM30:EP30) -> 0 | ER30: =SUM(EL30,EQ30) -> 0 | ES30: =BM30 -> 0 | ET30: =BN30 -> 0 | EU30: =BO30 -> 0 | EV30: =BP30 -> 0 | EW30: =SUM(ES30:EV30) -> 0 | EX30: =ROUNDUP(EW30*$EX$6/100,0) -> 0 | EY30: =BQ30 -> 0 | EZ30: =BR30 | FA30: =BS30 -> 0 | FB30: =BT30 -> 0 | FC30: =SUM(EY30:FB30) -> 0 | FD30: =SUM(EX30,FC30) -> 0 | FR30: Business Studies-31 | FS30: A
A31: =G31 -> 0 | B31: 23 | C31: 23 | D31: =IF(E31>0,$G$4,0) -> 0 | F31: =IF(OR(E30="",F30=""),"",F30+1) | G31: ='Data Paste From Shala Darpan'!L24 -> 0 | H31: ='Data Paste From Shala Darpan'!F24 -> 0 | I31: ='Data Paste From Shala Darpan'!H24 -> 0 | J31: ='Data Paste From Shala Darpan'!I24 -> 0 | K31: ='Data Paste From Shala Darpan'!K24 -> 0 | L31: =IF(G31=0,"",$L$7) | N31: =IF(OR(L31=0,M31=0,L31="",M31=""),"",M31/L31*100) | O31: =IF(N31="",0,IF(N31>=86,3,IF(N31>=81,2,IF(N31>=75,1,0)))) -> 0 | V31: =IF(OR($Q$3="",$G31=""),"",IF($Q$1="c",$O31/2,$O31)) -> 0 | AD31: =IF(OR($Y$3="",$G31=""),"",IF($Y$1="c",$O31/2,$O31)) -> 0 | AL31: =IF(OR($AG$3="",$G31=""),"",IF($AG$1="c",$O31/2,$O31)) -> 0 | AT31: =IF(OR($AO$3="",$G31=""),"",IF($AO$1="c",$O31/2,$O31)) -> 0 | BB31: =IF(OR($AW$3="",$G31=""),"",IF($AW$1="c",$O31/2,$O31)) -> 0 | BJ31: =IF(OR($BE$3="",$G31=""),"",IF($BE$1="c",$O31/2,$O31)) -> 0 | BR31: =IF(OR($BM$3="",$G31=""),"",IF($BM$1="c",$O31/2,$O31)) | BU31: 0 | BV31: 0 | BW31: 0 | BX31: =IF(BW31>=80,"A",IF(BW31>=60,"B",IF(BW31>=50,"C","D"))) -> D | BY31: =Q31 -> 0 | BZ31: =R31 -> 0 | CA31: =S31 -> 0 | CB31: =T31 -> 0 | CC31: =SUM(BY31:CB31) -> 0 | CD31: =ROUNDUP(CC31*$CD$6/100,0) -> 0 | CE31: =U31 -> 0 | CF31: =V31 -> 0 | CG31: =W31 -> 0 | CH31: =X31 -> 0 | CI31: =SUM(CE31:CH31) -> 0 | CJ31: =SUM(CI31,CD31) -> 0 | CK31: =Y31 -> 0 | CL31: =Z31 -> 0 | CM31: =AA31 -> 0 | CN31: =AB31 -> 0 | CO31: =SUM(CK31:CN31) -> 0 | CP31: =ROUNDUP(CO31*$CP$6/100,0) -> 0 | CQ31: =AC31 -> 0 | CR31: =AD31 -> 0 | CS31: =AE31 -> 0 | CT31: =AF31 -> 0 | CU31: =SUM(CQ31:CT31) -> 0 | CV31: =SUM(CU31,CP31) -> 0 | CW31: =AG31 -> 0 | CX31: =AH31 -> 0 | CY31: =AI31 -> 0 | CZ31: =AJ31 -> 0 | DA31: =SUM(CW31:CZ31) -> 0 | DB31: =ROUNDUP(DA31*$DB$6/100,0) -> 0 | DC31: =AK31 -> 0 | DD31: =AL31 -> 0 | DE31: =AM31 -> 0 | DF31: =AN31 -> 0 | DG31: =SUM(DC31:DF31) -> 0 | DH31: =SUM(DG31,DB31) -> 0 | DI31: =AO31 -> 0 | DJ31: =AP31 -> 0 | DK31: =AQ31 -> 0 | DL31: =AR31 -> 0 | DM31: =SUM(DI31:DL31) -> 0 | DN31: =ROUNDUP(DM31*$DN$6/100,0) -> 0 | DO31: =AS31 -> 0 | DP31: =AT31 -> 0 | DQ31: =AU31 -> 0 | DR31: =AV31 -> 0 | DS31: =SUM(DO31:DR31) -> 0 | DT31: =SUM(DS31,DN31) -> 0 | DU31: =AW31 -> 0 | DV31: =AX31 -> 0 | DW31: =AY31 -> 0 | DX31: =AZ31 -> 0 | DY31: =SUM(DU31:DX31) -> 0 | DZ31: =ROUNDUP(DY31*$DZ$6/100,0) -> 0 | EA31: =BA31 -> 0 | EB31: =BB31 -> 0 | EC31: =BC31 -> 0 | ED31: =BD31 -> 0 | EE31: =SUM(EA31:ED31) -> 0 | EF31: =SUM(EE31,DZ31) -> 0 | EG31: =BE31 -> 0 | EH31: =BF31 -> 0 | EI31: =BG31 -> 0 | EJ31: =BH31 -> 0 | EK31: =SUM(EG31:EJ31) -> 0 | EL31: =ROUNDUP(EK31*$EL$6/100,0) -> 0 | EM31: =BI31 -> 0 | EN31: =BJ31 -> 0 | EO31: =BK31 -> 0 | EP31: =BL31 -> 0 | EQ31: =SUM(EM31:EP31) -> 0 | ER31: =SUM(EL31,EQ31) -> 0 | ES31: =BM31 -> 0 | ET31: =BN31 -> 0 | EU31: =BO31 -> 0 | EV31: =BP31 -> 0 | EW31: =SUM(ES31:EV31) -> 0 | EX31: =ROUNDUP(EW31*$EX$6/100,0) -> 0 | EY31: =BQ31 -> 0 | EZ31: =BR31 | FA31: =BS31 -> 0 | FB31: =BT31 -> 0 | FC31: =SUM(EY31:FB31) -> 0 | FD31: =SUM(EX31,FC31) -> 0 | FR31: English Shorthand-33 | FS31: E
A32: =G32 -> 0 | B32: 24 | C32: 24 | D32: =IF(E32>0,$G$4,0) -> 0 | F32: =IF(OR(E31="",F31=""),"",F31+1) | G32: ='Data Paste From Shala Darpan'!L25 -> 0 | H32: ='Data Paste From Shala Darpan'!F25 -> 0 | I32: ='Data Paste From Shala Darpan'!H25 -> 0 | J32: ='Data Paste From Shala Darpan'!I25 -> 0 | K32: ='Data Paste From Shala Darpan'!K25 -> 0 | L32: =IF(G32=0,"",$L$7) | N32: =IF(OR(L32=0,M32=0,L32="",M32=""),"",M32/L32*100) | O32: =IF(N32="",0,IF(N32>=86,3,IF(N32>=81,2,IF(N32>=75,1,0)))) -> 0 | V32: =IF(OR($Q$3="",$G32=""),"",IF($Q$1="c",$O32/2,$O32)) -> 0 | AD32: =IF(OR($Y$3="",$G32=""),"",IF($Y$1="c",$O32/2,$O32)) -> 0 | AL32: =IF(OR($AG$3="",$G32=""),"",IF($AG$1="c",$O32/2,$O32)) -> 0 | AT32: =IF(OR($AO$3="",$G32=""),"",IF($AO$1="c",$O32/2,$O32)) -> 0 | BB32: =IF(OR($AW$3="",$G32=""),"",IF($AW$1="c",$O32/2,$O32)) -> 0 | BJ32: =IF(OR($BE$3="",$G32=""),"",IF($BE$1="c",$O32/2,$O32)) -> 0 | BR32: =IF(OR($BM$3="",$G32=""),"",IF($BM$1="c",$O32/2,$O32)) | BU32: 0 | BV32: 0 | BW32: 0 | BX32: =IF(BW32>=80,"A",IF(BW32>=60,"B",IF(BW32>=50,"C","D"))) -> D | BY32: =Q32 -> 0 | BZ32: =R32 -> 0 | CA32: =S32 -> 0 | CB32: =T32 -> 0 | CC32: =SUM(BY32:CB32) -> 0 | CD32: =ROUNDUP(CC32*$CD$6/100,0) -> 0 | CE32: =U32 -> 0 | CF32: =V32 -> 0 | CG32: =W32 -> 0 | CH32: =X32 -> 0 | CI32: =SUM(CE32:CH32) -> 0 | CJ32: =SUM(CI32,CD32) -> 0 | CK32: =Y32 -> 0 | CL32: =Z32 -> 0 | CM32: =AA32 -> 0 | CN32: =AB32 -> 0 | CO32: =SUM(CK32:CN32) -> 0 | CP32: =ROUNDUP(CO32*$CP$6/100,0) -> 0 | CQ32: =AC32 -> 0 | CR32: =AD32 -> 0 | CS32: =AE32 -> 0 | CT32: =AF32 -> 0 | CU32: =SUM(CQ32:CT32) -> 0 | CV32: =SUM(CU32,CP32) -> 0 | CW32: =AG32 -> 0 | CX32: =AH32 -> 0 | CY32: =AI32 -> 0 | CZ32: =AJ32 -> 0 | DA32: =SUM(CW32:CZ32) -> 0 | DB32: =ROUNDUP(DA32*$DB$6/100,0) -> 0 | DC32: =AK32 -> 0 | DD32: =AL32 -> 0 | DE32: =AM32 -> 0 | DF32: =AN32 -> 0 | DG32: =SUM(DC32:DF32) -> 0 | DH32: =SUM(DG32,DB32) -> 0 | DI32: =AO32 -> 0 | DJ32: =AP32 -> 0 | DK32: =AQ32 -> 0 | DL32: =AR32 -> 0 | DM32: =SUM(DI32:DL32) -> 0 | DN32: =ROUNDUP(DM32*$DN$6/100,0) -> 0 | DO32: =AS32 -> 0 | DP32: =AT32 -> 0 | DQ32: =AU32 -> 0 | DR32: =AV32 -> 0 | DS32: =SUM(DO32:DR32) -> 0 | DT32: =SUM(DS32,DN32) -> 0 | DU32: =AW32 -> 0 | DV32: =AX32 -> 0 | DW32: =AY32 -> 0 | DX32: =AZ32 -> 0 | DY32: =SUM(DU32:DX32) -> 0 | DZ32: =ROUNDUP(DY32*$DZ$6/100,0) -> 0 | EA32: =BA32 -> 0 | EB32: =BB32 -> 0 | EC32: =BC32 -> 0 | ED32: =BD32 -> 0 | EE32: =SUM(EA32:ED32) -> 0 | EF32: =SUM(EE32,DZ32) -> 0 | EG32: =BE32 -> 0 | EH32: =BF32 -> 0 | EI32: =BG32 -> 0 | EJ32: =BH32 -> 0 | EK32: =SUM(EG32:EJ32) -> 0 | EL32: =ROUNDUP(EK32*$EL$6/100,0) -> 0 | EM32: =BI32 -> 0 | EN32: =BJ32 -> 0 | EO32: =BK32 -> 0 | EP32: =BL32 -> 0 | EQ32: =SUM(EM32:EP32) -> 0 | ER32: =SUM(EL32,EQ32) -> 0 | ES32: =BM32 -> 0 | ET32: =BN32 -> 0 | EU32: =BO32 -> 0 | EV32: =BP32 -> 0 | EW32: =SUM(ES32:EV32) -> 0 | EX32: =ROUNDUP(EW32*$EX$6/100,0) -> 0 | EY32: =BQ32 -> 0 | EZ32: =BR32 | FA32: =BS32 -> 0 | FB32: =BT32 -> 0 | FC32: =SUM(EY32:FB32) -> 0 | FD32: =SUM(EX32,FC32) -> 0 | FR32: Hindi Shorthand-32 | FS32: E
A33: =G33 -> 0 | B33: 25 | C33: 25 | D33: =IF(E33>0,$G$4,0) -> 0 | F33: =IF(OR(E32="",F32=""),"",F32+1) | G33: ='Data Paste From Shala Darpan'!L26 -> 0 | H33: ='Data Paste From Shala Darpan'!F26 -> 0 | I33: ='Data Paste From Shala Darpan'!H26 -> 0 | J33: ='Data Paste From Shala Darpan'!I26 -> 0 | K33: ='Data Paste From Shala Darpan'!K26 -> 0 | L33: =IF(G33=0,"",$L$7) | N33: =IF(OR(L33=0,M33=0,L33="",M33=""),"",M33/L33*100) | O33: =IF(N33="",0,IF(N33>=86,3,IF(N33>=81,2,IF(N33>=75,1,0)))) -> 0 | V33: =IF(OR($Q$3="",$G33=""),"",IF($Q$1="c",$O33/2,$O33)) -> 0 | AD33: =IF(OR($Y$3="",$G33=""),"",IF($Y$1="c",$O33/2,$O33)) -> 0 | AL33: =IF(OR($AG$3="",$G33=""),"",IF($AG$1="c",$O33/2,$O33)) -> 0 | AT33: =IF(OR($AO$3="",$G33=""),"",IF($AO$1="c",$O33/2,$O33)) -> 0 | BB33: =IF(OR($AW$3="",$G33=""),"",IF($AW$1="c",$O33/2,$O33)) -> 0 | BJ33: =IF(OR($BE$3="",$G33=""),"",IF($BE$1="c",$O33/2,$O33)) -> 0 | BR33: =IF(OR($BM$3="",$G33=""),"",IF($BM$1="c",$O33/2,$O33)) | BU33: 0 | BV33: 0 | BW33: 0 | BX33: =IF(BW33>=80,"A",IF(BW33>=60,"B",IF(BW33>=50,"C","D"))) -> D | BY33: =Q33 -> 0 | BZ33: =R33 -> 0 | CA33: =S33 -> 0 | CB33: =T33 -> 0 | CC33: =SUM(BY33:CB33) -> 0 | CD33: =ROUNDUP(CC33*$CD$6/100,0) -> 0 | CE33: =U33 -> 0 | CF33: =V33 -> 0 | CG33: =W33 -> 0 | CH33: =X33 -> 0 | CI33: =SUM(CE33:CH33) -> 0 | CJ33: =SUM(CI33,CD33) -> 0 | CK33: =Y33 -> 0 | CL33: =Z33 -> 0 | CM33: =AA33 -> 0 | CN33: =AB33 -> 0 | CO33: =SUM(CK33:CN33) -> 0 | CP33: =ROUNDUP(CO33*$CP$6/100,0) -> 0 | CQ33: =AC33 -> 0 | CR33: =AD33 -> 0 | CS33: =AE33 -> 0 | CT33: =AF33 -> 0 | CU33: =SUM(CQ33:CT33) -> 0 | CV33: =SUM(CU33,CP33) -> 0 | CW33: =AG33 -> 0 | CX33: =AH33 -> 0 | CY33: =AI33 -> 0 | CZ33: =AJ33 -> 0 | DA33: =SUM(CW33:CZ33) -> 0 | DB33: =ROUNDUP(DA33*$DB$6/100,0) -> 0 | DC33: =AK33 -> 0 | DD33: =AL33 -> 0 | DE33: =AM33 -> 0 | DF33: =AN33 -> 0 | DG33: =SUM(DC33:DF33) -> 0 | DH33: =SUM(DG33,DB33) -> 0 | DI33: =AO33 -> 0 | DJ33: =AP33 -> 0 | DK33: =AQ33 -> 0 | DL33: =AR33 -> 0 | DM33: =SUM(DI33:DL33) -> 0 | DN33: =ROUNDUP(DM33*$DN$6/100,0) -> 0 | DO33: =AS33 -> 0 | DP33: =AT33 -> 0 | DQ33: =AU33 -> 0 | DR33: =AV33 -> 0 | DS33: =SUM(DO33:DR33) -> 0 | DT33: =SUM(DS33,DN33) -> 0 | DU33: =AW33 -> 0 | DV33: =AX33 -> 0 | DW33: =AY33 -> 0 | DX33: =AZ33 -> 0 | DY33: =SUM(DU33:DX33) -> 0 | DZ33: =ROUNDUP(DY33*$DZ$6/100,0) -> 0 | EA33: =BA33 -> 0 | EB33: =BB33 -> 0 | EC33: =BC33 -> 0 | ED33: =BD33 -> 0 | EE33: =SUM(EA33:ED33) -> 0 | EF33: =SUM(EE33,DZ33) -> 0 | EG33: =BE33 -> 0 | EH33: =BF33 -> 0 | EI33: =BG33 -> 0 | EJ33: =BH33 -> 0 | EK33: =SUM(EG33:EJ33) -> 0 | EL33: =ROUNDUP(EK33*$EL$6/100,0) -> 0 | EM33: =BI33 -> 0 | EN33: =BJ33 -> 0 | EO33: =BK33 -> 0 | EP33: =BL33 -> 0 | EQ33: =SUM(EM33:EP33) -> 0 | ER33: =SUM(EL33,EQ33) -> 0 | ES33: =BM33 -> 0 | ET33: =BN33 -> 0 | EU33: =BO33 -> 0 | EV33: =BP33 -> 0 | EW33: =SUM(ES33:EV33) -> 0 | EX33: =ROUNDUP(EW33*$EX$6/100,0) -> 0 | EY33: =BQ33 -> 0 | EZ33: =BR33 | FA33: =BS33 -> 0 | FB33: =BT33 -> 0 | FC33: =SUM(EY33:FB33) -> 0 | FD33: =SUM(EX33,FC33) -> 0 | FR33: Hindi Typing-34 | FS33: E
... A41: =G41 -> 0 | B41: 33 | C41: 33 | D41: =IF(E41>0,$G$4,0) -> 0 | F41: =IF(OR(E40="",F40=""),"",F40+1) | G41: ='Data Paste From Shala Darpan'!L34 -> 0 | H41: ='Data Paste From Shala Darpan'!F34 -> 0 | I41: ='Data Paste From Shala Darpan'!H34 -> 0 | J41: ='Data Paste From Shala Darpan'!I34 -> 0 | K41: ='Data Paste From Shala Darpan'!K34 -> 0 | L41: =IF(G41=0,"",$L$7) | N41: =IF(OR(L41=0,M41=0,L41="",M41=""),"",M41/L41*100) | O41: =IF(N41="",0,IF(N41>=86,3,IF(N41>=81,2,IF(N41>=75,1,0)))) -> 0 | V41: =IF(OR($Q$3="",$G41=""),"",IF($Q$1="c",$O41/2,$O41)) -> 0 | AD41: =IF(OR($Y$3="",$G41=""),"",IF($Y$1="c",$O41/2,$O41)) -> 0 | AL41: =IF(OR($AG$3="",$G41=""),"",IF($AG$1="c",$O41/2,$O41)) -> 0 | AT41: =IF(OR($AO$3="",$G41=""),"",IF($AO$1="c",$O41/2,$O41)) -> 0 | BB41: =IF(OR($AW$3="",$G41=""),"",IF($AW$1="c",$O41/2,$O41)) -> 0 | BJ41: =IF(OR($BE$3="",$G41=""),"",IF($BE$1="c",$O41/2,$O41)) -> 0 | BR41: =IF(OR($BM$3="",$G41=""),"",IF($BM$1="c",$O41/2,$O41)) | BU41: 0 | BV41: 0 | BW41: 0 | BX41: =IF(BW41>=80,"A",IF(BW41>=60,"B",IF(BW41>=50,"C","D"))) -> D | BY41: =Q41 -> 0 | BZ41: =R41 -> 0 | CA41: =S41 -> 0 | CB41: =T41 -> 0 | CC41: =SUM(BY41:CB41) -> 0 | CD41: =ROUNDUP(CC41*$CD$6/100,0) -> 0 | CE41: =U41 -> 0 | CF41: =V41 -> 0 | CG41: =W41 -> 0 | CH41: =X41 -> 0 | CI41: =SUM(CE41:CH41) -> 0 | CJ41: =SUM(CI41,CD41) -> 0 | CK41: =Y41 -> 0 | CL41: =Z41 -> 0 | CM41: =AA41 -> 0 | CN41: =AB41 -> 0 | CO41: =SUM(CK41:CN41) -> 0 | CP41: =ROUNDUP(CO41*$CP$6/100,0) -> 0 | CQ41: =AC41 -> 0 | CR41: =AD41 -> 0 | CS41: =AE41 -> 0 | CT41: =AF41 -> 0 | CU41: =SUM(CQ41:CT41) -> 0 | CV41: =SUM(CU41,CP41) -> 0 | CW41: =AG41 -> 0 | CX41: =AH41 -> 0 | CY41: =AI41 -> 0 | CZ41: =AJ41 -> 0 | DA41: =SUM(CW41:CZ41) -> 0 | DB41: =ROUNDUP(DA41*$DB$6/100,0) -> 0 | DC41: =AK41 -> 0 | DD41: =AL41 -> 0 | DE41: =AM41 -> 0 | DF41: =AN41 -> 0 | DG41: =SUM(DC41:DF41) -> 0 | DH41: =SUM(DG41,DB41) -> 0 | DI41: =AO41 -> 0 | DJ41: =AP41 -> 0 | DK41: =AQ41 -> 0 | DL41: =AR41 -> 0 | DM41: =SUM(DI41:DL41) -> 0 | DN41: =ROUNDUP(DM41*$DN$6/100,0) -> 0 | DO41: =AS41 -> 0 | DP41: =AT41 -> 0 | DQ41: =AU41 -> 0 | DR41: =AV41 -> 0 | DS41: =SUM(DO41:DR41) -> 0 | DT41: =SUM(DS41,DN41) -> 0 | DU41: =AW41 -> 0 | DV41: =AX41 -> 0 | DW41: =AY41 -> 0 | DX41: =AZ41 -> 0 | DY41: =SUM(DU41:DX41) -> 0 | DZ41: =ROUNDUP(DY41*$DZ$6/100,0) -> 0 | EA41: =BA41 -> 0 | EB41: =BB41 -> 0 | EC41: =BC41 -> 0 | ED41: =BD41 -> 0 | EE41: =SUM(EA41:ED41) -> 0 | EF41: =SUM(EE41,DZ41) -> 0 | EG41: =BE41 -> 0 | EH41: =BF41 -> 0 | EI41: =BG41 -> 0 | EJ41: =BH41 -> 0 | EK41: =SUM(EG41:EJ41) -> 0 | EL41: =ROUNDUP(EK41*$EL$6/100,0) -> 0 | EM41: =BI41 -> 0 | EN41: =BJ41 -> 0 | EO41: =BK41 -> 0 | EP41: =BL41 -> 0 | EQ41: =SUM(EM41:EP41) -> 0 | ER41: =SUM(EL41,EQ41) -> 0 | ES41: =BM41 -> 0 | ET41: =BN41 -> 0 | EU41: =BO41 -> 0 | EV41: =BP41 -> 0 | EW41: =SUM(ES41:EV41) -> 0 | EX41: =ROUNDUP(EW41*$EX$6/100,0) -> 0 | EY41: =BQ41 -> 0 | EZ41: =BR41 | FA41: =BS41 -> 0 | FB41: =BT41 -> 0 | FC41: =SUM(EY41:FB41) -> 0 | FD41: =SUM(EX41,FC41) -> 0 | FR41: Agriculture Chem.-39 | FS41: B
A42: =G42 -> 0 | B42: 34 | C42: 34 | D42: =IF(E42>0,$G$4,0) -> 0 | F42: =IF(OR(E41="",F41=""),"",F41+1) | G42: ='Data Paste From Shala Darpan'!L35 -> 0 | H42: ='Data Paste From Shala Darpan'!F35 -> 0 | I42: ='Data Paste From Shala Darpan'!H35 -> 0 | J42: ='Data Paste From Shala Darpan'!I35 -> 0 | K42: ='Data Paste From Shala Darpan'!K35 -> 0 | L42: =IF(G42=0,"",$L$7) | N42: =IF(OR(L42=0,M42=0,L42="",M42=""),"",M42/L42*100) | O42: =IF(N42="",0,IF(N42>=86,3,IF(N42>=81,2,IF(N42>=75,1,0)))) -> 0 | V42: =IF(OR($Q$3="",$G42=""),"",IF($Q$1="c",$O42/2,$O42)) -> 0 | AD42: =IF(OR($Y$3="",$G42=""),"",IF($Y$1="c",$O42/2,$O42)) -> 0 | AL42: =IF(OR($AG$3="",$G42=""),"",IF($AG$1="c",$O42/2,$O42)) -> 0 | AT42: =IF(OR($AO$3="",$G42=""),"",IF($AO$1="c",$O42/2,$O42)) -> 0 | BB42: =IF(OR($AW$3="",$G42=""),"",IF($AW$1="c",$O42/2,$O42)) -> 0 | BJ42: =IF(OR($BE$3="",$G42=""),"",IF($BE$1="c",$O42/2,$O42)) -> 0 | BR42: =IF(OR($BM$3="",$G42=""),"",IF($BM$1="c",$O42/2,$O42)) | BU42: 0 | BV42: 0 | BW42: 0 | BX42: =IF(BW42>=80,"A",IF(BW42>=60,"B",IF(BW42>=50,"C","D"))) -> D | BY42: =Q42 -> 0 | BZ42: =R42 -> 0 | CA42: =S42 -> 0 | CB42: =T42 -> 0 | CC42: =SUM(BY42:CB42) -> 0 | CD42: =ROUNDUP(CC42*$CD$6/100,0) -> 0 | CE42: =U42 -> 0 | CF42: =V42 -> 0 | CG42: =W42 -> 0 | CH42: =X42 -> 0 | CI42: =SUM(CE42:CH42) -> 0 | CJ42: =SUM(CI42,CD42) -> 0 | CK42: =Y42 -> 0 | CL42: =Z42 -> 0 | CM42: =AA42 -> 0 | CN42: =AB42 -> 0 | CO42: =SUM(CK42:CN42) -> 0 | CP42: =ROUNDUP(CO42*$CP$6/100,0) -> 0 | CQ42: =AC42 -> 0 | CR42: =AD42 -> 0 | CS42: =AE42 -> 0 | CT42: =AF42 -> 0 | CU42: =SUM(CQ42:CT42) -> 0 | CV42: =SUM(CU42,CP42) -> 0 | CW42: =AG42 -> 0 | CX42: =AH42 -> 0 | CY42: =AI42 -> 0 | CZ42: =AJ42 -> 0 | DA42: =SUM(CW42:CZ42) -> 0 | DB42: =ROUNDUP(DA42*$DB$6/100,0) -> 0 | DC42: =AK42 -> 0 | DD42: =AL42 -> 0 | DE42: =AM42 -> 0 | DF42: =AN42 -> 0 | DG42: =SUM(DC42:DF42) -> 0 | DH42: =SUM(DG42,DB42) -> 0 | DI42: =AO42 -> 0 | DJ42: =AP42 -> 0 | DK42: =AQ42 -> 0 | DL42: =AR42 -> 0 | DM42: =SUM(DI42:DL42) -> 0 | DN42: =ROUNDUP(DM42*$DN$6/100,0) -> 0 | DO42: =AS42 -> 0 | DP42: =AT42 -> 0 | DQ42: =AU42 -> 0 | DR42: =AV42 -> 0 | DS42: =SUM(DO42:DR42) -> 0 | DT42: =SUM(DS42,DN42) -> 0 | DU42: =AW42 -> 0 | DV42: =AX42 -> 0 | DW42: =AY42 -> 0 | DX42: =AZ42 -> 0 | DY42: =SUM(DU42:DX42) -> 0 | DZ42: =ROUNDUP(DY42*$DZ$6/100,0) -> 0 | EA42: =BA42 -> 0 | EB42: =BB42 -> 0 | EC42: =BC42 -> 0 | ED42: =BD42 -> 0 | EE42: =SUM(EA42:ED42) -> 0 | EF42: =SUM(EE42,DZ42) -> 0 | EG42: =BE42 -> 0 | EH42: =BF42 -> 0 | EI42: =BG42 -> 0 | EJ42: =BH42 -> 0 | EK42: =SUM(EG42:EJ42) -> 0 | EL42: =ROUNDUP(EK42*$EL$6/100,0) -> 0 | EM42: =BI42 -> 0 | EN42: =BJ42 -> 0 | EO42: =BK42 -> 0 | EP42: =BL42 -> 0 | EQ42: =SUM(EM42:EP42) -> 0 | ER42: =SUM(EL42,EQ42) -> 0 | ES42: =BM42 -> 0 | ET42: =BN42 -> 0 | EU42: =BO42 -> 0 | EV42: =BP42 -> 0 | EW42: =SUM(ES42:EV42) -> 0 | EX42: =ROUNDUP(EW42*$EX$6/100,0) -> 0 | EY42: =BQ42 -> 0 | EZ42: =BR42 | FA42: =BS42 -> 0 | FB42: =BT42 -> 0 | FC42: =SUM(EY42:FB42) -> 0 | FD42: =SUM(EX42,FC42) -> 0
A43: =G43 -> 0 | B43: 35 | C43: 35 | D43: =IF(E43>0,$G$4,0) -> 0 | F43: =IF(OR(E42="",F42=""),"",F42+1) | G43: ='Data Paste From Shala Darpan'!L36 -> 0 | H43: ='Data Paste From Shala Darpan'!F36 -> 0 | I43: ='Data Paste From Shala Darpan'!H36 -> 0 | J43: ='Data Paste From Shala Darpan'!I36 -> 0 | K43: ='Data Paste From Shala Darpan'!K36 -> 0 | L43: =IF(G43=0,"",$L$7) | N43: =IF(OR(L43=0,M43=0,L43="",M43=""),"",M43/L43*100) | O43: =IF(N43="",0,IF(N43>=86,3,IF(N43>=81,2,IF(N43>=75,1,0)))) -> 0 | V43: =IF(OR($Q$3="",$G43=""),"",IF($Q$1="c",$O43/2,$O43)) -> 0 | AD43: =IF(OR($Y$3="",$G43=""),"",IF($Y$1="c",$O43/2,$O43)) -> 0 | AL43: =IF(OR($AG$3="",$G43=""),"",IF($AG$1="c",$O43/2,$O43)) -> 0 | AT43: =IF(OR($AO$3="",$G43=""),"",IF($AO$1="c",$O43/2,$O43)) -> 0 | BB43: =IF(OR($AW$3="",$G43=""),"",IF($AW$1="c",$O43/2,$O43)) -> 0 | BJ43: =IF(OR($BE$3="",$G43=""),"",IF($BE$1="c",$O43/2,$O43)) -> 0 | BR43: =IF(OR($BM$3="",$G43=""),"",IF($BM$1="c",$O43/2,$O43)) | BU43: 0 | BV43: 0 | BW43: 0 | BX43: =IF(BW43>=80,"A",IF(BW43>=60,"B",IF(BW43>=50,"C","D"))) -> D | BY43: =Q43 -> 0 | BZ43: =R43 -> 0 | CA43: =S43 -> 0 | CB43: =T43 -> 0 | CC43: =SUM(BY43:CB43) -> 0 | CD43: =ROUNDUP(CC43*$CD$6/100,0) -> 0 | CE43: =U43 -> 0 | CF43: =V43 -> 0 | CG43: =W43 -> 0 | CH43: =X43 -> 0 | CI43: =SUM(CE43:CH43) -> 0 | CJ43: =SUM(CI43,CD43) -> 0 | CK43: =Y43 -> 0 | CL43: =Z43 -> 0 | CM43: =AA43 -> 0 | CN43: =AB43 -> 0 | CO43: =SUM(CK43:CN43) -> 0 | CP43: =ROUNDUP(CO43*$CP$6/100,0) -> 0 | CQ43: =AC43 -> 0 | CR43: =AD43 -> 0 | CS43: =AE43 -> 0 | CT43: =AF43 -> 0 | CU43: =SUM(CQ43:CT43) -> 0 | CV43: =SUM(CU43,CP43) -> 0 | CW43: =AG43 -> 0 | CX43: =AH43 -> 0 | CY43: =AI43 -> 0 | CZ43: =AJ43 -> 0 | DA43: =SUM(CW43:CZ43) -> 0 | DB43: =ROUNDUP(DA43*$DB$6/100,0) -> 0 | DC43: =AK43 -> 0 | DD43: =AL43 -> 0 | DE43: =AM43 -> 0 | DF43: =AN43 -> 0 | DG43: =SUM(DC43:DF43) -> 0 | DH43: =SUM(DG43,DB43) -> 0 | DI43: =AO43 -> 0 | DJ43: =AP43 -> 0 | DK43: =AQ43 -> 0 | DL43: =AR43 -> 0 | DM43: =SUM(DI43:DL43) -> 0 | DN43: =ROUNDUP(DM43*$DN$6/100,0) -> 0 | DO43: =AS43 -> 0 | DP43: =AT43 -> 0 | DQ43: =AU43 -> 0 | DR43: =AV43 -> 0 | DS43: =SUM(DO43:DR43) -> 0 | DT43: =SUM(DS43,DN43) -> 0 | DU43: =AW43 -> 0 | DV43: =AX43 -> 0 | DW43: =AY43 -> 0 | DX43: =AZ43 -> 0 | DY43: =SUM(DU43:DX43) -> 0 | DZ43: =ROUNDUP(DY43*$DZ$6/100,0) -> 0 | EA43: =BA43 -> 0 | EB43: =BB43 -> 0 | EC43: =BC43 -> 0 | ED43: =BD43 -> 0 | EE43: =SUM(EA43:ED43) -> 0 | EF43: =SUM(EE43,DZ43) -> 0 | EG43: =BE43 -> 0 | EH43: =BF43 -> 0 | EI43: =BG43 -> 0 | EJ43: =BH43 -> 0 | EK43: =SUM(EG43:EJ43) -> 0 | EL43: =ROUNDUP(EK43*$EL$6/100,0) -> 0 | EM43: =BI43 -> 0 | EN43: =BJ43 -> 0 | EO43: =BK43 -> 0 | EP43: =BL43 -> 0 | EQ43: =SUM(EM43:EP43) -> 0 | ER43: =SUM(EL43,EQ43) -> 0 | ES43: =BM43 -> 0 | ET43: =BN43 -> 0 | EU43: =BO43 -> 0 | EV43: =BP43 -> 0 | EW43: =SUM(ES43:EV43) -> 0 | EX43: =ROUNDUP(EW43*$EX$6/100,0) -> 0 | EY43: =BQ43 -> 0 | EZ43: =BR43 | FA43: =BS43 -> 0 | FB43: =BT43 -> 0 | FC43: =SUM(EY43:FB43) -> 0 | FD43: =SUM(EX43,FC43) -> 0
A44: =G44 -> 0 | B44: 36 | C44: 36 | D44: =IF(E44>0,$G$4,0) -> 0 | F44: =IF(OR(E43="",F43=""),"",F43+1) | G44: ='Data Paste From Shala Darpan'!L37 -> 0 | H44: ='Data Paste From Shala Darpan'!F37 -> 0 | I44: ='Data Paste From Shala Darpan'!H37 -> 0 | J44: ='Data Paste From Shala Darpan'!I37 -> 0 | K44: ='Data Paste From Shala Darpan'!K37 -> 0 | L44: =IF(G44=0,"",$L$7) | N44: =IF(OR(L44=0,M44=0,L44="",M44=""),"",M44/L44*100) | O44: =IF(N44="",0,IF(N44>=86,3,IF(N44>=81,2,IF(N44>=75,1,0)))) -> 0 | V44: =IF(OR($Q$3="",$G44=""),"",IF($Q$1="c",$O44/2,$O44)) -> 0 | AD44: =IF(OR($Y$3="",$G44=""),"",IF($Y$1="c",$O44/2,$O44)) -> 0 | AL44: =IF(OR($AG$3="",$G44=""),"",IF($AG$1="c",$O44/2,$O44)) -> 0 | AT44: =IF(OR($AO$3="",$G44=""),"",IF($AO$1="c",$O44/2,$O44)) -> 0 | BB44: =IF(OR($AW$3="",$G44=""),"",IF($AW$1="c",$O44/2,$O44)) -> 0 | BJ44: =IF(OR($BE$3="",$G44=""),"",IF($BE$1="c",$O44/2,$O44)) -> 0 | BR44: =IF(OR($BM$3="",$G44=""),"",IF($BM$1="c",$O44/2,$O44)) | BU44: 0 | BV44: 0 | BW44: 0 | BX44: =IF(BW44>=80,"A",IF(BW44>=60,"B",IF(BW44>=50,"C","D"))) -> D | BY44: =Q44 -> 0 | BZ44: =R44 -> 0 | CA44: =S44 -> 0 | CB44: =T44 -> 0 | CC44: =SUM(BY44:CB44) -> 0 | CD44: =ROUNDUP(CC44*$CD$6/100,0) -> 0 | CE44: =U44 -> 0 | CF44: =V44 -> 0 | CG44: =W44 -> 0 | CH44: =X44 -> 0 | CI44: =SUM(CE44:CH44) -> 0 | CJ44: =SUM(CI44,CD44) -> 0 | CK44: =Y44 -> 0 | CL44: =Z44 -> 0 | CM44: =AA44 -> 0 | CN44: =AB44 -> 0 | CO44: =SUM(CK44:CN44) -> 0 | CP44: =ROUNDUP(CO44*$CP$6/100,0) -> 0 | CQ44: =AC44 -> 0 | CR44: =AD44 -> 0 | CS44: =AE44 -> 0 | CT44: =AF44 -> 0 | CU44: =SUM(CQ44:CT44) -> 0 | CV44: =SUM(CU44,CP44) -> 0 | CW44: =AG44 -> 0 | CX44: =AH44 -> 0 | CY44: =AI44 -> 0 | CZ44: =AJ44 -> 0 | DA44: =SUM(CW44:CZ44) -> 0 | DB44: =ROUNDUP(DA44*$DB$6/100,0) -> 0 | DC44: =AK44 -> 0 | DD44: =AL44 -> 0 | DE44: =AM44 -> 0 | DF44: =AN44 -> 0 | DG44: =SUM(DC44:DF44) -> 0 | DH44: =SUM(DG44,DB44) -> 0 | DI44: =AO44 -> 0 | DJ44: =AP44 -> 0 | DK44: =AQ44 -> 0 | DL44: =AR44 -> 0 | DM44: =SUM(DI44:DL44) -> 0 | DN44: =ROUNDUP(DM44*$DN$6/100,0) -> 0 | DO44: =AS44 -> 0 | DP44: =AT44 -> 0 | DQ44: =AU44 -> 0 | DR44: =AV44 -> 0 | DS44: =SUM(DO44:DR44) -> 0 | DT44: =SUM(DS44,DN44) -> 0 | DU44: =AW44 -> 0 | DV44: =AX44 -> 0 | DW44: =AY44 -> 0 | DX44: =AZ44 -> 0 | DY44: =SUM(DU44:DX44) -> 0 | DZ44: =ROUNDUP(DY44*$DZ$6/100,0) -> 0 | EA44: =BA44 -> 0 | EB44: =BB44 -> 0 | EC44: =BC44 -> 0 | ED44: =BD44 -> 0 | EE44: =SUM(EA44:ED44) -> 0 | EF44: =SUM(EE44,DZ44) -> 0 | EG44: =BE44 -> 0 | EH44: =BF44 -> 0 | EI44: =BG44 -> 0 | EJ44: =BH44 -> 0 | EK44: =SUM(EG44:EJ44) -> 0 | EL44: =ROUNDUP(EK44*$EL$6/100,0) -> 0 | EM44: =BI44 -> 0 | EN44: =BJ44 -> 0 | EO44: =BK44 -> 0 | EP44: =BL44 -> 0 | EQ44: =SUM(EM44:EP44) -> 0 | ER44: =SUM(EL44,EQ44) -> 0 | ES44: =BM44 -> 0 | ET44: =BN44 -> 0 | EU44: =BO44 -> 0 | EV44: =BP44 -> 0 | EW44: =SUM(ES44:EV44) -> 0 | EX44: =ROUNDUP(EW44*$EX$6/100,0) -> 0 | EY44: =BQ44 -> 0 | EZ44: =BR44 | FA44: =BS44 -> 0 | FB44: =BT44 -> 0 | FC44: =SUM(EY44:FB44) -> 0 | FD44: =SUM(EX44,FC44) -> 0
A45: =G45 -> 0 | B45: 37 | C45: 37 | D45: =IF(E45>0,$G$4,0) -> 0 | F45: =IF(OR(E44="",F44=""),"",F44+1) | G45: ='Data Paste From Shala Darpan'!L38 -> 0 | H45: ='Data Paste From Shala Darpan'!F38 -> 0 | I45: ='Data Paste From Shala Darpan'!H38 -> 0 | J45: ='Data Paste From Shala Darpan'!I38 -> 0 | K45: ='Data Paste From Shala Darpan'!K38 -> 0 | L45: =IF(G45=0,"",$L$7) | N45: =IF(OR(L45=0,M45=0,L45="",M45=""),"",M45/L45*100) | O45: =IF(N45="",0,IF(N45>=86,3,IF(N45>=81,2,IF(N45>=75,1,0)))) -> 0 | V45: =IF(OR($Q$3="",$G45=""),"",IF($Q$1="c",$O45/2,$O45)) -> 0 | AD45: =IF(OR($Y$3="",$G45=""),"",IF($Y$1="c",$O45/2,$O45)) -> 0 | AL45: =IF(OR($AG$3="",$G45=""),"",IF($AG$1="c",$O45/2,$O45)) -> 0 | AT45: =IF(OR($AO$3="",$G45=""),"",IF($AO$1="c",$O45/2,$O45)) -> 0 | BB45: =IF(OR($AW$3="",$G45=""),"",IF($AW$1="c",$O45/2,$O45)) -> 0 | BJ45: =IF(OR($BE$3="",$G45=""),"",IF($BE$1="c",$O45/2,$O45)) -> 0 | BR45: =IF(OR($BM$3="",$G45=""),"",IF($BM$1="c",$O45/2,$O45)) | BU45: 0 | BV45: 0 | BW45: 0 | BX45: =IF(BW45>=80,"A",IF(BW45>=60,"B",IF(BW45>=50,"C","D"))) -> D | BY45: =Q45 -> 0 | BZ45: =R45 -> 0 | CA45: =S45 -> 0 | CB45: =T45 -> 0 | CC45: =SUM(BY45:CB45) -> 0 | CD45: =ROUNDUP(CC45*$CD$6/100,0) -> 0 | CE45: =U45 -> 0 | CF45: =V45 -> 0 | CG45: =W45 -> 0 | CH45: =X45 -> 0 | CI45: =SUM(CE45:CH45) -> 0 | CJ45: =SUM(CI45,CD45) -> 0 | CK45: =Y45 -> 0 | CL45: =Z45 -> 0 | CM45: =AA45 -> 0 | CN45: =AB45 -> 0 | CO45: =SUM(CK45:CN45) -> 0 | CP45: =ROUNDUP(CO45*$CP$6/100,0) -> 0 | CQ45: =AC45 -> 0 | CR45: =AD45 -> 0 | CS45: =AE45 -> 0 | CT45: =AF45 -> 0 | CU45: =SUM(CQ45:CT45) -> 0 | CV45: =SUM(CU45,CP45) -> 0 | CW45: =AG45 -> 0 | CX45: =AH45 -> 0 | CY45: =AI45 -> 0 | CZ45: =AJ45 -> 0 | DA45: =SUM(CW45:CZ45) -> 0 | DB45: =ROUNDUP(DA45*$DB$6/100,0) -> 0 | DC45: =AK45 -> 0 | DD45: =AL45 -> 0 | DE45: =AM45 -> 0 | DF45: =AN45 -> 0 | DG45: =SUM(DC45:DF45) -> 0 | DH45: =SUM(DG45,DB45) -> 0 | DI45: =AO45 -> 0 | DJ45: =AP45 -> 0 | DK45: =AQ45 -> 0 | DL45: =AR45 -> 0 | DM45: =SUM(DI45:DL45) -> 0 | DN45: =ROUNDUP(DM45*$DN$6/100,0) -> 0 | DO45: =AS45 -> 0 | DP45: =AT45 -> 0 | DQ45: =AU45 -> 0 | DR45: =AV45 -> 0 | DS45: =SUM(DO45:DR45) -> 0 | DT45: =SUM(DS45,DN45) -> 0 | DU45: =AW45 -> 0 | DV45: =AX45 -> 0 | DW45: =AY45 -> 0 | DX45: =AZ45 -> 0 | DY45: =SUM(DU45:DX45) -> 0 | DZ45: =ROUNDUP(DY45*$DZ$6/100,0) -> 0 | EA45: =BA45 -> 0 | EB45: =BB45 -> 0 | EC45: =BC45 -> 0 | ED45: =BD45 -> 0 | EE45: =SUM(EA45:ED45) -> 0 | EF45: =SUM(EE45,DZ45) -> 0 | EG45: =BE45 -> 0 | EH45: =BF45 -> 0 | EI45: =BG45 -> 0 | EJ45: =BH45 -> 0 | EK45: =SUM(EG45:EJ45) -> 0 | EL45: =ROUNDUP(EK45*$EL$6/100,0) -> 0 | EM45: =BI45 -> 0 | EN45: =BJ45 -> 0 | EO45: =BK45 -> 0 | EP45: =BL45 -> 0 | EQ45: =SUM(EM45:EP45) -> 0 | ER45: =SUM(EL45,EQ45) -> 0 | ES45: =BM45 -> 0 | ET45: =BN45 -> 0 | EU45: =BO45 -> 0 | EV45: =BP45 -> 0 | EW45: =SUM(ES45:EV45) -> 0 | EX45: =ROUNDUP(EW45*$EX$6/100,0) -> 0 | EY45: =BQ45 -> 0 | EZ45: =BR45 | FA45: =BS45 -> 0 | FB45: =BT45 -> 0 | FC45: =SUM(EY45:FB45) -> 0 | FD45: =SUM(EX45,FC45) -> 0
A46: =G46 -> 0 | B46: 38 | C46: 38 | D46: =IF(E46>0,$G$4,0) -> 0 | F46: =IF(OR(E45="",F45=""),"",F45+1) | G46: ='Data Paste From Shala Darpan'!L39 -> 0 | H46: ='Data Paste From Shala Darpan'!F39 -> 0 | I46: ='Data Paste From Shala Darpan'!H39 -> 0 | J46: ='Data Paste From Shala Darpan'!I39 -> 0 | K46: ='Data Paste From Shala Darpan'!K39 -> 0 | L46: =IF(G46=0,"",$L$7) | N46: =IF(OR(L46=0,M46=0,L46="",M46=""),"",M46/L46*100) | O46: =IF(N46="",0,IF(N46>=86,3,IF(N46>=81,2,IF(N46>=75,1,0)))) -> 0 | V46: =IF(OR($Q$3="",$G46=""),"",IF($Q$1="c",$O46/2,$O46)) -> 0 | AD46: =IF(OR($Y$3="",$G46=""),"",IF($Y$1="c",$O46/2,$O46)) -> 0 | AL46: =IF(OR($AG$3="",$G46=""),"",IF($AG$1="c",$O46/2,$O46)) -> 0 | AT46: =IF(OR($AO$3="",$G46=""),"",IF($AO$1="c",$O46/2,$O46)) -> 0 | BB46: =IF(OR($AW$3="",$G46=""),"",IF($AW$1="c",$O46/2,$O46)) -> 0 | BJ46: =IF(OR($BE$3="",$G46=""),"",IF($BE$1="c",$O46/2,$O46)) -> 0 | BR46: =IF(OR($BM$3="",$G46=""),"",IF($BM$1="c",$O46/2,$O46)) | BU46: 0 | BV46: 0 | BW46: 0 | BX46: =IF(BW46>=80,"A",IF(BW46>=60,"B",IF(BW46>=50,"C","D"))) -> D | BY46: =Q46 -> 0 | BZ46: =R46 -> 0 | CA46: =S46 -> 0 | CB46: =T46 -> 0 | CC46: =SUM(BY46:CB46) -> 0 | CD46: =ROUNDUP(CC46*$CD$6/100,0) -> 0 | CE46: =U46 -> 0 | CF46: =V46 -> 0 | CG46: =W46 -> 0 | CH46: =X46 -> 0 | CI46: =SUM(CE46:CH46) -> 0 | CJ46: =SUM(CI46,CD46) -> 0 | CK46: =Y46 -> 0 | CL46: =Z46 -> 0 | CM46: =AA46 -> 0 | CN46: =AB46 -> 0 | CO46: =SUM(CK46:CN46) -> 0 | CP46: =ROUNDUP(CO46*$CP$6/100,0) -> 0 | CQ46: =AC46 -> 0 | CR46: =AD46 -> 0 | CS46: =AE46 -> 0 | CT46: =AF46 -> 0 | CU46: =SUM(CQ46:CT46) -> 0 | CV46: =SUM(CU46,CP46) -> 0 | CW46: =AG46 -> 0 | CX46: =AH46 -> 0 | CY46: =AI46 -> 0 | CZ46: =AJ46 -> 0 | DA46: =SUM(CW46:CZ46) -> 0 | DB46: =ROUNDUP(DA46*$DB$6/100,0) -> 0 | DC46: =AK46 -> 0 | DD46: =AL46 -> 0 | DE46: =AM46 -> 0 | DF46: =AN46 -> 0 | DG46: =SUM(DC46:DF46) -> 0 | DH46: =SUM(DG46,DB46) -> 0 | DI46: =AO46 -> 0 | DJ46: =AP46 -> 0 | DK46: =AQ46 -> 0 | DL46: =AR46 -> 0 | DM46: =SUM(DI46:DL46) -> 0 | DN46: =ROUNDUP(DM46*$DN$6/100,0) -> 0 | DO46: =AS46 -> 0 | DP46: =AT46 -> 0 | DQ46: =AU46 -> 0 | DR46: =AV46 -> 0 | DS46: =SUM(DO46:DR46) -> 0 | DT46: =SUM(DS46,DN46) -> 0 | DU46: =AW46 -> 0 | DV46: =AX46 -> 0 | DW46: =AY46 -> 0 | DX46: =AZ46 -> 0 | DY46: =SUM(DU46:DX46) -> 0 | DZ46: =ROUNDUP(DY46*$DZ$6/100,0) -> 0 | EA46: =BA46 -> 0 | EB46: =BB46 -> 0 | EC46: =BC46 -> 0 | ED46: =BD46 -> 0 | EE46: =SUM(EA46:ED46) -> 0 | EF46: =SUM(EE46,DZ46) -> 0 | EG46: =BE46 -> 0 | EH46: =BF46 -> 0 | EI46: =BG46 -> 0 | EJ46: =BH46 -> 0 | EK46: =SUM(EG46:EJ46) -> 0 | EL46: =ROUNDUP(EK46*$EL$6/100,0) -> 0 | EM46: =BI46 -> 0 | EN46: =BJ46 -> 0 | EO46: =BK46 -> 0 | EP46: =BL46 -> 0 | EQ46: =SUM(EM46:EP46) -> 0 | ER46: =SUM(EL46,EQ46) -> 0 | ES46: =BM46 -> 0 | ET46: =BN46 -> 0 | EU46: =BO46 -> 0 | EV46: =BP46 -> 0 | EW46: =SUM(ES46:EV46) -> 0 | EX46: =ROUNDUP(EW46*$EX$6/100,0) -> 0 | EY46: =BQ46 -> 0 | EZ46: =BR46 | FA46: =BS46 -> 0 | FB46: =BT46 -> 0 | FC46: =SUM(EY46:FB46) -> 0 | FD46: =SUM(EX46,FC46) -> 0
A47: =G47 -> 0 | B47: 39 | C47: 39 | D47: =IF(E47>0,$G$4,0) -> 0 | F47: =IF(OR(E46="",F46=""),"",F46+1) | G47: ='Data Paste From Shala Darpan'!L40 -> 0 | H47: ='Data Paste From Shala Darpan'!F40 -> 0 | I47: ='Data Paste From Shala Darpan'!H40 -> 0 | J47: ='Data Paste From Shala Darpan'!I40 -> 0 | K47: ='Data Paste From Shala Darpan'!K40 -> 0 | L47: =IF(G47=0,"",$L$7) | N47: =IF(OR(L47=0,M47=0,L47="",M47=""),"",M47/L47*100) | O47: =IF(N47="",0,IF(N47>=86,3,IF(N47>=81,2,IF(N47>=75,1,0)))) -> 0 | V47: =IF(OR($Q$3="",$G47=""),"",IF($Q$1="c",$O47/2,$O47)) -> 0 | AD47: =IF(OR($Y$3="",$G47=""),"",IF($Y$1="c",$O47/2,$O47)) -> 0 | AL47: =IF(OR($AG$3="",$G47=""),"",IF($AG$1="c",$O47/2,$O47)) -> 0 | AT47: =IF(OR($AO$3="",$G47=""),"",IF($AO$1="c",$O47/2,$O47)) -> 0 | BB47: =IF(OR($AW$3="",$G47=""),"",IF($AW$1="c",$O47/2,$O47)) -> 0 | BJ47: =IF(OR($BE$3="",$G47=""),"",IF($BE$1="c",$O47/2,$O47)) -> 0 | BR47: =IF(OR($BM$3="",$G47=""),"",IF($BM$1="c",$O47/2,$O47)) | BU47: 0 | BV47: 0 | BW47: 0 | BX47: =IF(BW47>=80,"A",IF(BW47>=60,"B",IF(BW47>=50,"C","D"))) -> D | BY47: =Q47 -> 0 | BZ47: =R47 -> 0 | CA47: =S47 -> 0 | CB47: =T47 -> 0 | CC47: =SUM(BY47:CB47) -> 0 | CD47: =ROUNDUP(CC47*$CD$6/100,0) -> 0 | CE47: =U47 -> 0 | CF47: =V47 -> 0 | CG47: =W47 -> 0 | CH47: =X47 -> 0 | CI47: =SUM(CE47:CH47) -> 0 | CJ47: =SUM(CI47,CD47) -> 0 | CK47: =Y47 -> 0 | CL47: =Z47 -> 0 | CM47: =AA47 -> 0 | CN47: =AB47 -> 0 | CO47: =SUM(CK47:CN47) -> 0 | CP47: =ROUNDUP(CO47*$CP$6/100,0) -> 0 | CQ47: =AC47 -> 0 | CR47: =AD47 -> 0 | CS47: =AE47 -> 0 | CT47: =AF47 -> 0 | CU47: =SUM(CQ47:CT47) -> 0 | CV47: =SUM(CU47,CP47) -> 0 | CW47: =AG47 -> 0 | CX47: =AH47 -> 0 | CY47: =AI47 -> 0 | CZ47: =AJ47 -> 0 | DA47: =SUM(CW47:CZ47) -> 0 | DB47: =ROUNDUP(DA47*$DB$6/100,0) -> 0 | DC47: =AK47 -> 0 | DD47: =AL47 -> 0 | DE47: =AM47 -> 0 | DF47: =AN47 -> 0 | DG47: =SUM(DC47:DF47) -> 0 | DH47: =SUM(DG47,DB47) -> 0 | DI47: =AO47 -> 0 | DJ47: =AP47 -> 0 | DK47: =AQ47 -> 0 | DL47: =AR47 -> 0 | DM47: =SUM(DI47:DL47) -> 0 | DN47: =ROUNDUP(DM47*$DN$6/100,0) -> 0 | DO47: =AS47 -> 0 | DP47: =AT47 -> 0 | DQ47: =AU47 -> 0 | DR47: =AV47 -> 0 | DS47: =SUM(DO47:DR47) -> 0 | DT47: =SUM(DS47,DN47) -> 0 | DU47: =AW47 -> 0 | DV47: =AX47 -> 0 | DW47: =AY47 -> 0 | DX47: =AZ47 -> 0 | DY47: =SUM(DU47:DX47) -> 0 | DZ47: =ROUNDUP(DY47*$DZ$6/100,0) -> 0 | EA47: =BA47 -> 0 | EB47: =BB47 -> 0 | EC47: =BC47 -> 0 | ED47: =BD47 -> 0 | EE47: =SUM(EA47:ED47) -> 0 | EF47: =SUM(EE47,DZ47) -> 0 | EG47: =BE47 -> 0 | EH47: =BF47 -> 0 | EI47: =BG47 -> 0 | EJ47: =BH47 -> 0 | EK47: =SUM(EG47:EJ47) -> 0 | EL47: =ROUNDUP(EK47*$EL$6/100,0) -> 0 | EM47: =BI47 -> 0 | EN47: =BJ47 -> 0 | EO47: =BK47 -> 0 | EP47: =BL47 -> 0 | EQ47: =SUM(EM47:EP47) -> 0 | ER47: =SUM(EL47,EQ47) -> 0 | ES47: =BM47 -> 0 | ET47: =BN47 -> 0 | EU47: =BO47 -> 0 | EV47: =BP47 -> 0 | EW47: =SUM(ES47:EV47) -> 0 | EX47: =ROUNDUP(EW47*$EX$6/100,0) -> 0 | EY47: =BQ47 -> 0 | EZ47: =BR47 | FA47: =BS47 -> 0 | FB47: =BT47 -> 0 | FC47: =SUM(EY47:FB47) -> 0 | FD47: =SUM(EX47,FC47) -> 0
A48: =G48 -> 0 | B48: 40 | C48: 40 | D48: =IF(E48>0,$G$4,0) -> 0 | F48: =IF(OR(E47="",F47=""),"",F47+1) | G48: ='Data Paste From Shala Darpan'!L41 -> 0 | H48: ='Data Paste From Shala Darpan'!F41 -> 0 | I48: ='Data Paste From Shala Darpan'!H41 -> 0 | J48: ='Data Paste From Shala Darpan'!I41 -> 0 | K48: ='Data Paste From Shala Darpan'!K41 -> 0 | L48: =IF(G48=0,"",$L$7) | N48: =IF(OR(L48=0,M48=0,L48="",M48=""),"",M48/L48*100) | O48: =IF(N48="",0,IF(N48>=86,3,IF(N48>=81,2,IF(N48>=75,1,0)))) -> 0 | V48: =IF(OR($Q$3="",$G48=""),"",IF($Q$1="c",$O48/2,$O48)) -> 0 | AD48: =IF(OR($Y$3="",$G48=""),"",IF($Y$1="c",$O48/2,$O48)) -> 0 | AL48: =IF(OR($AG$3="",$G48=""),"",IF($AG$1="c",$O48/2,$O48)) -> 0 | AT48: =IF(OR($AO$3="",$G48=""),"",IF($AO$1="c",$O48/2,$O48)) -> 0 | BB48: =IF(OR($AW$3="",$G48=""),"",IF($AW$1="c",$O48/2,$O48)) -> 0 | BJ48: =IF(OR($BE$3="",$G48=""),"",IF($BE$1="c",$O48/2,$O48)) -> 0 | BR48: =IF(OR($BM$3="",$G48=""),"",IF($BM$1="c",$O48/2,$O48)) | BU48: 0 | BV48: 0 | BW48: 0 | BX48: =IF(BW48>=80,"A",IF(BW48>=60,"B",IF(BW48>=50,"C","D"))) -> D | BY48: =Q48 -> 0 | BZ48: =R48 -> 0 | CA48: =S48 -> 0 | CB48: =T48 -> 0 | CC48: =SUM(BY48:CB48) -> 0 | CD48: =ROUNDUP(CC48*$CD$6/100,0) -> 0 | CE48: =U48 -> 0 | CF48: =V48 -> 0 | CG48: =W48 -> 0 | CH48: =X48 -> 0 | CI48: =SUM(CE48:CH48) -> 0 | CJ48: =SUM(CI48,CD48) -> 0 | CK48: =Y48 -> 0 | CL48: =Z48 -> 0 | CM48: =AA48 -> 0 | CN48: =AB48 -> 0 | CO48: =SUM(CK48:CN48) -> 0 | CP48: =ROUNDUP(CO48*$CP$6/100,0) -> 0 | CQ48: =AC48 -> 0 | CR48: =AD48 -> 0 | CS48: =AE48 -> 0 | CT48: =AF48 -> 0 | CU48: =SUM(CQ48:CT48) -> 0 | CV48: =SUM(CU48,CP48) -> 0 | CW48: =AG48 -> 0 | CX48: =AH48 -> 0 | CY48: =AI48 -> 0 | CZ48: =AJ48 -> 0 | DA48: =SUM(CW48:CZ48) -> 0 | DB48: =ROUNDUP(DA48*$DB$6/100,0) -> 0 | DC48: =AK48 -> 0 | DD48: =AL48 -> 0 | DE48: =AM48 -> 0 | DF48: =AN48 -> 0 | DG48: =SUM(DC48:DF48) -> 0 | DH48: =SUM(DG48,DB48) -> 0 | DI48: =AO48 -> 0 | DJ48: =AP48 -> 0 | DK48: =AQ48 -> 0 | DL48: =AR48 -> 0 | DM48: =SUM(DI48:DL48) -> 0 | DN48: =ROUNDUP(DM48*$DN$6/100,0) -> 0 | DO48: =AS48 -> 0 | DP48: =AT48 -> 0 | DQ48: =AU48 -> 0 | DR48: =AV48 -> 0 | DS48: =SUM(DO48:DR48) -> 0 | DT48: =SUM(DS48,DN48) -> 0 | DU48: =AW48 -> 0 | DV48: =AX48 -> 0 | DW48: =AY48 -> 0 | DX48: =AZ48 -> 0 | DY48: =SUM(DU48:DX48) -> 0 | DZ48: =ROUNDUP(DY48*$DZ$6/100,0) -> 0 | EA48: =BA48 -> 0 | EB48: =BB48 -> 0 | EC48: =BC48 -> 0 | ED48: =BD48 -> 0 | EE48: =SUM(EA48:ED48) -> 0 | EF48: =SUM(EE48,DZ48) -> 0 | EG48: =BE48 -> 0 | EH48: =BF48 -> 0 | EI48: =BG48 -> 0 | EJ48: =BH48 -> 0 | EK48: =SUM(EG48:EJ48) -> 0 | EL48: =ROUNDUP(EK48*$EL$6/100,0) -> 0 | EM48: =BI48 -> 0 | EN48: =BJ48 -> 0 | EO48: =BK48 -> 0 | EP48: =BL48 -> 0 | EQ48: =SUM(EM48:EP48) -> 0 | ER48: =SUM(EL48,EQ48) -> 0 | ES48: =BM48 -> 0 | ET48: =BN48 -> 0 | EU48: =BO48 -> 0 | EV48: =BP48 -> 0 | EW48: =SUM(ES48:EV48) -> 0 | EX48: =ROUNDUP(EW48*$EX$6/100,0) -> 0 | EY48: =BQ48 -> 0 | EZ48: =BR48 | FA48: =BS48 -> 0 | FB48: =BT48 -> 0 | FC48: =SUM(EY48:FB48) -> 0 | FD48: =SUM(EX48,FC48) -> 0
A49: =G49 -> 0 | B49: 41 | C49: 41 | D49: =IF(E49>0,$G$4,0) -> 0 | F49: =IF(OR(E48="",F48=""),"",F48+1) | G49: ='Data Paste From Shala Darpan'!L42 -> 0 | H49: ='Data Paste From Shala Darpan'!F42 -> 0 | I49: ='Data Paste From Shala Darpan'!H42 -> 0 | J49: ='Data Paste From Shala Darpan'!I42 -> 0 | K49: ='Data Paste From Shala Darpan'!K42 -> 0 | L49: =IF(G49=0,"",$L$7) | N49: =IF(OR(L49=0,M49=0,L49="",M49=""),"",M49/L49*100) | O49: =IF(N49="",0,IF(N49>=86,3,IF(N49>=81,2,IF(N49>=75,1,0)))) -> 0 | V49: =IF(OR($Q$3="",$G49=""),"",IF($Q$1="c",$O49/2,$O49)) -> 0 | AD49: =IF(OR($Y$3="",$G49=""),"",IF($Y$1="c",$O49/2,$O49)) -> 0 | AL49: =IF(OR($AG$3="",$G49=""),"",IF($AG$1="c",$O49/2,$O49)) -> 0 | AT49: =IF(OR($AO$3="",$G49=""),"",IF($AO$1="c",$O49/2,$O49)) -> 0 | BB49: =IF(OR($AW$3="",$G49=""),"",IF($AW$1="c",$O49/2,$O49)) -> 0 | BJ49: =IF(OR($BE$3="",$G49=""),"",IF($BE$1="c",$O49/2,$O49)) -> 0 | BR49: =IF(OR($BM$3="",$G49=""),"",IF($BM$1="c",$O49/2,$O49)) | BU49: 0 | BV49: 0 | BW49: 0 | BX49: =IF(BW49>=80,"A",IF(BW49>=60,"B",IF(BW49>=50,"C","D"))) -> D | BY49: =Q49 -> 0 | BZ49: =R49 -> 0 | CA49: =S49 -> 0 | CB49: =T49 -> 0 | CC49: =SUM(BY49:CB49) -> 0 | CD49: =ROUNDUP(CC49*$CD$6/100,0) -> 0 | CE49: =U49 -> 0 | CF49: =V49 -> 0 | CG49: =W49 -> 0 | CH49: =X49 -> 0 | CI49: =SUM(CE49:CH49) -> 0 | CJ49: =SUM(CI49,CD49) -> 0 | CK49: =Y49 -> 0 | CL49: =Z49 -> 0 | CM49: =AA49 -> 0 | CN49: =AB49 -> 0 | CO49: =SUM(CK49:CN49) -> 0 | CP49: =ROUNDUP(CO49*$CP$6/100,0) -> 0 | CQ49: =AC49 -> 0 | CR49: =AD49 -> 0 | CS49: =AE49 -> 0 | CT49: =AF49 -> 0 | CU49: =SUM(CQ49:CT49) -> 0 | CV49: =SUM(CU49,CP49) -> 0 | CW49: =AG49 -> 0 | CX49: =AH49 -> 0 | CY49: =AI49 -> 0 | CZ49: =AJ49 -> 0 | DA49: =SUM(CW49:CZ49) -> 0 | DB49: =ROUNDUP(DA49*$DB$6/100,0) -> 0 | DC49: =AK49 -> 0 | DD49: =AL49 -> 0 | DE49: =AM49 -> 0 | DF49: =AN49 -> 0 | DG49: =SUM(DC49:DF49) -> 0 | DH49: =SUM(DG49,DB49) -> 0 | DI49: =AO49 -> 0 | DJ49: =AP49 -> 0 | DK49: =AQ49 -> 0 | DL49: =AR49 -> 0 | DM49: =SUM(DI49:DL49) -> 0 | DN49: =ROUNDUP(DM49*$DN$6/100,0) -> 0 | DO49: =AS49 -> 0 | DP49: =AT49 -> 0 | DQ49: =AU49 -> 0 | DR49: =AV49 -> 0 | DS49: =SUM(DO49:DR49) -> 0 | DT49: =SUM(DS49,DN49) -> 0 | DU49: =AW49 -> 0 | DV49: =AX49 -> 0 | DW49: =AY49 -> 0 | DX49: =AZ49 -> 0 | DY49: =SUM(DU49:DX49) -> 0 | DZ49: =ROUNDUP(DY49*$DZ$6/100,0) -> 0 | EA49: =BA49 -> 0 | EB49: =BB49 -> 0 | EC49: =BC49 -> 0 | ED49: =BD49 -> 0 | EE49: =SUM(EA49:ED49) -> 0 | EF49: =SUM(EE49,DZ49) -> 0 | EG49: =BE49 -> 0 | EH49: =BF49 -> 0 | EI49: =BG49 -> 0 | EJ49: =BH49 -> 0 | EK49: =SUM(EG49:EJ49) -> 0 | EL49: =ROUNDUP(EK49*$EL$6/100,0) -> 0 | EM49: =BI49 -> 0 | EN49: =BJ49 -> 0 | EO49: =BK49 -> 0 | EP49: =BL49 -> 0 | EQ49: =SUM(EM49:EP49) -> 0 | ER49: =SUM(EL49,EQ49) -> 0 | ES49: =BM49 -> 0 | ET49: =BN49 -> 0 | EU49: =BO49 -> 0 | EV49: =BP49 -> 0 | EW49: =SUM(ES49:EV49) -> 0 | EX49: =ROUNDUP(EW49*$EX$6/100,0) -> 0 | EY49: =BQ49 -> 0 | EZ49: =BR49 | FA49: =BS49 -> 0 | FB49: =BT49 -> 0 | FC49: =SUM(EY49:FB49) -> 0 | FD49: =SUM(EX49,FC49) -> 0
A50: =G50 -> 0 | B50: 42 | C50: 42 | D50: =IF(E50>0,$G$4,0) -> 0 | F50: =IF(OR(E49="",F49=""),"",F49+1) | G50: ='Data Paste From Shala Darpan'!L43 -> 0 | H50: ='Data Paste From Shala Darpan'!F43 -> 0 | I50: ='Data Paste From Shala Darpan'!H43 -> 0 | J50: ='Data Paste From Shala Darpan'!I43 -> 0 | K50: ='Data Paste From Shala Darpan'!K43 -> 0 | L50: =IF(G50=0,"",$L$7) | N50: =IF(OR(L50=0,M50=0,L50="",M50=""),"",M50/L50*100) | O50: =IF(N50="",0,IF(N50>=86,3,IF(N50>=81,2,IF(N50>=75,1,0)))) -> 0 | V50: =IF(OR($Q$3="",$G50=""),"",IF($Q$1="c",$O50/2,$O50)) -> 0 | AD50: =IF(OR($Y$3="",$G50=""),"",IF($Y$1="c",$O50/2,$O50)) -> 0 | AL50: =IF(OR($AG$3="",$G50=""),"",IF($AG$1="c",$O50/2,$O50)) -> 0 | AT50: =IF(OR($AO$3="",$G50=""),"",IF($AO$1="c",$O50/2,$O50)) -> 0 | BB50: =IF(OR($AW$3="",$G50=""),"",IF($AW$1="c",$O50/2,$O50)) -> 0 | BJ50: =IF(OR($BE$3="",$G50=""),"",IF($BE$1="c",$O50/2,$O50)) -> 0 | BR50: =IF(OR($BM$3="",$G50=""),"",IF($BM$1="c",$O50/2,$O50)) | BU50: 0 | BV50: 0 | BW50: 0 | BX50: =IF(BW50>=80,"A",IF(BW50>=60,"B",IF(BW50>=50,"C","D"))) -> D | BY50: =Q50 -> 0 | BZ50: =R50 -> 0 | CA50: =S50 -> 0 | CB50: =T50 -> 0 | CC50: =SUM(BY50:CB50) -> 0 | CD50: =ROUNDUP(CC50*$CD$6/100,0) -> 0 | CE50: =U50 -> 0 | CF50: =V50 -> 0 | CG50: =W50 -> 0 | CH50: =X50 -> 0 | CI50: =SUM(CE50:CH50) -> 0 | CJ50: =SUM(CI50,CD50) -> 0 | CK50: =Y50 -> 0 | CL50: =Z50 -> 0 | CM50: =AA50 -> 0 | CN50: =AB50 -> 0 | CO50: =SUM(CK50:CN50) -> 0 | CP50: =ROUNDUP(CO50*$CP$6/100,0) -> 0 | CQ50: =AC50 -> 0 | CR50: =AD50 -> 0 | CS50: =AE50 -> 0 | CT50: =AF50 -> 0 | CU50: =SUM(CQ50:CT50) -> 0 | CV50: =SUM(CU50,CP50) -> 0 | CW50: =AG50 -> 0 | CX50: =AH50 -> 0 | CY50: =AI50 -> 0 | CZ50: =AJ50 -> 0 | DA50: =SUM(CW50:CZ50) -> 0 | DB50: =ROUNDUP(DA50*$DB$6/100,0) -> 0 | DC50: =AK50 -> 0 | DD50: =AL50 -> 0 | DE50: =AM50 -> 0 | DF50: =AN50 -> 0 | DG50: =SUM(DC50:DF50) -> 0 | DH50: =SUM(DG50,DB50) -> 0 | DI50: =AO50 -> 0 | DJ50: =AP50 -> 0 | DK50: =AQ50 -> 0 | DL50: =AR50 -> 0 | DM50: =SUM(DI50:DL50) -> 0 | DN50: =ROUNDUP(DM50*$DN$6/100,0) -> 0 | DO50: =AS50 -> 0 | DP50: =AT50 -> 0 | DQ50: =AU50 -> 0 | DR50: =AV50 -> 0 | DS50: =SUM(DO50:DR50) -> 0 | DT50: =SUM(DS50,DN50) -> 0 | DU50: =AW50 -> 0 | DV50: =AX50 -> 0 | DW50: =AY50 -> 0 | DX50: =AZ50 -> 0 | DY50: =SUM(DU50:DX50) -> 0 | DZ50: =ROUNDUP(DY50*$DZ$6/100,0) -> 0 | EA50: =BA50 -> 0 | EB50: =BB50 -> 0 | EC50: =BC50 -> 0 | ED50: =BD50 -> 0 | EE50: =SUM(EA50:ED50) -> 0 | EF50: =SUM(EE50,DZ50) -> 0 | EG50: =BE50 -> 0 | EH50: =BF50 -> 0 | EI50: =BG50 -> 0 | EJ50: =BH50 -> 0 | EK50: =SUM(EG50:EJ50) -> 0 | EL50: =ROUNDUP(EK50*$EL$6/100,0) -> 0 | EM50: =BI50 -> 0 | EN50: =BJ50 -> 0 | EO50: =BK50 -> 0 | EP50: =BL50 -> 0 | EQ50: =SUM(EM50:EP50) -> 0 | ER50: =SUM(EL50,EQ50) -> 0 | ES50: =BM50 -> 0 | ET50: =BN50 -> 0 | EU50: =BO50 -> 0 | EV50: =BP50 -> 0 | EW50: =SUM(ES50:EV50) -> 0 | EX50: =ROUNDUP(EW50*$EX$6/100,0) -> 0 | EY50: =BQ50 -> 0 | EZ50: =BR50 | FA50: =BS50 -> 0 | FB50: =BT50 -> 0 | FC50: =SUM(EY50:FB50) -> 0 | FD50: =SUM(EX50,FC50) -> 0
A51: =G51 -> 0 | B51: 43 | C51: 43 | D51: =IF(E51>0,$G$4,0) -> 0 | F51: =IF(OR(E50="",F50=""),"",F50+1) | G51: ='Data Paste From Shala Darpan'!L44 -> 0 | H51: ='Data Paste From Shala Darpan'!F44 -> 0 | I51: ='Data Paste From Shala Darpan'!H44 -> 0 | J51: ='Data Paste From Shala Darpan'!I44 -> 0 | K51: ='Data Paste From Shala Darpan'!K44 -> 0 | L51: =IF(G51=0,"",$L$7) | N51: =IF(OR(L51=0,M51=0,L51="",M51=""),"",M51/L51*100) | O51: =IF(N51="",0,IF(N51>=86,3,IF(N51>=81,2,IF(N51>=75,1,0)))) -> 0 | V51: =IF(OR($Q$3="",$G51=""),"",IF($Q$1="c",$O51/2,$O51)) -> 0 | AD51: =IF(OR($Y$3="",$G51=""),"",IF($Y$1="c",$O51/2,$O51)) -> 0 | AL51: =IF(OR($AG$3="",$G51=""),"",IF($AG$1="c",$O51/2,$O51)) -> 0 | AT51: =IF(OR($AO$3="",$G51=""),"",IF($AO$1="c",$O51/2,$O51)) -> 0 | BB51: =IF(OR($AW$3="",$G51=""),"",IF($AW$1="c",$O51/2,$O51)) -> 0 | BJ51: =IF(OR($BE$3="",$G51=""),"",IF($BE$1="c",$O51/2,$O51)) -> 0 | BR51: =IF(OR($BM$3="",$G51=""),"",IF($BM$1="c",$O51/2,$O51)) | BU51: 0 | BV51: 0 | BW51: 0 | BX51: =IF(BW51>=80,"A",IF(BW51>=60,"B",IF(BW51>=50,"C","D"))) -> D | BY51: =Q51 -> 0 | BZ51: =R51 -> 0 | CA51: =S51 -> 0 | CB51: =T51 -> 0 | CC51: =SUM(BY51:CB51) -> 0 | CD51: =ROUNDUP(CC51*$CD$6/100,0) -> 0 | CE51: =U51 -> 0 | CF51: =V51 -> 0 | CG51: =W51 -> 0 | CH51: =X51 -> 0 | CI51: =SUM(CE51:CH51) -> 0 | CJ51: =SUM(CI51,CD51) -> 0 | CK51: =Y51 -> 0 | CL51: =Z51 -> 0 | CM51: =AA51 -> 0 | CN51: =AB51 -> 0 | CO51: =SUM(CK51:CN51) -> 0 | CP51: =ROUNDUP(CO51*$CP$6/100,0) -> 0 | CQ51: =AC51 -> 0 | CR51: =AD51 -> 0 | CS51: =AE51 -> 0 | CT51: =AF51 -> 0 | CU51: =SUM(CQ51:CT51) -> 0 | CV51: =SUM(CU51,CP51) -> 0 | CW51: =AG51 -> 0 | CX51: =AH51 -> 0 | CY51: =AI51 -> 0 | CZ51: =AJ51 -> 0 | DA51: =SUM(CW51:CZ51) -> 0 | DB51: =ROUNDUP(DA51*$DB$6/100,0) -> 0 | DC51: =AK51 -> 0 | DD51: =AL51 -> 0 | DE51: =AM51 -> 0 | DF51: =AN51 -> 0 | DG51: =SUM(DC51:DF51) -> 0 | DH51: =SUM(DG51,DB51) -> 0 | DI51: =AO51 -> 0 | DJ51: =AP51 -> 0 | DK51: =AQ51 -> 0 | DL51: =AR51 -> 0 | DM51: =SUM(DI51:DL51) -> 0 | DN51: =ROUNDUP(DM51*$DN$6/100,0) -> 0 | DO51: =AS51 -> 0 | DP51: =AT51 -> 0 | DQ51: =AU51 -> 0 | DR51: =AV51 -> 0 | DS51: =SUM(DO51:DR51) -> 0 | DT51: =SUM(DS51,DN51) -> 0 | DU51: =AW51 -> 0 | DV51: =AX51 -> 0 | DW51: =AY51 -> 0 | DX51: =AZ51 -> 0 | DY51: =SUM(DU51:DX51) -> 0 | DZ51: =ROUNDUP(DY51*$DZ$6/100,0) -> 0 | EA51: =BA51 -> 0 | EB51: =BB51 -> 0 | EC51: =BC51 -> 0 | ED51: =BD51 -> 0 | EE51: =SUM(EA51:ED51) -> 0 | EF51: =SUM(EE51,DZ51) -> 0 | EG51: =BE51 -> 0 | EH51: =BF51 -> 0 | EI51: =BG51 -> 0 | EJ51: =BH51 -> 0 | EK51: =SUM(EG51:EJ51) -> 0 | EL51: =ROUNDUP(EK51*$EL$6/100,0) -> 0 | EM51: =BI51 -> 0 | EN51: =BJ51 -> 0 | EO51: =BK51 -> 0 | EP51: =BL51 -> 0 | EQ51: =SUM(EM51:EP51) -> 0 | ER51: =SUM(EL51,EQ51) -> 0 | ES51: =BM51 -> 0 | ET51: =BN51 -> 0 | EU51: =BO51 -> 0 | EV51: =BP51 -> 0 | EW51: =SUM(ES51:EV51) -> 0 | EX51: =ROUNDUP(EW51*$EX$6/100,0) -> 0 | EY51: =BQ51 -> 0 | EZ51: =BR51 | FA51: =BS51 -> 0 | FB51: =BT51 -> 0 | FC51: =SUM(EY51:FB51) -> 0 | FD51: =SUM(EX51,FC51) -> 0
A52: =G52 -> 0 | B52: 44 | C52: 44 | D52: =IF(E52>0,$G$4,0) -> 0 | F52: =IF(OR(E51="",F51=""),"",F51+1) | G52: ='Data Paste From Shala Darpan'!L45 -> 0 | H52: ='Data Paste From Shala Darpan'!F45 -> 0 | I52: ='Data Paste From Shala Darpan'!H45 -> 0 | J52: ='Data Paste From Shala Darpan'!I45 -> 0 | K52: ='Data Paste From Shala Darpan'!K45 -> 0 | L52: =IF(G52=0,"",$L$7) | N52: =IF(OR(L52=0,M52=0,L52="",M52=""),"",M52/L52*100) | O52: =IF(N52="",0,IF(N52>=86,3,IF(N52>=81,2,IF(N52>=75,1,0)))) -> 0 | V52: =IF(OR($Q$3="",$G52=""),"",IF($Q$1="c",$O52/2,$O52)) -> 0 | AD52: =IF(OR($Y$3="",$G52=""),"",IF($Y$1="c",$O52/2,$O52)) -> 0 | AL52: =IF(OR($AG$3="",$G52=""),"",IF($AG$1="c",$O52/2,$O52)) -> 0 | AT52: =IF(OR($AO$3="",$G52=""),"",IF($AO$1="c",$O52/2,$O52)) -> 0 | BB52: =IF(OR($AW$3="",$G52=""),"",IF($AW$1="c",$O52/2,$O52)) -> 0 | BJ52: =IF(OR($BE$3="",$G52=""),"",IF($BE$1="c",$O52/2,$O52)) -> 0 | BR52: =IF(OR($BM$3="",$G52=""),"",IF($BM$1="c",$O52/2,$O52)) | BU52: 0 | BV52: 0 | BW52: 0 | BX52: =IF(BW52>=80,"A",IF(BW52>=60,"B",IF(BW52>=50,"C","D"))) -> D | BY52: =Q52 -> 0 | BZ52: =R52 -> 0 | CA52: =S52 -> 0 | CB52: =T52 -> 0 | CC52: =SUM(BY52:CB52) -> 0 | CD52: =ROUNDUP(CC52*$CD$6/100,0) -> 0 | CE52: =U52 -> 0 | CF52: =V52 -> 0 | CG52: =W52 -> 0 | CH52: =X52 -> 0 | CI52: =SUM(CE52:CH52) -> 0 | CJ52: =SUM(CI52,CD52) -> 0 | CK52: =Y52 -> 0 | CL52: =Z52 -> 0 | CM52: =AA52 -> 0 | CN52: =AB52 -> 0 | CO52: =SUM(CK52:CN52) -> 0 | CP52: =ROUNDUP(CO52*$CP$6/100,0) -> 0 | CQ52: =AC52 -> 0 | CR52: =AD52 -> 0 | CS52: =AE52 -> 0 | CT52: =AF52 -> 0 | CU52: =SUM(CQ52:CT52) -> 0 | CV52: =SUM(CU52,CP52) -> 0 | CW52: =AG52 -> 0 | CX52: =AH52 -> 0 | CY52: =AI52 -> 0 | CZ52: =AJ52 -> 0 | DA52: =SUM(CW52:CZ52) -> 0 | DB52: =ROUNDUP(DA52*$DB$6/100,0) -> 0 | DC52: =AK52 -> 0 | DD52: =AL52 -> 0 | DE52: =AM52 -> 0 | DF52: =AN52 -> 0 | DG52: =SUM(DC52:DF52) -> 0 | DH52: =SUM(DG52,DB52) -> 0 | DI52: =AO52 -> 0 | DJ52: =AP52 -> 0 | DK52: =AQ52 -> 0 | DL52: =AR52 -> 0 | DM52: =SUM(DI52:DL52) -> 0 | DN52: =ROUNDUP(DM52*$DN$6/100,0) -> 0 | DO52: =AS52 -> 0 | DP52: =AT52 -> 0 | DQ52: =AU52 -> 0 | DR52: =AV52 -> 0 | DS52: =SUM(DO52:DR52) -> 0 | DT52: =SUM(DS52,DN52) -> 0 | DU52: =AW52 -> 0 | DV52: =AX52 -> 0 | DW52: =AY52 -> 0 | DX52: =AZ52 -> 0 | DY52: =SUM(DU52:DX52) -> 0 | DZ52: =ROUNDUP(DY52*$DZ$6/100,0) -> 0 | EA52: =BA52 -> 0 | EB52: =BB52 -> 0 | EC52: =BC52 -> 0 | ED52: =BD52 -> 0 | EE52: =SUM(EA52:ED52) -> 0 | EF52: =SUM(EE52,DZ52) -> 0 | EG52: =BE52 -> 0 | EH52: =BF52 -> 0 | EI52: =BG52 -> 0 | EJ52: =BH52 -> 0 | EK52: =SUM(EG52:EJ52) -> 0 | EL52: =ROUNDUP(EK52*$EL$6/100,0) -> 0 | EM52: =BI52 -> 0 | EN52: =BJ52 -> 0 | EO52: =BK52 -> 0 | EP52: =BL52 -> 0 | EQ52: =SUM(EM52:EP52) -> 0 | ER52: =SUM(EL52,EQ52) -> 0 | ES52: =BM52 -> 0 | ET52: =BN52 -> 0 | EU52: =BO52 -> 0 | EV52: =BP52 -> 0 | EW52: =SUM(ES52:EV52) -> 0 | EX52: =ROUNDUP(EW52*$EX$6/100,0) -> 0 | EY52: =BQ52 -> 0 | EZ52: =BR52 | FA52: =BS52 -> 0 | FB52: =BT52 -> 0 | FC52: =SUM(EY52:FB52) -> 0 | FD52: =SUM(EX52,FC52) -> 0
A53: =G53 -> 0 | B53: 45 | C53: 45 | D53: =IF(E53>0,$G$4,0) -> 0 | F53: =IF(OR(E52="",F52=""),"",F52+1) | G53: ='Data Paste From Shala Darpan'!L46 -> 0 | H53: ='Data Paste From Shala Darpan'!F46 -> 0 | I53: ='Data Paste From Shala Darpan'!H46 -> 0 | J53: ='Data Paste From Shala Darpan'!I46 -> 0 | K53: ='Data Paste From Shala Darpan'!K46 -> 0 | L53: =IF(G53=0,"",$L$7) | N53: =IF(OR(L53=0,M53=0,L53="",M53=""),"",M53/L53*100) | O53: =IF(N53="",0,IF(N53>=86,3,IF(N53>=81,2,IF(N53>=75,1,0)))) -> 0 | V53: =IF(OR($Q$3="",$G53=""),"",IF($Q$1="c",$O53/2,$O53)) -> 0 | AD53: =IF(OR($Y$3="",$G53=""),"",IF($Y$1="c",$O53/2,$O53)) -> 0 | AL53: =IF(OR($AG$3="",$G53=""),"",IF($AG$1="c",$O53/2,$O53)) -> 0 | AT53: =IF(OR($AO$3="",$G53=""),"",IF($AO$1="c",$O53/2,$O53)) -> 0 | BB53: =IF(OR($AW$3="",$G53=""),"",IF($AW$1="c",$O53/2,$O53)) -> 0 | BJ53: =IF(OR($BE$3="",$G53=""),"",IF($BE$1="c",$O53/2,$O53)) -> 0 | BR53: =IF(OR($BM$3="",$G53=""),"",IF($BM$1="c",$O53/2,$O53)) | BU53: 0 | BV53: 0 | BW53: 0 | BX53: =IF(BW53>=80,"A",IF(BW53>=60,"B",IF(BW53>=50,"C","D"))) -> D | BY53: =Q53 -> 0 | BZ53: =R53 -> 0 | CA53: =S53 -> 0 | CB53: =T53 -> 0 | CC53: =SUM(BY53:CB53) -> 0 | CD53: =ROUNDUP(CC53*$CD$6/100,0) -> 0 | CE53: =U53 -> 0 | CF53: =V53 -> 0 | CG53: =W53 -> 0 | CH53: =X53 -> 0 | CI53: =SUM(CE53:CH53) -> 0 | CJ53: =SUM(CI53,CD53) -> 0 | CK53: =Y53 -> 0 | CL53: =Z53 -> 0 | CM53: =AA53 -> 0 | CN53: =AB53 -> 0 | CO53: =SUM(CK53:CN53) -> 0 | CP53: =ROUNDUP(CO53*$CP$6/100,0) -> 0 | CQ53: =AC53 -> 0 | CR53: =AD53 -> 0 | CS53: =AE53 -> 0 | CT53: =AF53 -> 0 | CU53: =SUM(CQ53:CT53) -> 0 | CV53: =SUM(CU53,CP53) -> 0 | CW53: =AG53 -> 0 | CX53: =AH53 -> 0 | CY53: =AI53 -> 0 | CZ53: =AJ53 -> 0 | DA53: =SUM(CW53:CZ53) -> 0 | DB53: =ROUNDUP(DA53*$DB$6/100,0) -> 0 | DC53: =AK53 -> 0 | DD53: =AL53 -> 0 | DE53: =AM53 -> 0 | DF53: =AN53 -> 0 | DG53: =SUM(DC53:DF53) -> 0 | DH53: =SUM(DG53,DB53) -> 0 | DI53: =AO53 -> 0 | DJ53: =AP53 -> 0 | DK53: =AQ53 -> 0 | DL53: =AR53 -> 0 | DM53: =SUM(DI53:DL53) -> 0 | DN53: =ROUNDUP(DM53*$DN$6/100,0) -> 0 | DO53: =AS53 -> 0 | DP53: =AT53 -> 0 | DQ53: =AU53 -> 0 | DR53: =AV53 -> 0 | DS53: =SUM(DO53:DR53) -> 0 | DT53: =SUM(DS53,DN53) -> 0 | DU53: =AW53 -> 0 | DV53: =AX53 -> 0 | DW53: =AY53 -> 0 | DX53: =AZ53 -> 0 | DY53: =SUM(DU53:DX53) -> 0 | DZ53: =ROUNDUP(DY53*$DZ$6/100,0) -> 0 | EA53: =BA53 -> 0 | EB53: =BB53 -> 0 | EC53: =BC53 -> 0 | ED53: =BD53 -> 0 | EE53: =SUM(EA53:ED53) -> 0 | EF53: =SUM(EE53,DZ53) -> 0 | EG53: =BE53 -> 0 | EH53: =BF53 -> 0 | EI53: =BG53 -> 0 | EJ53: =BH53 -> 0 | EK53: =SUM(EG53:EJ53) -> 0 | EL53: =ROUNDUP(EK53*$EL$6/100,0) -> 0 | EM53: =BI53 -> 0 | EN53: =BJ53 -> 0 | EO53: =BK53 -> 0 | EP53: =BL53 -> 0 | EQ53: =SUM(EM53:EP53) -> 0 | ER53: =SUM(EL53,EQ53) -> 0 | ES53: =BM53 -> 0 | ET53: =BN53 -> 0 | EU53: =BO53 -> 0 | EV53: =BP53 -> 0 | EW53: =SUM(ES53:EV53) -> 0 | EX53: =ROUNDUP(EW53*$EX$6/100,0) -> 0 | EY53: =BQ53 -> 0 | EZ53: =BR53 | FA53: =BS53 -> 0 | FB53: =BT53 -> 0 | FC53: =SUM(EY53:FB53) -> 0 | FD53: =SUM(EX53,FC53) -> 0
... A278: =G278 -> 0 | B278: 99 | C278: 270 | D278: =IF(E278>0,$G$4,0) -> 0 | F278: =IF(OR(E277="",F277=""),"",F277+1) | G278: ='Data Paste From Shala Darpan'!L271 -> 0 | H278: ='Data Paste From Shala Darpan'!F271 -> 0 | I278: ='Data Paste From Shala Darpan'!H271 -> 0 | J278: ='Data Paste From Shala Darpan'!I271 -> 0 | K278: ='Data Paste From Shala Darpan'!K271 -> 0 | L278: =IF(G278=0,"",$L$7) | N278: =IF(OR(L278=0,M278=0,L278="",M278=""),"",M278/L278*100) | O278: =IF(N278="",0,IF(N278>=86,3,IF(N278>=81,2,IF(N278>=75,1,0)))) -> 0 | V278: =IF(OR($Q$3="",$G278=""),"",IF($Q$1="c",$O278/2,$O278)) -> 0 | AD278: =IF(OR($Y$3="",$G278=""),"",IF($Y$1="c",$O278/2,$O278)) -> 0 | AL278: =IF(OR($AG$3="",$G278=""),"",IF($AG$1="c",$O278/2,$O278)) -> 0 | AT278: =IF(OR($AO$3="",$G278=""),"",IF($AO$1="c",$O278/2,$O278)) -> 0 | BB278: =IF(OR($AW$3="",$G278=""),"",IF($AW$1="c",$O278/2,$O278)) -> 0 | BJ278: =IF(OR($BE$3="",$G278=""),"",IF($BE$1="c",$O278/2,$O278)) -> 0 | BR278: =IF(OR($BM$3="",$G278=""),"",IF($BM$1="c",$O278/2,$O278)) | BU278: 0 | BV278: 0 | BW278: 0 | BX278: =IF(BW278>=80,"A",IF(BW278>=60,"B",IF(BW278>=50,"C","D"))) -> D | BY278: =Q278 -> 0 | BZ278: =R278 -> 0 | CA278: =S278 -> 0 | CB278: =T278 -> 0 | CC278: =SUM(BY278:CB278) -> 0 | CD278: =ROUNDUP(CC278*$CD$6/100,0) -> 0 | CE278: =U278 -> 0 | CF278: =V278 -> 0 | CG278: =W278 -> 0 | CH278: =X278 -> 0 | CI278: =SUM(CE278:CH278) -> 0 | CJ278: =SUM(CI278,CD278) -> 0 | CK278: =Y278 -> 0 | CL278: =Z278 -> 0 | CM278: =AA278 -> 0 | CN278: =AB278 -> 0 | CO278: =SUM(CK278:CN278) -> 0 | CP278: =ROUNDUP(CO278*$CP$6/100,0) -> 0 | CQ278: =AC278 -> 0 | CR278: =AD278 -> 0 | CS278: =AE278 -> 0 | CT278: =AF278 -> 0 | CU278: =SUM(CQ278:CT278) -> 0 | CV278: =SUM(CU278,CP278) -> 0 | CW278: =AG278 -> 0 | CX278: =AH278 -> 0 | CY278: =AI278 -> 0 | CZ278: =AJ278 -> 0 | DA278: =SUM(CW278:CZ278) -> 0 | DB278: =ROUNDUP(DA278*$DB$6/100,0) -> 0 | DC278: =AK278 -> 0 | DD278: =AL278 -> 0 | DE278: =AM278 -> 0 | DF278: =AN278 -> 0 | DG278: =SUM(DC278:DF278) -> 0 | DH278: =SUM(DG278,DB278) -> 0 | DI278: =AO278 -> 0 | DJ278: =AP278 -> 0 | DK278: =AQ278 -> 0 | DL278: =AR278 -> 0 | DM278: =SUM(DI278:DL278) -> 0 | DN278: =ROUNDUP(DM278*$DN$6/100,0) -> 0 | DO278: =AS278 -> 0 | DP278: =AT278 -> 0 | DQ278: =AU278 -> 0 | DR278: =AV278 -> 0 | DS278: =SUM(DO278:DR278) -> 0 | DT278: =SUM(DS278,DN278) -> 0 | DU278: =AW278 -> 0 | DV278: =AX278 -> 0 | DW278: =AY278 -> 0 | DX278: =AZ278 -> 0 | DY278: =SUM(DU278:DX278) -> 0 | DZ278: =ROUNDUP(DY278*$DZ$6/100,0) -> 0 | EA278: =BA278 -> 0 | EB278: =BB278 -> 0 | EC278: =BC278 -> 0 | ED278: =BD278 -> 0 | EE278: =SUM(EA278:ED278) -> 0 | EF278: =SUM(EE278,DZ278) -> 0 | EG278: =BE278 -> 0 | EH278: =BF278 -> 0 | EI278: =BG278 -> 0 | EJ278: =BH278 -> 0 | EK278: =SUM(EG278:EJ278) -> 0 | EL278: =ROUNDUP(EK278*$EL$6/100,0) -> 0 | EM278: =BI278 -> 0 | EN278: =BJ278 -> 0 | EO278: =BK278 -> 0 | EP278: =BL278 -> 0 | EQ278: =SUM(EM278:EP278) -> 0 | ER278: =SUM(EL278,EQ278) -> 0 | ES278: =BM278 -> 0 | ET278: =BN278 -> 0 | EU278: =BO278 -> 0 | EV278: =BP278 -> 0 | EW278: =SUM(ES278:EV278) -> 0 | EX278: =ROUNDUP(EW278*$EX$6/100,0) -> 0 | EY278: =BQ278 -> 0 | EZ278: =BR278 | FA278: =BS278 -> 0 | FB278: =BT278 -> 0 | FC278: =SUM(EY278:FB278) -> 0 | FD278: =SUM(EX278,FC278) -> 0
B279: 1 | C279: 1 | D279: 2 | E279: 3 | F279: 4 | G279: 5 | H279: 6 | I279: 7 | J279: 8 | K279: 9 | L279: 10 | M279: 11 | N279: 12 | O279: 13 | P279: 14 | Q279: 15 | R279: 16 | S279: 17 | T279: 18 | U279: 19 | V279: 20 | X279: 21 | Y279: 22 | Z279: 23 | AA279: 24 | AB279: 25 | AC279: 26 | AD279: 27 | AF279: 28 | AG279: 29 | AH279: 30 | AI279: 31 | AJ279: 32 | AK279: 33 | AL279: 34 | AN279: 35 | AO279: 36 | AP279: 37 | AQ279: 38 | AR279: 39 | AS279: 40 | AT279: 41 | AV279: 42 | AW279: 43 | AX279: 44 | AY279: 45 | AZ279: 46 | BA279: 47 | BB279: 48 | BD279: 49 | BE279: 50 | BF279: 51 | BG279: 52 | BH279: 53 | BI279: 54 | BJ279: 55 | BL279: 56 | BM279: 57 | BN279: 58 | BO279: 59 | BP279: 60 | BQ279: 61 | BR279: 62 | BT279: 63 | BU279: 64 | BV279: 65 | BW279: 66 | BX279: 67 | BY279: 76 | BZ279: 77 | CA279: 78 | CB279: 79 | CC279: 80 | CD279: 81 | CE279: 82 | CF279: 83 | CH279: 84 | CI279: 85 | CJ279: 86 | CK279: 87 | CL279: 88 | CM279: 89 | CN279: 90 | CO279: 91 | CP279: 92 | CQ279: 93 | CR279: 94 | CT279: 95 | CU279: 96 | CV279: 97 | CW279: 98 | CX279: 99 | CY279: 100 | CZ279: 101 | DA279: 102 | DB279: 103 | DC279: 104 | DD279: 105 | DF279: 106 | DG279: 107 | DH279: 108 | DI279: 109 | DJ279: 110 | DK279: 111 | DL279: 112 | DM279: 113 | DN279: =ROUNDUP(DM279*$DN$6/100,0) -> 12 | DO279: 115 | DP279: 116 | DR279: 117 | DS279: 118 | DT279: 119 | DU279: 120 | DV279: 121 | DW279: 122 | DX279: 123 | DY279: 124 | DZ279: =ROUNDUP(DY279*$DZ$6/100,0) -> 13 | EA279: 126 | EB279: 127 | ED279: 128 | EE279: 129 | EF279: 130 | EG279: 131 | EH279: 132 | EI279: 133 | EJ279: 134 | EK279: 135 | EL279: =ROUNDUP(EK279*$EL$6/100,0) -> 14 | EM279: 137 | EN279: 138 | EP279: 139 | EQ279: 140 | ER279: 141 | ES279: 142 | ET279: 143 | EU279: 144 | EV279: 145 | EW279: 146 | EX279: =ROUNDUP(EW279*$EX$6/100,0) -> 15 | EY279: 148 | EZ279: 149 | FB279: 150 | FC279: 151 | FD279: 152
I280: =Master!L7 -> HINDI | J280: =Master!N7 -> A
I281: =Master!L8 -> ENGLISH | J281: =Master!N8 -> B
I282: =Master!L9 -> SANSKRIT | J282: =Master!N9 -> C
I283: =Master!L10 -> SCIENCE | J283: =Master!N10 -> D
I284: =Master!L11 -> MATHEMATICS | J284: =Master!N11 -> E
I285: =Master!L12 -> SOCIAL SCIENCE | J285: =Master!N12 -> F
I286: =Master!L13 -> Work Exp. | J286: =Master!N13 -> G
I287: =Master!L14 -> Art Edu. | J287: =Master!N14 -> 0
I288: =Master!L15 -> H&P Edu. | J288: =Master!N15 -> 0
I289: =Master!L16 -> 0 | J289: =Master!N16 -> 0
I290: =Master!L17 -> 0 | J290: =Master!N19 -> 0
I291: =Master!L18 -> 0 | J291: =Master!N20 -> 0
I292: =Master!L19 -> 0 | J292: =Master!P7 -> 0
I293: =Master!L20 -> 0 | J293: =Master!P8 -> 0
J294: =Master!P9 -> 0
J295: =Master!P10 -> 0
J296: =Master!P11 -> 0
J297: =Master!P12 -> 0
J298: =Master!P13 -> 0
J299: =Master!P14 -> 0
J300: =Master!P15 -> 0
J301: =Master!P16 -> 0
J302: =Master!P19 -> 0
J303: =Master!P20 -> 0

Sheet Subject Wise
A2: अवांछित Rows को Hide कर देवें | B2: ='Marks Entry'!G1 -> Govt. Sr. Sec. School | H2: Sessional Marks (Subject wise) | K2: Comp. Hindi-01 | X2: Sassional Marks (All Subjects)
K3: =IF(K2='Complete Statement (Sess. Marks'!O2,'Complete Statement (Sess. Marks'!O3,IF(K2='Complete Statement (Sess. Marks'!AA2,'Complete Statement (Sess. Marks'!AA3,IF(K2='Complete Statement (Sess. Marks'!AM2,'Complete Statement (Sess. Marks'!AM3,IF(K2='Complete Statement (Sess. Marks'!AY2,'Complete Statement (Sess. Marks'!AY3,IF(K2='Complete Statement (Sess. Marks'!BK2,'Complete Statement (Sess. Marks'!BK3,IF(K2='Complete Statement (Sess. Marks'!BW2,'Complete Statement (Sess. Marks'!BW3,IF(K2='Complete Statement (Sess. Marks'!CI2,'Complete Statement (Sess. Marks'!CI3,""))))))) -> HGHV
B4: Sessional Marks (Subject wise) | F4: Class:- | G4: =IF('Marks Entry'!J4="",CONCATENATE('Marks Entry'!G4,'Marks Entry'!J4),CONCATENATE('Marks Entry'!G4,"(",'Marks Entry'!J4,")")) -> 12(ARTS) | H4: =CONCATENATE("Session:-",'Marks Entry'!J3) -> Session:-2025-26 | K4: =IF($K$2='Complete Statement (Sess. Marks'!$O$2,'Complete Statement (Sess. Marks'!O4,IF($K$2='Complete Statement (Sess. Marks'!$AA$2,'Complete Statement (Sess. Marks'!AA4,IF($K$2='Complete Statement (Sess. Marks'!$AM$2,'Complete Statement (Sess. Marks'!AM4,IF($K$2='Complete Statement (Sess. Marks'!$AY$2,'Complete Statement (Sess. Marks'!AY4,IF($K$2='Complete Statement (Sess. Marks'!$BK$2,'Complete Statement (Sess. Marks'!BK4,IF($K$2='Complete Statement (Sess. Marks'!$BW$2,'Complete Statement (Sess. Marks'!BW4,IF($K$2='Complete Statement (Sess. Marks'!$CI$2,'Complete Statement (Sess. Marks'!CI4,""))))))) -> First Test | L4: =IF($K$2='Complete Statement (Sess. Marks'!$O$2,'Complete Statement (Sess. Marks'!P4,IF($K$2='Complete Statement (Sess. Marks'!$AA$2,'Complete Statement (Sess. Marks'!AB4,IF($K$2='Complete Statement (Sess. Marks'!$AM$2,'Complete Statement (Sess. Marks'!AN4,IF($K$2='Complete Statement (Sess. Marks'!$AY$2,'Complete Statement (Sess. Marks'!AZ4,IF($K$2='Complete Statement (Sess. Marks'!$BK$2,'Complete Statement (Sess. Marks'!BL4,IF($K$2='Complete Statement (Sess. Marks'!$BW$2,'Complete Statement (Sess. Marks'!BX4,IF($K$2='Complete Statement (Sess. Marks'!$CI$2,'Complete Statement (Sess. Marks'!CJ4,""))))))) -> Second Test | M4: =IF($K$2='Complete Statement (Sess. Marks'!$O$2,'Complete Statement (Sess. Marks'!Q4,IF($K$2='Complete Statement (Sess. Marks'!$AA$2,'Complete Statement (Sess. Marks'!AC4,IF($K$2='Complete Statement (Sess. Marks'!$AM$2,'Complete Statement (Sess. Marks'!AO4,IF($K$2='Complete Statement (Sess. Marks'!$AY$2,'Complete Statement (Sess. Marks'!BA4,IF($K$2='Complete Statement (Sess. Marks'!$BK$2,'Complete Statement (Sess. Marks'!BM4,IF($K$2='Complete Statement (Sess. Marks'!$BW$2,'Complete Statement (Sess. Marks'!BY4,IF($K$2='Complete Statement (Sess. Marks'!$CI$2,'Complete Statement (Sess. Marks'!CK4,""))))))) -> Third Test | N4: =IF($K$2='Complete Statement (Sess. Marks'!$O$2,'Complete Statement (Sess. Marks'!R4,IF($K$2='Complete Statement (Sess. Marks'!$AA$2,'Complete Statement (Sess. Marks'!AD4,IF($K$2='Complete Statement (Sess. Marks'!$AM$2,'Complete Statement (Sess. Marks'!AP4,IF($K$2='Complete Statement (Sess. Marks'!$AY$2,'Complete Statement (Sess. Marks'!BB4,IF($K$2='Complete Statement (Sess. Marks'!$BK$2,'Complete Statement (Sess. Marks'!BN4,IF($K$2='Complete Statement (Sess. Marks'!$BW$2,'Complete Statement (Sess. Marks'!BZ4,IF($K$2='Complete Statement (Sess. Marks'!$CI$2,'Complete Statement (Sess. Marks'!CL4,""))))))) -> Half Yearly | O4: =IF($K$2='Complete Statement (Sess. Marks'!$O$2,'Complete Statement (Sess. Marks'!S4,IF($K$2='Complete Statement (Sess. Marks'!$AA$2,'Complete Statement (Sess. Marks'!AE4,IF($K$2='Complete Statement (Sess. Marks'!$AM$2,'Complete Statement (Sess. Marks'!AQ4,IF($K$2='Complete Statement (Sess. Marks'!$AY$2,'Complete Statement (Sess. Marks'!BC4,IF($K$2='Complete Statement (Sess. Marks'!$BK$2,'Complete Statement (Sess. Marks'!BO4,IF($K$2='Complete Statement (Sess. Marks'!$BW$2,'Complete Statement (Sess. Marks'!CA4,IF($K$2='Complete Statement (Sess. Marks'!$CI$2,'Complete Statement (Sess. Marks'!CM4,""))))))) -> Total | P4: =IF($K$2='Complete Statement (Sess. Marks'!$O$2,'Complete Statement (Sess. Marks'!T4,IF($K$2='Complete Statement (Sess. Marks'!$AA$2,'Complete Statement (Sess. Marks'!AF4,IF($K$2='Complete Statement (Sess. Marks'!$AM$2,'Complete Statement (Sess. Marks'!AR4,IF($K$2='Complete Statement (Sess. Marks'!$AY$2,'Complete Statement (Sess. Marks'!BD4,IF($K$2='Complete Statement (Sess. Marks'!$BK$2,'Complete Statement (Sess. Marks'!BP4,IF($K$2='Complete Statement (Sess. Marks'!$BW$2,'Complete Statement (Sess. Marks'!CB4,IF($K$2='Complete Statement (Sess. Marks'!$CI$2,'Complete Statement (Sess. Marks'!CN4,""))))))) -> 10% Up to Half Yearly | Q4: =IF($K$2='Complete Statement (Sess. Marks'!$O$2,'Complete Statement (Sess. Marks'!U4,IF($K$2='Complete Statement (Sess. Marks'!$AA$2,'Complete Statement (Sess. Marks'!AG4,IF($K$2='Complete Statement (Sess. Marks'!$AM$2,'Complete Statement (Sess. Marks'!AS4,IF($K$2='Complete Statement (Sess. Marks'!$AY$2,'Complete Statement (Sess. Marks'!BE4,IF($K$2='Complete Statement (Sess. Marks'!$BK$2,'Complete Statement (Sess. Marks'!BQ4,IF($K$2='Complete Statement (Sess. Marks'!$BW$2,'Complete Statement (Sess. Marks'!CC4,IF($K$2='Complete Statement (Sess. Marks'!$CI$2,'Complete Statement (Sess. Marks'!CO4,""))))))) -> Project | R4: =IF($K$2='Complete Statement (Sess. Marks'!$O$2,'Complete Statement (Sess. Marks'!V4,IF($K$2='Complete Statement (Sess. Marks'!$AA$2,'Complete Statement (Sess. Marks'!AH4,IF($K$2='Complete Statement (Sess. Marks'!$AM$2,'Complete Statement (Sess. Marks'!AT4,IF($K$2='Complete Statement (Sess. Marks'!$AY$2,'Complete Statement (Sess. Marks'!BF4,IF($K$2='Complete Statement (Sess. Marks'!$BK$2,'Complete Statement (Sess. Marks'!BR4,IF($K$2='Complete Statement (Sess. Marks'!$BW$2,'Complete Statement (Sess. Marks'!CD4,IF($K$2='Complete Statement (Sess. Marks'!$CI$2,'Complete Statement (Sess. Marks'!CP4,""))))))) -> Attendance | ... V4: =IF($K$2='Complete Statement (Sess. Marks'!$O$2,'Complete Statement (Sess. Marks'!Z4,IF($K$2='Complete Statement (Sess. Marks'!$AA$2,'Complete Statement (Sess. Marks'!AL4,IF($K$2='Complete Statement (Sess. Marks'!$AM$2,'Complete Statement (Sess. Marks'!AX4,IF($K$2='Complete Statement (Sess. Marks'!$AY$2,'Complete Statement (Sess. Marks'!BJ4,IF($K$2='Complete Statement (Sess. Marks'!$BK$2,'Complete Statement (Sess. Marks'!BV4,IF($K$2='Complete Statement (Sess. Marks'!$BW$2,'Complete Statement (Sess. Marks'!CH4,IF($K$2='Complete Statement (Sess. Marks'!$CI$2,'Complete Statement (Sess. Marks'!CT4,""))))))) -> Sessional Marks | X4: ='Complete Statement (Sess. Marks'!DB4 -> Comp. Hindi-01 | Y4: ='Complete Statement (Sess. Marks'!DF4 -> Comp. English-02 | Z4: ='Complete Statement (Sess. Marks'!DJ4 -> Pol. Science-11 | AA4: ='Complete Statement (Sess. Marks'!DN4 -> History-13 | AB4: ='Complete Statement (Sess. Marks'!DR4 -> Hindi Lit.-21 | AC4: ='Complete Statement (Sess. Marks'!DV4 -> Geology-43 | AD4: ='Complete Statement (Sess. Marks'!DZ4 | AE4: ='Complete Statement (Sess. Marks'!ED4 -> GLOR.INDIA AFTER IND.-II-79 | AG4: ='Complete Statement (Sess. Marks'!EF4 -> Social Ser. Plan-78
B5: ='Marks Entry'!C6 -> Sr. No. | C5: ='Marks Entry'!D6 -> Class | D5: ='Marks Entry'!E6 -> Scholar Number | E5: ='Marks Entry'!F6 -> Board Roll No. | F5: ='Marks Entry'!G6 -> School Roll Number | G5: ='Marks Entry'!H6 -> Student's Name | H5: ='Marks Entry'!I6 -> Father's Name | I5: ='Marks Entry'!J6 -> Mother's Name | J5: ='Marks Entry'!K6 -> Date Of Birth | K5: =IF($K$2='Complete Statement (Sess. Marks'!$O$2,'Complete Statement (Sess. Marks'!O5,IF($K$2='Complete Statement (Sess. Marks'!$AA$2,'Complete Statement (Sess. Marks'!AA5,IF($K$2='Complete Statement (Sess. Marks'!$AM$2,'Complete Statement (Sess. Marks'!AM5,IF($K$2='Complete Statement (Sess. Marks'!$AY$2,'Complete Statement (Sess. Marks'!AY5,IF($K$2='Complete Statement (Sess. Marks'!$BK$2,'Complete Statement (Sess. Marks'!BK5,IF($K$2='Complete Statement (Sess. Marks'!$BW$2,'Complete Statement (Sess. Marks'!BW5,IF($K$2='Complete Statement (Sess. Marks'!$CU$2,'Complete Statement (Sess. Marks'!CU5,IF($K$2='Complete Statement (Sess. Marks'!$CY$2,'Complete Statement (Sess. Marks'!CY5,IF($K$2='Complete Statement (Sess. Marks'!#REF!,'Complete Statement (Sess. Marks'!#REF!,""))))))))) -> 0 | L5: =IF($K$2='Complete Statement (Sess. Marks'!$O$2,'Complete Statement (Sess. Marks'!P5,IF($K$2='Complete Statement (Sess. Marks'!$AA$2,'Complete Statement (Sess. Marks'!AB5,IF($K$2='Complete Statement (Sess. Marks'!$AM$2,'Complete Statement (Sess. Marks'!AN5,IF($K$2='Complete Statement (Sess. Marks'!$AY$2,'Complete Statement (Sess. Marks'!AZ5,IF($K$2='Complete Statement (Sess. Marks'!$BK$2,'Complete Statement (Sess. Marks'!BL5,IF($K$2='Complete Statement (Sess. Marks'!$BW$2,'Complete Statement (Sess. Marks'!BX5,IF($K$2='Complete Statement (Sess. Marks'!$CU$2,'Complete Statement (Sess. Marks'!CV5,IF($K$2='Complete Statement (Sess. Marks'!$CY$2,'Complete Statement (Sess. Marks'!#REF!,IF($K$2='Complete Statement (Sess. Marks'!#REF!,'Complete Statement (Sess. Marks'!#REF!,""))))))))) -> 0 | M5: =IF($K$2='Complete Statement (Sess. Marks'!$O$2,'Complete Statement (Sess. Marks'!Q5,IF($K$2='Complete Statement (Sess. Marks'!$AA$2,'Complete Statement (Sess. Marks'!AC5,IF($K$2='Complete Statement (Sess. Marks'!$AM$2,'Complete Statement (Sess. Marks'!AO5,IF($K$2='Complete Statement (Sess. Marks'!$AY$2,'Complete Statement (Sess. Marks'!BA5,IF($K$2='Complete Statement (Sess. Marks'!$BK$2,'Complete Statement (Sess. Marks'!BM5,IF($K$2='Complete Statement (Sess. Marks'!$BW$2,'Complete Statement (Sess. Marks'!BY5,IF($K$2='Complete Statement (Sess. Marks'!$CU$2,'Complete Statement (Sess. Marks'!CW5,IF($K$2='Complete Statement (Sess. Marks'!$CY$2,'Complete Statement (Sess. Marks'!#REF!,IF($K$2='Complete Statement (Sess. Marks'!#REF!,'Complete Statement (Sess. Marks'!#REF!,""))))))))) -> 0 | N5: =IF($K$2='Complete Statement (Sess. Marks'!$O$2,'Complete Statement (Sess. Marks'!R5,IF($K$2='Complete Statement (Sess. Marks'!$AA$2,'Complete Statement (Sess. Marks'!AD5,IF($K$2='Complete Statement (Sess. Marks'!$AM$2,'Complete Statement (Sess. Marks'!AP5,IF($K$2='Complete Statement (Sess. Marks'!$AY$2,'Complete Statement (Sess. Marks'!BB5,IF($K$2='Complete Statement (Sess. Marks'!$BK$2,'Complete Statement (Sess. Marks'!BN5,IF($K$2='Complete Statement (Sess. Marks'!$BW$2,'Complete Statement (Sess. Marks'!BZ5,IF($K$2='Complete Statement (Sess. Marks'!$CU$2,'Complete Statement (Sess. Marks'!CX5,IF($K$2='Complete Statement (Sess. Marks'!$CY$2,'Complete Statement (Sess. Marks'!CZ5,IF($K$2='Complete Statement (Sess. Marks'!#REF!,'Complete Statement (Sess. Marks'!#REF!,""))))))))) -> 0 | O5: =IF($K$2='Complete Statement (Sess. Marks'!$O$2,'Complete Statement (Sess. Marks'!S5,IF($K$2='Complete Statement (Sess. Marks'!$AA$2,'Complete Statement (Sess. Marks'!AE5,IF($K$2='Complete Statement (Sess. Marks'!$AM$2,'Complete Statement (Sess. Marks'!AQ5,IF($K$2='Complete Statement (Sess. Marks'!$AY$2,'Complete Statement (Sess. Marks'!BC5,IF($K$2='Complete Statement (Sess. Marks'!$BK$2,'Complete Statement (Sess. Marks'!BO5,IF($K$2='Complete Statement (Sess. Marks'!$BW$2,'Complete Statement (Sess. Marks'!CA5,IF($K$2='Complete Statement (Sess. Marks'!$CU$2,'Complete Statement (Sess. Marks'!CY5,IF($K$2='Complete Statement (Sess. Marks'!$CY$2,'Complete Statement (Sess. Marks'!#REF!,IF($K$2='Complete Statement (Sess. Marks'!#REF!,'Complete Statement (Sess. Marks'!#REF!,""))))))))) -> 0 | P5: =IF($K$2='Complete Statement (Sess. Marks'!$O$2,'Complete Statement (Sess. Marks'!T5,IF($K$2='Complete Statement (Sess. Marks'!$AA$2,'Complete Statement (Sess. Marks'!AF5,IF($K$2='Complete Statement (Sess. Marks'!$AM$2,'Complete Statement (Sess. Marks'!AR5,IF($K$2='Complete Statement (Sess. Marks'!$AY$2,'Complete Statement (Sess. Marks'!BD5,IF($K$2='Complete Statement (Sess. Marks'!$BK$2,'Complete Statement (Sess. Marks'!BP5,IF($K$2='Complete Statement (Sess. Marks'!$BW$2,'Complete Statement (Sess. Marks'!CB5,IF($K$2='Complete Statement (Sess. Marks'!$CU$2,'Complete Statement (Sess. Marks'!#REF!,IF($K$2='Complete Statement (Sess. Marks'!$CY$2,'Complete Statement (Sess. Marks'!#REF!,IF($K$2='Complete Statement (Sess. Marks'!#REF!,'Complete Statement (Sess. Marks'!#REF!,""))))))))) -> 0 | Q5: =IF($K$2='Complete Statement (Sess. Marks'!$O$2,'Complete Statement (Sess. Marks'!U5,IF($K$2='Complete Statement (Sess. Marks'!$AA$2,'Complete Statement (Sess. Marks'!AG5,IF($K$2='Complete Statement (Sess. Marks'!$AM$2,'Complete Statement (Sess. Marks'!AS5,IF($K$2='Complete Statement (Sess. Marks'!$AY$2,'Complete Statement (Sess. Marks'!BE5,IF($K$2='Complete Statement (Sess. Marks'!$BK$2,'Complete Statement (Sess. Marks'!BQ5,IF($K$2='Complete Statement (Sess. Marks'!$BW$2,'Complete Statement (Sess. Marks'!CC5,IF($K$2='Complete Statement (Sess. Marks'!$CU$2,'Complete Statement (Sess. Marks'!#REF!,IF($K$2='Complete Statement (Sess. Marks'!$CY$2,'Complete Statement (Sess. Marks'!#REF!,IF($K$2='Complete Statement (Sess. Marks'!#REF!,'Complete Statement (Sess. Marks'!#REF!,""))))))))) -> 0 | R5: =IF($K$2='Complete Statement (Sess. Marks'!$O$2,'Complete Statement (Sess. Marks'!V5,IF($K$2='Complete Statement (Sess. Marks'!$AA$2,'Complete Statement (Sess. Marks'!AH5,IF($K$2='Complete Statement (Sess. Marks'!$AM$2,'Complete Statement (Sess. Marks'!AT5,IF($K$2='Complete Statement (Sess. Marks'!$AY$2,'Complete Statement (Sess. Marks'!BF5,IF($K$2='Complete Statement (Sess. Marks'!$BK$2,'Complete Statement (Sess. Marks'!BR5,IF($K$2='Complete Statement (Sess. Marks'!$BW$2,'Complete Statement (Sess. Marks'!CD5,IF($K$2='Complete Statement (Sess. Marks'!$CU$2,'Complete Statement (Sess. Marks'!CZ5,IF($K$2='Complete Statement (Sess. Marks'!$CY$2,'Complete Statement (Sess. Marks'!#REF!,IF($K$2='Complete Statement (Sess. Marks'!#REF!,'Complete Statement (Sess. Marks'!#REF!,""))))))))) -> 0 | S5: =IF($K$2='Complete Statement (Sess. Marks'!$O$2,'Complete Statement (Sess. Marks'!W5,IF($K$2='Complete Statement (Sess. Marks'!$AA$2,'Complete Statement (Sess. Marks'!AI5,IF($K$2='Complete Statement (Sess. Marks'!$AM$2,'Complete Statement (Sess. Marks'!AU5,IF($K$2='Complete Statement (Sess. Marks'!$AY$2,'Complete Statement (Sess. Marks'!BG5,IF($K$2='Complete Statement (Sess. Marks'!$BK$2,'Complete Statement (Sess. Marks'!BS5,IF($K$2='Complete Statement (Sess. Marks'!$BW$2,'Complete Statement (Sess. Marks'!CE5,IF($K$2='Complete Statement (Sess. Marks'!$CU$2,'Complete Statement (Sess. Marks'!DA5,IF($K$2='Complete Statement (Sess. Marks'!$CY$2,'Complete Statement (Sess. Marks'!#REF!,IF($K$2='Complete Statement (Sess. Marks'!#REF!,'Complete Statement (Sess. Marks'!#REF!,""))))))))) -> 0 | T5: =IF($K$2='Complete Statement (Sess. Marks'!$O$2,'Complete Statement (Sess. Marks'!X5,IF($K$2='Complete Statement (Sess. Marks'!$AA$2,'Complete Statement (Sess. Marks'!AJ5,IF($K$2='Complete Statement (Sess. Marks'!$AM$2,'Complete Statement (Sess. Marks'!AV5,IF($K$2='Complete Statement (Sess. Marks'!$AY$2,'Complete Statement (Sess. Marks'!BH5,IF($K$2='Complete Statement (Sess. Marks'!$BK$2,'Complete Statement (Sess. Marks'!BT5,IF($K$2='Complete Statement (Sess. Marks'!$BW$2,'Complete Statement (Sess. Marks'!CF5,IF($K$2='Complete Statement (Sess. Marks'!$CU$2,'Complete Statement (Sess. Marks'!#REF!,IF($K$2='Complete Statement (Sess. Marks'!$CY$2,'Complete Statement (Sess. Marks'!#REF!,IF($K$2='Complete Statement (Sess. Marks'!#REF!,'Complete Statement (Sess. Marks'!#REF!,""))))))))) -> 0 | U5: =IF($K$2='Complete Statement (Sess. Marks'!$O$2,'Complete Statement (Sess. Marks'!Y5,IF($K$2='Complete Statement (Sess. Marks'!$AA$2,'Complete Statement (Sess. Marks'!AK5,IF($K$2='Complete Statement (Sess. Marks'!$AM$2,'Complete Statement (Sess. Marks'!AW5,IF($K$2='Complete Statement (Sess. Marks'!$AY$2,'Complete Statement (Sess. Marks'!BI5,IF($K$2='Complete Statement (Sess. Marks'!$BK$2,'Complete Statement (Sess. Marks'!BU5,IF($K$2='Complete Statement (Sess. Marks'!$BW$2,'Complete Statement (Sess. Marks'!CG5,IF($K$2='Complete Statement (Sess. Marks'!$CU$2,'Complete Statement (Sess. Marks'!#REF!,IF($K$2='Complete Statement (Sess. Marks'!$CY$2,'Complete Statement (Sess. Marks'!#REF!,IF($K$2='Complete Statement (Sess. Marks'!#REF!,'Complete Statement (Sess. Marks'!#REF!,""))))))))) -> 0 | V5: =IF($K$2='Complete Statement (Sess. Marks'!$O$2,'Complete Statement (Sess. Marks'!Z5,IF($K$2='Complete Statement (Sess. Marks'!$AA$2,'Complete Statement (Sess. Marks'!AL5,IF($K$2='Complete Statement (Sess. Marks'!$AM$2,'Complete Statement (Sess. Marks'!AX5,IF($K$2='Complete Statement (Sess. Marks'!$AY$2,'Complete Statement (Sess. Marks'!BJ5,IF($K$2='Complete Statement (Sess. Marks'!$BK$2,'Complete Statement (Sess. Marks'!BV5,IF($K$2='Complete Statement (Sess. Marks'!$BW$2,'Complete Statement (Sess. Marks'!CH5,IF($K$2='Complete Statement (Sess. Marks'!$CU$2,'Complete Statement (Sess. Marks'!#REF!,IF($K$2='Complete Statement (Sess. Marks'!$CY$2,'Complete Statement (Sess. Marks'!#REF!,IF($K$2='Complete Statement (Sess. Marks'!#REF!,'Complete Statement (Sess. Marks'!#REF!,""))))))))) -> 0 | AE5: Total Marks | AF5: Grade | AG5: Total Marks | AH5: Grade
K6: =IF($K$2='Complete Statement (Sess. Marks'!$O$2,'Complete Statement (Sess. Marks'!O6,IF($K$2='Complete Statement (Sess. Marks'!$AA$2,'Complete Statement (Sess. Marks'!AA6,IF($K$2='Complete Statement (Sess. Marks'!$AM$2,'Complete Statement (Sess. Marks'!AM6,IF($K$2='Complete Statement (Sess. Marks'!$AY$2,'Complete Statement (Sess. Marks'!AY6,IF($K$2='Complete Statement (Sess. Marks'!$BK$2,'Complete Statement (Sess. Marks'!BK6,IF($K$2='Complete Statement (Sess. Marks'!$BW$2,'Complete Statement (Sess. Marks'!BW6,IF($K$2='Complete Statement (Sess. Marks'!$CI$2,'Complete Statement (Sess. Marks'!CI6,""))))))) -> 10 | L6: =IF($K$2='Complete Statement (Sess. Marks'!$O$2,'Complete Statement (Sess. Marks'!P6,IF($K$2='Complete Statement (Sess. Marks'!$AA$2,'Complete Statement (Sess. Marks'!AB6,IF($K$2='Complete Statement (Sess. Marks'!$AM$2,'Complete Statement (Sess. Marks'!AN6,IF($K$2='Complete Statement (Sess. Marks'!$AY$2,'Complete Statement (Sess. Marks'!AZ6,IF($K$2='Complete Statement (Sess. Marks'!$BK$2,'Complete Statement (Sess. Marks'!BL6,IF($K$2='Complete Statement (Sess. Marks'!$BW$2,'Complete Statement (Sess. Marks'!BX6,IF($K$2='Complete Statement (Sess. Marks'!$CI$2,'Complete Statement (Sess. Marks'!CJ6,""))))))) -> 10 | M6: =IF($K$2='Complete Statement (Sess. Marks'!$O$2,'Complete Statement (Sess. Marks'!Q6,IF($K$2='Complete Statement (Sess. Marks'!$AA$2,'Complete Statement (Sess. Marks'!AC6,IF($K$2='Complete Statement (Sess. Marks'!$AM$2,'Complete Statement (Sess. Marks'!AO6,IF($K$2='Complete Statement (Sess. Marks'!$AY$2,'Complete Statement (Sess. Marks'!BA6,IF($K$2='Complete Statement (Sess. Marks'!$BK$2,'Complete Statement (Sess. Marks'!BM6,IF($K$2='Complete Statement (Sess. Marks'!$BW$2,'Complete Statement (Sess. Marks'!BY6,IF($K$2='Complete Statement (Sess. Marks'!$CI$2,'Complete Statement (Sess. Marks'!CK6,""))))))) -> 10 | N6: =IF($K$2='Complete Statement (Sess. Marks'!$O$2,'Complete Statement (Sess. Marks'!R6,IF($K$2='Complete Statement (Sess. Marks'!$AA$2,'Complete Statement (Sess. Marks'!AD6,IF($K$2='Complete Statement (Sess. Marks'!$AM$2,'Complete Statement (Sess. Marks'!AP6,IF($K$2='Complete Statement (Sess. Marks'!$AY$2,'Complete Statement (Sess. Marks'!BB6,IF($K$2='Complete Statement (Sess. Marks'!$BK$2,'Complete Statement (Sess. Marks'!BN6,IF($K$2='Complete Statement (Sess. Marks'!$BW$2,'Complete Statement (Sess. Marks'!BZ6,IF($K$2='Complete Statement (Sess. Marks'!$CI$2,'Complete Statement (Sess. Marks'!CL6,""))))))) -> 70 | O6: =IF($K$2='Complete Statement (Sess. Marks'!$O$2,'Complete Statement (Sess. Marks'!S6,IF($K$2='Complete Statement (Sess. Marks'!$AA$2,'Complete Statement (Sess. Marks'!AE6,IF($K$2='Complete Statement (Sess. Marks'!$AM$2,'Complete Statement (Sess. Marks'!AQ6,IF($K$2='Complete Statement (Sess. Marks'!$AY$2,'Complete Statement (Sess. Marks'!BC6,IF($K$2='Complete Statement (Sess. Marks'!$BK$2,'Complete Statement (Sess. Marks'!BO6,IF($K$2='Complete Statement (Sess. Marks'!$BW$2,'Complete Statement (Sess. Marks'!CA6,IF($K$2='Complete Statement (Sess. Marks'!$CI$2,'Complete Statement (Sess. Marks'!CM6,""))))))) -> 100 | P6: =IF($K$2='Complete Statement (Sess. Marks'!$O$2,'Complete Statement (Sess. Marks'!T6,IF($K$2='Complete Statement (Sess. Marks'!$AA$2,'Complete Statement (Sess. Marks'!AF6,IF($K$2='Complete Statement (Sess. Marks'!$AM$2,'Complete Statement (Sess. Marks'!AR6,IF($K$2='Complete Statement (Sess. Marks'!$AY$2,'Complete Statement (Sess. Marks'!BD6,IF($K$2='Complete Statement (Sess. Marks'!$BK$2,'Complete Statement (Sess. Marks'!BP6,IF($K$2='Complete Statement (Sess. Marks'!$BW$2,'Complete Statement (Sess. Marks'!CB6,IF($K$2='Complete Statement (Sess. Marks'!$CI$2,'Complete Statement (Sess. Marks'!CN6,""))))))) -> 10 | Q6: =IF($K$2='Complete Statement (Sess. Marks'!$O$2,'Complete Statement (Sess. Marks'!U6,IF($K$2='Complete Statement (Sess. Marks'!$AA$2,'Complete Statement (Sess. Marks'!AG6,IF($K$2='Complete Statement (Sess. Marks'!$AM$2,'Complete Statement (Sess. Marks'!AS6,IF($K$2='Complete Statement (Sess. Marks'!$AY$2,'Complete Statement (Sess. Marks'!BE6,IF($K$2='Complete Statement (Sess. Marks'!$BK$2,'Complete Statement (Sess. Marks'!BQ6,IF($K$2='Complete Statement (Sess. Marks'!$BW$2,'Complete Statement (Sess. Marks'!CC6,IF($K$2='Complete Statement (Sess. Marks'!$CI$2,'Complete Statement (Sess. Marks'!CO6,""))))))) -> 4 | R6: =IF($K$2='Complete Statement (Sess. Marks'!$O$2,'Complete Statement (Sess. Marks'!V6,IF($K$2='Complete Statement (Sess. Marks'!$AA$2,'Complete Statement (Sess. Marks'!AH6,IF($K$2='Complete Statement (Sess. Marks'!$AM$2,'Complete Statement (Sess. Marks'!AT6,IF($K$2='Complete Statement (Sess. Marks'!$AY$2,'Complete Statement (Sess. Marks'!BF6,IF($K$2='Complete Statement (Sess. Marks'!$BK$2,'Complete Statement (Sess. Marks'!BR6,IF($K$2='Complete Statement (Sess. Marks'!$BW$2,'Complete Statement (Sess. Marks'!CD6,IF($K$2='Complete Statement (Sess. Marks'!$CI$2,'Complete Statement (Sess. Marks'!CP6,""))))))) -> 3 | ... V6: =IF($K$2='Complete Statement (Sess. Marks'!$O$2,'Complete Statement (Sess. Marks'!Z6,IF($K$2='Complete Statement (Sess. Marks'!$AA$2,'Complete Statement (Sess. Marks'!AL6,IF($K$2='Complete Statement (Sess. Marks'!$AM$2,'Complete Statement (Sess. Marks'!AX6,IF($K$2='Complete Statement (Sess. Marks'!$AY$2,'Complete Statement (Sess. Marks'!BJ6,IF($K$2='Complete Statement (Sess. Marks'!$BK$2,'Complete Statement (Sess. Marks'!BV6,IF($K$2='Complete Statement (Sess. Marks'!$BW$2,'Complete Statement (Sess. Marks'!CH6,IF($K$2='Complete Statement (Sess. Marks'!$CI$2,'Complete Statement (Sess. Marks'!CT6,""))))))) -> 20 | X6: =IF(X4="","",'Complete Statement (Sess. Marks'!DE6) -> 20 | Y6: =IF(Y4="","",'Complete Statement (Sess. Marks'!DI6) -> 20 | Z6: =IF(Z4="","",'Complete Statement (Sess. Marks'!DM6) -> 20 | AA6: =IF(AA4="","",'Complete Statement (Sess. Marks'!DQ6) -> 20 | AB6: =IF(AB4="","",'Complete Statement (Sess. Marks'!DU6) -> 20 | AC6: =IF(AC4="","",'Complete Statement (Sess. Marks'!DY6) -> 15 | AD6: =IF(AD4="","",'Complete Statement (Sess. Marks'!EC6) | AE6: =IF(AE4="","",'Complete Statement (Sess. Marks'!ED6) -> 100 | AG6: =IF(AG4="","",'Complete Statement (Sess. Marks'!EF6) -> 100
B7: =IF(F7>0,1,0) -> 1 | C7: ='Marks Entry'!D9 -> 12 | D7: ='Marks Entry'!E9 -> 1251 | E7: ='Marks Entry'!F9 -> 0 | F7: ='Marks Entry'!G9 -> 1201 | G7: ='Marks Entry'!H9 -> AASI | H7: ='Marks Entry'!I9 -> JETHA RAM | I7: ='Marks Entry'!J9 -> SANTOSH | J7: ='Marks Entry'!K9 -> 40940 | K7: =IF($K$2='Complete Statement (Sess. Marks'!$O$2,'Complete Statement (Sess. Marks'!O7,IF($K$2='Complete Statement (Sess. Marks'!$AA$2,'Complete Statement (Sess. Marks'!AA7,IF($K$2='Complete Statement (Sess. Marks'!$AM$2,'Complete Statement (Sess. Marks'!AM7,IF($K$2='Complete Statement (Sess. Marks'!$AY$2,'Complete Statement (Sess. Marks'!AY7,IF($K$2='Complete Statement (Sess. Marks'!$BK$2,'Complete Statement (Sess. Marks'!BK7,IF($K$2='Complete Statement (Sess. Marks'!$BW$2,'Complete Statement (Sess. Marks'!BW7,IF($K$2='Complete Statement (Sess. Marks'!$CI$2,'Complete Statement (Sess. Marks'!CI7,""))))))) -> 5 | L7: =IF($K$2='Complete Statement (Sess. Marks'!$O$2,'Complete Statement (Sess. Marks'!P7,IF($K$2='Complete Statement (Sess. Marks'!$AA$2,'Complete Statement (Sess. Marks'!AB7,IF($K$2='Complete Statement (Sess. Marks'!$AM$2,'Complete Statement (Sess. Marks'!AN7,IF($K$2='Complete Statement (Sess. Marks'!$AY$2,'Complete Statement (Sess. Marks'!AZ7,IF($K$2='Complete Statement (Sess. Marks'!$BK$2,'Complete Statement (Sess. Marks'!BL7,IF($K$2='Complete Statement (Sess. Marks'!$BW$2,'Complete Statement (Sess. Marks'!BX7,IF($K$2='Complete Statement (Sess. Marks'!$CI$2,'Complete Statement (Sess. Marks'!CJ7,""))))))) -> 7 | M7: =IF($K$2='Complete Statement (Sess. Marks'!$O$2,'Complete Statement (Sess. Marks'!Q7,IF($K$2='Complete Statement (Sess. Marks'!$AA$2,'Complete Statement (Sess. Marks'!AC7,IF($K$2='Complete Statement (Sess. Marks'!$AM$2,'Complete Statement (Sess. Marks'!AO7,IF($K$2='Complete Statement (Sess. Marks'!$AY$2,'Complete Statement (Sess. Marks'!BA7,IF($K$2='Complete Statement (Sess. Marks'!$BK$2,'Complete Statement (Sess. Marks'!BM7,IF($K$2='Complete Statement (Sess. Marks'!$BW$2,'Complete Statement (Sess. Marks'!BY7,IF($K$2='Complete Statement (Sess. Marks'!$CI$2,'Complete Statement (Sess. Marks'!CK7,""))))))) -> 8 | N7: =IF($K$2='Complete Statement (Sess. Marks'!$O$2,'Complete Statement (Sess. Marks'!R7,IF($K$2='Complete Statement (Sess. Marks'!$AA$2,'Complete Statement (Sess. Marks'!AD7,IF($K$2='Complete Statement (Sess. Marks'!$AM$2,'Complete Statement (Sess. Marks'!AP7,IF($K$2='Complete Statement (Sess. Marks'!$AY$2,'Complete Statement (Sess. Marks'!BB7,IF($K$2='Complete Statement (Sess. Marks'!$BK$2,'Complete Statement (Sess. Marks'!BN7,IF($K$2='Complete Statement (Sess. Marks'!$BW$2,'Complete Statement (Sess. Marks'!BZ7,IF($K$2='Complete Statement (Sess. Marks'!$CI$2,'Complete Statement (Sess. Marks'!CL7,""))))))) -> 55 | O7: =IF($K$2='Complete Statement (Sess. Marks'!$O$2,'Complete Statement (Sess. Marks'!S7,IF($K$2='Complete Statement (Sess. Marks'!$AA$2,'Complete Statement (Sess. Marks'!AE7,IF($K$2='Complete Statement (Sess. Marks'!$AM$2,'Complete Statement (Sess. Marks'!AQ7,IF($K$2='Complete Statement (Sess. Marks'!$AY$2,'Complete Statement (Sess. Marks'!BC7,IF($K$2='Complete Statement (Sess. Marks'!$BK$2,'Complete Statement (Sess. Marks'!BO7,IF($K$2='Complete Statement (Sess. Marks'!$BW$2,'Complete Statement (Sess. Marks'!CA7,IF($K$2='Complete Statement (Sess. Marks'!$CI$2,'Complete Statement (Sess. Marks'!CM7,""))))))) -> 75 | P7: =IF($K$2='Complete Statement (Sess. Marks'!$O$2,'Complete Statement (Sess. Marks'!T7,IF($K$2='Complete Statement (Sess. Marks'!$AA$2,'Complete Statement (Sess. Marks'!AF7,IF($K$2='Complete Statement (Sess. Marks'!$AM$2,'Complete Statement (Sess. Marks'!AR7,IF($K$2='Complete Statement (Sess. Marks'!$AY$2,'Complete Statement (Sess. Marks'!BD7,IF($K$2='Complete Statement (Sess. Marks'!$BK$2,'Complete Statement (Sess. Marks'!BP7,IF($K$2='Complete Statement (Sess. Marks'!$BW$2,'Complete Statement (Sess. Marks'!CB7,IF($K$2='Complete Statement (Sess. Marks'!$CI$2,'Complete Statement (Sess. Marks'!CN7,""))))))) -> 8 | Q7: =IF($K$2='Complete Statement (Sess. Marks'!$O$2,'Complete Statement (Sess. Marks'!U7,IF($K$2='Complete Statement (Sess. Marks'!$AA$2,'Complete Statement (Sess. Marks'!AG7,IF($K$2='Complete Statement (Sess. Marks'!$AM$2,'Complete Statement (Sess. Marks'!AS7,IF($K$2='Complete Statement (Sess. Marks'!$AY$2,'Complete Statement (Sess. Marks'!BE7,IF($K$2='Complete Statement (Sess. Marks'!$BK$2,'Complete Statement (Sess. Marks'!BQ7,IF($K$2='Complete Statement (Sess. Marks'!$BW$2,'Complete Statement (Sess. Marks'!CC7,IF($K$2='Complete Statement (Sess. Marks'!$CI$2,'Complete Statement (Sess. Marks'!CO7,""))))))) -> 5 | R7: =IF($K$2='Complete Statement (Sess. Marks'!$O$2,'Complete Statement (Sess. Marks'!V7,IF($K$2='Complete Statement (Sess. Marks'!$AA$2,'Complete Statement (Sess. Marks'!AH7,IF($K$2='Complete Statement (Sess. Marks'!$AM$2,'Complete Statement (Sess. Marks'!AT7,IF($K$2='Complete Statement (Sess. Marks'!$AY$2,'Complete Statement (Sess. Marks'!BF7,IF($K$2='Complete Statement (Sess. Marks'!$BK$2,'Complete Statement (Sess. Marks'!BR7,IF($K$2='Complete Statement (Sess. Marks'!$BW$2,'Complete Statement (Sess. Marks'!CD7,IF($K$2='Complete Statement (Sess. Marks'!$CI$2,'Complete Statement (Sess. Marks'!CP7,""))))))) -> 3 | ... V7: =IF($K$2='Complete Statement (Sess. Marks'!$O$2,'Complete Statement (Sess. Marks'!Z7,IF($K$2='Complete Statement (Sess. Marks'!$AA$2,'Complete Statement (Sess. Marks'!AL7,IF($K$2='Complete Statement (Sess. Marks'!$AM$2,'Complete Statement (Sess. Marks'!AX7,IF($K$2='Complete Statement (Sess. Marks'!$AY$2,'Complete Statement (Sess. Marks'!BJ7,IF($K$2='Complete Statement (Sess. Marks'!$BK$2,'Complete Statement (Sess. Marks'!BV7,IF($K$2='Complete Statement (Sess. Marks'!$BW$2,'Complete Statement (Sess. Marks'!CH7,IF($K$2='Complete Statement (Sess. Marks'!$CI$2,'Complete Statement (Sess. Marks'!CT7,""))))))) -> 17 | X7: ='Complete Statement (Sess. Marks'!DE7 -> 17 | Y7: ='Complete Statement (Sess. Marks'!DI7 -> 18 | Z7: ='Complete Statement (Sess. Marks'!DM7 -> 13 | AA7: ='Complete Statement (Sess. Marks'!DQ7 -> 7 | AB7: ='Complete Statement (Sess. Marks'!DU7 -> 7 | AC7: ='Complete Statement (Sess. Marks'!DY7 -> 13 | AD7: ='Complete Statement (Sess. Marks'!EC7 | AE7: ='Complete Statement (Sess. Marks'!ED7 -> 80 | AF7: ='Complete Statement (Sess. Marks'!EE7 -> A | AG7: ='Complete Statement (Sess. Marks'!EF7 -> 75 | AH7: ='Complete Statement (Sess. Marks'!EG7 -> B
B8: =IF(F8>0,B7+1,0) -> 0 | C8: ='Marks Entry'!D10 -> 12 | D8: ='Marks Entry'!E10 -> 1841 | E8: ='Marks Entry'!F10 | F8: ='Marks Entry'!G10 -> 0 | G8: ='Marks Entry'!H10 -> ANITA | H8: ='Marks Entry'!I10 -> HEMA RAM | I8: ='Marks Entry'!J10 -> JAITI | J8: ='Marks Entry'!K10 -> 41279 | K8: =IF($K$2='Complete Statement (Sess. Marks'!$O$2,'Complete Statement (Sess. Marks'!O8,IF($K$2='Complete Statement (Sess. Marks'!$AA$2,'Complete Statement (Sess. Marks'!AA8,IF($K$2='Complete Statement (Sess. Marks'!$AM$2,'Complete Statement (Sess. Marks'!AM8,IF($K$2='Complete Statement (Sess. Marks'!$AY$2,'Complete Statement (Sess. Marks'!AY8,IF($K$2='Complete Statement (Sess. Marks'!$BK$2,'Complete Statement (Sess. Marks'!BK8,IF($K$2='Complete Statement (Sess. Marks'!$BW$2,'Complete Statement (Sess. Marks'!BW8,IF($K$2='Complete Statement (Sess. Marks'!$CI$2,'Complete Statement (Sess. Marks'!CI8,""))))))) -> 0 | L8: =IF($K$2='Complete Statement (Sess. Marks'!$O$2,'Complete Statement (Sess. Marks'!P8,IF($K$2='Complete Statement (Sess. Marks'!$AA$2,'Complete Statement (Sess. Marks'!AB8,IF($K$2='Complete Statement (Sess. Marks'!$AM$2,'Complete Statement (Sess. Marks'!AN8,IF($K$2='Complete Statement (Sess. Marks'!$AY$2,'Complete Statement (Sess. Marks'!AZ8,IF($K$2='Complete Statement (Sess. Marks'!$BK$2,'Complete Statement (Sess. Marks'!BL8,IF($K$2='Complete Statement (Sess. Marks'!$BW$2,'Complete Statement (Sess. Marks'!BX8,IF($K$2='Complete Statement (Sess. Marks'!$CI$2,'Complete Statement (Sess. Marks'!CJ8,""))))))) -> 0 | M8: =IF($K$2='Complete Statement (Sess. Marks'!$O$2,'Complete Statement (Sess. Marks'!Q8,IF($K$2='Complete Statement (Sess. Marks'!$AA$2,'Complete Statement (Sess. Marks'!AC8,IF($K$2='Complete Statement (Sess. Marks'!$AM$2,'Complete Statement (Sess. Marks'!AO8,IF($K$2='Complete Statement (Sess. Marks'!$AY$2,'Complete Statement (Sess. Marks'!BA8,IF($K$2='Complete Statement (Sess. Marks'!$BK$2,'Complete Statement (Sess. Marks'!BM8,IF($K$2='Complete Statement (Sess. Marks'!$BW$2,'Complete Statement (Sess. Marks'!BY8,IF($K$2='Complete Statement (Sess. Marks'!$CI$2,'Complete Statement (Sess. Marks'!CK8,""))))))) -> 0 | N8: =IF($K$2='Complete Statement (Sess. Marks'!$O$2,'Complete Statement (Sess. Marks'!R8,IF($K$2='Complete Statement (Sess. Marks'!$AA$2,'Complete Statement (Sess. Marks'!AD8,IF($K$2='Complete Statement (Sess. Marks'!$AM$2,'Complete Statement (Sess. Marks'!AP8,IF($K$2='Complete Statement (Sess. Marks'!$AY$2,'Complete Statement (Sess. Marks'!BB8,IF($K$2='Complete Statement (Sess. Marks'!$BK$2,'Complete Statement (Sess. Marks'!BN8,IF($K$2='Complete Statement (Sess. Marks'!$BW$2,'Complete Statement (Sess. Marks'!BZ8,IF($K$2='Complete Statement (Sess. Marks'!$CI$2,'Complete Statement (Sess. Marks'!CL8,""))))))) -> 0 | O8: =IF($K$2='Complete Statement (Sess. Marks'!$O$2,'Complete Statement (Sess. Marks'!S8,IF($K$2='Complete Statement (Sess. Marks'!$AA$2,'Complete Statement (Sess. Marks'!AE8,IF($K$2='Complete Statement (Sess. Marks'!$AM$2,'Complete Statement (Sess. Marks'!AQ8,IF($K$2='Complete Statement (Sess. Marks'!$AY$2,'Complete Statement (Sess. Marks'!BC8,IF($K$2='Complete Statement (Sess. Marks'!$BK$2,'Complete Statement (Sess. Marks'!BO8,IF($K$2='Complete Statement (Sess. Marks'!$BW$2,'Complete Statement (Sess. Marks'!CA8,IF($K$2='Complete Statement (Sess. Marks'!$CI$2,'Complete Statement (Sess. Marks'!CM8,""))))))) -> 0 | P8: =IF($K$2='Complete Statement (Sess. Marks'!$O$2,'Complete Statement (Sess. Marks'!T8,IF($K$2='Complete Statement (Sess. Marks'!$AA$2,'Complete Statement (Sess. Marks'!AF8,IF($K$2='Complete Statement (Sess. Marks'!$AM$2,'Complete Statement (Sess. Marks'!AR8,IF($K$2='Complete Statement (Sess. Marks'!$AY$2,'Complete Statement (Sess. Marks'!BD8,IF($K$2='Complete Statement (Sess. Marks'!$BK$2,'Complete Statement (Sess. Marks'!BP8,IF($K$2='Complete Statement (Sess. Marks'!$BW$2,'Complete Statement (Sess. Marks'!CB8,IF($K$2='Complete Statement (Sess. Marks'!$CI$2,'Complete Statement (Sess. Marks'!CN8,""))))))) -> 0 | Q8: =IF($K$2='Complete Statement (Sess. Marks'!$O$2,'Complete Statement (Sess. Marks'!U8,IF($K$2='Complete Statement (Sess. Marks'!$AA$2,'Complete Statement (Sess. Marks'!AG8,IF($K$2='Complete Statement (Sess. Marks'!$AM$2,'Complete Statement (Sess. Marks'!AS8,IF($K$2='Complete Statement (Sess. Marks'!$AY$2,'Complete Statement (Sess. Marks'!BE8,IF($K$2='Complete Statement (Sess. Marks'!$BK$2,'Complete Statement (Sess. Marks'!BQ8,IF($K$2='Complete Statement (Sess. Marks'!$BW$2,'Complete Statement (Sess. Marks'!CC8,IF($K$2='Complete Statement (Sess. Marks'!$CI$2,'Complete Statement (Sess. Marks'!CO8,""))))))) -> 0 | R8: =IF($K$2='Complete Statement (Sess. Marks'!$O$2,'Complete Statement (Sess. Marks'!V8,IF($K$2='Complete Statement (Sess. Marks'!$AA$2,'Complete Statement (Sess. Marks'!AH8,IF($K$2='Complete Statement (Sess. Marks'!$AM$2,'Complete Statement (Sess. Marks'!AT8,IF($K$2='Complete Statement (Sess. Marks'!$AY$2,'Complete Statement (Sess. Marks'!BF8,IF($K$2='Complete Statement (Sess. Marks'!$BK$2,'Complete Statement (Sess. Marks'!BR8,IF($K$2='Complete Statement (Sess. Marks'!$BW$2,'Complete Statement (Sess. Marks'!CD8,IF($K$2='Complete Statement (Sess. Marks'!$CI$2,'Complete Statement (Sess. Marks'!CP8,""))))))) -> 0 | ... V8: =IF($K$2='Complete Statement (Sess. Marks'!$O$2,'Complete Statement (Sess. Marks'!Z8,IF($K$2='Complete Statement (Sess. Marks'!$AA$2,'Complete Statement (Sess. Marks'!AL8,IF($K$2='Complete Statement (Sess. Marks'!$AM$2,'Complete Statement (Sess. Marks'!AX8,IF($K$2='Complete Statement (Sess. Marks'!$AY$2,'Complete Statement (Sess. Marks'!BJ8,IF($K$2='Complete Statement (Sess. Marks'!$BK$2,'Complete Statement (Sess. Marks'!BV8,IF($K$2='Complete Statement (Sess. Marks'!$BW$2,'Complete Statement (Sess. Marks'!CH8,IF($K$2='Complete Statement (Sess. Marks'!$CI$2,'Complete Statement (Sess. Marks'!CT8,""))))))) -> 0 | X8: ='Complete Statement (Sess. Marks'!DE8 -> 0 | Y8: ='Complete Statement (Sess. Marks'!DI8 -> 0 | Z8: ='Complete Statement (Sess. Marks'!DM8 -> 0 | AA8: ='Complete Statement (Sess. Marks'!DQ8 -> 0 | AB8: ='Complete Statement (Sess. Marks'!DU8 -> 0 | AC8: ='Complete Statement (Sess. Marks'!DY8 -> 0 | AD8: ='Complete Statement (Sess. Marks'!EC8 | AE8: ='Complete Statement (Sess. Marks'!ED8 -> 20 | AF8: ='Complete Statement (Sess. Marks'!EE8 -> D | AG8: ='Complete Statement (Sess. Marks'!EF8 -> 10 | AH8: ='Complete Statement (Sess. Marks'!EG8 -> D
B9: =IF(F9>0,B8+1,0) -> 0 | C9: ='Marks Entry'!D11 -> 12 | D9: ='Marks Entry'!E11 -> 1916 | E9: ='Marks Entry'!F11 | F9: ='Marks Entry'!G11 -> 0 | G9: ='Marks Entry'!H11 -> DEVI | H9: ='Marks Entry'!I11 -> DUNGAR RAM | I9: ='Marks Entry'!J11 -> RAJO DEVI | J9: ='Marks Entry'!K11 -> 40127 | K9: =IF($K$2='Complete Statement (Sess. Marks'!$O$2,'Complete Statement (Sess. Marks'!O9,IF($K$2='Complete Statement (Sess. Marks'!$AA$2,'Complete Statement (Sess. Marks'!AA9,IF($K$2='Complete Statement (Sess. Marks'!$AM$2,'Complete Statement (Sess. Marks'!AM9,IF($K$2='Complete Statement (Sess. Marks'!$AY$2,'Complete Statement (Sess. Marks'!AY9,IF($K$2='Complete Statement (Sess. Marks'!$BK$2,'Complete Statement (Sess. Marks'!BK9,IF($K$2='Complete Statement (Sess. Marks'!$BW$2,'Complete Statement (Sess. Marks'!BW9,IF($K$2='Complete Statement (Sess. Marks'!$CI$2,'Complete Statement (Sess. Marks'!CI9,""))))))) -> 0 | L9: =IF($K$2='Complete Statement (Sess. Marks'!$O$2,'Complete Statement (Sess. Marks'!P9,IF($K$2='Complete Statement (Sess. Marks'!$AA$2,'Complete Statement (Sess. Marks'!AB9,IF($K$2='Complete Statement (Sess. Marks'!$AM$2,'Complete Statement (Sess. Marks'!AN9,IF($K$2='Complete Statement (Sess. Marks'!$AY$2,'Complete Statement (Sess. Marks'!AZ9,IF($K$2='Complete Statement (Sess. Marks'!$BK$2,'Complete Statement (Sess. Marks'!BL9,IF($K$2='Complete Statement (Sess. Marks'!$BW$2,'Complete Statement (Sess. Marks'!BX9,IF($K$2='Complete Statement (Sess. Marks'!$CI$2,'Complete Statement (Sess. Marks'!CJ9,""))))))) -> 0 | M9: =IF($K$2='Complete Statement (Sess. Marks'!$O$2,'Complete Statement (Sess. Marks'!Q9,IF($K$2='Complete Statement (Sess. Marks'!$AA$2,'Complete Statement (Sess. Marks'!AC9,IF($K$2='Complete Statement (Sess. Marks'!$AM$2,'Complete Statement (Sess. Marks'!AO9,IF($K$2='Complete Statement (Sess. Marks'!$AY$2,'Complete Statement (Sess. Marks'!BA9,IF($K$2='Complete Statement (Sess. Marks'!$BK$2,'Complete Statement (Sess. Marks'!BM9,IF($K$2='Complete Statement (Sess. Marks'!$BW$2,'Complete Statement (Sess. Marks'!BY9,IF($K$2='Complete Statement (Sess. Marks'!$CI$2,'Complete Statement (Sess. Marks'!CK9,""))))))) -> 0 | N9: =IF($K$2='Complete Statement (Sess. Marks'!$O$2,'Complete Statement (Sess. Marks'!R9,IF($K$2='Complete Statement (Sess. Marks'!$AA$2,'Complete Statement (Sess. Marks'!AD9,IF($K$2='Complete Statement (Sess. Marks'!$AM$2,'Complete Statement (Sess. Marks'!AP9,IF($K$2='Complete Statement (Sess. Marks'!$AY$2,'Complete Statement (Sess. Marks'!BB9,IF($K$2='Complete Statement (Sess. Marks'!$BK$2,'Complete Statement (Sess. Marks'!BN9,IF($K$2='Complete Statement (Sess. Marks'!$BW$2,'Complete Statement (Sess. Marks'!BZ9,IF($K$2='Complete Statement (Sess. Marks'!$CI$2,'Complete Statement (Sess. Marks'!CL9,""))))))) -> 0 | O9: =IF($K$2='Complete Statement (Sess. Marks'!$O$2,'Complete Statement (Sess. Marks'!S9,IF($K$2='Complete Statement (Sess. Marks'!$AA$2,'Complete Statement (Sess. Marks'!AE9,IF($K$2='Complete Statement (Sess. Marks'!$AM$2,'Complete Statement (Sess. Marks'!AQ9,IF($K$2='Complete Statement (Sess. Marks'!$AY$2,'Complete Statement (Sess. Marks'!BC9,IF($K$2='Complete Statement (Sess. Marks'!$BK$2,'Complete Statement (Sess. Marks'!BO9,IF($K$2='Complete Statement (Sess. Marks'!$BW$2,'Complete Statement (Sess. Marks'!CA9,IF($K$2='Complete Statement (Sess. Marks'!$CI$2,'Complete Statement (Sess. Marks'!CM9,""))))))) -> 0 | P9: =IF($K$2='Complete Statement (Sess. Marks'!$O$2,'Complete Statement (Sess. Marks'!T9,IF($K$2='Complete Statement (Sess. Marks'!$AA$2,'Complete Statement (Sess. Marks'!AF9,IF($K$2='Complete Statement (Sess. Marks'!$AM$2,'Complete Statement (Sess. Marks'!AR9,IF($K$2='Complete Statement (Sess. Marks'!$AY$2,'Complete Statement (Sess. Marks'!BD9,IF($K$2='Complete Statement (Sess. Marks'!$BK$2,'Complete Statement (Sess. Marks'!BP9,IF($K$2='Complete Statement (Sess. Marks'!$BW$2,'Complete Statement (Sess. Marks'!CB9,IF($K$2='Complete Statement (Sess. Marks'!$CI$2,'Complete Statement (Sess. Marks'!CN9,""))))))) -> 0 | Q9: =IF($K$2='Complete Statement (Sess. Marks'!$O$2,'Complete Statement (Sess. Marks'!U9,IF($K$2='Complete Statement (Sess. Marks'!$AA$2,'Complete Statement (Sess. Marks'!AG9,IF($K$2='Complete Statement (Sess. Marks'!$AM$2,'Complete Statement (Sess. Marks'!AS9,IF($K$2='Complete Statement (Sess. Marks'!$AY$2,'Complete Statement (Sess. Marks'!BE9,IF($K$2='Complete Statement (Sess. Marks'!$BK$2,'Complete Statement (Sess. Marks'!BQ9,IF($K$2='Complete Statement (Sess. Marks'!$BW$2,'Complete Statement (Sess. Marks'!CC9,IF($K$2='Complete Statement (Sess. Marks'!$CI$2,'Complete Statement (Sess. Marks'!CO9,""))))))) -> 0 | R9: =IF($K$2='Complete Statement (Sess. Marks'!$O$2,'Complete Statement (Sess. Marks'!V9,IF($K$2='Complete Statement (Sess. Marks'!$AA$2,'Complete Statement (Sess. Marks'!AH9,IF($K$2='Complete Statement (Sess. Marks'!$AM$2,'Complete Statement (Sess. Marks'!AT9,IF($K$2='Complete Statement (Sess. Marks'!$AY$2,'Complete Statement (Sess. Marks'!BF9,IF($K$2='Complete Statement (Sess. Marks'!$BK$2,'Complete Statement (Sess. Marks'!BR9,IF($K$2='Complete Statement (Sess. Marks'!$BW$2,'Complete Statement (Sess. Marks'!CD9,IF($K$2='Complete Statement (Sess. Marks'!$CI$2,'Complete Statement (Sess. Marks'!CP9,""))))))) -> 0 | ... V9: =IF($K$2='Complete Statement (Sess. Marks'!$O$2,'Complete Statement (Sess. Marks'!Z9,IF($K$2='Complete Statement (Sess. Marks'!$AA$2,'Complete Statement (Sess. Marks'!AL9,IF($K$2='Complete Statement (Sess. Marks'!$AM$2,'Complete Statement (Sess. Marks'!AX9,IF($K$2='Complete Statement (Sess. Marks'!$AY$2,'Complete Statement (Sess. Marks'!BJ9,IF($K$2='Complete Statement (Sess. Marks'!$BK$2,'Complete Statement (Sess. Marks'!BV9,IF($K$2='Complete Statement (Sess. Marks'!$BW$2,'Complete Statement (Sess. Marks'!CH9,IF($K$2='Complete Statement (Sess. Marks'!$CI$2,'Complete Statement (Sess. Marks'!CT9,""))))))) -> 0 | X9: ='Complete Statement (Sess. Marks'!DE9 -> 0 | Y9: ='Complete Statement (Sess. Marks'!DI9 -> 0 | Z9: ='Complete Statement (Sess. Marks'!DM9 -> 0 | AA9: ='Complete Statement (Sess. Marks'!DQ9 -> 0 | AB9: ='Complete Statement (Sess. Marks'!DU9 -> 0 | AC9: ='Complete Statement (Sess. Marks'!DY9 -> 0 | AD9: ='Complete Statement (Sess. Marks'!EC9 | AE9: ='Complete Statement (Sess. Marks'!ED9 -> 0 | AF9: ='Complete Statement (Sess. Marks'!EE9 -> D | AG9: ='Complete Statement (Sess. Marks'!EF9 -> 0 | AH9: ='Complete Statement (Sess. Marks'!EG9 -> D
B10: =IF(F10>0,B9+1,0) -> 0 | C10: ='Marks Entry'!D12 -> 12 | D10: ='Marks Entry'!E12 -> 1853 | E10: ='Marks Entry'!F12 | F10: ='Marks Entry'!G12 -> 0 | G10: ='Marks Entry'!H12 -> Ganpat Ram | H10: ='Marks Entry'!I12 -> GUMANA RAM | I10: ='Marks Entry'!J12 -> KAMLA | J10: ='Marks Entry'!K12 -> 40660 | K10: =IF($K$2='Complete Statement (Sess. Marks'!$O$2,'Complete Statement (Sess. Marks'!O10,IF($K$2='Complete Statement (Sess. Marks'!$AA$2,'Complete Statement (Sess. Marks'!AA10,IF($K$2='Complete Statement (Sess. Marks'!$AM$2,'Complete Statement (Sess. Marks'!AM10,IF($K$2='Complete Statement (Sess. Marks'!$AY$2,'Complete Statement (Sess. Marks'!AY10,IF($K$2='Complete Statement (Sess. Marks'!$BK$2,'Complete Statement (Sess. Marks'!BK10,IF($K$2='Complete Statement (Sess. Marks'!$BW$2,'Complete Statement (Sess. Marks'!BW10,IF($K$2='Complete Statement (Sess. Marks'!$CI$2,'Complete Statement (Sess. Marks'!CI10,""))))))) -> 0 | L10: =IF($K$2='Complete Statement (Sess. Marks'!$O$2,'Complete Statement (Sess. Marks'!P10,IF($K$2='Complete Statement (Sess. Marks'!$AA$2,'Complete Statement (Sess. Marks'!AB10,IF($K$2='Complete Statement (Sess. Marks'!$AM$2,'Complete Statement (Sess. Marks'!AN10,IF($K$2='Complete Statement (Sess. Marks'!$AY$2,'Complete Statement (Sess. Marks'!AZ10,IF($K$2='Complete Statement (Sess. Marks'!$BK$2,'Complete Statement (Sess. Marks'!BL10,IF($K$2='Complete Statement (Sess. Marks'!$BW$2,'Complete Statement (Sess. Marks'!BX10,IF($K$2='Complete Statement (Sess. Marks'!$CI$2,'Complete Statement (Sess. Marks'!CJ10,""))))))) -> 0 | M10: =IF($K$2='Complete Statement (Sess. Marks'!$O$2,'Complete Statement (Sess. Marks'!Q10,IF($K$2='Complete Statement (Sess. Marks'!$AA$2,'Complete Statement (Sess. Marks'!AC10,IF($K$2='Complete Statement (Sess. Marks'!$AM$2,'Complete Statement (Sess. Marks'!AO10,IF($K$2='Complete Statement (Sess. Marks'!$AY$2,'Complete Statement (Sess. Marks'!BA10,IF($K$2='Complete Statement (Sess. Marks'!$BK$2,'Complete Statement (Sess. Marks'!BM10,IF($K$2='Complete Statement (Sess. Marks'!$BW$2,'Complete Statement (Sess. Marks'!BY10,IF($K$2='Complete Statement (Sess. Marks'!$CI$2,'Complete Statement (Sess. Marks'!CK10,""))))))) -> 0 | N10: =IF($K$2='Complete Statement (Sess. Marks'!$O$2,'Complete Statement (Sess. Marks'!R10,IF($K$2='Complete Statement (Sess. Marks'!$AA$2,'Complete Statement (Sess. Marks'!AD10,IF($K$2='Complete Statement (Sess. Marks'!$AM$2,'Complete Statement (Sess. Marks'!AP10,IF($K$2='Complete Statement (Sess. Marks'!$AY$2,'Complete Statement (Sess. Marks'!BB10,IF($K$2='Complete Statement (Sess. Marks'!$BK$2,'Complete Statement (Sess. Marks'!BN10,IF($K$2='Complete Statement (Sess. Marks'!$BW$2,'Complete Statement (Sess. Marks'!BZ10,IF($K$2='Complete Statement (Sess. Marks'!$CI$2,'Complete Statement (Sess. Marks'!CL10,""))))))) -> 0 | O10: =IF($K$2='Complete Statement (Sess. Marks'!$O$2,'Complete Statement (Sess. Marks'!S10,IF($K$2='Complete Statement (Sess. Marks'!$AA$2,'Complete Statement (Sess. Marks'!AE10,IF($K$2='Complete Statement (Sess. Marks'!$AM$2,'Complete Statement (Sess. Marks'!AQ10,IF($K$2='Complete Statement (Sess. Marks'!$AY$2,'Complete Statement (Sess. Marks'!BC10,IF($K$2='Complete Statement (Sess. Marks'!$BK$2,'Complete Statement (Sess. Marks'!BO10,IF($K$2='Complete Statement (Sess. Marks'!$BW$2,'Complete Statement (Sess. Marks'!CA10,IF($K$2='Complete Statement (Sess. Marks'!$CI$2,'Complete Statement (Sess. Marks'!CM10,""))))))) -> 0 | P10: =IF($K$2='Complete Statement (Sess. Marks'!$O$2,'Complete Statement (Sess. Marks'!T10,IF($K$2='Complete Statement (Sess. Marks'!$AA$2,'Complete Statement (Sess. Marks'!AF10,IF($K$2='Complete Statement (Sess. Marks'!$AM$2,'Complete Statement (Sess. Marks'!AR10,IF($K$2='Complete Statement (Sess. Marks'!$AY$2,'Complete Statement (Sess. Marks'!BD10,IF($K$2='Complete Statement (Sess. Marks'!$BK$2,'Complete Statement (Sess. Marks'!BP10,IF($K$2='Complete Statement (Sess. Marks'!$BW$2,'Complete Statement (Sess. Marks'!CB10,IF($K$2='Complete Statement (Sess. Marks'!$CI$2,'Complete Statement (Sess. Marks'!CN10,""))))))) -> 0 | Q10: =IF($K$2='Complete Statement (Sess. Marks'!$O$2,'Complete Statement (Sess. Marks'!U10,IF($K$2='Complete Statement (Sess. Marks'!$AA$2,'Complete Statement (Sess. Marks'!AG10,IF($K$2='Complete Statement (Sess. Marks'!$AM$2,'Complete Statement (Sess. Marks'!AS10,IF($K$2='Complete Statement (Sess. Marks'!$AY$2,'Complete Statement (Sess. Marks'!BE10,IF($K$2='Complete Statement (Sess. Marks'!$BK$2,'Complete Statement (Sess. Marks'!BQ10,IF($K$2='Complete Statement (Sess. Marks'!$BW$2,'Complete Statement (Sess. Marks'!CC10,IF($K$2='Complete Statement (Sess. Marks'!$CI$2,'Complete Statement (Sess. Marks'!CO10,""))))))) -> 0 | R10: =IF($K$2='Complete Statement (Sess. Marks'!$O$2,'Complete Statement (Sess. Marks'!V10,IF($K$2='Complete Statement (Sess. Marks'!$AA$2,'Complete Statement (Sess. Marks'!AH10,IF($K$2='Complete Statement (Sess. Marks'!$AM$2,'Complete Statement (Sess. Marks'!AT10,IF($K$2='Complete Statement (Sess. Marks'!$AY$2,'Complete Statement (Sess. Marks'!BF10,IF($K$2='Complete Statement (Sess. Marks'!$BK$2,'Complete Statement (Sess. Marks'!BR10,IF($K$2='Complete Statement (Sess. Marks'!$BW$2,'Complete Statement (Sess. Marks'!CD10,IF($K$2='Complete Statement (Sess. Marks'!$CI$2,'Complete Statement (Sess. Marks'!CP10,""))))))) -> 0 | ... V10: =IF($K$2='Complete Statement (Sess. Marks'!$O$2,'Complete Statement (Sess. Marks'!Z10,IF($K$2='Complete Statement (Sess. Marks'!$AA$2,'Complete Statement (Sess. Marks'!AL10,IF($K$2='Complete Statement (Sess. Marks'!$AM$2,'Complete Statement (Sess. Marks'!AX10,IF($K$2='Complete Statement (Sess. Marks'!$AY$2,'Complete Statement (Sess. Marks'!BJ10,IF($K$2='Complete Statement (Sess. Marks'!$BK$2,'Complete Statement (Sess. Marks'!BV10,IF($K$2='Complete Statement (Sess. Marks'!$BW$2,'Complete Statement (Sess. Marks'!CH10,IF($K$2='Complete Statement (Sess. Marks'!$CI$2,'Complete Statement (Sess. Marks'!CT10,""))))))) -> 0 | X10: ='Complete Statement (Sess. Marks'!DE10 -> 0 | Y10: ='Complete Statement (Sess. Marks'!DI10 -> 0 | Z10: ='Complete Statement (Sess. Marks'!DM10 -> 0 | AA10: ='Complete Statement (Sess. Marks'!DQ10 -> 0 | AB10: ='Complete Statement (Sess. Marks'!DU10 -> 0 | AC10: ='Complete Statement (Sess. Marks'!DY10 -> 0 | AD10: ='Complete Statement (Sess. Marks'!EC10 | AE10: ='Complete Statement (Sess. Marks'!ED10 -> 0 | AF10: ='Complete Statement (Sess. Marks'!EE10 -> D | AG10: ='Complete Statement (Sess. Marks'!EF10 -> 0 | AH10: ='Complete Statement (Sess. Marks'!EG10 -> D
