Workbook
Name cities: '[1]hra-calculator'!$P$5:$P$9
Name ram: 'Copy of GA55 Check & Edit'!$AX$12:$BJ$32
Name und: 'Copy of GA55 Check & Edit'!$AQ$5:$AQ$6
Name Month1: 'GA55 Check & Edit'!$AS$8:$AS$19
Name gp: 'GA55 Check & Edit'!$AN$5:$AN$6
Name gp: 'Copy of GA55 Check & Edit'!$AN$5:$AN$6
Name pay_level: 'Copy of GA55 Check & Edit'!$AU$8:$AU$31
Name CCA: 'GA55 Check & Edit'!$AR$8:$AR$12
Name level: 'GA55 Check & Edit'!$AU$8:$AU$28
Name Month: 'Copy of GA55 Check & Edit'!$AT$8:$AT$19
Name level: 'Copy of GA55 Check & Edit'!$AU$8:$AU$28
Name ye: 'Copy of GA55 Check & Edit'!$AO$5:$AO$6
Name Month: 'GA55 Check & Edit'!$AT$8:$AT$19
Name pay: 'GA55 Check & Edit'!$AP$5:$AP$6
Name ram: 'GA55 Check & Edit'!$AX$12:$BJ$32
Name ye: 'GA55 Check & Edit'!$AO$5:$AO$6
Name und: 'GA55 Check & Edit'!$AQ$5:$AQ$6
Name pay_level: 'GA55 Check & Edit'!$AU$8:$AU$31
Name pay: 'Copy of GA55 Check & Edit'!$AP$5:$AP$6
Name CCA: 'Copy of GA55 Check & Edit'!$AR$8:$AR$12
Name Month1: 'Copy of GA55 Check & Edit'!$AS$8:$AS$19

Sheet Instructions
C1: Instructions
B3: ;g ,Dly izksxzke esjs ije~ iwT; xq:nso Jh Jh 1008 oklqnso th egkjkt o esjs bZ"V izHkq t; ctjaxcyh o ikcwth egkjkt dks lefiZr gSaA esjs ekrk & firk o xq:tuksa ds vk'khokZn ls ;g izksxzke f'k{kd cU/kqvksa ds lkFk lHkh foHkkx ds dkfeZdksa dh lsok esa lknj izLrqr gSaA
C4: How to use this Programme
C5: If you have Hindi font problem, then first you should install Google input Unicode font / Krutidev 010 in your computer.
C6: lcls igys vki jktLFkku ds lHkh 'kSf{kd osclkbZV ij ,Dly xq: ghjkyky tkV }kjk fufeZr vk;dj x.kuk ,Dly ,Iyhds'ku 2025&26 ds viMsV otZu+ dks MkmuyksM djsasaA blds vykok vki Google ij Heeralal Jat fy[kdj lpZ djsaxs rks Hkh vkidks ist fey tk;sxkA tgka ls vki ;g izksxzke MkmuyksM dj ldrs gSaA mlds ckn ftrusa dkfeZdksa dh vk;dj x.kuk djuh gS] mruh gh ,Dly izksxzke 'khV dks muds uke ls vyx vyx Qkby esa Save dj ysosaA izR;sad dkfeZd ds fy, ds fy, ,d QkbZy dks mi;ksx esa ysosaA
B7: ije~ iwT; xq:nso oklqnso th egkjkt | C7: vki bl ,Dly izksxzke ij dk;Z djus ls igys bUde VSDl foHkkx ds u;s :Yl o fu;e bUde VSDl foHkkx dh New website vFkok ys[kk foK vDVqcj 2024 dkss t:j i<+sA oSls bl ,Dly izksxzke esa iq.kZ lko/kkuh cjrh xbZ gSa] fQj Hkh foHkkx ds fu;e gh loksZijh o fljks/kk;Z gSaA | D7: t; xq:nso
B8: Most Doable Work
B9: vki bl ,Dly izksxzke esa nksa 'khVksa ekLVj MkVk 'khV o ,DLV~zk fMMsD'ku 'khV dks lko/kkuhiwoZd vuykWd lsy tks lQsn dyj esa gSa] dks Hkjuk ¼MkVk fQfyax½ gSaA vkxs dh 'khVs vkWVksa tujsV gSaA os lHkh ykWd gSaA ogk ij vkidks dqN ugh djuk gSaA flQZ A4 lkbZt esa fizUV fudkyuk gSa vkSj ist Hkh lsV fd;k gqvk gSaA
B11: NOTE :- | D11: New Update you tube video link For your Help
B13: ;g ,Dly izksaxzke lHkh dkfeZdksa ds fy, leku :i ls rS;kj fd;k x;k gSA ladyu ,oa x.kuk esa iw.kZ lko/kkuh j[kh xbZ gSA fQj Hkh =qfV ;k fdlh Hkh izdkj dh fofHkUurk dh fLFkfr esa vk;dj foHkkx ds fu;e gh ekU; gSA rS;kjdrkZ dk dksbZ mÙkjnkf;Ro ugha gksxkA | D13: https://youtu.be/Y77okwT3eaw
B15: This Programme Developed by: HEERALAL JAT
B16: Senior Teacher
B17: Mahatma Gandhi Government School (English Medium) BAR , Beawar
B18: heeralaljatchandawal@gmail.com
B19: V./P. - Chandawal Nagar, Teh.- sojat city, Dist.- Pali (Raj) 306306
D20: New Updates Sheet on
C21: Watch the You Tube Video For More Information. | D21: 45966
C24: https://www.youtube.com/playlist?list=PLmNJTudmvkgL-ZI7qFKfQ6oz6WTNnW31z
C26: You Tube Channel
C28: https://www.youtube.com/c/Heeralaljat

Sheet GA55 Check & Edit
T1: GA 55 Check & Edit sheet पर कार्य करने में मदद हेतु नीचे Youtube Video का लिंक दिया गया है। H | AW1: Gazetted | AZ1: =IF('Master Data'!I35>9,ROUND(AZ3/31*15,0),IF('Master Data'!D18='GA55 Check & Edit'!AW1,ROUND(AZ3/31*15,0),IF('Master Data'!I35>=5,ROUND(AZ3/31*22,0),AZ3))) -> 36900
D3: Employee Name :- | F3: =IF('Master Data'!D6="","",CONCATENATE('Master Data'!D6," , ",'Master Data'!H6)) -> MANJU Kumari , Teacher | S3: https://www.youtube.com/watch?v=y7-DiFIbdG0 | AZ3: =AZ15-ROUNDUP(ROUND((AZ15*3%)-(AZ15*3%)*2.9%,-2),0) -> 36900
C5: 1 | D5: 2 | E5: 3 | F5: 4 | G5: 5 | H5: 6 | I5: 7 | J5: 8 | K5: 9 | L5: 10 | M5: 11 | N5: 12 | O5: 13 | P5: 14 | Q5: 15 | R5: 16 | S5: 17 | T5: 18 | U5: 19 | V5: 20 | W5: 21 | X5: 22 | Y5: 23 | Z5: 24 | AA5: 25 | AB5: 26 | AC5: 27 | AD5: 28 | AE5: 29 | AM5: ='Master Data'!N27 -> 46054 | AN5: GPF | AO5: Yes | AP5: Regular Pay | AQ5: Under 60 | AS5: 1000
C6: S.N. | D6: Month | E6: Basic with Grade Pay | F6: DA | G6: HRA | H6: =IF('Master Data'!B43="","",'Master Data'!B43) -> Wash All. | I6: Handi. All. | J6: CCA | K6: =IF('Master Data'!C43="","",'Master Data'!C43) -> ROP | L6: =IF('Master Data'!D43="","",'Master Data'!D43) -> other-1 | M6: =IF('Master Data'!E43="","",'Master Data'!E43) -> other-2 | N6: Bonus | O6: TOTAL | P6: =IF('Master Data'!G43="","",'Master Data'!G43) | Q6: =IF('Master Data'!I31='GA55 Check & Edit'!AN5,'GA55 Check & Edit'!AN5,'GA55 Check & Edit'!AN6) -> GPF-2004 | R6: =IF('Master Data'!I43="","",'Master Data'!I43) | S6: =IF('Master Data'!J43="","",'Master Data'!J43) -> RGHS | T6: =IF('Master Data'!K43="","",'Master Data'!K43) -> SI Loan | U6: =IF('Master Data'!L43="","",'Master Data'!L43) -> GPF Loan | V6: =IF('Master Data'!M43="","",'Master Data'!M43) -> SI Int. | W6: =IF('Master Data'!N43="","",'Master Data'!N43) -> Other | X6: HITKARI NIDHI | Y6: Other | Z6: Income Tax | AA6: G.I. + S. Tax | AB6: Total Ded. | AC6: NET PAY | AD6: TV.NO. | AE6: Enc. DATE | AN6: GPF-2004 | AO6: No | AP6: Fix Pay | AQ6: Above 60 | AS6: 620 | BJ6: =IFERROR(IF(AND('Master Data'!$I$31='GA55 Check & Edit'!$AN$6),ROUND((E8)*0.1,0),IF(AND('Master Data'!$I$29='GA55 Check & Edit'!$AP$6),ROUND((E8+F8)*0.1,0),'Master Data'!$H$44)),"") -> 4790
AQ7: Above 80 | BD7: =IF(D6="State Service",ROUND(B10*15/31,0),IF(AND(D6="Subordinate",OR(B6=G5,B6=G6,B6=G7,B6=G8,B6=G9)),ROUND(B10*22/31,0),IF(AND(D6="Subordinate",OR(B6=G10,B6=G11,B6=G12,B6=G13,B6=G14,B6=G15)),ROUND(B10*15/31,0),IF(D6="Ministerial",ROUND(B10*22/31,0),B10)))) -> 3 | BI7: =IF(OR('Master Data'!$I$29='GA55 Check & Edit'!$AP$6),"",IF('Master Data'!$I$31="GPF-2004",IF(D10<23101,1450,IF(D10<28501,1625,IF(D10<38501,2100,IF(D10<51501,2850,IF(D10<62001,3575,IF(D10<72001,4200,IF(D10<80001,4800,IF(D10<116001,6150,IF(D10<167001,8900,10500)))))))))*2,'Master Data'!$H$44)) -> 5700
A8: =MOD(B8,2) -> 1 | B8: =IF(LEN(D8)>=3,1,0) -> 1 | C8: =IF(B8=0,"",B8) -> 1 | D8: =IFERROR(IF(BO12="","",BO12),"") -> 45717 | E8: 47900 | F8: =IFERROR(IF(D8="","",IF(D8=$AX$24,"",IF(AND(D8=$AX$28),"",IF(AND('Master Data'!$I$29='GA55 Check & Edit'!$AP$5),VLOOKUP(D8,ram,7,0),"")))),"") -> 20140 | G8: =IFERROR(IF(D8="","",IF(D8=$AX$24,"",IF(AND(D8=$AX$25),"",IF(AND(D8=$AX$26),"",IF(AND(D8=$AX$27),"",IF(AND(D8=$AX$28),"",IF(AND(D8=$AX$29),"",IF(AND('Master Data'!$I$29='GA55 Check & Edit'!$AP$6),"",VLOOKUP(D8,ram,8,0))))))))),"") -> 3800 | H8: =IFERROR(IF(D8="","",IF(AND(E8=""),"",IF(OR(D8=$AX$24,D8=$AX$25,D8=$AX$26,D8=$AX$27,D8=$AX$28,D8=$AX$29),"",IF(AND('Master Data'!$I$29='GA55 Check & Edit'!$AP$5),'Master Data'!$B$44,"")))),"") | I8: =IFERROR(IF(D8="","",IF(AND(E8=""),"",IF(OR(D8=$AX$24,D8=$AX$25,D8=$AX$26,D8=$AX$27,D8=$AX$28,D8=$AX$29),"",IF(AND('Master Data'!$I$29='GA55 Check & Edit'!$AP$5,'Master Data'!$E$29='GA55 Check & Edit'!$AO$5),'Master Data'!$E$31,"0")))),"") -> 0 | J8: =IFERROR(IF(OR('Master Data'!$E$33=$AO$6,'Master Data'!$E$33=""),"",IF(D8="","",IF(AND(E8=""),"",IF(OR(D8=$AX$24,D8=$AX$25,D8=$AX$26,D8=$AX$27,D8=$AX$28,D8=$AX$29),"",IF(AND('Master Data'!$I$29='GA55 Check & Edit'!$AP$6),"",IF(AND('Master Data'!$I$33=$AR$9),$AS$6,IF(AND('Master Data'!$I$33=$AR$10),$AS$6,IF(AND('Master Data'!$I$33=$AR$11),$AS$6,IF(AND('Master Data'!$I$33=$AR$12),$AS$6,$AS$5))))))))),"") | K8: =IFERROR(IF(D8="","",IF(AND(E8=""),"",IF(OR(D8=$AX$24,D8=$AX$25,D8=$AX$26,D8=$AX$27,D8=$AX$28,D8=$AX$29),"",IF(AND('Master Data'!$I$29='GA55 Check & Edit'!$AP$5),'Master Data'!$C$44,"")))),"") | L8: =IFERROR(IF(D8="","",IF(AND(E8=""),"",IF(OR(D8=$AX$24,D8=$AX$25,D8=$AX$26,D8=$AX$27,D8=$AX$28,D8=$AX$29),"",IF(AND('Master Data'!$I$29='GA55 Check & Edit'!$AP$6),"",'Master Data'!$D$44)))),"") | M8: =IFERROR(IF(D8="","",IF(AND(E8=""),"",IF(OR(D8=$AX$24,D8=$AX$25,D8=$AX$26,D8=$AX$27,D8=$AX$28,D8=$AX$29),"",IF(AND('Master Data'!$I$29='GA55 Check & Edit'!$AP$6),"",'Master Data'!$E$44)))),"") | N8: =IFERROR(IF(D8="","",IF(AND('Master Data'!$I$29='GA55 Check & Edit'!$AP$6),"",IF(AND('Master Data'!$I$25='GA55 Check & Edit'!$AO$6),"0",IF(AND(D8="Bonus"),VLOOKUP(D8,ram,4,0),"")))),"") -> 0 | O8: =IF(D8="","",IF('Master Data'!$N$25="","",SUM(E8:N8))) -> 71840 | P8: =IFERROR(IF(OR('Master Data'!$I$29='GA55 Check & Edit'!$AP$6,D8=""),"",IF(AND(D8=$AX$24),"",IF(AND(D8=$AX$25),"",IF(AND(D8=$AX$26),"",IF(AND(D8=$AX$27),"",IF(AND(D8=$AX$28),"",IF(AND(D8=$AX$29),"",IF(AND(E8=""),"",VLOOKUP(D8,ram,11,0))))))))),"") | Q8: =IFERROR(IF(AND('Master Data'!$I$29='GA55 Check & Edit'!$AP$6),"",IF(AND(D8=$AX$25),"",IF(AND(D8=$AX$28),"",IF(AND(D8=$AX$29),"",IF(AND(D8=""),"",IF(AND(BB12=""),"",VLOOKUP(D8,ram,12,0))))))),"") -> 2100 | R8: =IFERROR(IF(OR('Master Data'!$I$29='GA55 Check & Edit'!$AP$6,D8=""),"",IF(AND(D8=$AX$24),"",IF(AND(D8=$AX$25),"",IF(AND(D8=$AX$26),"",IF(AND(D8=$AX$27),"",IF(AND(D8=$AX$28),"",IF(AND(D8=$AX$29),"",IF(AND(E8=""),"",'Master Data'!$I$44)))))))),"") | S8: =IFERROR(IF(OR('Master Data'!$I$29='GA55 Check & Edit'!$AP$6),"",IF(D8="","",IF(E8="","",IF(AND(D8=$AX$24),"",IF(AND(D8=$AX$25),"",IF(AND(D8=$AX$26),"",IF(AND(D8=$AX$27),"",IF(AND(D8=$AX$28),"",IF(AND(D8=$AX$29),"",VLOOKUP(D8,ram,10,0)))))))))),"") -> 658 | T8: =IFERROR(IF(OR('Master Data'!$I$29='GA55 Check & Edit'!$AP$6,D8=""),"",IF(AND(D8=$AX$24),"",IF(AND(D8=$AX$25),"",IF(AND(D8=$AX$26),"",IF(AND(D8=$AX$27),"",IF(AND(D8=$AX$28),"",IF(AND(D8=$AX$29),"",IF(AND(E8=""),"",'Master Data'!$K$44)))))))),"") -> 3000 | V8: =IFERROR(IF(OR('Master Data'!$I$29='GA55 Check & Edit'!$AP$6,D8=""),"",IF(AND(D8=$AX$24),"",IF(AND(D8=$AX$25),"",IF(AND(D8=$AX$26),"",IF(AND(D8=$AX$27),"",IF(AND(D8=$AX$28),"",IF(AND(D8=$AX$29),"",IF(AND(E8=""),"",'Master Data'!$M$44)))))))),"") | W8: =IFERROR(IF(OR('Master Data'!$I$29='GA55 Check & Edit'!$AP$6,D8=""),"",IF(AND(D8=$AX$24),"",IF(AND(D8=$AX$25),"",IF(AND(D8=$AX$26),"",IF(AND(D8=$AX$27),"",IF(AND(D8=$AX$28),"",IF(AND(D8=$AX$29),"",IF(AND(E8=""),"",'Master Data'!$N$44)))))))),"") | X8: =IFERROR(IF(OR('Master Data'!$I$29='GA55 Check & Edit'!$AP$6,D8=""),"",IF(AND(E8=""),"",IF(AND('GA55 Check & Edit'!D8='GA55 Check & Edit'!$AT$17,'Master Data'!$D$18="Gazetted"),500,IF(AND('GA55 Check & Edit'!D8='GA55 Check & Edit'!$AT$17,'Master Data'!$D$18="Non-Gazetted"),250,"")))),"") | Y8: =IFERROR(IF(D8="","",IF(AND(E8=""),"",IF(AND(D8=$AX$24),"",IF(AND(D8=$AX$25),"",IF(AND(D8=$AX$26),"",IF(AND(D8=$AX$27),"",IF(AND(D8=$AX$28),"",IF(AND(D8=$AX$29),"",IF(OR('Master Data'!$I$29='GA55 Check & Edit'!$AP$6,D8=""),"",$Y$7))))))))),"") | Z8: =IFERROR(IF(OR('Master Data'!$I$29='GA55 Check & Edit'!$AP$6),"",IF(D8="","",IF(E8="","",VLOOKUP(D8,ram,9,0)))),"") | AA8: =IFERROR(IF(OR('Master Data'!$I$29='GA55 Check & Edit'!$AP$6,D8="",'Master Data'!$N$35=""),"",IF(AND(E8=""),"",IF('GA55 Check & Edit'!D8='GA55 Check & Edit'!$AT$9,'Master Data'!$N$35,""))),"") | AB8: =IFERROR(IF(D8="","",IF(AND(O8=""),"",SUM(P8:AA8))),"0") -> 5758 | AC8: =IFERROR(IF(AND(E8="",O8="",AB8=""),"",SUM(O8-AB8)),"") -> 66082 | AR8: Jaipur (U.A.) | AS8: JAN | AT8: 45717 | AU8: L-1 | AX8: 45717
A9: =MOD(B9,2) -> 0 | B9: =IF(LEN(D9)>=3,B8+1,0) -> 2 | C9: =IF(B9=0,"",B9) -> 2 | D9: =IFERROR(IF(BO13="","",BO13),"") -> 45748 | E9: =IFERROR(IF(D9="","",IF(AND(BQ13=""),"",IF(AND('Master Data'!$I$28='GA55 Check & Edit'!$AP$6),VLOOKUP(D9,ram,13,0),VLOOKUP(D9,ram,4,0)))),"")47900 -> #ERROR! | F9: =IFERROR(IF(D9="","",IF(D9=$AX$24,"",IF(AND(D9=$AX$28),"",IF(AND('Master Data'!$I$29='GA55 Check & Edit'!$AP$5),VLOOKUP(D9,ram,7,0),"")))),"") -> 20900 | G9: =IFERROR(IF(D9="","",IF(D9=$AX$24,"",IF(AND(D9=$AX$25),"",IF(AND(D9=$AX$26),"",IF(AND(D9=$AX$27),"",IF(AND(D9=$AX$28),"",IF(AND(D9=$AX$29),"",IF(AND('Master Data'!$I$29='GA55 Check & Edit'!$AP$6),"",VLOOKUP(D9,ram,8,0))))))))),"") -> 3800 | H9: =IFERROR(IF(D9="","",IF(AND(E9=""),"",IF(OR(D9=$AX$24,D9=$AX$25,D9=$AX$26,D9=$AX$27,D9=$AX$28,D9=$AX$29),"",IF(AND('Master Data'!$I$29='GA55 Check & Edit'!$AP$5),'Master Data'!$B$44,"")))),"") | I9: =IFERROR(IF(D9="","",IF(AND(E9=""),"",IF(OR(D9=$AX$24,D9=$AX$25,D9=$AX$26,D9=$AX$27,D9=$AX$28,D9=$AX$29),"",IF(AND('Master Data'!$I$29='GA55 Check & Edit'!$AP$5,'Master Data'!$E$29='GA55 Check & Edit'!$AO$5),'Master Data'!$E$31,"0")))),"") | J9: =IFERROR(IF(OR('Master Data'!$E$33=$AO$6,'Master Data'!$E$33=""),"",IF(D9="","",IF(AND(E9=""),"",IF(OR(D9=$AX$24,D9=$AX$25,D9=$AX$26,D9=$AX$27,D9=$AX$28,D9=$AX$29),"",IF(AND('Master Data'!$I$29='GA55 Check & Edit'!$AP$6),"",IF(AND('Master Data'!$I$33=$AR$9),$AS$6,IF(AND('Master Data'!$I$33=$AR$10),$AS$6,IF(AND('Master Data'!$I$33=$AR$11),$AS$6,IF(AND('Master Data'!$I$33=$AR$12),$AS$6,$AS$5))))))))),"") | K9: =IFERROR(IF(D9="","",IF(AND(E9=""),"",IF(OR(D9=$AX$24,D9=$AX$25,D9=$AX$26,D9=$AX$27,D9=$AX$28,D9=$AX$29),"",IF(AND('Master Data'!$I$29='GA55 Check & Edit'!$AP$5),'Master Data'!$C$44,"")))),"") | L9: =IFERROR(IF(D9="","",IF(AND(E9=""),"",IF(OR(D9=$AX$24,D9=$AX$25,D9=$AX$26,D9=$AX$27,D9=$AX$28,D9=$AX$29),"",IF(AND('Master Data'!$I$29='GA55 Check & Edit'!$AP$6),"",'Master Data'!$D$44)))),"") | M9: =IFERROR(IF(D9="","",IF(AND(E9=""),"",IF(OR(D9=$AX$24,D9=$AX$25,D9=$AX$26,D9=$AX$27,D9=$AX$28,D9=$AX$29),"",IF(AND('Master Data'!$I$29='GA55 Check & Edit'!$AP$6),"",'Master Data'!$E$44)))),"") | N9: =IFERROR(IF(D9="","",IF(AND('Master Data'!$I$29='GA55 Check & Edit'!$AP$6),"",IF(AND('Master Data'!$I$25='GA55 Check & Edit'!$AO$6),"0",IF(AND(D9="Bonus"),VLOOKUP(D9,ram,4,0),"")))),"") -> 0 | O9: =IF(D9="","",IF('Master Data'!$N$25="","",SUM(E9:N9))) -> #ERROR! | P9: =IFERROR(IF(OR('Master Data'!$I$29='GA55 Check & Edit'!$AP$6,D9=""),"",IF(AND(D9=$AX$24),"",IF(AND(D9=$AX$25),"",IF(AND(D9=$AX$26),"",IF(AND(D9=$AX$27),"",IF(AND(D9=$AX$28),"",IF(AND(D9=$AX$29),"",IF(AND(E9=""),"",VLOOKUP(D9,ram,11,0))))))))),"") | Q9: =IFERROR(IF(AND('Master Data'!$I$29='GA55 Check & Edit'!$AP$6),"",IF(AND(D9=$AX$25),"",IF(AND(D9=$AX$28),"",IF(AND(D9=$AX$29),"",IF(AND(D9=""),"",IF(AND(BB13=""),"",VLOOKUP(D9,ram,12,0))))))),"") -> 2100 | R9: =IFERROR(IF(OR('Master Data'!$I$29='GA55 Check & Edit'!$AP$6,D9=""),"",IF(AND(D9=$AX$24),"",IF(AND(D9=$AX$25),"",IF(AND(D9=$AX$26),"",IF(AND(D9=$AX$27),"",IF(AND(D9=$AX$28),"",IF(AND(D9=$AX$29),"",IF(AND(E9=""),"",'Master Data'!$I$44)))))))),"") | S9: =IFERROR(IF(OR('Master Data'!$I$29='GA55 Check & Edit'!$AP$6),"",IF(D9="","",IF(E9="","",IF(AND(D9=$AX$24),"",IF(AND(D9=$AX$25),"",IF(AND(D9=$AX$26),"",IF(AND(D9=$AX$27),"",IF(AND(D9=$AX$28),"",IF(AND(D9=$AX$29),"",VLOOKUP(D9,ram,10,0)))))))))),"") | T9: =IFERROR(IF(OR('Master Data'!$I$29='GA55 Check & Edit'!$AP$6,D9=""),"",IF(AND(D9=$AX$24),"",IF(AND(D9=$AX$25),"",IF(AND(D9=$AX$26),"",IF(AND(D9=$AX$27),"",IF(AND(D9=$AX$28),"",IF(AND(D9=$AX$29),"",IF(AND(E9=""),"",'Master Data'!$K$44)))))))),"") | U9: =IFERROR(IF(OR('Master Data'!$I$29='GA55 Check & Edit'!$AP$6,D9=""),"",IF(AND(D9=$AX$24),"",IF(AND(D9=$AX$25),"",IF(AND(D9=$AX$26),"",IF(AND(D9=$AX$27),"",IF(AND(D9=$AX$28),"",IF(AND(D9=$AX$29),"",IF(AND(E9=""),"",'Master Data'!$L$44)))))))),"") | V9: =IFERROR(IF(OR('Master Data'!$I$29='GA55 Check & Edit'!$AP$6,D9=""),"",IF(AND(D9=$AX$24),"",IF(AND(D9=$AX$25),"",IF(AND(D9=$AX$26),"",IF(AND(D9=$AX$27),"",IF(AND(D9=$AX$28),"",IF(AND(D9=$AX$29),"",IF(AND(E9=""),"",'Master Data'!$M$44)))))))),"") | W9: =IFERROR(IF(OR('Master Data'!$I$29='GA55 Check & Edit'!$AP$6,D9=""),"",IF(AND(D9=$AX$24),"",IF(AND(D9=$AX$25),"",IF(AND(D9=$AX$26),"",IF(AND(D9=$AX$27),"",IF(AND(D9=$AX$28),"",IF(AND(D9=$AX$29),"",IF(AND(E9=""),"",'Master Data'!$N$44)))))))),"") | X9: =IFERROR(IF(OR('Master Data'!$I$29='GA55 Check & Edit'!$AP$6,D9=""),"",IF(AND(E9=""),"",IF(AND('GA55 Check & Edit'!D9='GA55 Check & Edit'!$AT$17,'Master Data'!$D$18="Gazetted"),500,IF(AND('GA55 Check & Edit'!D9='GA55 Check & Edit'!$AT$17,'Master Data'!$D$18="Non-Gazetted"),250,"")))),"") | Y9: =IFERROR(IF(D9="","",IF(AND(E9=""),"",IF(AND(D9=$AX$24),"",IF(AND(D9=$AX$25),"",IF(AND(D9=$AX$26),"",IF(AND(D9=$AX$27),"",IF(AND(D9=$AX$28),"",IF(AND(D9=$AX$29),"",IF(OR('Master Data'!$I$29='GA55 Check & Edit'!$AP$6,D9=""),"",$Y$7))))))))),"") | Z9: =IFERROR(IF(OR('Master Data'!$I$29='GA55 Check & Edit'!$AP$6),"",IF(D9="","",IF(E9="","",VLOOKUP(D9,ram,9,0)))),"") | AA9: =IFERROR(IF(OR('Master Data'!$I$29='GA55 Check & Edit'!$AP$6,D9="",'Master Data'!$N$35=""),"",IF(AND(E9=""),"",IF('GA55 Check & Edit'!D9='GA55 Check & Edit'!$AT$9,'Master Data'!$N$35,""))),"") | AB9: =IFERROR(IF(D9="","",IF(AND(O9=""),"",SUM(P9:AA9))),"0") -> 0 | AC9: =IFERROR(IF(AND(E9="",O9="",AB9=""),"",SUM(O9-AB9)),"") | AR9: Ajmer | AS9: FEB | AT9: 45748 | AU9: L-2 | AZ9: 46081 | BC9: =IF('Master Data'!I35>9,ROUND('Master Data'!$E$37/31*15,0),IF('Master Data'!E35='GA55 Check & Edit'!AO5,ROUND('Master Data'!$E$37/31*15,0),IF('Master Data'!I35>=5,ROUND('Master Data'!$E$37/31*22,0),IF('Master Data'!D18='GA55 Check & Edit'!AO5,ROUND('Master Data'!$E$37/31*22,0),'Master Data'!E37))))
A10: =MOD(B10,2) -> 1 | B10: =IF(LEN(D10)>=3,B9+1,0) -> 3 | C10: =IF(B10=0,"",B10) -> 3 | D10: =IFERROR(IF(BO14="","",BO14),"") -> 45778 | E10: 47900 | F10: =IFERROR(IF(D10="","",IF(D10=$AX$24,"",IF(AND(D10=$AX$28),"",IF(AND('Master Data'!$I$29='GA55 Check & Edit'!$AP$5),VLOOKUP(D10,ram,7,0),"")))),"") -> 20900 | G10: =IFERROR(IF(D10="","",IF(D10=$AX$24,"",IF(AND(D10=$AX$25),"",IF(AND(D10=$AX$26),"",IF(AND(D10=$AX$27),"",IF(AND(D10=$AX$28),"",IF(AND(D10=$AX$29),"",IF(AND('Master Data'!$I$29='GA55 Check & Edit'!$AP$6),"",VLOOKUP(D10,ram,8,0))))))))),"") -> 3800 | H10: =IFERROR(IF(D10="","",IF(AND(E10=""),"",IF(OR(D10=$AX$24,D10=$AX$25,D10=$AX$26,D10=$AX$27,D10=$AX$28,D10=$AX$29),"",IF(AND('Master Data'!$I$29='GA55 Check & Edit'!$AP$5),'Master Data'!$B$44,"")))),"") | I10: =IFERROR(IF(D10="","",IF(AND(E10=""),"",IF(OR(D10=$AX$24,D10=$AX$25,D10=$AX$26,D10=$AX$27,D10=$AX$28,D10=$AX$29),"",IF(AND('Master Data'!$I$29='GA55 Check & Edit'!$AP$5,'Master Data'!$E$29='GA55 Check & Edit'!$AO$5),'Master Data'!$E$31,"0")))),"") -> 0 | J10: =IFERROR(IF(OR('Master Data'!$E$33=$AO$6,'Master Data'!$E$33=""),"",IF(D10="","",IF(AND(E10=""),"",IF(OR(D10=$AX$24,D10=$AX$25,D10=$AX$26,D10=$AX$27,D10=$AX$28,D10=$AX$29),"",IF(AND('Master Data'!$I$29='GA55 Check & Edit'!$AP$6),"",IF(AND('Master Data'!$I$33=$AR$9),$AS$6,IF(AND('Master Data'!$I$33=$AR$10),$AS$6,IF(AND('Master Data'!$I$33=$AR$11),$AS$6,IF(AND('Master Data'!$I$33=$AR$12),$AS$6,$AS$5))))))))),"") | K10: =IFERROR(IF(D10="","",IF(AND(E10=""),"",IF(OR(D10=$AX$24,D10=$AX$25,D10=$AX$26,D10=$AX$27,D10=$AX$28,D10=$AX$29),"",IF(AND('Master Data'!$I$29='GA55 Check & Edit'!$AP$5),'Master Data'!$C$44,"")))),"") | L10: =IFERROR(IF(D10="","",IF(AND(E10=""),"",IF(OR(D10=$AX$24,D10=$AX$25,D10=$AX$26,D10=$AX$27,D10=$AX$28,D10=$AX$29),"",IF(AND('Master Data'!$I$29='GA55 Check & Edit'!$AP$6),"",'Master Data'!$D$44)))),"") | M10: =IFERROR(IF(D10="","",IF(AND(E10=""),"",IF(OR(D10=$AX$24,D10=$AX$25,D10=$AX$26,D10=$AX$27,D10=$AX$28,D10=$AX$29),"",IF(AND('Master Data'!$I$29='GA55 Check & Edit'!$AP$6),"",'Master Data'!$E$44)))),"") | N10: =IFERROR(IF(D10="","",IF(AND('Master Data'!$I$29='GA55 Check & Edit'!$AP$6),"",IF(AND('Master Data'!$I$25='GA55 Check & Edit'!$AO$6),"0",IF(AND(D10="Bonus"),VLOOKUP(D10,ram,4,0),"")))),"") -> 0 | O10: =IF(D10="","",IF('Master Data'!$N$25="","",SUM(E10:N10))) -> 72600 | P10: =IFERROR(IF(OR('Master Data'!$I$29='GA55 Check & Edit'!$AP$6,D10=""),"",IF(AND(D10=$AX$24),"",IF(AND(D10=$AX$25),"",IF(AND(D10=$AX$26),"",IF(AND(D10=$AX$27),"",IF(AND(D10=$AX$28),"",IF(AND(D10=$AX$29),"",IF(AND(E10=""),"",VLOOKUP(D10,ram,11,0))))))))),"") | Q10: =IFERROR(IF(AND('Master Data'!$I$29='GA55 Check & Edit'!$AP$6),"",IF(AND(D10=$AX$25),"",IF(AND(D10=$AX$28),"",IF(AND(D10=$AX$29),"",IF(AND(D10=""),"",IF(AND(BB14=""),"",VLOOKUP(D10,ram,12,0))))))),"") -> 2100 | R10: =IFERROR(IF(OR('Master Data'!$I$29='GA55 Check & Edit'!$AP$6,D10=""),"",IF(AND(D10=$AX$24),"",IF(AND(D10=$AX$25),"",IF(AND(D10=$AX$26),"",IF(AND(D10=$AX$27),"",IF(AND(D10=$AX$28),"",IF(AND(D10=$AX$29),"",IF(AND(E10=""),"",'Master Data'!$I$44)))))))),"") | S10: =IFERROR(IF(OR('Master Data'!$I$29='GA55 Check & Edit'!$AP$6),"",IF(D10="","",IF(E10="","",IF(AND(D10=$AX$24),"",IF(AND(D10=$AX$25),"",IF(AND(D10=$AX$26),"",IF(AND(D10=$AX$27),"",IF(AND(D10=$AX$28),"",IF(AND(D10=$AX$29),"",VLOOKUP(D10,ram,10,0)))))))))),"") -> 658 | T10: =IFERROR(IF(OR('Master Data'!$I$29='GA55 Check & Edit'!$AP$6,D10=""),"",IF(AND(D10=$AX$24),"",IF(AND(D10=$AX$25),"",IF(AND(D10=$AX$26),"",IF(AND(D10=$AX$27),"",IF(AND(D10=$AX$28),"",IF(AND(D10=$AX$29),"",IF(AND(E10=""),"",'Master Data'!$K$44)))))))),"") -> 3000 | U10: =IFERROR(IF(OR('Master Data'!$I$29='GA55 Check & Edit'!$AP$6,D10=""),"",IF(AND(D10=$AX$24),"",IF(AND(D10=$AX$25),"",IF(AND(D10=$AX$26),"",IF(AND(D10=$AX$27),"",IF(AND(D10=$AX$28),"",IF(AND(D10=$AX$29),"",IF(AND(E10=""),"",'Master Data'!$L$44)))))))),"") -> 2100 | V10: =IFERROR(IF(OR('Master Data'!$I$29='GA55 Check & Edit'!$AP$6,D10=""),"",IF(AND(D10=$AX$24),"",IF(AND(D10=$AX$25),"",IF(AND(D10=$AX$26),"",IF(AND(D10=$AX$27),"",IF(AND(D10=$AX$28),"",IF(AND(D10=$AX$29),"",IF(AND(E10=""),"",'Master Data'!$M$44)))))))),"") | W10: =IFERROR(IF(OR('Master Data'!$I$29='GA55 Check & Edit'!$AP$6,D10=""),"",IF(AND(D10=$AX$24),"",IF(AND(D10=$AX$25),"",IF(AND(D10=$AX$26),"",IF(AND(D10=$AX$27),"",IF(AND(D10=$AX$28),"",IF(AND(D10=$AX$29),"",IF(AND(E10=""),"",'Master Data'!$N$44)))))))),"") | X10: =IFERROR(IF(OR('Master Data'!$I$29='GA55 Check & Edit'!$AP$6,D10=""),"",IF(AND(E10=""),"",IF(AND('GA55 Check & Edit'!D10='GA55 Check & Edit'!$AT$17,'Master Data'!$D$18="Gazetted"),500,IF(AND('GA55 Check & Edit'!D10='GA55 Check & Edit'!$AT$17,'Master Data'!$D$18="Non-Gazetted"),250,"")))),"") | Y10: =IFERROR(IF(D10="","",IF(AND(E10=""),"",IF(AND(D10=$AX$24),"",IF(AND(D10=$AX$25),"",IF(AND(D10=$AX$26),"",IF(AND(D10=$AX$27),"",IF(AND(D10=$AX$28),"",IF(AND(D10=$AX$29),"",IF(OR('Master Data'!$I$29='GA55 Check & Edit'!$AP$6,D10=""),"",$Y$7))))))))),"") | Z10: =IFERROR(IF(OR('Master Data'!$I$29='GA55 Check & Edit'!$AP$6),"",IF(D10="","",IF(E10="","",VLOOKUP(D10,ram,9,0)))),"") | AA10: =IFERROR(IF(OR('Master Data'!$I$29='GA55 Check & Edit'!$AP$6,D10="",'Master Data'!$N$35=""),"",IF(AND(E10=""),"",IF('GA55 Check & Edit'!D10='GA55 Check & Edit'!$AT$9,'Master Data'!$N$35,""))),"") | AB10: =IFERROR(IF(D10="","",IF(AND(O10=""),"",SUM(P10:AA10))),"0") -> 7858 | AC10: =IFERROR(IF(AND(E10="",O10="",AB10=""),"",SUM(O10-AB10)),"") -> 64742 | AR10: Bikaner | AS10: MAR | AT10: 45778 | AU10: L-3 | AW10: JAN | AX10: 45658 | BA10: =IF(AND('Master Data'!$N$25=""),"",'Master Data'!$N$25) -> 38000 | BB10: =IF(AND(AX10<$AZ$16),"",IF(AND(AX10>$AZ$17),"",BA10)) | BC10: =IF(AND('Master Data'!$N$25=""),"",ROUND(53%*BA10,0)) -> 20140 | BD10: =IF(BB10="","",BC10) | BE10: =IFERROR(IF(AND('Master Data'!$N$25=""),"",ROUND('Master Data'!$E$35%*BB10,0)),"") -> 0 | BG10: =IFERROR(IF(OR('Master Data'!$I$29='GA55 Check & Edit'!$AP$6),"",'Master Data'!$J$44),"") -> 650 | BH10: =IFERROR(IF(OR('Master Data'!$I$29='GA55 Check & Edit'!$AP$6),"",'Master Data'!$G$44),"") | BI10: =IFERROR(IF(OR('Master Data'!$I$29='GA55 Check & Edit'!$AP$6),"",'Master Data'!$H$44),"") | BJ10: =BA10 -> 38000 | BL10: =MONTH(AZ17) -> 2 | BS10: =D8 -> 45717
A11: =MOD(B11,2) -> 0 | B11: =IF(LEN(D11)>=3,B10+1,0) -> 4 | C11: =IF(B11=0,"",B11) -> 4 | D11: =IFERROR(IF(BO15="","",BO15),"") -> 45809 | E11: =IFERROR(IF(D11="","",IF(AND(BQ15=""),"",IF(AND('Master Data'!$I$29='GA55 Check & Edit'!$AP$6),VLOOKUP(D11,ram,13,0),VLOOKUP(D11,ram,4,0)))),"") -> 38000 | F11: =IFERROR(IF(D11="","",IF(D11=$AX$24,"",IF(AND(D11=$AX$28),"",IF(AND('Master Data'!$I$29='GA55 Check & Edit'!$AP$5),VLOOKUP(D11,ram,7,0),"")))),"") -> 20900 | G11: =IFERROR(IF(D11="","",IF(D11=$AX$24,"",IF(AND(D11=$AX$25),"",IF(AND(D11=$AX$26),"",IF(AND(D11=$AX$27),"",IF(AND(D11=$AX$28),"",IF(AND(D11=$AX$29),"",IF(AND('Master Data'!$I$29='GA55 Check & Edit'!$AP$6),"",VLOOKUP(D11,ram,8,0))))))))),"") -> 3800 | H11: =IFERROR(IF(D11="","",IF(AND(E11=""),"",IF(OR(D11=$AX$24,D11=$AX$25,D11=$AX$26,D11=$AX$27,D11=$AX$28,D11=$AX$29),"",IF(AND('Master Data'!$I$29='GA55 Check & Edit'!$AP$5),'Master Data'!$B$44,"")))),"") | I11: =IFERROR(IF(D11="","",IF(AND(E11=""),"",IF(OR(D11=$AX$24,D11=$AX$25,D11=$AX$26,D11=$AX$27,D11=$AX$28,D11=$AX$29),"",IF(AND('Master Data'!$I$29='GA55 Check & Edit'!$AP$5,'Master Data'!$E$29='GA55 Check & Edit'!$AO$5),'Master Data'!$E$31,"0")))),"") -> 0 | J11: =IFERROR(IF(OR('Master Data'!$E$33=$AO$6,'Master Data'!$E$33=""),"",IF(D11="","",IF(AND(E11=""),"",IF(OR(D11=$AX$24,D11=$AX$25,D11=$AX$26,D11=$AX$27,D11=$AX$28,D11=$AX$29),"",IF(AND('Master Data'!$I$29='GA55 Check & Edit'!$AP$6),"",IF(AND('Master Data'!$I$33=$AR$9),$AS$6,IF(AND('Master Data'!$I$33=$AR$10),$AS$6,IF(AND('Master Data'!$I$33=$AR$11),$AS$6,IF(AND('Master Data'!$I$33=$AR$12),$AS$6,$AS$5))))))))),"") | K11: =IFERROR(IF(D11="","",IF(AND(E11=""),"",IF(OR(D11=$AX$24,D11=$AX$25,D11=$AX$26,D11=$AX$27,D11=$AX$28,D11=$AX$29),"",IF(AND('Master Data'!$I$29='GA55 Check & Edit'!$AP$5),'Master Data'!$C$44,"")))),"") | L11: =IFERROR(IF(D11="","",IF(AND(E11=""),"",IF(OR(D11=$AX$24,D11=$AX$25,D11=$AX$26,D11=$AX$27,D11=$AX$28,D11=$AX$29),"",IF(AND('Master Data'!$I$29='GA55 Check & Edit'!$AP$6),"",'Master Data'!$D$44)))),"") | M11: =IFERROR(IF(D11="","",IF(AND(E11=""),"",IF(OR(D11=$AX$24,D11=$AX$25,D11=$AX$26,D11=$AX$27,D11=$AX$28,D11=$AX$29),"",IF(AND('Master Data'!$I$29='GA55 Check & Edit'!$AP$6),"",'Master Data'!$E$44)))),"") | N11: =IFERROR(IF(D11="","",IF(AND('Master Data'!$I$29='GA55 Check & Edit'!$AP$6),"",IF(AND('Master Data'!$I$25='GA55 Check & Edit'!$AO$6),"0",IF(AND(D11="Bonus"),VLOOKUP(D11,ram,4,0),"")))),"") -> 0 | O11: =IF(D11="","",IF('Master Data'!$N$25="","",SUM(E11:N11))) -> 62700 | P11: =IFERROR(IF(OR('Master Data'!$I$29='GA55 Check & Edit'!$AP$6,D11=""),"",IF(AND(D11=$AX$24),"",IF(AND(D11=$AX$25),"",IF(AND(D11=$AX$26),"",IF(AND(D11=$AX$27),"",IF(AND(D11=$AX$28),"",IF(AND(D11=$AX$29),"",IF(AND(E11=""),"",VLOOKUP(D11,ram,11,0))))))))),"") | Q11: =IFERROR(IF(AND('Master Data'!$I$29='GA55 Check & Edit'!$AP$6),"",IF(AND(D11=$AX$25),"",IF(AND(D11=$AX$28),"",IF(AND(D11=$AX$29),"",IF(AND(D11=""),"",IF(AND(BB15=""),"",VLOOKUP(D11,ram,12,0))))))),"") -> 2100 | R11: =IFERROR(IF(OR('Master Data'!$I$29='GA55 Check & Edit'!$AP$6,D11=""),"",IF(AND(D11=$AX$24),"",IF(AND(D11=$AX$25),"",IF(AND(D11=$AX$26),"",IF(AND(D11=$AX$27),"",IF(AND(D11=$AX$28),"",IF(AND(D11=$AX$29),"",IF(AND(E11=""),"",'Master Data'!$I$44)))))))),"") | S11: =IFERROR(IF(OR('Master Data'!$I$29='GA55 Check & Edit'!$AP$6),"",IF(D11="","",IF(E11="","",IF(AND(D11=$AX$24),"",IF(AND(D11=$AX$25),"",IF(AND(D11=$AX$26),"",IF(AND(D11=$AX$27),"",IF(AND(D11=$AX$28),"",IF(AND(D11=$AX$29),"",VLOOKUP(D11,ram,10,0)))))))))),"") -> 658 | T11: =IFERROR(IF(OR('Master Data'!$I$29='GA55 Check & Edit'!$AP$6,D11=""),"",IF(AND(D11=$AX$24),"",IF(AND(D11=$AX$25),"",IF(AND(D11=$AX$26),"",IF(AND(D11=$AX$27),"",IF(AND(D11=$AX$28),"",IF(AND(D11=$AX$29),"",IF(AND(E11=""),"",'Master Data'!$K$44)))))))),"") -> 3000 | U11: =IFERROR(IF(OR('Master Data'!$I$29='GA55 Check & Edit'!$AP$6,D11=""),"",IF(AND(D11=$AX$24),"",IF(AND(D11=$AX$25),"",IF(AND(D11=$AX$26),"",IF(AND(D11=$AX$27),"",IF(AND(D11=$AX$28),"",IF(AND(D11=$AX$29),"",IF(AND(E11=""),"",'Master Data'!$L$44)))))))),"") -> 2100 | V11: =IFERROR(IF(OR('Master Data'!$I$29='GA55 Check & Edit'!$AP$6,D11=""),"",IF(AND(D11=$AX$24),"",IF(AND(D11=$AX$25),"",IF(AND(D11=$AX$26),"",IF(AND(D11=$AX$27),"",IF(AND(D11=$AX$28),"",IF(AND(D11=$AX$29),"",IF(AND(E11=""),"",'Master Data'!$M$44)))))))),"") | W11: =IFERROR(IF(OR('Master Data'!$I$29='GA55 Check & Edit'!$AP$6,D11=""),"",IF(AND(D11=$AX$24),"",IF(AND(D11=$AX$25),"",IF(AND(D11=$AX$26),"",IF(AND(D11=$AX$27),"",IF(AND(D11=$AX$28),"",IF(AND(D11=$AX$29),"",IF(AND(E11=""),"",'Master Data'!$N$44)))))))),"") | X11: =IFERROR(IF(OR('Master Data'!$I$29='GA55 Check & Edit'!$AP$6,D11=""),"",IF(AND(E11=""),"",IF(AND('GA55 Check & Edit'!D11='GA55 Check & Edit'!$AT$17,'Master Data'!$D$18="Gazetted"),500,IF(AND('GA55 Check & Edit'!D11='GA55 Check & Edit'!$AT$17,'Master Data'!$D$18="Non-Gazetted"),250,"")))),"") | Y11: =IFERROR(IF(D11="","",IF(AND(E11=""),"",IF(AND(D11=$AX$24),"",IF(AND(D11=$AX$25),"",IF(AND(D11=$AX$26),"",IF(AND(D11=$AX$27),"",IF(AND(D11=$AX$28),"",IF(AND(D11=$AX$29),"",IF(OR('Master Data'!$I$29='GA55 Check & Edit'!$AP$6,D11=""),"",$Y$7))))))))),"") | Z11: =IFERROR(IF(OR('Master Data'!$I$29='GA55 Check & Edit'!$AP$6),"",IF(D11="","",IF(E11="","",VLOOKUP(D11,ram,9,0)))),"") | AA11: =IFERROR(IF(OR('Master Data'!$I$29='GA55 Check & Edit'!$AP$6,D11="",'Master Data'!$N$35=""),"",IF(AND(E11=""),"",IF('GA55 Check & Edit'!D11='GA55 Check & Edit'!$AT$9,'Master Data'!$N$35,""))),"") | AB11: =IFERROR(IF(D11="","",IF(AND(O11=""),"",SUM(P11:AA11))),"0") -> 7858 | AC11: =IFERROR(IF(AND(E11="",O11="",AB11=""),"",SUM(O11-AB11)),"") -> 54842 | AR11: Jodhpur | AS11: APR | AT11: 45809 | AU11: L-4 | AW11: FEB | AX11: 45689 | BA11: =IF(AND('Master Data'!$N$25=""),"",'Master Data'!$N$25) -> 38000 | BB11: =IF(AND(AX11<$AZ$16),"",IF(AND(AX11>$AZ$17),"",BA11)) | BC11: =IF(AND('Master Data'!$N$25=""),"",ROUND(53%*BA11,0)) -> 20140 | BD11: =IF(BB11="","",BC11) | BE11: =IFERROR(IF(AND('Master Data'!$N$25=""),"",ROUND('Master Data'!$E$35%*BB11,0)),"") -> 0 | BG11: =IFERROR(IF(OR('Master Data'!$I$29='GA55 Check & Edit'!$AP$6),"",IF('Master Data'!$I$31="GPF-2004",IF(BB11<18001,135,IF(BB11<33501,220,IF(BB11<54001,330,440))),IF(AND('Master Data'!$I$31="GPF",'Master Data'!$J$44=""),IF(BB11<18001,265,IF(BB11<33501,440,IF(BB11<54001,658,875))),'Master Data'!$J$44))),"") -> 440 | BH11: =IFERROR(IF(OR('Master Data'!$I$29='GA55 Check & Edit'!$AP$6),"",'Master Data'!$G$44),"") | BI11: =IFERROR(IF(OR('Master Data'!$I$29='GA55 Check & Edit'!$AP$6),"",'Master Data'!$H$44),"") | BJ11: =BA11 -> 38000
A12: =MOD(B12,2) -> 1 | B12: =IF(LEN(D12)>=3,B11+1,0) -> 5 | C12: =IF(B12=0,"",B12) -> 5 | D12: =IFERROR(IF(BO16="","",BO16),"") -> 45839 | E12: =IFERROR(IF(D12="","",IF(AND(BQ16=""),"",IF(AND('Master Data'!$I$29='GA55 Check & Edit'!$AP$6),VLOOKUP(D12,ram,13,0),VLOOKUP(D12,ram,4,0)))),"") -> 39100 | F12: =IFERROR(IF(D12="","",IF(D12=$AX$24,"",IF(AND(D12=$AX$28),"",IF(AND('Master Data'!$I$29='GA55 Check & Edit'!$AP$5),VLOOKUP(D12,ram,7,0),"")))),"") -> 21505 | G12: =IFERROR(IF(D12="","",IF(D12=$AX$24,"",IF(AND(D12=$AX$25),"",IF(AND(D12=$AX$26),"",IF(AND(D12=$AX$27),"",IF(AND(D12=$AX$28),"",IF(AND(D12=$AX$29),"",IF(AND('Master Data'!$I$29='GA55 Check & Edit'!$AP$6),"",VLOOKUP(D12,ram,8,0))))))))),"") -> 3910 | H12: =IFERROR(IF(D12="","",IF(AND(E12=""),"",IF(OR(D12=$AX$24,D12=$AX$25,D12=$AX$26,D12=$AX$27,D12=$AX$28,D12=$AX$29),"",IF(AND('Master Data'!$I$29='GA55 Check & Edit'!$AP$5),'Master Data'!$B$44,"")))),"") | I12: =IFERROR(IF(D12="","",IF(AND(E12=""),"",IF(OR(D12=$AX$24,D12=$AX$25,D12=$AX$26,D12=$AX$27,D12=$AX$28,D12=$AX$29),"",IF(AND('Master Data'!$I$29='GA55 Check & Edit'!$AP$5,'Master Data'!$E$29='GA55 Check & Edit'!$AO$5),'Master Data'!$E$31,"0")))),"") -> 0 | J12: =IFERROR(IF(OR('Master Data'!$E$33=$AO$6,'Master Data'!$E$33=""),"",IF(D12="","",IF(AND(E12=""),"",IF(OR(D12=$AX$24,D12=$AX$25,D12=$AX$26,D12=$AX$27,D12=$AX$28,D12=$AX$29),"",IF(AND('Master Data'!$I$29='GA55 Check & Edit'!$AP$6),"",IF(AND('Master Data'!$I$33=$AR$9),$AS$6,IF(AND('Master Data'!$I$33=$AR$10),$AS$6,IF(AND('Master Data'!$I$33=$AR$11),$AS$6,IF(AND('Master Data'!$I$33=$AR$12),$AS$6,$AS$5))))))))),"") | K12: =IFERROR(IF(D12="","",IF(AND(E12=""),"",IF(OR(D12=$AX$24,D12=$AX$25,D12=$AX$26,D12=$AX$27,D12=$AX$28,D12=$AX$29),"",IF(AND('Master Data'!$I$29='GA55 Check & Edit'!$AP$5),'Master Data'!$C$44,"")))),"") | L12: =IFERROR(IF(D12="","",IF(AND(E12=""),"",IF(OR(D12=$AX$24,D12=$AX$25,D12=$AX$26,D12=$AX$27,D12=$AX$28,D12=$AX$29),"",IF(AND('Master Data'!$I$29='GA55 Check & Edit'!$AP$6),"",'Master Data'!$D$44)))),"") | M12: =IFERROR(IF(D12="","",IF(AND(E12=""),"",IF(OR(D12=$AX$24,D12=$AX$25,D12=$AX$26,D12=$AX$27,D12=$AX$28,D12=$AX$29),"",IF(AND('Master Data'!$I$29='GA55 Check & Edit'!$AP$6),"",'Master Data'!$E$44)))),"") | N12: =IFERROR(IF(D12="","",IF(AND('Master Data'!$I$29='GA55 Check & Edit'!$AP$6),"",IF(AND('Master Data'!$I$25='GA55 Check & Edit'!$AO$6),"0",IF(AND(D12="Bonus"),VLOOKUP(D12,ram,4,0),"")))),"") -> 0 | O12: =IF(D12="","",IF('Master Data'!$N$25="","",SUM(E12:N12))) -> 64515 | P12: =IFERROR(IF(OR('Master Data'!$I$29='GA55 Check & Edit'!$AP$6,D12=""),"",IF(AND(D12=$AX$24),"",IF(AND(D12=$AX$25),"",IF(AND(D12=$AX$26),"",IF(AND(D12=$AX$27),"",IF(AND(D12=$AX$28),"",IF(AND(D12=$AX$29),"",IF(AND(E12=""),"",VLOOKUP(D12,ram,11,0))))))))),"") | Q12: =IFERROR(IF(AND('Master Data'!$I$29='GA55 Check & Edit'!$AP$6),"",IF(AND(D12=$AX$25),"",IF(AND(D12=$AX$28),"",IF(AND(D12=$AX$29),"",IF(AND(D12=""),"",IF(AND(BB16=""),"",VLOOKUP(D12,ram,12,0))))))),"") -> 2850 | R12: =IFERROR(IF(OR('Master Data'!$I$29='GA55 Check & Edit'!$AP$6,D12=""),"",IF(AND(D12=$AX$24),"",IF(AND(D12=$AX$25),"",IF(AND(D12=$AX$26),"",IF(AND(D12=$AX$27),"",IF(AND(D12=$AX$28),"",IF(AND(D12=$AX$29),"",IF(AND(E12=""),"",'Master Data'!$I$44)))))))),"") | S12: =IFERROR(IF(OR('Master Data'!$I$29='GA55 Check & Edit'!$AP$6),"",IF(D12="","",IF(E12="","",IF(AND(D12=$AX$24),"",IF(AND(D12=$AX$25),"",IF(AND(D12=$AX$26),"",IF(AND(D12=$AX$27),"",IF(AND(D12=$AX$28),"",IF(AND(D12=$AX$29),"",VLOOKUP(D12,ram,10,0)))))))))),"") -> 658 | T12: =IFERROR(IF(OR('Master Data'!$I$29='GA55 Check & Edit'!$AP$6,D12=""),"",IF(AND(D12=$AX$24),"",IF(AND(D12=$AX$25),"",IF(AND(D12=$AX$26),"",IF(AND(D12=$AX$27),"",IF(AND(D12=$AX$28),"",IF(AND(D12=$AX$29),"",IF(AND(E12=""),"",'Master Data'!$K$44)))))))),"") -> 3000 | U12: =IFERROR(IF(OR('Master Data'!$I$29='GA55 Check & Edit'!$AP$6,D12=""),"",IF(AND(D12=$AX$24),"",IF(AND(D12=$AX$25),"",IF(AND(D12=$AX$26),"",IF(AND(D12=$AX$27),"",IF(AND(D12=$AX$28),"",IF(AND(D12=$AX$29),"",IF(AND(E12=""),"",'Master Data'!$L$44)))))))),"") -> 2100 | V12: =IFERROR(IF(OR('Master Data'!$I$29='GA55 Check & Edit'!$AP$6,D12=""),"",IF(AND(D12=$AX$24),"",IF(AND(D12=$AX$25),"",IF(AND(D12=$AX$26),"",IF(AND(D12=$AX$27),"",IF(AND(D12=$AX$28),"",IF(AND(D12=$AX$29),"",IF(AND(E12=""),"",'Master Data'!$M$44)))))))),"") | W12: =IFERROR(IF(OR('Master Data'!$I$29='GA55 Check & Edit'!$AP$6,D12=""),"",IF(AND(D12=$AX$24),"",IF(AND(D12=$AX$25),"",IF(AND(D12=$AX$26),"",IF(AND(D12=$AX$27),"",IF(AND(D12=$AX$28),"",IF(AND(D12=$AX$29),"",IF(AND(E12=""),"",'Master Data'!$N$44)))))))),"") | X12: =IFERROR(IF(OR('Master Data'!$I$29='GA55 Check & Edit'!$AP$6,D12=""),"",IF(AND(E12=""),"",IF(AND('GA55 Check & Edit'!D12='GA55 Check & Edit'!$AT$17,'Master Data'!$D$18="Gazetted"),500,IF(AND('GA55 Check & Edit'!D12='GA55 Check & Edit'!$AT$17,'Master Data'!$D$18="Non-Gazetted"),250,"")))),"") | Y12: =IFERROR(IF(D12="","",IF(AND(E12=""),"",IF(AND(D12=$AX$24),"",IF(AND(D12=$AX$25),"",IF(AND(D12=$AX$26),"",IF(AND(D12=$AX$27),"",IF(AND(D12=$AX$28),"",IF(AND(D12=$AX$29),"",IF(OR('Master Data'!$I$29='GA55 Check & Edit'!$AP$6,D12=""),"",$Y$7))))))))),"") | Z12: =IFERROR(IF(OR('Master Data'!$I$29='GA55 Check & Edit'!$AP$6),"",IF(D12="","",IF(E12="","",VLOOKUP(D12,ram,9,0)))),"") | AA12: =IFERROR(IF(OR('Master Data'!$I$29='GA55 Check & Edit'!$AP$6,D12="",'Master Data'!$N$35=""),"",IF(AND(E12=""),"",IF('GA55 Check & Edit'!D12='GA55 Check & Edit'!$AT$9,'Master Data'!$N$35,""))),"") | AB12: =IFERROR(IF(D12="","",IF(AND(O12=""),"",SUM(P12:AA12))),"0") -> 8608 | AC12: =IFERROR(IF(AND(E12="",O12="",AB12=""),"",SUM(O12-AB12)),"") -> 55907 | AR12: Kota | AS12: MAY | AT12: 45839 | AU12: L-5 | AW12: MAR | AX12: 45717 | AY12: 3 | BA12: =IF(AND('Master Data'!$N$25=""),"",IF(AND('Master Data'!$N$27='GA55 Check & Edit'!$AP$6),'GA55 Check & Edit'!$AZ$15,BU12)) -> 38000 | BB12: =IF(AND(AX12<$AZ$16),"",IF(AND(AX12>$AZ$17),"",BA12)) -> 38000 | BC12: =IF(AND('Master Data'!$N$25=""),"",ROUND(53%*BA12,0)) -> 20140 | BD12: =IF(BB12="","",BC12) -> 20140 | BE12: =IFERROR(IF(AND('Master Data'!$N$25=""),"",ROUND('Master Data'!$E$35%*BB12,0)),"") -> 3800 | BF12: ='Master Data'!C48 | BG12: =IFERROR(IF(OR('Master Data'!$I$29='GA55 Check & Edit'!$AP$6),"",IF('Master Data'!$I$31="GPF-2004",IF(BB12<18001,265,IF(BB12<33501,440,IF(BB12<54001,658,875))),IF(AND('Master Data'!$I$31="GPF",'Master Data'!$J$44=""),IF(BB12<18001,265,IF(BB12<33501,440,IF(BB12<54001,658,875))),'Master Data'!$J$44))),"") -> 658 | BH12: =IFERROR(IF(OR('Master Data'!$I$29='GA55 Check & Edit'!$AP$6),"",'Master Data'!$G$44),"") | BI12: =IFERROR(IF(OR('Master Data'!$I$29='GA55 Check & Edit'!$AP$6),"",IF('Master Data'!$I$31="GPF-2004",IF(BB12<23101,1450,IF(BB12<28501,1625,IF(BB12<38501,2100,IF(BB12<51501,2850,IF(BB12<62001,3575,IF(BB12<72001,4200,IF(BB12<80001,4800,IF(BB12<116001,6150,IF(BB12<167001,8900,10500))))))))),'Master Data'!$H$44)),"") -> 2100 | BJ12: =BA12 -> 38000 | BK12: 45717 | BL12: =IFERROR(IF('Master Data'!$N$25="","",IF('Master Data'!$F$41="","",IF(AND($AZ$17>$AZ$9),"",DATE(YEAR(AZ16),MONTH(AZ16),DAY(AZ16))))),"") -> 45717 | BM12: =IFERROR(IF('Master Data'!$N$25="","",IF('Master Data'!$F$41="","",IF(AND($AZ$17>$AZ$9),"",DATE(YEAR(AZ16),MONTH(AZ16),DAY(AZ16))))),"") -> 45717 | BN12: =IF(AND(BM12=""),"",IF(AND(BM12=$BK$12),$BK$12,IF(AND(BM12=$BK$13),$BK$13,IF(AND(BM12=$BK$14),$BK$14,IF(AND(BM12=$BK$15),$BK$15,IF(AND(BM12=$BK$16),$BK$16,IF(AND(BM12=$BK$17),$BK$17,IF(AND(BM12=$BK$18),$BK$18,IF(AND(BM12=$BK$19),$BK$19,IF(AND(BM12=$BK$20),$BK$20,IF(AND(BM12=$BK$21),$BK$21,IF(AND(BM12=$BK$22),$BK$22,IF(AND(BM12=$BK$23),$BK$23,IF(AND(BM12=$BK$24),$BM$24,IF(AND(BM12=$BK$25),$BM$25,IF(AND(BM12=$BK$26),$BM$26,IF(AND(BM12=$BK$27),$BM$27,IF(AND(BM12=$BK$28),$BM$28,IF(AND(BM12=$BK$29),$BM$29,IF(AND(BM12=$BK$30),$BM$30,IF(AND(BM12=$BK$31),$BM$31,IF(AND(BM12=$BK$32),$BM$32,"")))))))))))))))))))))) -> 45717 | BO12: =IFERROR(IF(BM12="","",IF(AND(BL12=$BK$24),$BM$24,IF(AND(BL12=$BK$25),$BM$25,IF(AND(BL12=$BK$26),$BM$26,IF(AND(BL12=$BK$27),$BM$27,IF(AND(BL12=$BK$28),$BM$28,IF(AND(BL12=$BK$29),$BM$29,IF(AND(BL12=$BK$30),$BM$30,IF(AND(BL12=$BK$31),$BM$31,IF(AND(BL12=$BK$32),$BM$32,BN12)))))))))),"") -> 45717 | BQ12: =IFERROR(IF(BM12="","",IF(D8=$AX$25,$AX$25,IF(D8=$AX$30,$AX$30,IF(D8=$AX$31,$AX$31,IF(D8=$AX$32,$AX$32,IF(BM12>$AZ$17,"",BM12)))))),"") -> 45717 | BS12: =OFFSET(D6,MATCH(BO12,$D$8:$D$27,0)+1,MATCH(BO12,D8:N8,0)) -> 47900 | BU12: =IF(AND('Master Data'!$N$25=""),"",IF(AND('Master Data'!$N$27='GA55 Check & Edit'!AX12),'Master Data'!$N$31,'Master Data'!$N$25)) -> 38000 | BX12: =IF(BB12="",0,BF12)
A13: =MOD(B13,2) -> 0 | B13: =IF(LEN(D13)>=3,B12+1,0) -> 6 | C13: =IF(B13=0,"",B13) -> 6 | D13: =IFERROR(IF(BO17="","",BO17),"") -> 45870 | E13: =IFERROR(IF(D13="","",IF(AND(BQ17=""),"",IF(AND('Master Data'!$I$29='GA55 Check & Edit'!$AP$6),VLOOKUP(D13,ram,13,0),VLOOKUP(D13,ram,4,0)))),"") -> 39100 | F13: =IFERROR(IF(D13="","",IF(D13=$AX$24,"",IF(AND(D13=$AX$28),"",IF(AND('Master Data'!$I$29='GA55 Check & Edit'!$AP$5),VLOOKUP(D13,ram,7,0),"")))),"") -> 21505 | G13: =IFERROR(IF(D13="","",IF(D13=$AX$24,"",IF(AND(D13=$AX$25),"",IF(AND(D13=$AX$26),"",IF(AND(D13=$AX$27),"",IF(AND(D13=$AX$28),"",IF(AND(D13=$AX$29),"",IF(AND('Master Data'!$I$29='GA55 Check & Edit'!$AP$6),"",VLOOKUP(D13,ram,8,0))))))))),"") -> 3910 | H13: =IFERROR(IF(D13="","",IF(AND(E13=""),"",IF(OR(D13=$AX$24,D13=$AX$25,D13=$AX$26,D13=$AX$27,D13=$AX$28,D13=$AX$29),"",IF(AND('Master Data'!$I$29='GA55 Check & Edit'!$AP$5),'Master Data'!$B$44,"")))),"") | I13: =IFERROR(IF(D13="","",IF(AND(E13=""),"",IF(OR(D13=$AX$24,D13=$AX$25,D13=$AX$26,D13=$AX$27,D13=$AX$28,D13=$AX$29),"",IF(AND('Master Data'!$I$29='GA55 Check & Edit'!$AP$5,'Master Data'!$E$29='GA55 Check & Edit'!$AO$5),'Master Data'!$E$31,"0")))),"") -> 0 | J13: =IFERROR(IF(OR('Master Data'!$E$33=$AO$6,'Master Data'!$E$33=""),"",IF(D13="","",IF(AND(E13=""),"",IF(OR(D13=$AX$24,D13=$AX$25,D13=$AX$26,D13=$AX$27,D13=$AX$28,D13=$AX$29),"",IF(AND('Master Data'!$I$29='GA55 Check & Edit'!$AP$6),"",IF(AND('Master Data'!$I$33=$AR$9),$AS$6,IF(AND('Master Data'!$I$33=$AR$10),$AS$6,IF(AND('Master Data'!$I$33=$AR$11),$AS$6,IF(AND('Master Data'!$I$33=$AR$12),$AS$6,$AS$5))))))))),"") | K13: =IFERROR(IF(D13="","",IF(AND(E13=""),"",IF(OR(D13=$AX$24,D13=$AX$25,D13=$AX$26,D13=$AX$27,D13=$AX$28,D13=$AX$29),"",IF(AND('Master Data'!$I$29='GA55 Check & Edit'!$AP$5),'Master Data'!$C$44,"")))),"") | L13: =IFERROR(IF(D13="","",IF(AND(E13=""),"",IF(OR(D13=$AX$24,D13=$AX$25,D13=$AX$26,D13=$AX$27,D13=$AX$28,D13=$AX$29),"",IF(AND('Master Data'!$I$29='GA55 Check & Edit'!$AP$6),"",'Master Data'!$D$44)))),"") | M13: =IFERROR(IF(D13="","",IF(AND(E13=""),"",IF(OR(D13=$AX$24,D13=$AX$25,D13=$AX$26,D13=$AX$27,D13=$AX$28,D13=$AX$29),"",IF(AND('Master Data'!$I$29='GA55 Check & Edit'!$AP$6),"",'Master Data'!$E$44)))),"") | N13: =IFERROR(IF(D13="","",IF(AND('Master Data'!$I$29='GA55 Check & Edit'!$AP$6),"",IF(AND('Master Data'!$I$25='GA55 Check & Edit'!$AO$6),"0",IF(AND(D13="Bonus"),VLOOKUP(D13,ram,4,0),"")))),"") -> 0 | O13: =IF(D13="","",IF('Master Data'!$N$25="","",SUM(E13:N13))) -> 64515 | P13: =IFERROR(IF(OR('Master Data'!$I$29='GA55 Check & Edit'!$AP$6,D13=""),"",IF(AND(D13=$AX$24),"",IF(AND(D13=$AX$25),"",IF(AND(D13=$AX$26),"",IF(AND(D13=$AX$27),"",IF(AND(D13=$AX$28),"",IF(AND(D13=$AX$29),"",IF(AND(E13=""),"",VLOOKUP(D13,ram,11,0))))))))),"") | Q13: =IFERROR(IF(AND('Master Data'!$I$29='GA55 Check & Edit'!$AP$6),"",IF(AND(D13=$AX$25),"",IF(AND(D13=$AX$28),"",IF(AND(D13=$AX$29),"",IF(AND(D13=""),"",IF(AND(BB17=""),"",VLOOKUP(D13,ram,12,0))))))),"") -> 2850 | R13: =IFERROR(IF(OR('Master Data'!$I$29='GA55 Check & Edit'!$AP$6,D13=""),"",IF(AND(D13=$AX$24),"",IF(AND(D13=$AX$25),"",IF(AND(D13=$AX$26),"",IF(AND(D13=$AX$27),"",IF(AND(D13=$AX$28),"",IF(AND(D13=$AX$29),"",IF(AND(E13=""),"",'Master Data'!$I$44)))))))),"") | S13: =IFERROR(IF(OR('Master Data'!$I$29='GA55 Check & Edit'!$AP$6),"",IF(D13="","",IF(E13="","",IF(AND(D13=$AX$24),"",IF(AND(D13=$AX$25),"",IF(AND(D13=$AX$26),"",IF(AND(D13=$AX$27),"",IF(AND(D13=$AX$28),"",IF(AND(D13=$AX$29),"",VLOOKUP(D13,ram,10,0)))))))))),"") -> 658 | T13: =IFERROR(IF(OR('Master Data'!$I$29='GA55 Check & Edit'!$AP$6,D13=""),"",IF(AND(D13=$AX$24),"",IF(AND(D13=$AX$25),"",IF(AND(D13=$AX$26),"",IF(AND(D13=$AX$27),"",IF(AND(D13=$AX$28),"",IF(AND(D13=$AX$29),"",IF(AND(E13=""),"",'Master Data'!$K$44)))))))),"") -> 3000 | U13: =IFERROR(IF(OR('Master Data'!$I$29='GA55 Check & Edit'!$AP$6,D13=""),"",IF(AND(D13=$AX$24),"",IF(AND(D13=$AX$25),"",IF(AND(D13=$AX$26),"",IF(AND(D13=$AX$27),"",IF(AND(D13=$AX$28),"",IF(AND(D13=$AX$29),"",IF(AND(E13=""),"",'Master Data'!$L$44)))))))),"") -> 2100 | V13: =IFERROR(IF(OR('Master Data'!$I$29='GA55 Check & Edit'!$AP$6,D13=""),"",IF(AND(D13=$AX$24),"",IF(AND(D13=$AX$25),"",IF(AND(D13=$AX$26),"",IF(AND(D13=$AX$27),"",IF(AND(D13=$AX$28),"",IF(AND(D13=$AX$29),"",IF(AND(E13=""),"",'Master Data'!$M$44)))))))),"") | W13: =IFERROR(IF(OR('Master Data'!$I$29='GA55 Check & Edit'!$AP$6,D13=""),"",IF(AND(D13=$AX$24),"",IF(AND(D13=$AX$25),"",IF(AND(D13=$AX$26),"",IF(AND(D13=$AX$27),"",IF(AND(D13=$AX$28),"",IF(AND(D13=$AX$29),"",IF(AND(E13=""),"",'Master Data'!$N$44)))))))),"") | X13: =IFERROR(IF(OR('Master Data'!$I$29='GA55 Check & Edit'!$AP$6,D13=""),"",IF(AND(E13=""),"",IF(AND('GA55 Check & Edit'!D13='GA55 Check & Edit'!$AT$17,'Master Data'!$D$18="Gazetted"),500,IF(AND('GA55 Check & Edit'!D13='GA55 Check & Edit'!$AT$17,'Master Data'!$D$18="Non-Gazetted"),250,"")))),"") | Y13: =IFERROR(IF(D13="","",IF(AND(E13=""),"",IF(AND(D13=$AX$24),"",IF(AND(D13=$AX$25),"",IF(AND(D13=$AX$26),"",IF(AND(D13=$AX$27),"",IF(AND(D13=$AX$28),"",IF(AND(D13=$AX$29),"",IF(OR('Master Data'!$I$29='GA55 Check & Edit'!$AP$6,D13=""),"",$Y$7))))))))),"") | Z13: =IFERROR(IF(OR('Master Data'!$I$29='GA55 Check & Edit'!$AP$6),"",IF(D13="","",IF(E13="","",VLOOKUP(D13,ram,9,0)))),"") | AA13: =IFERROR(IF(OR('Master Data'!$I$29='GA55 Check & Edit'!$AP$6,D13="",'Master Data'!$N$35=""),"",IF(AND(E13=""),"",IF('GA55 Check & Edit'!D13='GA55 Check & Edit'!$AT$9,'Master Data'!$N$35,""))),"") | AB13: =IFERROR(IF(D13="","",IF(AND(O13=""),"",SUM(P13:AA13))),"0") -> 8608 | AC13: =IFERROR(IF(AND(E13="",O13="",AB13=""),"",SUM(O13-AB13)),"") -> 55907 | AS13: JUN | AT13: 45870 | AU13: L-6 | AW13: APR | AX13: 45748 | AY13: 4 | BA13: =IF(AND('Master Data'!$N$25=""),"",IF(AND('Master Data'!$N$29='GA55 Check & Edit'!$AP$6),'GA55 Check & Edit'!$AZ$15,BU13)) -> 38000 | BB13: =IF(AND(AX13<$AZ$16),"",IF(AND(AX13>$AZ$17),"",BA13)) -> 38000 | BC13: =IF(AND('Master Data'!$N$25=""),"",ROUND(55%*BA13,0)) -> 20900 | BD13: =IF(BB13="","",BC13) -> 20900 | BE13: =IFERROR(IF(AND('Master Data'!$N$25=""),"",ROUND('Master Data'!$E$35%*BB13,0)),"") -> 3800 | BF13: =#REF! -> #REF! | BG13: =IFERROR(IF(OR('Master Data'!$I$29='GA55 Check & Edit'!$AP$6),"",IF('Master Data'!$I$31="GPF-2004",IF(BB13<18001,265,IF(BB13<33501,440,IF(BB13<54001,658,875))),IF(AND('Master Data'!$I$31="GPF",'Master Data'!$J$44=""),IF(BB13<18001,265,IF(BB13<33501,440,IF(BB13<54001,658,875))),'Master Data'!$J$44))),"") -> 658 | BH13: =IFERROR(IF(OR('Master Data'!$I$29='GA55 Check & Edit'!$AP$6),"",'Master Data'!$G$44),"") | BI13: =IFERROR(IF(OR('Master Data'!$I$29='GA55 Check & Edit'!$AP$6),"",IF('Master Data'!$I$31="GPF-2004",IF(BB13<23101,1450,IF(BB13<28501,1625,IF(BB13<38501,2100,IF(BB13<51501,2850,IF(BB13<62001,3575,IF(BB13<72001,4200,IF(BB13<80001,4800,IF(BB13<116001,6150,IF(BB13<167001,8900,10500))))))))),'Master Data'!$H$44)),"") -> 2100 | BJ13: =BA13 -> 38000 | BK13: 45748 | BL13: =IFERROR(IF('Master Data'!$N$25="","",IF('Master Data'!$F$41="","",IF(AND($AZ$17>$AZ$9),"",DATE(YEAR(BL12),MONTH(BL12)+1,DAY(BL12))))),"") -> 45748 | BM13: =IFERROR(IF('Master Data'!$N$25="","",IF('Master Data'!$F$41="","",IF(AND($AZ$17>$AZ$9),"",DATE(YEAR(BM12),MONTH(BM12)+1,DAY(BM12))))),"") -> 45748 | BN13: =IF(AND(BM13=""),"",IF(AND(BM13=$BK$12),$BK$12,IF(AND(BM13=$BK$13),$BK$13,IF(AND(BM13=$BK$14),$BK$14,IF(AND(BM13=$BK$15),$BK$15,IF(AND(BM13=$BK$16),$BK$16,IF(AND(BM13=$BK$17),$BK$17,IF(AND(BM13=$BK$18),$BK$18,IF(AND(BM13=$BK$19),$BK$19,IF(AND(BM13=$BK$20),$BK$20,IF(AND(BM13=$BK$21),$BK$21,IF(AND(BM13=$BK$22),$BK$22,IF(AND(BM13=$BK$23),$BK$23,IF(AND(BM13=$BK$24),$BM$24,IF(AND(BM13=$BK$25),$BM$25,IF(AND(BM13=$BK$26),$BM$26,IF(AND(BM13=$BK$27),$BM$27,IF(AND(BM13=$BK$28),$BM$28,IF(AND(BM13=$BK$29),$BM$29,IF(AND(BM13=$BK$30),$BM$30,IF(AND(BM13=$BK$31),$BM$31,IF(AND(BM13=$BK$32),$BM$32,"")))))))))))))))))))))) -> 45748 | BO13: =IFERROR(IF(BM13="","",IF(AND(BL13=$BK$24),$BM$24,IF(AND(BL13=$BK$25),$BM$25,IF(AND(BL13=$BK$26),$BM$26,IF(AND(BL13=$BK$27),$BM$27,IF(AND(BL13=$BK$28),$BM$28,IF(AND(BL13=$BK$29),$BM$29,IF(AND(BL13=$BK$30),$BM$30,BN13)))))))),"") -> 45748 | BQ13: =IFERROR(IF(BM13="","",IF(D9=$AX$25,$AX$25,IF(D9=$AX$30,$AX$30,IF(D9=$AX$31,$AX$31,IF(D9=$AX$32,$AX$32,IF(BM13>$AZ$17,"",BM13)))))),"") -> 45748 | BS13: =OFFSET(D7,MATCH(BO13,$D$8:$D$27,0)+1,MATCH(BO13,D9:N9,0)) -> 47900 | BU13: =IF(AND('Master Data'!$N$25=""),"",IF(AND('Master Data'!$N$27='GA55 Check & Edit'!AX13),'Master Data'!$N$31,BU12)) -> 38000 | BX13: =IF(BB13="",0,BF13) -> #REF!
A14: =MOD(B14,2) -> 1 | B14: =IF(LEN(D14)>=3,B13+1,0) -> 7 | C14: =IF(B14=0,"",B14) -> 7 | D14: =IFERROR(IF(BO18="","",BO18),"") -> 45901 | E14: =IFERROR(IF(D14="","",IF(AND(BQ18=""),"",IF(AND('Master Data'!$I$29='GA55 Check & Edit'!$AP$6),VLOOKUP(D14,ram,13,0),VLOOKUP(D14,ram,4,0)))),"") -> 39100 | F14: =IFERROR(IF(D14="","",IF(D14=$AX$24,"",IF(AND(D14=$AX$28),"",IF(AND('Master Data'!$I$29='GA55 Check & Edit'!$AP$5),VLOOKUP(D14,ram,7,0),"")))),"") -> 21505 | G14: =IFERROR(IF(D14="","",IF(D14=$AX$24,"",IF(AND(D14=$AX$25),"",IF(AND(D14=$AX$26),"",IF(AND(D14=$AX$27),"",IF(AND(D14=$AX$28),"",IF(AND(D14=$AX$29),"",IF(AND('Master Data'!$I$29='GA55 Check & Edit'!$AP$6),"",VLOOKUP(D14,ram,8,0))))))))),"") -> 3910 | H14: =IFERROR(IF(D14="","",IF(AND(E14=""),"",IF(OR(D14=$AX$24,D14=$AX$25,D14=$AX$26,D14=$AX$27,D14=$AX$28,D14=$AX$29),"",IF(AND('Master Data'!$I$29='GA55 Check & Edit'!$AP$5),'Master Data'!$B$44,"")))),"") | I14: =IFERROR(IF(D14="","",IF(AND(E14=""),"",IF(OR(D14=$AX$24,D14=$AX$25,D14=$AX$26,D14=$AX$27,D14=$AX$28,D14=$AX$29),"",IF(AND('Master Data'!$I$29='GA55 Check & Edit'!$AP$5,'Master Data'!$E$29='GA55 Check & Edit'!$AO$5),'Master Data'!$E$31,"0")))),"") -> 0 | J14: =IFERROR(IF(OR('Master Data'!$E$33=$AO$6,'Master Data'!$E$33=""),"",IF(D14="","",IF(AND(E14=""),"",IF(OR(D14=$AX$24,D14=$AX$25,D14=$AX$26,D14=$AX$27,D14=$AX$28,D14=$AX$29),"",IF(AND('Master Data'!$I$29='GA55 Check & Edit'!$AP$6),"",IF(AND('Master Data'!$I$33=$AR$9),$AS$6,IF(AND('Master Data'!$I$33=$AR$10),$AS$6,IF(AND('Master Data'!$I$33=$AR$11),$AS$6,IF(AND('Master Data'!$I$33=$AR$12),$AS$6,$AS$5))))))))),"") | K14: =IFERROR(IF(D14="","",IF(AND(E14=""),"",IF(OR(D14=$AX$24,D14=$AX$25,D14=$AX$26,D14=$AX$27,D14=$AX$28,D14=$AX$29),"",IF(AND('Master Data'!$I$29='GA55 Check & Edit'!$AP$5),'Master Data'!$C$44,"")))),"") | L14: =IFERROR(IF(D14="","",IF(AND(E14=""),"",IF(OR(D14=$AX$24,D14=$AX$25,D14=$AX$26,D14=$AX$27,D14=$AX$28,D14=$AX$29),"",IF(AND('Master Data'!$I$29='GA55 Check & Edit'!$AP$6),"",'Master Data'!$D$44)))),"") | M14: =IFERROR(IF(D14="","",IF(AND(E14=""),"",IF(OR(D14=$AX$24,D14=$AX$25,D14=$AX$26,D14=$AX$27,D14=$AX$28,D14=$AX$29),"",IF(AND('Master Data'!$I$29='GA55 Check & Edit'!$AP$6),"",'Master Data'!$E$44)))),"") | N14: =IFERROR(IF(D14="","",IF(AND('Master Data'!$I$29='GA55 Check & Edit'!$AP$6),"",IF(AND('Master Data'!$I$25='GA55 Check & Edit'!$AO$6),"0",IF(AND(D14="Bonus"),VLOOKUP(D14,ram,4,0),"")))),"") -> 0 | O14: =IF(D14="","",IF('Master Data'!$N$25="","",SUM(E14:N14))) -> 64515 | P14: =IFERROR(IF(OR('Master Data'!$I$29='GA55 Check & Edit'!$AP$6,D14=""),"",IF(AND(D14=$AX$24),"",IF(AND(D14=$AX$25),"",IF(AND(D14=$AX$26),"",IF(AND(D14=$AX$27),"",IF(AND(D14=$AX$28),"",IF(AND(D14=$AX$29),"",IF(AND(E14=""),"",VLOOKUP(D14,ram,11,0))))))))),"") | Q14: =IFERROR(IF(AND('Master Data'!$I$29='GA55 Check & Edit'!$AP$6),"",IF(AND(D14=$AX$25),"",IF(AND(D14=$AX$28),"",IF(AND(D14=$AX$29),"",IF(AND(D14=""),"",IF(AND(BB18=""),"",VLOOKUP(D14,ram,12,0))))))),"") -> 2850 | R14: =IFERROR(IF(OR('Master Data'!$I$29='GA55 Check & Edit'!$AP$6,D14=""),"",IF(AND(D14=$AX$24),"",IF(AND(D14=$AX$25),"",IF(AND(D14=$AX$26),"",IF(AND(D14=$AX$27),"",IF(AND(D14=$AX$28),"",IF(AND(D14=$AX$29),"",IF(AND(E14=""),"",'Master Data'!$I$44)))))))),"") | S14: =IFERROR(IF(OR('Master Data'!$I$29='GA55 Check & Edit'!$AP$6),"",IF(D14="","",IF(E14="","",IF(AND(D14=$AX$24),"",IF(AND(D14=$AX$25),"",IF(AND(D14=$AX$26),"",IF(AND(D14=$AX$27),"",IF(AND(D14=$AX$28),"",IF(AND(D14=$AX$29),"",VLOOKUP(D14,ram,10,0)))))))))),"") -> 658 | T14: =IFERROR(IF(OR('Master Data'!$I$29='GA55 Check & Edit'!$AP$6,D14=""),"",IF(AND(D14=$AX$24),"",IF(AND(D14=$AX$25),"",IF(AND(D14=$AX$26),"",IF(AND(D14=$AX$27),"",IF(AND(D14=$AX$28),"",IF(AND(D14=$AX$29),"",IF(AND(E14=""),"",'Master Data'!$K$44)))))))),"") -> 3000 | U14: =IFERROR(IF(OR('Master Data'!$I$29='GA55 Check & Edit'!$AP$6,D14=""),"",IF(AND(D14=$AX$24),"",IF(AND(D14=$AX$25),"",IF(AND(D14=$AX$26),"",IF(AND(D14=$AX$27),"",IF(AND(D14=$AX$28),"",IF(AND(D14=$AX$29),"",IF(AND(E14=""),"",'Master Data'!$L$44)))))))),"") -> 2100 | V14: =IFERROR(IF(OR('Master Data'!$I$29='GA55 Check & Edit'!$AP$6,D14=""),"",IF(AND(D14=$AX$24),"",IF(AND(D14=$AX$25),"",IF(AND(D14=$AX$26),"",IF(AND(D14=$AX$27),"",IF(AND(D14=$AX$28),"",IF(AND(D14=$AX$29),"",IF(AND(E14=""),"",'Master Data'!$M$44)))))))),"") | W14: =IFERROR(IF(OR('Master Data'!$I$29='GA55 Check & Edit'!$AP$6,D14=""),"",IF(AND(D14=$AX$24),"",IF(AND(D14=$AX$25),"",IF(AND(D14=$AX$26),"",IF(AND(D14=$AX$27),"",IF(AND(D14=$AX$28),"",IF(AND(D14=$AX$29),"",IF(AND(E14=""),"",'Master Data'!$N$44)))))))),"") | X14: =IFERROR(IF(OR('Master Data'!$I$29='GA55 Check & Edit'!$AP$6,D14=""),"",IF(AND(E14=""),"",IF(AND('GA55 Check & Edit'!D14='GA55 Check & Edit'!$AT$17,'Master Data'!$D$18="Gazetted"),500,IF(AND('GA55 Check & Edit'!D14='GA55 Check & Edit'!$AT$17,'Master Data'!$D$18="Non-Gazetted"),250,"")))),"") | Y14: =IFERROR(IF(D14="","",IF(AND(E14=""),"",IF(AND(D14=$AX$24),"",IF(AND(D14=$AX$25),"",IF(AND(D14=$AX$26),"",IF(AND(D14=$AX$27),"",IF(AND(D14=$AX$28),"",IF(AND(D14=$AX$29),"",IF(OR('Master Data'!$I$29='GA55 Check & Edit'!$AP$6,D14=""),"",$Y$7))))))))),"") | Z14: =IFERROR(IF(OR('Master Data'!$I$29='GA55 Check & Edit'!$AP$6),"",IF(D14="","",IF(E14="","",VLOOKUP(D14,ram,9,0)))),"") | AA14: =IFERROR(IF(OR('Master Data'!$I$29='GA55 Check & Edit'!$AP$6,D14="",'Master Data'!$N$35=""),"",IF(AND(E14=""),"",IF('GA55 Check & Edit'!D14='GA55 Check & Edit'!$AT$9,'Master Data'!$N$35,""))),"") | AB14: =IFERROR(IF(D14="","",IF(AND(O14=""),"",SUM(P14:AA14))),"0") -> 8608 | AC14: =IFERROR(IF(AND(E14="",O14="",AB14=""),"",SUM(O14-AB14)),"") -> 55907 | AS14: JUL | AT14: 45901 | AU14: L-7 | AW14: MAY | AX14: 45778 | AY14: 5 | BA14: =IF(AND('Master Data'!$N$25=""),"",IF(AND('Master Data'!$N$27='GA55 Check & Edit'!$AP$6),'GA55 Check & Edit'!$AZ$15,BU14)) -> 38000 | BB14: =IF(AND(AX14<$AZ$16),"",IF(AND(AX14>$AZ$17),"",BA14)) -> 38000 | BC14: =IF(AND('Master Data'!$N$25=""),"",ROUND(55%*BA14,0)) -> 20900 | BD14: =IF(BB14="","",BC14) -> 20900 | BE14: =IFERROR(IF(AND('Master Data'!$N$25=""),"",ROUND('Master Data'!$E$35%*BB14,0)),"") -> 3800 | BF14: ='Master Data'!D48 | BG14: =IFERROR(IF(OR('Master Data'!$I$29='GA55 Check & Edit'!$AP$6),"",IF('Master Data'!$I$31="GPF-2004",IF(BB14<18001,265,IF(BB14<33501,440,IF(BB14<54001,658,875))),IF(AND('Master Data'!$I$31="GPF",'Master Data'!$J$44=""),IF(BB14<18001,265,IF(BB14<33501,440,IF(BB14<54001,658,875))),'Master Data'!$J$44))),"") -> 658 | BH14: =IFERROR(IF(OR('Master Data'!$I$29='GA55 Check & Edit'!$AP$6),"",'Master Data'!$G$44),"") | BI14: =IFERROR(IF(OR('Master Data'!$I$29='GA55 Check & Edit'!$AP$6),"",IF('Master Data'!$I$31="GPF-2004",IF(BB14<23101,1450,IF(BB14<28501,1625,IF(BB14<38501,2100,IF(BB14<51501,2850,IF(BB14<62001,3575,IF(BB14<72001,4200,IF(BB14<80001,4800,IF(BB14<116001,6150,IF(BB14<167001,8900,10500))))))))),'Master Data'!$H$44)),"") -> 2100 | BJ14: =BA14 -> 38000 | BK14: 45778 | BL14: =IFERROR(IF('Master Data'!$N$25="","",IF('Master Data'!$F$41="","",IF(AND($AZ$17>$AZ$9),"",DATE(YEAR(BL13),MONTH(BL13)+1,DAY(BL13))))),"") -> 45778 | BM14: =IFERROR(IF('Master Data'!$N$25="","",IF('Master Data'!$F$41="","",IF(AND($AZ$17>$AZ$9),"",DATE(YEAR(BM13),MONTH(BM13)+1,DAY(BM13))))),"") -> 45778 | BN14: =IF(AND(BM14=""),"",IF(AND(BM14=$BK$12),$BK$12,IF(AND(BM14=$BK$13),$BK$13,IF(AND(BM14=$BK$14),$BK$14,IF(AND(BM14=$BK$15),$BK$15,IF(AND(BM14=$BK$16),$BK$16,IF(AND(BM14=$BK$17),$BK$17,IF(AND(BM14=$BK$18),$BK$18,IF(AND(BM14=$BK$19),$BK$19,IF(AND(BM14=$BK$20),$BK$20,IF(AND(BM14=$BK$21),$BK$21,IF(AND(BM14=$BK$22),$BK$22,IF(AND(BM14=$BK$23),$BK$23,IF(AND(BM14=$BK$24),$BM$24,IF(AND(BM14=$BK$25),$BM$25,IF(AND(BM14=$BK$26),$BM$26,IF(AND(BM14=$BK$27),$BM$27,IF(AND(BM14=$BK$28),$BM$28,IF(AND(BM14=$BK$29),$BM$29,IF(AND(BM14=$BK$30),$BM$30,IF(AND(BM14=$BK$31),$BM$31,IF(AND(BM14=$BK$32),$BM$32,"")))))))))))))))))))))) -> 45778 | BO14: =IFERROR(IF(BM14="","",IF(AND(BL14=$BK$24),$BM$24,IF(AND(BL14=$BK$25),$BM$25,IF(AND(BL14=$BK$26),$BM$26,IF(AND(BL14=$BK$27),$BM$27,IF(AND(BL14=$BK$28),$BM$28,IF(AND(BL14=$BK$29),$BM$29,IF(AND(BL14=$BK$30),$BM$30,BN14)))))))),"") -> 45778 | BQ14: =IFERROR(IF(BM14="","",IF(D10=$AX$25,$AX$25,IF(D10=$AX$30,$AX$30,IF(D10=$AX$31,$AX$31,IF(D10=$AX$32,$AX$32,IF(BM14>$AZ$17,"",BM14)))))),"") -> 45778 | BS14: =OFFSET(D8,MATCH(BO14,$D$8:$D$27,0)+1,MATCH(BO14,D10:N10,0)) -> 39100 | BU14: =IF(AND('Master Data'!$N$25=""),"",IF(AND('Master Data'!$N$27='GA55 Check & Edit'!AX14),'Master Data'!$N$31,BU13)) -> 38000 | BX14: =IF(BB14="",0,BF14)
